Workbook
Name __LEX1955: '[1]summary-targets'!#REF!
Name __LEX1955: '[1]summary-targets'!#REF!
Name __LEX1955: '[1]summary-targets'!#REF!
Name __LEX1955: '[1]summary-targets'!#REF!
Name __LEX1955: '[1]summary-targets'!#REF!
Name __LEX1955: '[1]summary-targets'!#REF!
Name __LEX1975: '[1]summary-targets'!#REF!
Name __LEX1975: '[1]summary-targets'!#REF!
Name __LEX1975: '[1]summary-targets'!#REF!
Name __LEX1975: '[1]summary-targets'!#REF!
Name __LEX1975: '[1]summary-targets'!#REF!
Name __LEX1975: '[1]summary-targets'!#REF!
Name __LEX2025: '[1]summary-targets'!#REF!
Name __LEX2025: '[1]summary-targets'!#REF!
Name __LEX2025: '[1]summary-targets'!#REF!
Name __LEX2025: '[1]summary-targets'!#REF!
Name __LEX2025: '[1]summary-targets'!#REF!
Name __LEX2025: '[1]summary-targets'!#REF!
Name _reg98: [2]whoreg!#REF!
Name _reg98: [2]whoreg!#REF!
Name _reg98: [2]whoreg!#REF!
Name _reg98: [2]whoreg!#REF!
Name _reg98: [2]whoreg!#REF!
Name _resul: '[3]slop-inter'!$A$45:$AG$48
Name _yellowF: #REF!
Name _yellowF: #REF!
Name _yellowF: #REF!
Name _yellowF: #REF!
Name _yellowF: #REF!
Name _yellowM: #REF!
Name _yellowM: #REF!
Name _yellowM: #REF!
Name _yellowM: #REF!
Name _yellowM: #REF!
Name data: #REF!
Name data: #REF!
Name data: #REF!
Name data: #REF!
Name data: #REF!
Name GBDageD95: [4]Deaths!$A$1:$T$643
Name home: '[3]slop-inter'!$D$1:$F$1
Name label: [3]lx!$D$1788:$E$1825
Name PA: #REF!
Name PA: #REF!
Name PA: #REF!
Name PA: #REF!
Name PA: #REF!
Name pop: #REF!
Name pop: #REF!
Name pop: #REF!
Name pop: #REF!
Name pop: #REF!
Name ppp: [5]Setup!#REF!
Name ppp: [5]Setup!#REF!
Name ppp: [5]Setup!#REF!
Name ppp: [5]Setup!#REF!
Name ppp: [5]Setup!#REF!
Name PrintAr2: #REF!
Name PrintAr2: #REF!
Name PrintAr2: #REF!

Sheet Notes
B2: GLOBAL HEALTH ESTIMATES SUMMARY TABLES: PROJECTION OF DEATHS BY CAUSE, AGE AND SEX October 2018 World Health Organization Geneva, Switzerland
B3: http://www.who.int/healthinfo/global_burden_disease/en/
B5: Global Health Estimates Summary Tables: Projection This workbook contains summary projections of mortality by cause, sex, age and region. Following the release of the WHO Global Health Estimates of deaths by cause, age, sex and country for years 2000-2016 (1), WHO projections of mortality and causes of death have been updated and extended for years 2017-2060 (2). These projections are an update of previous projections released in 2006 (3), 2008 (4) and 2013 (5). A set of relatively simple models were used to project future health trends for baseline, optimistic and pessimistic scenarios, based largely on projections of economic and social development, and using the historically observed relationships of these with cause-specific mortality rates. Projected death rates were converted to numbers of deaths using the median population projections of the World Population Prospects 2017 (7). For a more detailed summary of methods and data inputs, refer to the documentation available on the WHO website at <url> (8). All projection covariates have been revised and updated. These include country level projections of gross domestic product (GDP) per capita in purchasing parity adjusted 2011 dollars, average years of education for men and women aged 25 years and over, and smoking impact SI, the component of observed lung cancer mortality attributable to tobacco smoking. SI was projected using 25-year lagged projections of prevalence of tobacco smoking and average cigarettes per smoker per day. In the original projections, separate projection models were developed for HIV/AIDS, tuberculosis, lung cancer, diabetes mellitus and chronic respiratory diseases (3). These models have been revised and updated as described in the projections documentation (8). Additional special projection models have also been developed for malaria, maternal deaths, road injury, homicide, natural disasters and war and conflict (8). These projections are less firm than the base year assessments for 2016, and provide “business-as-usual” projections under specified assumptions that do not specifically take account of trends in major risk factors apart from tobacco smoking, and to a limited extent, overweight and obesity. This spreadsheet includes point estimates for projected deaths by region, cause, age and sex under a business-as-usual scenario for projected covariates. Explicit uncertainty ranges are not included here, uncertainty in projections is better conveyed through comparison of optimistic and pessimistic scenarios with varying input assumptions (under preparation and not yet released). The number of significant figures displayed in worksheet cells in this this Excel workbook do not provide information on uncertainty ranges of projected estimates. The base scenario does not necessarily represent the best predictions or potential range of future global and regional health trends; it is possible that more sophisticated causal models incorporating projections of important determinants may provide better predictions for specific diseases. The preparation of these statistics was undertaken by the WHO Department of Health Statistics and Informatics in collaboration with WHO technical programs. Documentation and regional-level summary tables are available on the WHO website (8). For other queries, please send an email to healthstat@who.int. References 1. Global Health Estimates 2016: Deaths by cause, age and sex, by country and by region, 2000-2016. Geneva: World Health Organization; 2018. Available at http://www.who.int/healthinfo/global_burden_disease/estimates/en/. 2. World Health Organization (2018). Projections of mortality and causes of death, 2017-2060. Available on the WHO website at http://www.who.int/healthinfo/global_burden_disease/projections/en/. 3. Mathers CD, Loncar D. Projections of global mortality and burden of disease from 2002 to 2030. PLoS Medicine, 2006, 3(11): e442. 4. World Health Organization. The global burden of disease: 2004 update. Geneva, World Health Organization, 2008. 5. World Health Organization (2013). Projections of mortality and causes of death, 2012-2030. Available on the WHO website at http://www.who.int/healthinfo/global_burden_disease/projections/en/. 6. Murray CJL, Lopez AD, eds. The global burden of disease: a comprehensive assessment of mortality and disability from diseases, injuries and risk factors in 1990 and projected to 2020. Cambridge, Harvard School of Public Health on behalf of the World Health Organization and the World Bank, 1996. 7. UN Population Division. World Population Prospects - the 2017 revision. New York, United Nations, 2017. 8. World Health Organization (2018). Updated projections of mortality and causes of death, 2016-2060. Available on the WHO website at http://www.who.int/healthinfo/global_burden_disease/projections/en/.

Sheet Summary
B1: Summary: Deaths (thousands) by cause
F3: Year | G3: 2015 | I3: 2030 | K3: 2045 | M3: 2060
F4: Region | G4: WORLD | I4: WORLD | K4: WORLD | M4: WORLD
B6: Population (thousands) | G6: =World2016!$G7 -> 7462277.2 | I6: =World2030!$G7 -> 8545864.6 | K6: =World2045!$G7 -> 9498328.2 | M6: =World2060!$G7 -> 10216375
A7: GHE 2012 code | B7: GHE 2012 cause category | G7: Deaths (000s) | H7: % total | I7: Deaths (000s) | J7: % total | K7: Deaths (000s) | L7: % total | M7: Deaths (000s) | N7: % total
A8: 0 | C8: All Causes | G8: =World2016!$G10/1000 -> 56873.405 | H8: =100*G8/G$8 -> 100 | I8: =World2030!$G10/1000 -> 68119.453 | J8: =100*I8/I$8 -> 100 | K8: =World2045!$G10/1000 -> 85532.627 | L8: =100*K8/K$8 -> 100 | M8: =World2060!$G10/1000 -> 101831.16 | N8: =100*M8/M$8 -> 100
A9: 1 | B9: I. | C9: Communicable, maternal, perinatal and nutritional conditions | G9: =World2016!$G11/1000 -> 11481.463 | H9: =100*G9/G$8 -> 20.187755 | I9: =World2030!$G11/1000 -> 10094.844 | J9: =100*I9/I$8 -> 14.819326 | K9: =World2045!$G11/1000 -> 9666.0585 | L9: =100*K9/K$8 -> 11.301019 | M9: =World2060!$G11/1000 -> 9990.2208 | N9: =100*M9/M$8 -> 9.8105735
A10: 2 | C10: A. | D10: Infectious and parasitic diseases | G10: =World2016!$G12/1000 -> 5491.3375 | H10: =100*G10/G$8 -> 9.6553698 | I10: =World2030!$G12/1000 -> 4578.7775 | J10: =100*I10/I$8 -> 6.7216886 | K10: =World2045!$G12/1000 -> 4100.7739 | L10: =100*K10/K$8 -> 4.7943972 | M10: =World2060!$G12/1000 -> 3968.4132 | N10: =100*M10/M$8 -> 3.8970519
A11: 3 | D11: 1. | E11: Tuberculosis | G11: =World2016!$G13/1000 -> 1292.9006 | H11: =100*G11/G$8 -> 2.2732957 | I11: =World2030!$G13/1000 -> 1137.0415 | J11: =100*I11/I$8 -> 1.6691877 | K11: =World2045!$G13/1000 -> 1050.0536 | L11: =100*K11/K$8 -> 1.2276644 | M11: =World2060!$G13/1000 -> 926.96353 | N11: =100*M11/M$8 -> 0.91029458
A12: 4 | D12: 2. | E12: STDs excluding HIV | G12: =World2016!$G14/1000 -> 102.36054 | H12: =100*G12/G$8 -> 0.17997962 | I12: =World2030!$G14/1000 -> 68.622331 | J12: =100*I12/I$8 -> 0.10073823 | K12: =World2045!$G14/1000 -> 33.012726 | L12: =100*K12/K$8 -> 0.038596647 | M12: =World2060!$G14/1000 -> 18.227393 | N12: =100*M12/M$8 -> 0.017899622
A13: 5 | E13: a. | F13: Syphilis | G13: =World2016!$G15/1000 -> 95.557801 | H13: =100*G13/G$8 -> 0.16801843 | I13: =World2030!$G15/1000 -> 62.193551 | J13: =100*I13/I$8 -> 0.091300721 | K13: =World2045!$G15/1000 -> 27.107158 | L13: =100*K13/K$8 -> 0.031692185 | M13: =World2060!$G15/1000 -> 12.612664 | N13: =100*M13/M$8 -> 0.012385859
A14: 6 | E14: b. | F14: Chlamydia | G14: =World2016!$G16/1000 -> 1.3237512 | H14: =100*G14/G$8 -> 0.0023275399 | I14: =World2030!$G16/1000 -> 1.2433476 | J14: =100*I14/I$8 -> 0.001825246 | K14: =World2045!$G16/1000 -> 1.1461863 | L14: =100*K14/K$8 -> 0.0013400574 | M14: =World2060!$G16/1000 -> 1.0970673 | N14: =100*M14/M$8 -> 0.0010773395
A15: 7 | E15: c. | F15: Gonorrhoea | G15: =World2016!$G17/1000 -> 3.680321 | H15: =100*G15/G$8 -> 0.0064710757 | I15: =World2030!$G17/1000 -> 3.5310496 | J15: =100*I15/I$8 -> 0.0051836142 | K15: =World2045!$G17/1000 -> 3.3178774 | L15: =100*K15/K$8 -> 0.0038790781 | M15: =World2060!$G17/1000 -> 3.2295705 | N15: =100*M15/M$8 -> 0.0031714953
A16: 8 | E16: d. | F16: Trichomoniasis | G16: =World2016!$G18/1000 -> 0 | H16: =100*G16/G$8 -> 0 | I16: =World2030!$G18/1000 -> 0 | J16: =100*I16/I$8 -> 0 | K16: =World2045!$G18/1000 -> 0 | L16: =100*K16/K$8 -> 0 | M16: =World2060!$G18/1000 -> 0 | N16: =100*M16/M$8 -> 0
A17: 9 | E17: e. | F17: Other STDs | G17: =World2016!$G19/1000 -> 1.7986658 | H17: =100*G17/G$8 -> 0.003162578 | I17: =World2030!$G19/1000 -> 1.6543819 | J17: =100*I17/I$8 -> 0.0024286483 | K17: =World2045!$G19/1000 -> 1.4415034 | L17: =100*K17/K$8 -> 0.0016853257 | M17: =World2060!$G19/1000 -> 1.2880916 | N17: =100*M17/M$8 -> 0.0012649288
A18: 10 | D18: 3. | E18: HIV/AIDS | G18: =World2016!$G20/1000 -> 1011.9922 | H18: =100*G18/G$8 -> 1.7793769 | I18: =World2030!$G20/1000 -> 741.29949 | J18: =100*I18/I$8 -> 1.0882347 | K18: =World2045!$G20/1000 -> 522.15852 | L18: =100*K18/K$8 -> 0.61047876 | M18: =World2060!$G20/1000 -> 363.35619 | N18: =100*M18/M$8 -> 0.3568222
A19: 11 | D19: 4. | E19: Diarrhoeal diseases | G19: =World2016!$G21/1000 -> 1382.7068 | H19: =100*G19/G$8 -> 2.431201 | I19: =World2030!$G21/1000 -> 1236.1806 | J19: =100*I19/I$8 -> 1.8147248 | K19: =World2045!$G21/1000 -> 1274.2686 | L19: =100*K19/K$8 -> 1.4898041 | M19: =World2060!$G21/1000 -> 1491.6887 | N19: =100*M19/M$8 -> 1.4648647
A20: 12 | D20: 5. | E20: Childhood-cluster diseases | G20: =World2016!$G22/1000 -> 156.11592 | H20: =100*G20/G$8 -> 0.27449722 | I20: =World2030!$G22/1000 -> 83.373713 | J20: =100*I20/I$8 -> 0.1223934 | K20: =World2045!$G22/1000 -> 49.044165 | L20: =100*K20/K$8 -> 0.057339715 | M20: =World2060!$G22/1000 -> 34.551795 | N20: =100*M20/M$8 -> 0.033930474
A21: 13 | E21: a. | F21: Whooping cough | G21: =World2016!$G23/1000 -> 9.9890006 | H21: =100*G21/G$8 -> 0.017563571 | I21: =World2030!$G23/1000 -> 6.8372248 | J21: =100*I21/I$8 -> 0.010037111 | K21: =World2045!$G23/1000 -> 3.5075404 | L21: =100*K21/K$8 -> 0.0041008216 | M21: =World2060!$G23/1000 -> 1.7967315 | N21: =100*M21/M$8 -> 0.0017644221
A22: 14 | E22: b. | F22: Diphtheria | G22: =World2016!$G24/1000 -> 1.4467969 | H22: =100*G22/G$8 -> 0.00254389 | I22: =World2030!$G24/1000 -> 0.87972882 | J22: =100*I22/I$8 -> 0.0012914502 | K22: =World2045!$G24/1000 -> 0.46990516 | L22: =100*K22/K$8 -> 0.00054938703 | M22: =World2060!$G24/1000 -> 0.26854351 | N22: =100*M22/M$8 -> 0.00026371447
A23: 15 | E23: c. | F23: Measles | G23: =World2016!$G25/1000 -> 90.956355 | H23: =100*G23/G$8 -> 0.15992775 | I23: =World2030!$G25/1000 -> 44.533384 | J23: =100*I23/I$8 -> 0.065375429 | K23: =World2045!$G25/1000 -> 21.705694 | L23: =100*K23/K$8 -> 0.025377093 | M23: =World2060!$G25/1000 -> 12.09542 | N23: =100*M23/M$8 -> 0.011877916
A24: 16 | E24: d. | F24: Tetanus | G24: =World2016!$G26/1000 -> 53.723763 | H24: =100*G24/G$8 -> 0.094462014 | I24: =World2030!$G26/1000 -> 31.123375 | J24: =100*I24/I$8 -> 0.045689409 | K24: =World2045!$G26/1000 -> 23.361025 | L24: =100*K24/K$8 -> 0.027312414 | M24: =World2060!$G26/1000 -> 20.391101 | N24: =100*M24/M$8 -> 0.020024421
A25: 17 | D25: 6. | E25: Meningitis | G25: =World2016!$G27/1000 -> 278.81226 | H25: =100*G25/G$8 -> 0.49023312 | I25: =World2030!$G27/1000 -> 232.91431 | J25: =100*I25/I$8 -> 0.3419204 | K25: =World2045!$G27/1000 -> 190.09773 | L25: =100*K25/K$8 -> 0.22225172 | M25: =World2060!$G27/1000 -> 177.80444 | N25: =100*M25/M$8 -> 0.1746071
A26: 18 | D26: 7. | E26: Encephalitis | G26: =World2016!$G28/1000 -> 104.48244 | H26: =100*G26/G$8 -> 0.18371054 | I26: =World2030!$G28/1000 -> 105.34775 | J26: =100*I26/I$8 -> 0.15465149 | K26: =World2045!$G28/1000 -> 104.26513 | L26: =100*K26/K$8 -> 0.121901 | M26: =World2060!$G28/1000 -> 105.1503 | N26: =100*M26/M$8 -> 0.10325946
A27: 19 | D27: 8. | E27: Acute hepatitis B | G27: =World2016!$G29/1000 -> 110.83004 | H27: =100*G27/G$8 -> 0.19487146 | I27: =World2030!$G29/1000 -> 114.08323 | J27: =100*I27/I$8 -> 0.16747527 | K27: =World2045!$G29/1000 -> 108.00435 | L27: =100*K27/K$8 -> 0.1262727 | M27: =World2060!$G29/1000 -> 105.52487 | N27: =100*M27/M$8 -> 0.10362729
A28: 20 | D28: 9. | E28: Acute hepatitis C | G28: =World2016!$G30/1000 -> 2.552712 | H28: =100*G28/G$8 -> 0.0044884107 | I28: =World2030!$G30/1000 -> 2.7198101 | J28: =100*I28/I$8 -> 0.0039927069 | K28: =World2045!$G30/1000 -> 2.7857456 | L28: =100*K28/K$8 -> 0.0032569392 | M28: =World2060!$G30/1000 -> 2.9694603 | N28: =100*M28/M$8 -> 0.0029160625
A29: 21 | D29: 10. | E29: Parasitic and vector diseases | G29: =World2016!$G31/1000 -> 573.72124 | H29: =100*G29/G$8 -> 1.0087689 | I29: =World2030!$G31/1000 -> 405.74909 | J29: =100*I29/I$8 -> 0.5956435 | K29: =World2045!$G31/1000 -> 336.51062 | L29: =100*K29/K$8 -> 0.39342954 | M29: =World2060!$G31/1000 -> 305.70097 | N29: =100*M29/M$8 -> 0.30020375
A30: 22 | E30: a. | F30: Malaria | G30: =World2016!$G32/1000 -> 446.44595 | H30: =100*G30/G$8 -> 0.78498193 | I30: =World2030!$G32/1000 -> 293.07038 | J30: =100*I30/I$8 -> 0.43023009 | K30: =World2045!$G32/1000 -> 229.9197 | L30: =100*K30/K$8 -> 0.26880935 | M30: =World2060!$G32/1000 -> 196.29909 | N30: =100*M30/M$8 -> 0.19276918
A31: 23 | E31: b. | F31: Trypanosomiasis | G31: =World2016!$G33/1000 -> 3.0772969 | H31: =100*G31/G$8 -> 0.0054107837 | I31: =World2030!$G33/1000 -> 2.3630956 | J31: =100*I31/I$8 -> 0.0034690467 | K31: =World2045!$G33/1000 -> 1.9473115 | L31: =100*K31/K$8 -> 0.0022766885 | M31: =World2060!$G33/1000 -> 1.601334 | N31: =100*M31/M$8 -> 0.0015725383
A32: 24 | E32: c. | F32: Chagas disease | G32: =World2016!$G34/1000 -> 7.727879 | H32: =100*G32/G$8 -> 0.013587861 | I32: =World2030!$G34/1000 -> 8.6456332 | J32: =100*I32/I$8 -> 0.012691871 | K32: =World2045!$G34/1000 -> 10.851749 | L32: =100*K32/K$8 -> 0.012687263 | M32: =World2060!$G34/1000 -> 12.484912 | N32: =100*M32/M$8 -> 0.012260404
A33: 25 | E33: d. | F33: Schistosomiasis | G33: =World2016!$G35/1000 -> 24.072074 | H33: =100*G33/G$8 -> 0.042325714 | I33: =World2030!$G35/1000 -> 18.585463 | J33: =100*I33/I$8 -> 0.027283635 | K33: =World2045!$G35/1000 -> 19.653197 | L33: =100*K33/K$8 -> 0.022977427 | M33: =World2060!$G35/1000 -> 21.857393 | N33: =100*M33/M$8 -> 0.021464347
A34: 26 | E34: e. | F34: Leishmaniasis | G34: =World2016!$G36/1000 -> 14.453969 | H34: =100*G34/G$8 -> 0.025414285 | I34: =World2030!$G36/1000 -> 12.934417 | J34: =100*I34/I$8 -> 0.018987846 | K34: =World2045!$G36/1000 -> 11.748078 | L34: =100*K34/K$8 -> 0.0137352 | M34: =World2060!$G36/1000 -> 11.998386 | N34: =100*M34/M$8 -> 0.011782627
A35: 27 | E35: f. | F35: Lymphatic filariasis | G35: =World2016!$G37/1000 -> 0.00038413689 | H35: =100*G35/G$8 -> 6.7542446e-07 | I35: =World2030!$G37/1000 -> 0.00033724138 | J35: =100*I35/I$8 -> 4.9507353e-07 | K35: =World2045!$G37/1000 -> 0.00029665497 | L35: =100*K35/K$8 -> 3.4683253e-07 | M35: =World2060!$G37/1000 -> 0.00019816527 | N35: =100*M35/M$8 -> 1.946018e-07
A36: 28 | E36: g. | F36: Onchocerciasis | G36: =World2016!$G38/1000 -> 0.0014504721 | H36: =100*G36/G$8 -> 2.5503521e-06 | I36: =World2030!$G38/1000 -> 0.0010513241 | J36: =100*I36/I$8 -> 1.5433537e-06 | K36: =World2045!$G38/1000 -> 0.0011008324 | L36: =100*K36/K$8 -> 1.2870322e-06 | M36: =World2060!$G38/1000 -> 0.001319242 | N36: =100*M36/M$8 -> 1.295519e-06
A37: 29 | E37: h. | F37: Leprosy | G37: =World2016!$G39/1000 -> 13.221084 | H37: =100*G37/G$8 -> 0.023246515 | I37: =World2030!$G39/1000 -> 12.517026 | J37: =100*I37/I$8 -> 0.018375112 | K37: =World2045!$G39/1000 -> 13.433167 | L37: =100*K37/K$8 -> 0.015705313 | M37: =World2060!$G39/1000 -> 14.668835 | N37: =100*M37/M$8 -> 0.014405055
A38: 30 | E38: i. | F38: Dengue | G38: =World2016!$G40/1000 -> 40.392498 | H38: =100*G38/G$8 -> 0.07102177 | I38: =World2030!$G40/1000 -> 41.807633 | J38: =100*I38/I$8 -> 0.061374001 | K38: =World2045!$G40/1000 -> 37.669209 | L38: =100*K38/K$8 -> 0.044040749 | M38: =World2060!$G40/1000 -> 38.082562 | N38: =100*M38/M$8 -> 0.037397749
A39: 31 | E39: j. | F39: Trachoma | G39: =World2016!$G41/1000 -> 0.0014091835 | H39: =100*G39/G$8 -> 2.4777547e-06 | I39: =World2030!$G41/1000 -> 0.0011613339 | J39: =100*I39/I$8 -> 1.7048491e-06 | K39: =World2045!$G41/1000 -> 0.0014155711 | L39: =100*K39/K$8 -> 1.6550072e-06 | M39: =World2060!$G41/1000 -> 0.0016359039 | N39: =100*M39/M$8 -> 1.6064865e-06
A40: 32 | E40: k. | F40: Rabies | G40: =World2016!$G42/1000 -> 24.327245 | H40: =100*G40/G$8 -> 0.042774379 | I40: =World2030!$G42/1000 -> 15.8229 | J40: =100*I40/I$8 -> 0.023228166 | K40: =World2045!$G42/1000 -> 11.285396 | L40: =100*K40/K$8 -> 0.013194258 | M40: =World2060!$G42/1000 -> 8.7052996 | N40: =100*M40/M$8 -> 0.0085487581
A41: 33 | D41: 11. | E41: Intestinal nematode infections | G41: =World2016!$G43/1000 -> 6.250325 | H41: =100*G41/G$8 -> 0.010989891 | I41: =World2030!$G43/1000 -> 4.0728643 | J41: =100*I41/I$8 -> 0.0059790033 | K41: =World2045!$G43/1000 -> 2.1354959 | L41: =100*K41/K$8 -> 0.0024967033 | M41: =World2060!$G43/1000 -> 1.4095091 | N41: =100*M41/M$8 -> 0.0013841629
A42: 34 | E42: a. | F42: Ascariasis | G42: =World2016!$G44/1000 -> 6.2482824 | H42: =100*G42/G$8 -> 0.010986299 | I42: =World2030!$G44/1000 -> 4.071197 | J42: =100*I42/I$8 -> 0.0059765557 | K42: =World2045!$G44/1000 -> 2.1338811 | L42: =100*K42/K$8 -> 0.0024948154 | M42: =World2060!$G44/1000 -> 1.4080004 | N42: =100*M42/M$8 -> 0.0013826813
A43: 35 | E43: b. | F43: Trichuriasis | G43: =World2016!$G45/1000 -> 0.00080712211 | H43: =100*G43/G$8 -> 1.4191556e-06 | I43: =World2030!$G45/1000 -> 0.0004984116 | J43: =100*I43/I$8 -> 7.3167293e-07 | K43: =World2045!$G45/1000 -> 0.00040019551 | L43: =100*K43/K$8 -> 4.6788638e-07 | M43: =World2060!$G45/1000 -> 0.00030275374 | N43: =100*M43/M$8 -> 2.9730953e-07
A44: 36 | E44: c. | F44: Hookworm disease | G44: =World2016!$G46/1000 -> 0.00123546 | H44: =100*G44/G$8 -> 2.1722984e-06 | I44: =World2030!$G46/1000 -> 0.0011688412 | J44: =100*I44/I$8 -> 1.7158699e-06 | K44: =World2045!$G46/1000 -> 0.0012145977 | L44: =100*K44/K$8 -> 1.4200403e-06 | M44: =World2060!$G46/1000 -> 0.0012059868 | N44: =100*M44/M$8 -> 1.1843003e-06
A45: 37 | D45: 12. | E45: Other infectious diseases | G45: =World2016!$G47/1000 -> 468.61244 | H45: =100*G45/G$8 -> 0.82395707 | I45: =World2030!$G47/1000 -> 447.37278 | J45: =100*I45/I$8 -> 0.65674747 | K45: =World2045!$G47/1000 -> 428.43727 | L45: =100*K45/K$8 -> 0.50090507 | M45: =World2060!$G47/1000 -> 435.06609 | N45: =100*M45/M$8 -> 0.4272426
A46: 38 | C46: B. | D46: Respiratory infections | G46: =World2016!$G48/1000 -> 2964.4805 | H46: =100*G46/G$8 -> 5.2124197 | I46: =World2030!$G48/1000 -> 3226.3448 | J46: =100*I46/I$8 -> 4.7363046 | K46: =World2045!$G48/1000 -> 3847.7498 | L46: =100*K46/K$8 -> 4.4985755 | M46: =World2060!$G48/1000 -> 4626.5181 | N46: =100*M46/M$8 -> 4.5433226
A47: 39 | D47: 1. | E47: Lower respiratory infections | G47: =World2016!$G49/1000 -> 2957.1359 | H47: =100*G47/G$8 -> 5.1995057 | I47: =World2030!$G49/1000 -> 3221.2583 | J47: =100*I47/I$8 -> 4.7288376 | K47: =World2045!$G49/1000 -> 3842.4553 | L47: =100*K47/K$8 -> 4.4923855 | M47: =World2060!$G49/1000 -> 4620.9047 | N47: =100*M47/M$8 -> 4.5378101
A48: 40 | D48: 2. | E48: Upper respiratory infections | G48: =World2016!$G50/1000 -> 5.8993995 | H48: =100*G48/G$8 -> 0.010372862 | I48: =World2030!$G50/1000 -> 3.8549523 | J48: =100*I48/I$8 -> 0.0056591064 | K48: =World2045!$G50/1000 -> 4.0259664 | L48: =100*K48/K$8 -> 0.0047069365 | M48: =World2060!$G50/1000 -> 4.2190094 | N48: =100*M48/M$8 -> 0.0041431418
A49: 41 | D49: 3. | E49: Otitis media | G49: =World2016!$G51/1000 -> 1.4452338 | H49: =100*G49/G$8 -> 0.0025411418 | I49: =World2030!$G51/1000 -> 1.2315766 | J49: =100*I49/I$8 -> 0.001807966 | K49: =World2045!$G51/1000 -> 1.2685205 | L49: =100*K49/K$8 -> 0.0014830838 | M49: =World2060!$G51/1000 -> 1.3943979 | N49: =100*M49/M$8 -> 0.0013693234
A50: 42 | C50: C. | D50: Maternal conditions | G50: =World2016!$G52/1000 -> 298.18997 | H50: =100*G50/G$8 -> 0.52430476 | I50: =World2030!$G52/1000 -> 226.92059 | J50: =100*I50/I$8 -> 0.33312157 | K50: =World2045!$G52/1000 -> 172.20139 | L50: =100*K50/K$8 -> 0.20132831 | M50: =World2060!$G52/1000 -> 136.79297 | N50: =100*M50/M$8 -> 0.13433311
A51: 49 | C51: D. | D51: Neonatal conditions | G51: =World2016!$G53/1000 -> 2274.7983 | H51: =100*G51/G$8 -> 3.9997576 | I51: =World2030!$G53/1000 -> 1624.9025 | J51: =100*I51/I$8 -> 2.3853722 | K51: =World2045!$G53/1000 -> 1057.877 | L51: =100*K51/K$8 -> 1.2368111 | M51: =World2060!$G53/1000 -> 648.3984 | N51: =100*M51/M$8 -> 0.63673869
A52: 50 | D52: 1. | E52: Preterm birth complications | G52: =World2016!$G54/1000 -> 1013.3304 | H52: =100*G52/G$8 -> 1.7817297 | I52: =World2030!$G54/1000 -> 755.75281 | J52: =100*I52/I$8 -> 1.1094523 | K52: =World2045!$G54/1000 -> 499.10739 | L52: =100*K52/K$8 -> 0.58352866 | M52: =World2060!$G54/1000 -> 310.23584 | N52: =100*M52/M$8 -> 0.30465708
A53: 51 | D53: 2. | E53: Birth asphyxia and birth trauma | G53: =World2016!$G55/1000 -> 678.6383 | H53: =100*G53/G$8 -> 1.1932437 | I53: =World2030!$G55/1000 -> 479.56731 | J53: =100*I53/I$8 -> 0.70400935 | K53: =World2045!$G55/1000 -> 325.42415 | L53: =100*K53/K$8 -> 0.38046786 | M53: =World2060!$G55/1000 -> 202.87395 | N53: =100*M53/M$8 -> 0.1992258
A54: 52 | D54: 3. | E54: Neonatal sepsis and infections | G54: =World2016!$G56/1000 -> 395.58302 | H54: =100*G54/G$8 -> 0.6955501 | I54: =World2030!$G56/1000 -> 291.99709 | J54: =100*I54/I$8 -> 0.42865449 | K54: =World2045!$G56/1000 -> 195.34502 | L54: =100*K54/K$8 -> 0.22838655 | M54: =World2060!$G56/1000 -> 120.36791 | N54: =100*M54/M$8 -> 0.11820342
A55: 53 | D55: 4. | E55: Other neonatal conditions | G55: =World2016!$G57/1000 -> 187.2466 | H55: =100*G55/G$8 -> 0.32923404 | I55: =World2030!$G57/1000 -> 97.585296 | J55: =100*I55/I$8 -> 0.14325614 | K55: =World2045!$G57/1000 -> 38.000467 | L55: =100*K55/K$8 -> 0.044428037 | M55: =World2060!$G57/1000 -> 14.920697 | N55: =100*M55/M$8 -> 0.014652389
A56: 54 | C56: E. | D56: Nutritional deficiencies | G56: =World2016!$G58/1000 -> 452.65707 | H56: =100*G56/G$8 -> 0.79590289 | I56: =World2030!$G58/1000 -> 437.89856 | J56: =100*I56/I$8 -> 0.64283922 | K56: =World2045!$G58/1000 -> 487.45647 | L56: =100*K56/K$8 -> 0.56990705 | M56: =World2060!$G58/1000 -> 610.09808 | N56: =100*M56/M$8 -> 0.5991271
A57: 55 | D57: 1. | E57: Protein-energy malnutrition | G57: =World2016!$G59/1000 -> 342.31958 | H57: =100*G57/G$8 -> 0.60189747 | I57: =World2030!$G59/1000 -> 290.86116 | J57: =100*I57/I$8 -> 0.42698693 | K57: =World2045!$G59/1000 -> 272.91501 | L57: =100*K57/K$8 -> 0.31907709 | M57: =World2060!$G59/1000 -> 310.41253 | N57: =100*M57/M$8 -> 0.3048306
A58: 56 | D58: 2. | E58: Iodine deficiency | G58: =World2016!$G60/1000 -> 2.6572301 | H58: =100*G58/G$8 -> 0.004672184 | I58: =World2030!$G60/1000 -> 2.5115384 | J58: =100*I58/I$8 -> 0.0036869621 | K58: =World2045!$G60/1000 -> 2.2382663 | L58: =100*K58/K$8 -> 0.0026168568 | M58: =World2060!$G60/1000 -> 2.1878032 | N58: =100*M58/M$8 -> 0.0021484614
A59: 57 | D59: 3. | E59: Vitamin A deficiency | G59: =World2016!$G61/1000 -> 0.0084214639 | H59: =100*G59/G$8 -> 1.4807385e-05 | I59: =World2030!$G61/1000 -> 0.0067494529 | J59: =100*I59/I$8 -> 9.9082606e-06 | K59: =World2045!$G61/1000 -> 0.0080072821 | L59: =100*K59/K$8 -> 9.3616698e-06 | M59: =World2060!$G61/1000 -> 0.0093375385 | N59: =100*M59/M$8 -> 9.1696279e-06
A60: 58 | D60: 4. | E60: Iron-deficiency anaemia | G60: =World2016!$G62/1000 -> 23.917949 | H60: =100*G60/G$8 -> 0.042054717 | I60: =World2030!$G62/1000 -> 27.504498 | J60: =100*I60/I$8 -> 0.040376863 | K60: =World2045!$G62/1000 -> 33.882107 | L60: =100*K60/K$8 -> 0.03961308 | M60: =World2060!$G62/1000 -> 38.175616 | N60: =100*M60/M$8 -> 0.03748913
A61: 59 | D61: 5. | E61: Other nutritional deficiencies | G61: =World2016!$G63/1000 -> 83.753887 | H61: =100*G61/G$8 -> 0.14726371 | I61: =World2030!$G63/1000 -> 117.01461 | J61: =100*I61/I$8 -> 0.17177855 | K61: =World2045!$G63/1000 -> 178.41308 | L61: =100*K61/K$8 -> 0.20859067 | M61: =World2060!$G63/1000 -> 259.31279 | N61: =100*M61/M$8 -> 0.25464974
A62: 60 | B62: II. | C62: Noncommunicable diseases | G62: =World2016!$G64/1000 -> 40507.6 | H62: =100*G62/G$8 -> 71.224151 | I62: =World2030!$G64/1000 -> 52461.236 | J62: =100*I62/I$8 -> 77.01359 | K62: =World2045!$G64/1000 -> 69445.294 | L62: =100*K62/K$8 -> 81.191583 | M62: =World2060!$G64/1000 -> 84094.252 | N62: =100*M62/M$8 -> 82.582042
A63: 61 | C63: A. | D63: Malignant neoplasms | G63: =World2016!$G65/1000 -> 8966.2944 | H63: =100*G63/G$8 -> 15.765355 | I63: =World2030!$G65/1000 -> 11713.213 | J63: =100*I63/I$8 -> 17.195107 | K63: =World2045!$G65/1000 -> 15449.741 | L63: =100*K63/K$8 -> 18.06298 | M63: =World2060!$G65/1000 -> 18633.158 | N63: =100*M63/M$8 -> 18.298091
A64: 62 | D64: 1. | E64: Mouth and oropharynx cancers | G64: =World2016!$G66/1000 -> 332.56081 | H64: =100*G64/G$8 -> 0.5847387 | I64: =World2030!$G66/1000 -> 439.2117 | J64: =100*I64/I$8 -> 0.64476692 | K64: =World2045!$G66/1000 -> 563.11518 | L64: =100*K64/K$8 -> 0.65836301 | M64: =World2060!$G66/1000 -> 679.94118 | N64: =100*M64/M$8 -> 0.66771427
A65: 63 | D65: 2. | E65: Oesophagus cancer | G65: =World2016!$G67/1000 -> 429.14473 | H65: =100*G65/G$8 -> 0.75456135 | I65: =World2030!$G67/1000 -> 572.90195 | J65: =100*I65/I$8 -> 0.84102548 | K65: =World2045!$G67/1000 -> 794.30561 | L65: =100*K65/K$8 -> 0.92865804 | M65: =World2060!$G67/1000 -> 977.2834 | N65: =100*M65/M$8 -> 0.95970959
A66: 64 | D66: 3. | E66: Stomach cancer | G66: =World2016!$G68/1000 -> 760.17175 | H66: =100*G66/G$8 -> 1.3366032 | I66: =World2030!$G68/1000 -> 962.62306 | J66: =100*I66/I$8 -> 1.4131398 | K66: =World2045!$G68/1000 -> 1317.0367 | L66: =100*K66/K$8 -> 1.5398062 | M66: =World2060!$G68/1000 -> 1574.4211 | N66: =100*M66/M$8 -> 1.5461093
A67: 65 | D67: 4. | E67: Colon and rectum cancers | G67: =World2016!$G69/1000 -> 794.49533 | H67: =100*G67/G$8 -> 1.3969541 | I67: =World2030!$G69/1000 -> 1059.0896 | J67: =100*I67/I$8 -> 1.5547535 | K67: =World2045!$G69/1000 -> 1426.1721 | L67: =100*K67/K$8 -> 1.6674013 | M67: =World2060!$G69/1000 -> 1705.7693 | N67: =100*M67/M$8 -> 1.6750957
A68: 66 | D68: 5. | E68: Liver cancer | G68: =World2016!$G70/1000 -> 829.5995 | H68: =100*G68/G$8 -> 1.4586774 | I68: =World2030!$G70/1000 -> 1111.7884 | J68: =100*I68/I$8 -> 1.6321159 | K68: =World2045!$G70/1000 -> 1441.4463 | L68: =100*K68/K$8 -> 1.685259 | M68: =World2060!$G70/1000 -> 1660.8047 | N68: =100*M68/M$8 -> 1.6309396
A69: 67 | D69: 6. | E69: Pancreas cancer | G69: =World2016!$G71/1000 -> 371.81388 | H69: =100*G69/G$8 -> 0.65375703 | I69: =World2030!$G71/1000 -> 503.9531 | J69: =100*I69/I$8 -> 0.73980791 | K69: =World2045!$G71/1000 -> 641.07687 | L69: =100*K69/K$8 -> 0.7495115 | M69: =World2060!$G71/1000 -> 733.36659 | N69: =100*M69/M$8 -> 0.72017896
A70: 68 | D70: 7. | E70: Trachea, bronchus, lung cancers | G70: =World2016!$G72/1000 -> 1707.74 | H70: =100*G70/G$8 -> 3.002704 | I70: =World2030!$G72/1000 -> 2018.5213 | J70: =100*I70/I$8 -> 2.9632083 | K70: =World2045!$G72/1000 -> 2340.373 | L70: =100*K70/K$8 -> 2.7362343 | M70: =World2060!$G72/1000 -> 2448.8056 | N70: =100*M70/M$8 -> 2.4047704
A71: 69 | D71: 8. | E71: Melanoma and other skin cancers | G71: =World2016!$G73/1000 -> 113.08002 | H71: =100*G71/G$8 -> 0.19882759 | I71: =World2030!$G73/1000 -> 155.20976 | J71: =100*I71/I$8 -> 0.22784939 | K71: =World2045!$G73/1000 -> 214.16462 | L71: =100*K71/K$8 -> 0.25038939 | M71: =World2060!$G73/1000 -> 268.13303 | N71: =100*M71/M$8 -> 0.26331138
A72: 70 | D72: 9. | E72: Breast cancer | G72: =World2016!$G74/1000 -> 586.01234 | H72: =100*G72/G$8 -> 1.0303803 | I72: =World2030!$G74/1000 -> 807.24416 | J72: =100*I72/I$8 -> 1.185042 | K72: =World2045!$G74/1000 -> 1136.0211 | L72: =100*K72/K$8 -> 1.3281728 | M72: =World2060!$G74/1000 -> 1480.0492 | N72: =100*M72/M$8 -> 1.4534345
A73: 71 | D73: 10. | E73: Cervix uteri cancer | G73: =World2016!$G75/1000 -> 283.4393 | H73: =100*G73/G$8 -> 0.49836879 | I73: =World2030!$G75/1000 -> 366.1865 | J73: =100*I73/I$8 -> 0.53756525 | K73: =World2045!$G75/1000 -> 491.3313 | L73: =100*K73/K$8 -> 0.57443729 | M73: =World2060!$G75/1000 -> 633.96085 | N73: =100*M73/M$8 -> 0.62256077
A74: 72 | D74: 11. | E74: Corpus uteri cancer | G74: =World2016!$G76/1000 -> 84.161463 | H74: =100*G74/G$8 -> 0.14798035 | I74: =World2030!$G76/1000 -> 102.643 | J74: =100*I74/I$8 -> 0.15068089 | K74: =World2045!$G76/1000 -> 126.12681 | L74: =100*K74/K$8 -> 0.14746047 | M74: =World2060!$G76/1000 -> 146.76796 | N74: =100*M74/M$8 -> 0.14412873
A75: 73 | D75: 12. | E75: Ovary cancer | G75: =World2016!$G77/1000 -> 164.56809 | H75: =100*G75/G$8 -> 0.2893586 | I75: =World2030!$G77/1000 -> 213.03284 | J75: =100*I75/I$8 -> 0.31273422 | K75: =World2045!$G77/1000 -> 262.68297 | L75: =100*K75/K$8 -> 0.30711435 | M75: =World2060!$G77/1000 -> 303.32922 | N75: =100*M75/M$8 -> 0.29787466
... A79: 77 | D79: 16. | E79: Leukaemia | G79: =World2016!$G81/1000 -> 292.34153 | H79: =100*G79/G$8 -> 0.5140215 | I79: =World2030!$G81/1000 -> 356.87825 | J79: =100*I79/I$8 -> 0.52390064 | K79: =World2045!$G81/1000 -> 443.43741 | L79: =100*K79/K$8 -> 0.51844241 | M79: =World2060!$G81/1000 -> 511.90912 | N79: =100*M79/M$8 -> 0.50270381
A80: 78 | E80: Other malignant neoplasms | G80: =World2016!$G82/1000 -> 1315.2994 | H80: =100*G80/G$8 -> 2.3126792 | I80: =World2030!$G82/1000 -> 1769.6713 | J80: =100*I80/I$8 -> 2.5978941 | K80: =World2045!$G82/1000 -> 2380.6572 | L80: =100*K80/K$8 -> 2.7833322 | M80: =World2060!$G82/1000 -> 2965.8981 | N80: =100*M80/M$8 -> 2.9125644
A81: 79 | C81: B. | D81: Other neoplasms | G81: =World2016!$G83/1000 -> 215.19358 | H81: =100*G81/G$8 -> 0.37837295 | I81: =World2030!$G83/1000 -> 290.80247 | J81: =100*I81/I$8 -> 0.42690077 | K81: =World2045!$G83/1000 -> 402.02288 | L81: =100*K81/K$8 -> 0.47002283 | M81: =World2060!$G83/1000 -> 504.44505 | N81: =100*M81/M$8 -> 0.49537396
A82: 80 | C82: C. | D82: Diabetes mellitus | G82: =World2016!$G84/1000 -> 1598.526 | H82: =100*G82/G$8 -> 2.810674 | I82: =World2030!$G84/1000 -> 2412.6356 | J82: =100*I82/I$8 -> 3.5417718 | K82: =World2045!$G84/1000 -> 3663.4593 | L82: =100*K82/K$8 -> 4.2831133 | M82: =World2060!$G84/1000 -> 5128.5589 | N82: =100*M82/M$8 -> 5.0363355
A83: 81 | C83: D. | D83: Endocrine, blood, immune disorders | G83: =World2016!$G85/1000 -> 362.04862 | H83: =100*G83/G$8 -> 0.63658686 | I83: =World2030!$G85/1000 -> 469.71417 | J83: =100*I83/I$8 -> 0.68954484 | K83: =World2045!$G85/1000 -> 605.0384 | L83: =100*K83/K$8 -> 0.70737732 | M83: =World2060!$G85/1000 -> 728.60901 | N83: =100*M83/M$8 -> 0.71550693
A84: 82 | C84: E. | D84: Mental and behavioral disorders | G84: =World2016!$G86/1000 -> 315.39721 | H84: =100*G84/G$8 -> 0.55456011 | I84: =World2030!$G86/1000 -> 347.68078 | J84: =100*I84/I$8 -> 0.51039867 | K84: =World2045!$G86/1000 -> 368.30784 | L84: =100*K84/K$8 -> 0.43060509 | M84: =World2060!$G86/1000 -> 376.97775 | N84: =100*M84/M$8 -> 0.37019882
A85: 83 | D85: 1. | E85: Unipolar depressive disorders | G85: =World2016!$G87/1000 -> 0 | H85: =100*G85/G$8 -> 0 | I85: =World2030!$G87/1000 -> 0 | J85: =100*I85/I$8 -> 0 | K85: =World2045!$G87/1000 -> 0 | L85: =100*K85/K$8 -> 0 | M85: =World2060!$G87/1000 -> 0 | N85: =100*M85/M$8 -> 0
A86: 84 | D86: 2. | E86: Bipolar disorder | G86: =World2016!$G88/1000 -> 0.78524821 | H86: =100*G86/G$8 -> 0.0013806949 | I86: =World2030!$G88/1000 -> 0.75483585 | J86: =100*I86/I$8 -> 0.0011081062 | K86: =World2045!$G88/1000 -> 0.865776 | L86: =100*K86/K$8 -> 0.0010122172 | M86: =World2060!$G88/1000 -> 0.8908798 | N86: =100*M86/M$8 -> 0.00087485972
A87: 85 | D87: 3. | E87: Schizophrenia | G87: =World2016!$G89/1000 -> 5.1979722 | H87: =100*G87/G$8 -> 0.0091395482 | I87: =World2030!$G89/1000 -> 6.2524366 | J87: =100*I87/I$8 -> 0.009178636 | K87: =World2045!$G89/1000 -> 6.8070359 | L87: =100*K87/K$8 -> 0.0079584085 | M87: =World2060!$G89/1000 -> 6.9421214 | N87: =100*M87/M$8 -> 0.0068172859
A88: 86 | D88: 4. | E88: Alcohol use disorders | G88: =World2016!$G90/1000 -> 145.56528 | H88: =100*G88/G$8 -> 0.25594614 | I88: =World2030!$G90/1000 -> 154.87532 | J88: =100*I88/I$8 -> 0.22735844 | K88: =World2045!$G90/1000 -> 159.83964 | L88: =100*K88/K$8 -> 0.18687564 | M88: =World2060!$G90/1000 -> 162.31232 | N88: =100*M88/M$8 -> 0.15939356
A89: 87 | D89: 5. | E89: Drug use disorders | G89: =World2016!$G91/1000 -> 160.23489 | H89: =100*G89/G$8 -> 0.28173957 | I89: =World2030!$G91/1000 -> 182.39767 | J89: =100*I89/I$8 -> 0.2677615 | K89: =World2045!$G91/1000 -> 197.58076 | L89: =100*K89/K$8 -> 0.23100046 | M89: =World2060!$G91/1000 -> 203.84977 | N89: =100*M89/M$8 -> 0.20018408
A90: 88 | D90: 6. | E90: Anxiety disorders | G90: =World2016!$G92/1000 -> 0 | H90: =100*G90/G$8 -> 0 | I90: =World2030!$G92/1000 -> 0 | J90: =100*I90/I$8 -> 0 | K90: =World2045!$G92/1000 -> 0 | L90: =100*K90/K$8 -> 0 | M90: =World2060!$G92/1000 -> 0 | N90: =100*M90/M$8 -> 0
A91: 89 | D91: 7. | E91: Eating disorders | G91: =World2016!$G93/1000 -> 1.8451708 | H91: =100*G91/G$8 -> 0.0032443474 | I91: =World2030!$G93/1000 -> 1.7574686 | J91: =100*I91/I$8 -> 0.0025799805 | K91: =World2045!$G93/1000 -> 1.5889353 | L91: =100*K91/K$8 -> 0.001857695 | M91: =World2060!$G93/1000 -> 1.4310288 | N91: =100*M91/M$8 -> 0.0014052955
A92: 90 | D92: 8. | E92: Pervasive developmental disorders | G92: =World2016!$G94/1000 -> 0 | H92: =100*G92/G$8 -> 0 | I92: =World2030!$G94/1000 -> 0 | J92: =100*I92/I$8 -> 0 | K92: =World2045!$G94/1000 -> 0 | L92: =100*K92/K$8 -> 0 | M92: =World2060!$G94/1000 -> 0 | N92: =100*M92/M$8 -> 0
A93: 91 | D93: 9. | E93: Childhood behavioural disorders | G93: =World2016!$G95/1000 -> 0 | H93: =100*G93/G$8 -> 0 | I93: =World2030!$G95/1000 -> 0 | J93: =100*I93/I$8 -> 0 | K93: =World2045!$G95/1000 -> 0 | L93: =100*K93/K$8 -> 0 | M93: =World2060!$G95/1000 -> 0 | N93: =100*M93/M$8 -> 0
A94: 92 | D94: 10. | E94: Idiopathic intellectual disability | G94: =World2016!$G96/1000 -> 1.7686533 | H94: =100*G94/G$8 -> 0.0031098073 | I94: =World2030!$G96/1000 -> 1.6430484 | J94: =100*I94/I$8 -> 0.0024120106 | K94: =World2045!$G96/1000 -> 1.6256897 | L94: =100*K94/K$8 -> 0.0019006662 | M94: =World2060!$G96/1000 -> 1.5516448 | N94: =100*M94/M$8 -> 0.0015237427
A95: 93 | D95: 11. | E95: Other mental and behavioural disorders | G95: =World2016!$G97/1000 -> 0 | H95: =100*G95/G$8 -> 0 | I95: =World2030!$G97/1000 -> 0 | J95: =100*I95/I$8 -> 0 | K95: =World2045!$G97/1000 -> 0 | L95: =100*K95/K$8 -> 0 | M95: =World2060!$G97/1000 -> 0 | N95: =100*M95/M$8 -> 0
A96: 94 | C96: F. | D96: Neurological conditions | G96: =World2016!$G98/1000 -> 2538.4598 | H96: =100*G96/G$8 -> 4.4633512 | I96: =World2030!$G98/1000 -> 4019.3804 | J96: =100*I96/I$8 -> 5.9004884 | K96: =World2045!$G98/1000 -> 6333.7083 | L96: =100*K96/K$8 -> 7.4050202 | M96: =World2060!$G98/1000 -> 8348.1001 | N96: =100*M96/M$8 -> 8.1979819
A97: 95 | D97: 1. | E97: Alzheimer's disease and other dementias | G97: =World2016!$G99/1000 -> 1991.7082 | H97: =100*G97/G$8 -> 3.5020028 | I97: =World2030!$G99/1000 -> 3281.0693 | J97: =100*I97/I$8 -> 4.8166407 | K97: =World2045!$G99/1000 -> 5384.5921 | L97: =100*K97/K$8 -> 6.2953663 | M97: =World2060!$G99/1000 -> 7258.2286 | N97: =100*M97/M$8 -> 7.1277089
A98: 96 | D98: 2. | E98: Parkinson's disease | G98: =World2016!$G100/1000 -> 213.65212 | H98: =100*G98/G$8 -> 0.37566261 | I98: =World2030!$G100/1000 -> 337.26541 | J98: =100*I98/I$8 -> 0.49510881 | K98: =World2045!$G100/1000 -> 500.02935 | L98: =100*K98/K$8 -> 0.58460656 | M98: =World2060!$G100/1000 -> 612.52842 | N98: =100*M98/M$8 -> 0.60151374
A99: 97 | D99: 3. | E99: Epilepsy | G99: =World2016!$G101/1000 -> 137.20324 | H99: =100*G99/G$8 -> 0.24124323 | I99: =World2030!$G101/1000 -> 159.25676 | J99: =100*I99/I$8 -> 0.23379043 | K99: =World2045!$G101/1000 -> 184.63771 | L99: =100*K99/K$8 -> 0.21586816 | M99: =World2060!$G101/1000 -> 206.36131 | N99: =100*M99/M$8 -> 0.20265046
A100: 98 | D100: 4. | E100: Multiple sclerosis | G100: =World2016!$G102/1000 -> 24.065094 | H100: =100*G100/G$8 -> 0.04231344 | I100: =World2030!$G102/1000 -> 28.185958 | J100: =100*I100/I$8 -> 0.041377253 | K100: =World2045!$G102/1000 -> 28.40846 | L100: =100*K100/K$8 -> 0.033213595 | M100: =World2060!$G102/1000 -> 27.493672 | N100: =100*M100/M$8 -> 0.026999272
A101: 99 | D101: 5. | E101: Migraine | G101: =World2016!$G103/1000 -> 0.021669257 | H101: =100*G101/G$8 -> 3.8100861e-05 | I101: =World2030!$G103/1000 -> 0.015267981 | J101: =100*I101/I$8 -> 2.2413541e-05 | K101: =World2045!$G103/1000 -> 0.017478228 | L101: =100*K101/K$8 -> 2.0434574e-05 | M101: =World2060!$G103/1000 -> 0.019659082 | N101: =100*M101/M$8 -> 1.9305566e-05
A102: 100 | D102: 6. | E102: Non-migraine headache | G102: =World2016!$G104/1000 -> 0 | H102: =100*G102/G$8 -> 0 | I102: =World2030!$G104/1000 -> 0 | J102: =100*I102/I$8 -> 0 | K102: =World2045!$G104/1000 -> 0 | L102: =100*K102/K$8 -> 0 | M102: =World2060!$G104/1000 -> 0 | N102: =100*M102/M$8 -> 0
A103: 101 | D103: 7. | E103: Other neurological conditions | G103: =World2016!$G105/1000 -> 171.80943 | H103: =100*G103/G$8 -> 0.30209099 | I103: =World2030!$G105/1000 -> 213.58768 | J103: =100*I103/I$8 -> 0.31354873 | K103: =World2045!$G105/1000 -> 236.02305 | L103: =100*K103/K$8 -> 0.27594505 | M103: =World2060!$G105/1000 -> 243.46838 | N103: =100*M103/M$8 -> 0.23909025
A104: 102 | C104: G. | D104: Sense organ diseases | G104: =World2016!$G106/1000 -> 0.63073767 | H104: =100*G104/G$8 -> 0.0011090204 | I104: =World2030!$G106/1000 -> 0.59341386 | J104: =100*I104/I$8 -> 0.00087113715 | K104: =World2045!$G106/1000 -> 0.84127442 | L104: =100*K104/K$8 -> 0.00098357136 | M104: =World2060!$G106/1000 -> 1.0440983 | N104: =100*M104/M$8 -> 0.001025323
A105: 110 | C105: H. | D105: Cardiovascular diseases | G105: =World2016!$G107/1000 -> 17858.012 | H105: =100*G105/G$8 -> 31.399583 | I105: =World2030!$G107/1000 -> 22261.209 | J105: =100*I105/I$8 -> 32.679666 | K105: =World2045!$G107/1000 -> 28071.948 | L105: =100*K105/K$8 -> 32.820163 | M105: =World2060!$G107/1000 -> 32349.075 | N105: =100*M105/M$8 -> 31.767364
...

Sheet Top 20 causes
A1: 20 Leading Causes of Death
A3: World
A4: 2016 | C4: WORLD, 2000 | G4: 2030 | I4: WORLD, 2011 | M4: 2045 | O4: WORLD, 2011 | S4: 2060 | U4: WORLD, 2011
A5: Rank | B5: GHE code | C5: Cause | D5: Deaths (000s) | E5: % deaths | F5: Deaths per 100,000 population | G5: Rank | H5: GHE code | I5: Cause | J5: Deaths (000s) | K5: % deaths | L5: Deaths per 100,000 population | M5: Rank | N5: GHE code | O5: Cause | P5: Deaths (000s) | Q5: % deaths | R5: Deaths per 100,000 population | S5: Rank | T5: GHE code | U5: Cause | V5: Deaths (000s) | W5: % deaths | X5: Deaths per 100,000 population
A6: 1 | B6: 113 | C6: Ischaemic heart disease | D6: 9433.224 | E6: =100000*D6/World2016!$G$10 -> 16.586354 | F6: =100000*D6/World2016!$G$7 -> 126.41214 | G6: 1 | H6: 113 | I6: Ischaemic heart disease | J6: 11740.367 | K6: =100000*J6/World2030!$G$10 -> 17.234969 | L6: =100000*J6/World2030!$G$7 -> 137.38068 | M6: 1 | N6: 113 | O6: Ischaemic heart disease | P6: 14553.656 | Q6: =100000*P6/World2045!$G$10 -> 17.015326 | R6: =100000*P6/World2045!$G$7 -> 153.22334 | S6: 1 | T6: 113 | U6: Ischaemic heart disease | V6: 16560.299 | W6: =100000*V6/World2060!$G$10 -> 16.262507 | X6: =100000*V6/World2060!$G$7 -> 162.09564
A7: 2 | B7: 114 | C7: Stroke | D7: 5780.6414 | E7: =100000*D7/World2016!$G$10 -> 10.16405 | F7: =100000*D7/World2016!$G$7 -> 77.464844 | G7: 2 | H7: 114 | I7: Stroke | J7: 7180.2224 | K7: =100000*J7/World2030!$G$10 -> 10.540634 | L7: =100000*J7/World2030!$G$7 -> 84.019847 | M7: 2 | N7: 114 | O7: Stroke | P7: 9243.8795 | Q7: =100000*P7/World2045!$G$10 -> 10.807431 | R7: =100000*P7/World2045!$G$7 -> 97.321122 | S7: 2 | T7: 114 | U7: Stroke | V7: 10759.496 | W7: =100000*V7/World2060!$G$10 -> 10.566015 | X7: =100000*V7/World2060!$G$7 -> 105.31618
A8: 3 | B8: 118 | C8: Chronic obstructive pulmonary disease | D8: 3041.446 | E8: =100000*D8/World2016!$G$10 -> 5.3477474 | F8: =100000*D8/World2016!$G$7 -> 40.757612 | G8: 3 | H8: 118 | I8: Chronic obstructive pulmonary disease | J8: 3864.1484 | K8: =100000*J8/World2030!$G$10 -> 5.6726064 | L8: =100000*J8/World2030!$G$7 -> 45.216588 | M8: 3 | N8: 118 | O8: Chronic obstructive pulmonary disease | P8: 5483.7462 | Q8: =100000*P8/World2045!$G$10 -> 6.4112918 | R8: =100000*P8/World2045!$G$7 -> 57.733805 | S8: 3 | T8: 95 | U8: Alzheimer disease and other dementias | V8: 7258.2285 | W8: =100000*V8/World2060!$G$10 -> 7.1277088 | X8: =100000*V8/World2060!$G$7 -> 71.045045
A9: 4 | B9: 39 | C9: Lower respiratory infections | D9: 2957.1359 | E9: =100000*D9/World2016!$G$10 -> 5.1995057 | F9: =100000*D9/World2016!$G$7 -> 39.627795 | G9: 4 | H9: 95 | I9: Alzheimer disease and other dementias | J9: 3281.0693 | K9: =100000*J9/World2030!$G$10 -> 4.8166407 | L9: =100000*J9/World2030!$G$7 -> 38.39365 | M9: 4 | N9: 95 | O9: Alzheimer disease and other dementias | P9: 5384.5922 | Q9: =100000*P9/World2045!$G$10 -> 6.2953663 | R9: =100000*P9/World2045!$G$7 -> 56.689894 | S9: 4 | T9: 118 | U9: Chronic obstructive pulmonary disease | V9: 7053.0569 | W9: =100000*V9/World2060!$G$10 -> 6.9262266 | X9: =100000*V9/World2060!$G$7 -> 69.036783
A10: 5 | B10: 95 | C10: Alzheimer disease and other dementias | D10: 1991.7083 | E10: =100000*D10/World2016!$G$10 -> 3.5020029 | F10: =100000*D10/World2016!$G$7 -> 26.690355 | G10: 5 | H10: 39 | I10: Lower respiratory infections | J10: 3221.2583 | K10: =100000*J10/World2030!$G$10 -> 4.7288376 | L10: =100000*J10/World2030!$G$7 -> 37.693767 | M10: 5 | N10: 39 | O10: Lower respiratory infections | P10: 3842.4553 | Q10: =100000*P10/World2045!$G$10 -> 4.4923854 | R10: =100000*P10/World2045!$G$7 -> 40.454017 | S10: 5 | T10: 80 | U10: Diabetes mellitus | V10: 5128.5589 | W10: =100000*V10/World2060!$G$10 -> 5.0363355 | X10: =100000*V10/World2060!$G$7 -> 50.199397
A11: 6 | B11: 68 | C11: Trachea, bronchus, lung cancers | D11: 1707.7399 | E11: =100000*D11/World2016!$G$10 -> 3.0027039 | F11: =100000*D11/World2016!$G$7 -> 22.884971 | G11: 6 | H11: 80 | I11: Diabetes mellitus | J11: 2412.6356 | K11: =100000*J11/World2030!$G$10 -> 3.5417718 | L11: =100000*J11/World2030!$G$7 -> 28.231615 | M11: 6 | N11: 80 | O11: Diabetes mellitus | P11: 3663.4593 | Q11: =100000*P11/World2045!$G$10 -> 4.2831133 | R11: =100000*P11/World2045!$G$7 -> 38.569517 | S11: 6 | T11: 39 | U11: Lower respiratory infections | V11: 4620.9047 | W11: =100000*V11/World2060!$G$10 -> 4.5378101 | X11: =100000*V11/World2060!$G$7 -> 45.230373
A12: 7 | B12: 80 | C12: Diabetes mellitus | D12: 1598.526 | E12: =100000*D12/World2016!$G$10 -> 2.810674 | F12: =100000*D12/World2016!$G$7 -> 21.421423 | G12: 7 | H12: 68 | I12: Trachea, bronchus, lung cancers | J12: 2018.5212 | K12: =100000*J12/World2030!$G$10 -> 2.9632082 | L12: =100000*J12/World2030!$G$7 -> 23.61986 | M12: 7 | N12: 68 | O12: Trachea, bronchus, lung cancers | P12: 2340.3731 | Q12: =100000*P12/World2045!$G$10 -> 2.7362343 | R12: =100000*P12/World2045!$G$7 -> 24.639842 | S12: 7 | T12: 127 | U12: Kidney diseases | V12: 2784.9036 | W12: =100000*V12/World2060!$G$10 -> 2.7348246 | X12: =100000*V12/World2060!$G$7 -> 27.259213
A13: 8 | B13: 153 | C13: Road injury | D13: 1402.3018 | E13: =100000*D13/World2016!$G$10 -> 2.4656547 | F13: =100000*D13/World2016!$G$7 -> 18.791875 | G13: 8 | H13: 127 | I13: Kidney diseases | J13: 1626.1265 | K13: =100000*J13/World2030!$G$10 -> 2.387169 | L13: =100000*J13/World2030!$G$7 -> 19.028227 | M13: 8 | N13: 127 | O13: Kidney diseases | P13: 2224.5518 | Q13: =100000*P13/World2045!$G$10 -> 2.6008225 | R13: =100000*P13/World2045!$G$7 -> 23.420456 | S13: 8 | T13: 68 | U13: Trachea, bronchus, lung cancers | V13: 2448.8055 | W13: =100000*V13/World2060!$G$10 -> 2.4047703 | X13: =100000*V13/World2060!$G$7 -> 23.969416
A14: 9 | B14: 11 | C14: Diarrhoeal diseases | D14: 1382.7068 | E14: =100000*D14/World2016!$G$10 -> 2.431201 | F14: =100000*D14/World2016!$G$7 -> 18.529287 | G14: 9 | H14: 123 | I14: Cirrhosis of the liver | J14: 1501.9698 | K14: =100000*J14/World2030!$G$10 -> 2.2049059 | L14: =100000*J14/World2030!$G$7 -> 17.575399 | M14: 9 | N14: 123 | O14: Cirrhosis of the liver | P14: 1748.3617 | Q14: =100000*P14/World2045!$G$10 -> 2.0440875 | R14: =100000*P14/World2045!$G$7 -> 18.407047 | S14: 9 | T14: 153 | U14: Road injury | V14: 2260.0095 | W14: =100000*V14/World2060!$G$10 -> 2.2193693 | X14: =100000*V14/World2060!$G$7 -> 22.121441
A15: 10 | B15: 3 | C15: Tuberculosis | D15: 1292.9007 | E15: =100000*D15/World2016!$G$10 -> 2.2732957 | F15: =100000*D15/World2016!$G$7 -> 17.325819 | G15: 10 | H15: 153 | I15: Road injury | J15: 1498.6527 | K15: =100000*J15/World2030!$G$10 -> 2.2000363 | L15: =100000*J15/World2030!$G$7 -> 17.536584 | M15: 10 | N15: 153 | O15: Road injury | P15: 1596.01 | Q15: =100000*P15/World2045!$G$10 -> 1.8659663 | R15: =100000*P15/World2045!$G$7 -> 16.803063 | S15: 10 | T15: 123 | U15: Cirrhosis of the liver | V15: 1989.7948 | W15: =100000*V15/World2060!$G$10 -> 1.9540137 | X15: =100000*V15/World2060!$G$7 -> 19.476524
A16: 11 | B16: 123 | C16: Cirrhosis of the liver | D16: 1254.0714 | E16: =100000*D16/World2016!$G$10 -> 2.2050226 | F16: =100000*D16/World2016!$G$7 -> 16.805479 | G16: 11 | H16: 11 | I16: Diarrhoeal diseases | J16: 1236.1805 | K16: =100000*J16/World2030!$G$10 -> 1.8147247 | L16: =100000*J16/World2030!$G$7 -> 14.465248 | M16: 11 | N16: 112 | O16: Hypertensive heart disease | P16: 1594.2791 | Q16: =100000*P16/World2045!$G$10 -> 1.8639426 | R16: =100000*P16/World2045!$G$7 -> 16.784839 | S16: 11 | T16: 112 | U16: Hypertensive heart disease | V16: 1910.0347 | W16: =100000*V16/World2060!$G$10 -> 1.8756879 | X16: =100000*V16/World2060!$G$7 -> 18.695815
A17: 12 | B17: 127 | C17: Kidney diseases | D17: 1179.8387 | E17: =100000*D17/World2016!$G$10 -> 2.0744999 | F17: =100000*D17/World2016!$G$7 -> 15.810706 | G17: 12 | H17: 112 | I17: Hypertensive heart disease | J17: 1203.4148 | K17: =100000*J17/World2030!$G$10 -> 1.7666243 | L17: =100000*J17/World2030!$G$7 -> 14.081838 | M17: 12 | N17: 66 | O17: Liver cancer | P17: 1441.4463 | Q17: =100000*P17/World2045!$G$10 -> 1.685259 | R17: =100000*P17/World2045!$G$7 -> 15.17579 | S17: 12 | T17: 65 | U17: Colon and rectum cancers | V17: 1705.7693 | W17: =100000*V17/World2060!$G$10 -> 1.6750956 | X17: =100000*V17/World2060!$G$7 -> 16.696424
... A25: 20 | B25: 51 | C25: Birth asphyxia and birth trauma | D25: 678.6383 | E25: =100000*D25/World2016!$G$10 -> 1.1932437 | F25: =100000*D25/World2016!$G$7 -> 9.0942521 | G25: 20 | H25: 50 | I25: Preterm birth complications | J25: 755.75282 | K25: =100000*J25/World2030!$G$10 -> 1.1094523 | L25: =100000*J25/World2030!$G$7 -> 8.8434916 | M25: 20 | N25: 74 | O25: Prostate cancer | P25: 843.92138 | Q25: =100000*P25/World2045!$G$10 -> 0.98666604 | R25: =100000*P25/World2045!$G$7 -> 8.8849466 | S25: 20 | T25: 63 | U25: Oesophagus cancer | V25: 977.28342 | W25: =100000*V25/World2060!$G$10 -> 0.9597096 | X25: =100000*V25/World2060!$G$7 -> 9.5658526

Sheet World2016-2060 Deaths
A1: Global Health Estimates (GHE) 2016: Global age-standardized death rate per 100,000 population by cause and year
A2: Region: | C2: World
A3: Year: | C3: 2016-2060
F6: Year | G6: 2016 | H6: 2017 | I6: 2018 | J6: 2019 | K6: 2020 | L6: 2021 | M6: 2022 | N6: 2023 | O6: 2024 | P6: 2025 | Q6: 2026 | R6: 2027 | S6: 2028 | T6: 2029 | U6: 2030 | V6: 2035 | W6: 2040 | X6: 2045 | Y6: 2050 | Z6: 2055 | AA6: 2060
A7: Population (thousands) | G7: 7462277.2 | H7: 7545527.3 | I7: 7628036.1 | J7: 7709744.6 | K7: 7790601.8 | L7: 7870537.4 | M7: 7949495.4 | N7: 8027468.6 | O7: 8104468.6 | P7: 8180504.2 | Q7: 8255555.1 | R7: 8329601.1 | S7: 8402654.9 | T7: 8474737.4 | U7: 8545864.4 | V7: 8887160.2 | W7: 9204612.1 | X7: 9498328.2 | Y7: 9765810.1 | Z7: 10005047 | AA7: 10216375
A9: GHE code | C9: GHE cause category
A10: 0 | C10: All Causes | G10: 56873404 | H10: 57599157 | I10: 58357680 | J10: 58995499 | K10: 59513981 | L10: 60597753 | M10: 61519175 | N10: 62479624 | O10: 62991698 | P10: 63612222 | Q10: 64714616 | R10: 65650879 | S10: 66613582 | T10: 67363859 | U10: 68119453 | V10: 73737411 | W10: 79816277 | X10: 85532626 | Y10: 91472850 | Z10: 96905269 | AA10: 1.0183116e+08
A11: 1 | B11: I. | C11: Communicable, maternal, perinatal and nutritional conditions | G11: 11481463 | H11: 11398909 | I11: 11311254 | J11: 11183551 | K11: 11052249 | L11: 10984557 | M11: 10896180 | N11: 10796945 | O11: 10682482 | P11: 10553295 | Q11: 10488058 | R11: 10404097 | S11: 10306756 | T11: 10201398 | U11: 10094844 | V11: 9827286 | W11: 9697262.8 | X11: 9666058.7 | Y11: 9727520.7 | Z11: 9844902.8 | AA11: 9990220.8
A12: 2 | C12: A. | D12: Infectious and parasitic diseases | G12: 5491337.7 | H12: 5407145.1 | I12: 5333751.6 | J12: 5252708 | K12: 5178020.9 | L12: 5125790.1 | M12: 5066957 | N12: 5004705.6 | O12: 4940093.2 | P12: 4869465.3 | Q12: 4821754.5 | R12: 4767816.3 | S12: 4707296.9 | T12: 4642834.2 | U12: 4578777.5 | V12: 4356239.3 | W12: 4201183.6 | X12: 4100773.8 | Y12: 4038983.1 | Z12: 3997952 | AA12: 3968413.2
A13: 3 | D13: 1. | E13: Tuberculosis | G13: 1292900.6 | H13: 1280391.7 | I13: 1264918.1 | J13: 1249648.9 | K13: 1234695.9 | L13: 1225627.7 | M13: 1215852.1 | N13: 1205170.9 | O13: 1193487.8 | P13: 1180811 | Q13: 1174284.8 | R13: 1166472.6 | S13: 1157669.8 | T13: 1147855.2 | U13: 1137041.6 | V13: 1103554.9 | W13: 1075511.5 | X13: 1050053.6 | Y13: 1020458.8 | Z13: 980402.59 | AA13: 926963.54
A14: 4 | D14: 2. | E14: STDs excluding HIV | G14: 102360.54 | H14: 103128.15 | I14: 103511.27 | J14: 102797.33 | K14: 101464.86 | L14: 99698.397 | M14: 97345.018 | N14: 94678.936 | O14: 91496.23 | P14: 87912.115 | Q14: 84135.075 | R14: 80008.926 | S14: 76034.364 | T14: 72228.146 | U14: 68622.33 | V14: 53388.908 | W14: 41764.936 | X14: 33012.726 | Y14: 26484.246 | Z14: 21693.794 | AA14: 18227.393
A15: 5 | E15: a. | F15: Syphilis | G15: 95557.8 | H15: 96483.796 | I15: 96854.7 | J15: 96130.993 | K15: 94787.165 | L15: 93006.936 | M15: 90653.516 | N15: 87994.743 | O15: 84834.244 | P15: 81284.251 | Q15: 77534.462 | R15: 73447.006 | S15: 69514.174 | T15: 65752.613 | U15: 62193.552 | V15: 47149.68 | W15: 35702.779 | X15: 27107.158 | Y15: 20712.597 | Z15: 16020.127 | AA15: 12612.664
A16: 6 | E16: b. | F16: Chlamydia | G16: 1323.7512 | H16: 1288.7467 | I16: 1291.0963 | J16: 1292.5032 | K16: 1293.5905 | L16: 1296.186 | M16: 1296.1393 | N16: 1294.556 | O16: 1289.8721 | P16: 1282.6359 | Q16: 1277.6353 | R16: 1270.1957 | S16: 1261.928 | T16: 1252.909 | U16: 1243.3476 | V16: 1206.7191 | W16: 1173.1141 | X16: 1146.1863 | Y16: 1122.7515 | Z16: 1105.5802 | AA16: 1097.0673
A17: 7 | E17: c. | F17: Gonorrhoea | G17: 3680.321 | H17: 3598.837 | I17: 3607.0446 | J17: 3614.3228 | K17: 3623.1411 | L17: 3634.1283 | M17: 3637.5161 | N17: 3636.8982 | O17: 3628.4761 | P17: 3613.9624 | Q17: 3604.1868 | R17: 3588.2914 | S17: 3570.6972 | T17: 3551.454 | U17: 3531.0497 | V17: 3454.3832 | W17: 3382.7703 | X17: 3317.8774 | Y17: 3267.3849 | Z17: 3237.4569 | AA17: 3229.5706
A18: 8 | E18: d. | F18: Trichomoniasis | G18: 0 | H18: 0 | I18: 0 | J18: 0 | K18: 0 | L18: 0 | M18: 0 | N18: 0 | O18: 0 | P18: 0 | Q18: 0 | R18: 0 | S18: 0 | T18: 0 | U18: 0 | V18: 0 | W18: 0 | X18: 0 | Y18: 0 | Z18: 0 | AA18: 0
A19: 9 | E19: e. | F19: Other STDs | G19: 1798.6658 | H19: 1756.7698 | I19: 1758.4313 | J19: 1759.5167 | K19: 1760.9625 | L19: 1761.1476 | M19: 1757.8481 | N19: 1752.7418 | O19: 1743.6385 | P19: 1731.2668 | Q19: 1718.792 | R19: 1703.4348 | S19: 1687.5686 | T19: 1671.1677 | U19: 1654.3819 | V19: 1578.1236 | W19: 1506.2735 | X19: 1441.5034 | Y19: 1381.513 | Z19: 1330.6291 | AA19: 1288.0916
A20: 10 | D20: 3. | E20: HIV/AIDS | G20: 1011992.2 | H20: 967483.32 | I20: 947997.74 | J20: 921377.93 | K20: 898553.98 | L20: 876957.66 | M20: 856051.68 | N20: 836090.59 | O20: 822114.87 | P20: 808775.48 | Q20: 797653.97 | R20: 787508.98 | S20: 773047.17 | T20: 756459.86 | U20: 741299.48 | V20: 661874.68 | W20: 588623.79 | X20: 522158.51 | Y20: 463303.18 | Z20: 410726.74 | AA20: 363356.18
A21: 11 | D21: 4. | E21: Diarrhoeal diseases | G21: 1382706.8 | H21: 1370344.7 | I21: 1355455.9 | J21: 1339996.7 | K21: 1326300.7 | L21: 1323814.9 | M21: 1317630.1 | N21: 1309339.8 | O21: 1296998.3 | P21: 1281398.2 | Q21: 1277144.1 | R21: 1269479.8 | S21: 1259980.2 | T21: 1248768.7 | U21: 1236180.6 | V21: 1222042.8 | W21: 1236606.5 | X21: 1274268.6 | Y21: 1331552.5 | Z21: 1404943.8 | AA21: 1491688.6
A22: 12 | D22: 5. | E22: Childhood-cluster diseases | G22: 156115.92 | H22: 147455.3 | I22: 139005.86 | J22: 132521.58 | K22: 126777.42 | L22: 121571.61 | M22: 116477.65 | N22: 111708.39 | O22: 107064.36 | P22: 102630.19 | Q22: 98461.425 | R22: 94427.329 | S22: 90569.947 | T22: 86881.672 | U22: 83373.714 | V22: 68475.351 | W22: 57294.362 | X22: 49044.165 | Y22: 42865.653 | Z22: 38139.551 | AA22: 34551.795
A23: 13 | E23: a. | F23: Whooping cough | G23: 9989.0007 | H23: 9984.54 | I23: 9861.9922 | J23: 9762.3954 | K23: 9648.3687 | L23: 9502.4414 | M23: 9307.3798 | N23: 9075.1853 | O23: 8800.6679 | P23: 8489.8582 | Q23: 8162.858 | R23: 7813.9417 | S23: 7477.5835 | T23: 7152.0507 | U23: 6837.2249 | V23: 5473.7136 | W23: 4381.9258 | X23: 3507.5404 | Y23: 2805.471 | Z23: 2243.245 | AA23: 1796.7315
A24: 14 | E24: b. | F24: Diphtheria | G24: 1446.7969 | H24: 1409.3733 | I24: 1371.7787 | J24: 1332.1252 | K24: 1294.8296 | L24: 1256.9064 | M24: 1217.3768 | N24: 1176.208 | O24: 1134.0078 | P24: 1090.7551 | Q24: 1047.6967 | R24: 1003.3425 | S24: 960.35252 | T24: 919.03256 | U24: 879.72877 | V24: 709.13823 | W24: 574.83475 | X24: 469.90515 | Y24: 386.68396 | Z24: 320.79877 | AA24: 268.54351
A25: 15 | E25: c. | F25: Measles | G25: 90956.352 | H25: 85870.965 | I25: 80664.209 | J25: 76764.308 | K25: 73177.821 | L25: 69906.604 | M25: 66627.461 | N25: 63501.3 | O25: 60423.7 | P25: 57475.421 | Q25: 54666.671 | R25: 51941 | S25: 49349.825 | T25: 46879.926 | U25: 44533.385 | V25: 34563.609 | W25: 27141.64 | X25: 21705.694 | Y25: 17650.197 | Z25: 14520.262 | AA25: 12095.42
A26: 16 | E26: d. | F26: Tetanus | G26: 53723.762 | H26: 50190.425 | I26: 47107.884 | J26: 44662.746 | K26: 42656.409 | L26: 40905.662 | M26: 39325.437 | N26: 37955.694 | O26: 36705.977 | P26: 35574.156 | Q26: 34584.201 | R26: 33669.046 | S26: 32782.189 | T26: 31930.66 | U26: 31123.375 | V26: 27728.887 | W26: 25195.961 | X26: 23361.026 | Y26: 22023.301 | Z26: 21055.245 | AA26: 20391.101
A27: 17 | D27: 6. | E27: Meningitis | G27: 278812.26 | H27: 278551.6 | I27: 277710.97 | J27: 275191.94 | K27: 272551.8 | L27: 270282.93 | M27: 267398.57 | N27: 264148.16 | O27: 260252.88 | P27: 255798.71 | Q27: 251601.01 | R27: 246868.26 | S27: 242172.35 | T27: 237510.2 | U27: 232914.31 | V27: 214384.59 | W27: 200296.4 | X27: 190097.73 | Y27: 183154.15 | Z27: 179219.84 | AA27: 177804.44
A28: 18 | D28: 7. | E28: Encephalitis | G28: 104482.44 | H28: 105290.68 | I28: 106727.59 | J28: 107583.26 | K28: 108179.72 | L28: 108941.23 | M28: 109288.68 | N28: 109380.35 | O28: 109085.07 | P28: 108505.67 | Q28: 108137.69 | R28: 107437.68 | S28: 106712.36 | T28: 105999.97 | U28: 105347.75 | V28: 104052.6 | W28: 103749.03 | X28: 104265.13 | Y28: 104942.93 | Z28: 105229.57 | AA28: 105150.3
A29: 19 | D29: 8. | E29: Acute hepatitis B | G29: 110830.04 | H29: 111822.04 | I29: 112965.69 | J29: 114040.5 | K29: 115051.32 | L29: 115883.41 | M29: 116440.46 | N29: 116864.12 | O29: 116955.48 | P29: 116782.81 | Q29: 116476.17 | R29: 115882.98 | S29: 115268.52 | T29: 114659.98 | U29: 114083.23 | V29: 111723.43 | W29: 109612.4 | X29: 108004.35 | Y29: 106795.21 | Z29: 106028.08 | AA29: 105524.87
A30: 20 | D30: 9. | E30: Acute hepatitis C | G30: 2552.712 | H30: 2584.4419 | I30: 2612.2088 | J30: 2637.8084 | K30: 2661.4903 | L30: 2686.7214 | M30: 2705.6139 | N30: 2720.6451 | O30: 2727.9813 | P30: 2729.0047 | Q30: 2733.5244 | R30: 2731.6795 | S30: 2728.3735 | T30: 2724.2275 | U30: 2719.8101 | V30: 2729.0344 | W30: 2748.695 | X30: 2785.7456 | Y30: 2835.5988 | Z30: 2898.9546 | AA30: 2969.4603
A31: 21 | D31: 10. | E31: Parasitic and vector diseases | G31: 573721.24 | H31: 561786.89 | I31: 540335.73 | J31: 522404.56 | K31: 506960.05 | L31: 493936.68 | M31: 481775.24 | N31: 470431.41 | O31: 459434.13 | P31: 448808.67 | Q31: 439291.83 | R31: 430151.08 | S31: 421458.3 | T31: 413296.16 | U31: 405749.09 | V31: 375557.45 | W31: 353207.43 | X31: 336510.62 | Y31: 324123.75 | Z31: 314287.71 | AA31: 305700.96
A32: 22 | E32: a. | F32: Malaria | G32: 446445.95 | H32: 435897.94 | I32: 415667.88 | J32: 398803.54 | K32: 384370.15 | L32: 372109.43 | M32: 360869.44 | N32: 350450.64 | O32: 340566.97 | P32: 331176 | Q32: 322527.23 | R32: 314363.15 | S32: 306686.57 | T32: 299566.87 | U32: 293070.37 | V32: 266197.99 | W32: 245802.03 | X32: 229919.7 | Y32: 217407.88 | Z32: 206598.99 | AA32: 196299.09
A33: 23 | E33: b. | F33: Trypanosomiasis | G33: 3077.2968 | H33: 2916.5516 | I33: 2811.9689 | J33: 2741.6641 | K33: 2697.3205 | L33: 2655.1223 | M33: 2614.6094 | N33: 2579.3845 | O33: 2544.573 | P33: 2511.2052 | Q33: 2479.3653 | R33: 2449.8515 | S33: 2421.006 | T33: 2391.9255 | U33: 2363.0955 | V33: 2219.8304 | W33: 2080.2624 | X33: 1947.3115 | Y33: 1822.0417 | Z33: 1706.1956 | AA33: 1601.3339
A34: 24 | E34: c. | F34: Chagas disease | G34: 7727.8791 | H34: 7637.3858 | I34: 7615.8519 | J34: 7613.0151 | K34: 7630.7985 | L34: 7682.3257 | M34: 7741.0338 | N34: 7807.4739 | O34: 7886.1371 | P34: 7980.8752 | Q34: 8106.3919 | R34: 8241.2281 | S34: 8374.3729 | T34: 8508.7065 | U34: 8645.6333 | V34: 9386.9869 | W34: 10140.34 | X34: 10851.75 | Y34: 11474.742 | Z34: 12020.456 | AA34: 12484.912
A35: 25 | E35: d. | F35: Schistosomiasis | G35: 24072.075 | H35: 22938.598 | I35: 21951.609 | J35: 21110.161 | K35: 20393.413 | L35: 19831.738 | M35: 19373.217 | N35: 19016.633 | O35: 18749.154 | P35: 18567.431 | Q35: 18507.597 | R35: 18531.677 | S35: 18552.443 | T35: 18570.187 | U35: 18585.463 | V35: 18819.189 | W35: 19165.174 | X35: 19653.197 | Y35: 20264.749 | Z35: 21002.729 | AA35: 21857.393
A36: 26 | E36: e. | F36: Leishmaniasis | G36: 14453.969 | H36: 14266.19 | I36: 14145.41 | J36: 14054.552 | K36: 14002.295 | L36: 13980.756 | M36: 13927.328 | N36: 13861.214 | O36: 13763.626 | P36: 13636.483 | Q36: 13531.74 | R36: 13394.39 | S36: 13249.428 | T36: 13096.127 | U36: 12934.418 | V36: 12353.969 | W36: 11945.976 | X36: 11748.077 | Y36: 11698.23 | Z36: 11795.526 | AA36: 11998.386
A37: 27 | E37: f. | F37: Lymphatic filariasis | G37: 0.38413689 | H37: 0.3598465 | I37: 0.36001006 | J37: 0.36034653 | K37: 0.36120573 | L37: 0.36206499 | M37: 0.36363065 | N37: 0.36506468 | O37: 0.3651835 | P37: 0.36352509 | Q37: 0.35962969 | R37: 0.3545844 | S37: 0.34878311 | T37: 0.3429276 | U37: 0.33724138 | V37: 0.31297174 | W37: 0.30868021 | X37: 0.29665497 | Y37: 0.25765824 | Z37: 0.22290456 | AA37: 0.19816527
A38: 28 | E38: g. | F38: Onchocerciasis | G38: 1.4504721 | H38: 1.0029171 | I38: 1.0010081 | J38: 0.99865191 | K38: 0.99702258 | L38: 0.99387789 | M38: 0.99279959 | N38: 0.99248143 | O38: 0.99560115 | P38: 1.0022101 | Q38: 1.0084299 | R38: 1.0184692 | S38: 1.0296634 | T38: 1.0406439 | U38: 1.0513241 | V38: 1.0784542 | W38: 1.0787514 | X38: 1.1008324 | Y38: 1.1828654 | Z38: 1.2792222 | AA38: 1.319242
A39: 29 | E39: h. | F39: Leprosy | G39: 13221.085 | H39: 12982.081 | I39: 12774.256 | J39: 12596.947 | K39: 12447.626 | L39: 12356.782 | M39: 12286.036 | N39: 12248.401 | O39: 12223.194 | P39: 12216.98 | Q39: 12274.174 | R39: 12345.986 | S39: 12408.737 | T39: 12464.863 | U39: 12517.025 | V39: 12849.665 | W39: 13123.969 | X39: 13433.166 | Y39: 13782.867 | Z39: 14203.767 | AA39: 14668.835
A40: 30 | E40: i. | F40: Dengue | G40: 40392.499 | H40: 41756.979 | I40: 42844.009 | J40: 43752.6 | K40: 44427.819 | L40: 45008.939 | M40: 45291.647 | N40: 45378.127 | O40: 45166.62 | P40: 44710.904 | Q40: 44332.978 | R40: 43735.896 | S40: 43109.09 | T40: 42462.45 | U40: 41807.633 | V40: 39710.852 | W40: 38430.85 | X40: 37669.209 | Y40: 37409.423 | Z40: 37551.489 | AA40: 38082.559
A41: 31 | E41: j. | F41: Trachoma | G41: 1.4091835 | H41: 0.98843157 | I41: 0.98839203 | J41: 0.98757435 | K41: 0.98824614 | L41: 1.0026256 | M41: 1.0212682 | N41: 1.0415137 | O41: 1.0603676 | P41: 1.0770576 | Q41: 1.0962699 | R41: 1.113105 | S41: 1.1281298 | T41: 1.1437392 | U41: 1.1613339 | V41: 1.2510726 | W41: 1.3287251 | X41: 1.4155711 | Y41: 1.5137326 | Z41: 1.6172537 | AA41: 1.6359039
A42: 32 | E42: k. | F42: Rabies | G42: 24327.246 | H42: 23388.832 | I42: 22522.409 | J42: 21729.719 | K42: 20988.283 | L42: 20309.23 | M42: 19669.558 | N42: 19087.139 | O42: 18531.438 | P42: 18006.331 | Q42: 17529.893 | R42: 17086.413 | S42: 16654.156 | T42: 16232.514 | U42: 15822.9 | V42: 14016.319 | W42: 12516.104 | X42: 11285.396 | Y42: 10260.865 | Z42: 9405.4316 | AA42: 8705.2995
A43: 33 | D43: 11. | E43: Intestinal nematode infections | G43: 6250.3253 | H43: 6223.2887 | I43: 6176.2145 | J43: 6076.6903 | K43: 5967.7911 | L43: 5845.0654 | M43: 5696.2317 | N43: 5530.2054 | O43: 5341.7343 | P43: 5135.5315 | Q43: 4925.5806 | R43: 4699.3769 | S43: 4481.1658 | T43: 4271.685 | U43: 4072.8643 | V43: 3235.7974 | W43: 2601.9233 | X43: 2135.4959 | Y43: 1798.7112 | Z43: 1564.9121 | AA43: 1409.5091
A44: 34 | E44: a. | F44: Ascariasis | G44: 6248.2827 | H44: 6221.5213 | I44: 6174.4602 | J44: 6074.9554 | K44: 5966.0803 | L44: 5843.3654 | M44: 5694.5404 | N44: 5528.5204 | O44: 5340.0565 | P44: 5133.8614 | Q44: 4923.9115 | R44: 4697.7117 | S44: 4479.5049 | T44: 4270.024 | U44: 4071.1971 | V44: 3234.0667 | W44: 2600.2401 | X44: 2133.8811 | Y44: 1797.1175 | Z44: 1563.3254 | AA44: 1408.0004
A45: 35 | E45: b. | F45: Trichuriasis | G45: 0.80712211 | H45: 0.60456157 | I45: 0.59506607 | J45: 0.58487499 | K45: 0.57450128 | L45: 0.56530273 | M45: 0.55770016 | N45: 0.55166161 | O45: 0.54517674 | P45: 0.53814304 | Q45: 0.53027081 | R45: 0.52216017 | S45: 0.51373065 | T45: 0.50583339 | U45: 0.4984116 | V45: 0.46681333 | W45: 0.44338715 | X45: 0.40019551 | Y45: 0.35744369 | Z45: 0.32917368 | AA45: 0.30275375
A46: 36 | E46: c. | F46: Hookworm disease | G46: 1.23546 | H46: 1.1629096 | I46: 1.1592679 | J46: 1.1499509 | K46: 1.1363093 | L46: 1.1346697 | M46: 1.1336561 | N46: 1.1333024 | O46: 1.1326341 | P46: 1.1319463 | Q46: 1.1388623 | R46: 1.1429629 | S46: 1.1471155 | T46: 1.1551546 | U46: 1.1688412 | V46: 1.2638848 | W46: 1.2397506 | X46: 1.2145977 | Y46: 1.2362092 | Z46: 1.2574694 | AA46: 1.2059868
A47: 37 | D47: 12. | E47: Other infectious diseases | G47: 468612.45 | H47: 472083 | I47: 476334.3 | J47: 478430.69 | K47: 478855.64 | L47: 480543.87 | M47: 480295.66 | N47: 478642.05 | O47: 475134.37 | P47: 470178.06 | Q47: 466909.15 | R47: 462147.69 | S47: 457174.47 | T47: 452178.47 | U47: 447372.78 | V47: 435219.81 | W47: 429166.62 | X47: 428437.26 | Y47: 430668.5 | Z47: 432816.48 | AA47: 435066.1
A48: 38 | C48: B. | D48: Respiratory infections | G48: 2964480.6 | H48: 3006426.1 | I48: 3031596.3 | J48: 3042557.3 | K48: 3044651.1 | L48: 3080645.8 | M48: 3106361.8 | N48: 3123934.7 | O48: 3131346.2 | P48: 3130622.5 | Q48: 3164217.9 | R48: 3187323.9 | S48: 3203951.7 | T48: 3216297.4 | U48: 3226344.8 | V48: 3405978.5 | W48: 3619557.7 | X48: 3847749.8 | Y48: 4102155.7 | Z48: 4366725.6 | AA48: 4626518.1
A49: 39 | D49: 1. | E49: Lower respiratory infections | G49: 2957135.9 | H49: 3000094.6 | I49: 3025665 | J49: 3036877.9 | K49: 3039105.9 | L49: 3075177.5 | M49: 3100967 | N49: 3118606.5 | O49: 3126083.4 | P49: 3125421.5 | Q49: 3159035.2 | R49: 3182161.4 | S49: 3198814.5 | T49: 3211186.7 | U49: 3221258.2 | V49: 3400868.5 | W49: 3614368.4 | X49: 3842455.3 | Y49: 4096745.2 | Z49: 4361210.1 | AA49: 4620904.7
A50: 40 | D50: 2. | E50: Upper respiratory infections | G50: 5899.3994 | H50: 4997.9337 | I50: 4614.8685 | J50: 4379.3609 | K50: 4259.1585 | L50: 4187.6814 | M50: 4120.4688 | N50: 4060.3562 | O50: 4003.3643 | P50: 3951.3737 | Q50: 3933.7245 | R50: 3915.8511 | S50: 3894.3977 | T50: 3872.9769 | U50: 3854.9523 | V50: 3877.0843 | W50: 3944.6548 | X50: 4025.9664 | Y50: 4108.1644 | Z50: 4170.6164 | AA50: 4219.0094
A51: 41 | D51: 3. | E51: Otitis media | G51: 1445.2338 | H51: 1333.4388 | I51: 1316.4182 | J51: 1300.0778 | K51: 1285.951 | L51: 1280.7249 | M51: 1274.3176 | N51: 1267.8013 | O51: 1259.4255 | P51: 1249.6214 | Q51: 1248.8824 | R51: 1246.6749 | S51: 1242.8423 | T51: 1237.6967 | U51: 1231.5766 | V51: 1232.8882 | W51: 1244.5193 | X51: 1268.5205 | Y51: 1302.4057 | Z51: 1344.9446 | AA51: 1394.3979
A52: 42 | C52: C. | D52: Maternal conditions | G52: 298189.97 | H52: 291589.47 | I52: 286054.3 | J52: 280942.36 | K52: 275479.05 | L52: 270196.24 | M52: 264882.46 | N52: 260022.36 | O52: 255056.71 | P52: 250138.12 | Q52: 245302.41 | R52: 240547.17 | S52: 235888.24 | T52: 231434.98 | U52: 226920.59 | V52: 205905.23 | W52: 187547.02 | X52: 172201.39 | Y52: 158891.51 | Z52: 147195.13 | AA52: 136792.97
A53: 49 | C53: D. | D53: Neonatal conditions | G53: 2274798.3 | H53: 2238550.7 | I53: 2201029.9 | J53: 2148416.7 | K53: 2096771.3 | L53: 2048239.8 | M53: 1997972 | N53: 1949666.7 | O53: 1900725.6 | P53: 1852850.6 | Q53: 1807133.7 | R53: 1760924.9 | S53: 1714913.6 | T53: 1669389.9 | U53: 1624902.5 | V53: 1416863.6 | W53: 1228259.6 | X53: 1057877 | Y53: 903794.37 | Z53: 766894.22 | AA53: 648398.39
A54: 50 | D54: 1. | E54: Preterm birth complications | G54: 1013330.4 | H54: 1004857.9 | I54: 995228.14 | J54: 975228.92 | K54: 955187.92 | L54: 936461.26 | M54: 916165.75 | N54: 896122.49 | O54: 875424.02 | P54: 855065.72 | Q54: 835328.69 | R54: 815271.42 | S54: 795285.57 | T54: 775388.56 | U54: 755752.81 | V54: 662562.13 | W54: 576900.19 | X54: 499107.39 | Y54: 428491.88 | Z54: 365304.7 | AA54: 310235.84
A55: 51 | D55: 2. | E55: Birth asphyxia and birth trauma | G55: 678638.3 | H55: 660195.18 | I55: 642439.77 | J55: 624077.36 | K55: 606966.69 | L55: 591384.97 | M55: 576314.31 | N55: 562472.23 | O55: 549148.91 | P55: 536576.69 | Q55: 525152.38 | R55: 513844.72 | S55: 502352.77 | T55: 490851.26 | U55: 479567.31 | V55: 425390.31 | W55: 373904.86 | X55: 325424.15 | Y55: 280119.73 | Z55: 239006.23 | AA55: 202873.95
A56: 52 | D56: 3. | E56: Neonatal sepsis and infections | G56: 395583.02 | H56: 389945.08 | I56: 384162.11 | J56: 375290.87 | K56: 366744.2 | L56: 358867.92 | M56: 350782.67 | N56: 343113.2 | O56: 335404.02 | P56: 327916.07 | Q56: 320853.72 | R56: 313666.75 | S56: 306401.94 | T56: 299139.27 | U56: 291997.09 | V56: 257760.79 | W56: 225476.33 | X56: 195345.02 | Y56: 167428.7 | Z56: 142291.95 | AA56: 120367.91
A57: 53 | D57: 4. | E57: Other neonatal conditions | G57: 187246.6 | H57: 183552.55 | I57: 179199.88 | J57: 173819.55 | K57: 167872.5 | L57: 161525.6 | M57: 154709.27 | N57: 147958.73 | O57: 140748.61 | P57: 133292.11 | Q57: 125798.93 | R57: 118141.97 | S57: 110873.31 | T57: 104010.78 | U57: 97585.296 | V57: 71150.398 | W57: 51978.259 | X57: 38000.467 | Y57: 27754.055 | Z57: 20291.346 | AA57: 14920.697
A58: 54 | C58: E. | D58: Nutritional deficiencies | G58: 452657.07 | H58: 455197.38 | I58: 458821.74 | J58: 458927.01 | K58: 457326.64 | L58: 459685.01 | M58: 460007.23 | N58: 458616.37 | O58: 455260.91 | P58: 450218.88 | Q58: 449649.39 | R58: 447484.42 | S58: 444705.53 | T58: 441441.52 | U58: 437898.56 | V58: 442299.15 | W58: 460714.87 | X58: 487456.47 | Y58: 523696.06 | Z58: 566135.94 | AA58: 610098.08
A59: 55 | D59: 1. | E59: Protein-energy malnutrition | G59: 342319.59 | H59: 343660.73 | I59: 345439.22 | J59: 343805.99 | K59: 340503.82 | L59: 339934.01 | M59: 337471.99 | N59: 333427.97 | O59: 327574.54 | P59: 320153.27 | Q59: 315847.07 | R59: 310091.9 | S59: 303938.65 | T59: 297474.57 | U59: 290861.17 | V59: 275082.11 | W59: 270771.23 | X59: 272915.02 | Y59: 282234.23 | Z59: 296067.41 | AA59: 310412.53
A60: 56 | D60: 2. | E60: Iodine deficiency | G60: 2657.2302 | H60: 2677.8066 | I60: 2700.0327 | J60: 2714.6427 | K60: 2722.202 | L60: 2726.9622 | M60: 2722.9415 | N60: 2714.1887 | O60: 2695.7988 | P60: 2669.5403 | Q60: 2643.7148 | R60: 2610.2627 | S60: 2576.7261 | T60: 2543.5817 | U60: 2511.5384 | V60: 2388.4192 | W60: 2299.1497 | X60: 2238.2663 | Y60: 2200.9856 | Z60: 2185.9997 | AA60: 2187.8032
A61: 57 | D61: 3. | E61: Vitamin A deficiency | G61: 8.4214641 | H61: 5.9616221 | I61: 5.973754 | J61: 5.9849575 | K61: 5.9917384 | L61: 6.0716732 | M61: 6.1262755 | N61: 6.1625116 | O61: 6.1893942 | P61: 6.2157694 | Q61: 6.3462382 | R61: 6.4771867 | S61: 6.5968889 | T61: 6.6905715 | U61: 6.7494529 | V61: 7.1738665 | W61: 7.640384 | X61: 8.0072822 | Y61: 8.3659963 | Z61: 8.972229 | AA61: 9.3375384
A62: 58 | D62: 4. | E62: Iron-deficiency anaemia | G62: 23917.949 | H62: 24010.767 | I62: 24395.291 | J62: 24658.495 | K62: 24819.71 | L62: 25246.739 | M62: 25565.774 | N62: 25809.306 | O62: 25978.825 | P62: 26105.231 | Q62: 26483.393 | R62: 26770.809 | S62: 27013.398 | T62: 27247.351 | U62: 27504.498 | V62: 29678.38 | W62: 31804.256 | X62: 33882.108 | Y62: 35764.997 | Z62: 37130.864 | AA62: 38175.616
A63: 59 | D63: 5. | E63: Other nutritional deficiencies | G63: 83753.888 | H63: 84842.108 | I63: 86281.237 | J63: 87741.903 | K63: 89274.923 | L63: 91771.22 | M63: 94240.398 | N63: 96658.744 | O63: 99005.556 | P63: 101284.62 | Q63: 104668.88 | R63: 108004.96 | S63: 111170.16 | T63: 114169.33 | U63: 117014.61 | V63: 135143.07 | W63: 155832.58 | X63: 178413.07 | Y63: 203487.47 | Z63: 230742.69 | AA63: 259312.78
A64: 60 | B64: II. | C64: Noncommunicable diseases | G64: 40507599 | H64: 41279119 | I64: 42086385 | J64: 42786750 | K64: 43391936 | L64: 44451984 | M64: 45404610 | N64: 46276016 | O64: 47041038 | P64: 47732135 | Q64: 48840508 | R64: 49842692 | S64: 50762914 | T64: 51627345 | U64: 52461236 | V64: 58107347 | W64: 63990780 | X64: 69445294 | Y64: 74730232 | Z64: 79661031 | AA64: 84094252
A65: 61 | C65: A. | D65: Malignant neoplasms | G65: 8966294.5 | H65: 9100886.2 | I65: 9262248.9 | J65: 9420538.5 | K65: 9579805 | L65: 9781847.6 | M65: 9977939.3 | N65: 10171197 | O65: 10364286 | P65: 10564334 | Q65: 10798820 | R65: 11033606 | S65: 11265036 | T65: 11491283 | U65: 11713213 | V65: 12932619 | W65: 14213716 | X65: 15449741 | Y65: 16605437 | Z65: 17626945 | AA65: 18633158
A66: 62 | D66: 1. | E66: Mouth and oropharynx cancers | G66: 332560.81 | H66: 337072.08 | I66: 344695.93 | J66: 352317.68 | K66: 360003.7 | L66: 368250.88 | M66: 376420.99 | N66: 384415.09 | O66: 392313.16 | P66: 400319.77 | Q66: 408395.54 | R66: 416267.09 | S66: 423999.2 | T66: 431636.61 | U66: 439211.7 | V66: 479481.03 | W66: 521633.64 | X66: 563115.19 | Y66: 603805.3 | Z66: 642209.73 | AA66: 679941.18
A67: 63 | D67: 2. | E67: Oesophagus cancer | G67: 429144.73 | H67: 432062.23 | I67: 437577.2 | J67: 443768.91 | K67: 450952.78 | L67: 460542.55 | M67: 470107.45 | N67: 479885.27 | O67: 490318.01 | P67: 501628.8 | Q67: 515773.11 | R67: 530580.04 | S67: 545231.9 | T67: 559378.76 | U67: 572901.96 | V67: 643151.63 | W67: 718585.43 | X67: 794305.62 | Y67: 864595.88 | Z67: 922797.03 | AA67: 977283.42
A68: 64 | D68: 3. | E68: Stomach cancer | G68: 760171.75 | H68: 761967.31 | I68: 765072.72 | J68: 769769.62 | K68: 777047.64 | L68: 789893.49 | M68: 803204.12 | N68: 817250.07 | O68: 832474.66 | P68: 849276.02 | Q68: 871655.33 | R68: 895322.63 | S68: 918529.95 | T68: 940974.34 | U68: 962623.02 | V68: 1078368.9 | W68: 1201540.5 | X68: 1317036.7 | Y68: 1419143.1 | Z68: 1501133 | AA68: 1574421
A69: 65 | D69: 4. | E69: Colon and rectum cancers | G69: 794495.34 | H69: 807021.06 | I69: 821895.01 | J69: 836153.67 | K69: 850163.92 | L69: 869685.17 | M69: 888569.41 | N69: 907228.93 | O69: 925796.09 | P69: 944906.27 | Q69: 968753.23 | R69: 992329.58 | S69: 1015271.4 | T69: 1037480.7 | U69: 1059089.6 | V69: 1178593.7 | W69: 1305482.7 | X69: 1426172.2 | Y69: 1535830.1 | Z69: 1624470.3 | AA69: 1705769.3
A70: 66 | D70: 5. | E70: Liver cancer | G70: 829599.5 | H70: 842716.39 | I70: 860426 | J70: 878308.32 | K70: 896569.08 | L70: 917500.26 | M70: 937798.43 | N70: 957796.54 | O70: 977933.85 | P70: 998298.98 | Q70: 1021595.9 | R70: 1044925.7 | S70: 1067923.7 | T70: 1090232.5 | U70: 1111788.4 | V70: 1221035 | W70: 1334002.4 | X70: 1441446.3 | Y70: 1527436.8 | Z70: 1593699.7 | AA70: 1660804.7
A71: 67 | D71: 6. | E71: Pancreas cancer | G71: 371813.88 | H71: 378497.02 | I71: 388652.23 | J71: 398371.47 | K71: 407698.44 | L71: 418021.12 | M71: 427759.16 | N71: 437223.3 | O71: 446465.83 | P71: 455767.61 | Q71: 465838.38 | R71: 475648.58 | S71: 485325.75 | T71: 494754.68 | U71: 503953.09 | V71: 550603.5 | W71: 597832.52 | X71: 641076.86 | Y71: 678171.62 | Z71: 706956.56 | AA71: 733366.59
A72: 68 | D72: 7. | E72: Trachea, bronchus, lung cancers | G72: 1707739.9 | H72: 1743672.6 | I72: 1772806.9 | J72: 1798427.4 | K72: 1821405.3 | L72: 1848942.9 | M72: 1872557 | N72: 1892933.7 | O72: 1910858.9 | P72: 1929696.9 | Q72: 1947769.6 | R72: 1964718.4 | S72: 1982566.5 | T72: 2000437.4 | U72: 2018521.2 | V72: 2135717.6 | W72: 2251108.4 | X72: 2340373.1 | Y72: 2400690.7 | Z72: 2424676.8 | AA72: 2448805.5
A73: 69 | D73: 8. | E73: Melanoma and other skin cancers | G73: 113080.02 | H73: 115883.77 | I73: 118831.61 | J73: 121517.96 | K73: 123968.99 | L73: 127377.54 | M73: 130542.05 | N73: 133516.29 | O73: 136280.46 | P73: 138919.53 | Q73: 142466.25 | R73: 145799.77 | S73: 148990.7 | T73: 152107.52 | U73: 155209.76 | V73: 174399.42 | W73: 194720.92 | X73: 214164.62 | Y73: 233424.24 | Z73: 251343.03 | AA73: 268133.04
A74: 70 | D74: 9. | E74: Breast cancer | G74: 586012.34 | H74: 596474.42 | I74: 607471.25 | J74: 619061.32 | K74: 631207.29 | L74: 644893.69 | M74: 659157.41 | N74: 674819.83 | O74: 691195.16 | P74: 708597.18 | Q74: 727329.07 | R74: 747010.7 | S74: 766840.9 | T74: 786907.64 | U74: 807244.16 | V74: 913136.92 | W74: 1023954.5 | X74: 1136021.1 | Y74: 1250088.6 | Z74: 1363843.7 | AA74: 1480049.2
A75: 71 | D75: 10. | E75: Cervix uteri cancer | G75: 283439.3 | H75: 286272.17 | I75: 290039.21 | J75: 294194.53 | K75: 298861.25 | L75: 303932.19 | M75: 309432.05 | N75: 315257.61 | O75: 321534.69 | P75: 328260.3 | Q75: 335435.76 | R75: 343030.11 | S75: 350681.83 | T75: 358395.73 | U75: 366186.5 | V75: 405858.96 | W75: 447806.24 | X75: 491331.31 | Y75: 536982.59 | Z75: 584330.64 | AA75: 633960.85
A76: 72 | D76: 11. | E76: Corpus uteri cancer | G76: 84161.463 | H76: 84430.382 | I76: 85508.7 | J76: 86641.438 | K76: 87874.736 | L76: 89212.45 | M76: 90532.46 | N76: 91893.502 | O76: 93287.935 | P76: 94745.231 | Q76: 96290.03 | R76: 97878.344 | S76: 99465.955 | T76: 101050.94 | U76: 102643 | V76: 110601.36 | W76: 118677.71 | X76: 126126.81 | Y76: 133346.71 | Z76: 140189.65 | AA76: 146767.96
A77: 73 | D77: 12. | E77: Ovary cancer | G77: 164568.09 | H77: 167827.09 | I77: 171075.2 | J77: 174363.3 | K77: 177703.3 | L77: 181009.43 | M77: 184334.42 | N77: 187775.53 | O77: 191300.14 | P77: 194937.13 | Q77: 198455.49 | R77: 202047.67 | S77: 205684.84 | T77: 209345.22 | U77: 213032.84 | V77: 230402.92 | W77: 247292.58 | X77: 262682.97 | Y77: 276927.91 | Z77: 290305.42 | AA77: 303329.22
... A81: 77 | D81: 16. | E81: Leukaemia | G81: 292341.53 | H81: 294764.09 | I81: 298336.82 | J81: 301806.92 | K81: 305337.84 | L81: 309898.59 | M81: 314460 | N81: 319099.82 | O81: 323830.29 | P81: 328767.29 | Q81: 334496.23 | R81: 340228.42 | S81: 345837.87 | T81: 351366.22 | U81: 356878.25 | V81: 386372.83 | W81: 415967.86 | X81: 443437.41 | Y81: 468290.4 | Z81: 490465.18 | AA81: 511909.12
A82: 78 | E82: Other malignant neoplasms | G82: 1315299.4 | H82: 1333799.3 | I82: 1360995.9 | J82: 1388142.7 | K82: 1415755 | L82: 1448627.6 | M82: 1481386.4 | N82: 1513861.3 | O82: 1546806.5 | P82: 1580833.5 | Q82: 1619246.1 | R82: 1657751 | S82: 1695719.9 | T82: 1732991.9 | U82: 1769671.3 | V82: 1964959.3 | W82: 2173311.4 | X82: 2380657.1 | Y82: 2583682.5 | Z82: 2775464 | AA82: 2965898.1
A83: 79 | C83: B. | D83: Other neoplasms | G83: 215193.58 | H83: 219197.81 | I83: 223424.77 | J83: 227547.37 | K83: 231626.07 | L83: 237123.95 | M83: 242378.59 | N83: 247503.47 | O83: 252590.91 | P83: 257817.26 | Q83: 264573.39 | R83: 271260.72 | S83: 277771.76 | T83: 284237.42 | U83: 290802.47 | V83: 328194.71 | W83: 364586.04 | X83: 402022.88 | Y83: 439671.69 | Z83: 473342.73 | AA83: 504445.05
A84: 80 | C84: C. | D84: Diabetes mellitus | G84: 1598526 | H84: 1646411.5 | I84: 1697530.6 | J84: 1746396 | K84: 1793090.4 | L84: 1853482.9 | M84: 1911579.4 | N84: 1968765.8 | O84: 2024262.9 | P84: 2079259.4 | Q84: 2148736.1 | R84: 2216770.9 | S84: 2283055.2 | T84: 2348006.8 | U84: 2412635.5 | V84: 2792554.6 | W84: 3212605.2 | X84: 3663459.3 | Y84: 4136107.4 | Z84: 4624028.7 | AA84: 5128558.9
A85: 81 | C85: D. | D85: Endocrine, blood, immune disorders | G85: 362048.62 | H85: 367410.59 | I85: 376616.12 | J85: 384331.45 | K85: 391177.52 | L85: 400184.35 | M85: 408457.32 | N85: 416293.61 | O85: 423456.38 | P85: 430121.73 | Q85: 439022.25 | R85: 447219.25 | S85: 454953.57 | T85: 462379.31 | U85: 469714.17 | V85: 514370.84 | W85: 560162.77 | X85: 605038.4 | Y85: 648993 | Z85: 689881.05 | AA85: 728609.01
A86: 82 | C86: E. | D86: Mental and behavioral disorders | G86: 315397.21 | H86: 320891.05 | I86: 325209.74 | J86: 328792.23 | K86: 331484.7 | L86: 334087.39 | M86: 336213.47 | N86: 338312.49 | O86: 340016.73 | P86: 341476.62 | Q86: 342939.13 | R86: 344175.23 | S86: 345355.34 | T86: 346503.56 | U86: 347680.78 | V86: 355067.33 | W86: 362330.2 | X86: 368307.85 | Y86: 372482.14 | Z86: 375068 | AA86: 376977.76
A87: 83 | D87: 1. | E87: Unipolar depressive disorders | G87: 0 | H87: 0 | I87: 0 | J87: 0 | K87: 0 | L87: 0 | M87: 0 | N87: 0 | O87: 0 | P87: 0 | Q87: 0 | R87: 0 | S87: 0 | T87: 0 | U87: 0 | V87: 0 | W87: 0 | X87: 0 | Y87: 0 | Z87: 0 | AA87: 0
A88: 84 | D88: 2. | E88: Bipolar disorder | G88: 785.24821 | H88: 634.23684 | I88: 643.79274 | J88: 652.67697 | K88: 661.28312 | L88: 670.81355 | M88: 679.67789 | N88: 688.85599 | O88: 698.02788 | P88: 707.30951 | Q88: 716.82769 | R88: 725.93465 | S88: 734.99651 | T88: 744.45789 | U88: 754.83586 | V88: 805.16951 | W88: 842.92543 | X88: 865.77601 | Y88: 881.35296 | Z88: 888.36562 | AA88: 890.87979
A89: 85 | D89: 3. | E89: Schizophrenia | G89: 5197.9721 | H89: 4871.1446 | I89: 5046.3742 | J89: 5217.6069 | K89: 5382.7142 | L89: 5536.615 | M89: 5667.6743 | N89: 5781.0834 | O89: 5876.6293 | P89: 5957.9685 | Q89: 6028.9847 | R89: 6084.4439 | S89: 6137.9835 | T89: 6192.9254 | U89: 6252.4366 | V89: 6530.7665 | W89: 6697.6101 | X89: 6807.0359 | Y89: 6876.6124 | Z89: 6932.6037 | AA89: 6942.1213
A90: 86 | D90: 4. | E90: Alcohol use disorders | G90: 145565.29 | H90: 146250.73 | I90: 147024.26 | J90: 147997.79 | K90: 149020.94 | L90: 149925.31 | M90: 150673.1 | N90: 151424.85 | O90: 152067.43 | P90: 152661.14 | Q90: 153160.47 | R90: 153618.68 | S90: 154057.75 | T90: 154474.11 | U90: 154875.32 | V90: 156713.39 | W90: 158357.7 | X90: 159839.64 | Y90: 160964.17 | Z90: 161705.62 | AA90: 162312.32
A91: 87 | D91: 5. | E91: Drug use disorders | G91: 160234.88 | H91: 165749.14 | I91: 169082.37 | J91: 171495.96 | K91: 172986.59 | L91: 174521.1 | M91: 175761.83 | N91: 176985.94 | O91: 177944.92 | P91: 178723.66 | Q91: 179610.61 | R91: 180328.31 | S91: 181011.71 | T91: 181685.03 | U91: 182397.67 | V91: 187661.57 | W91: 193140.82 | X91: 197580.77 | Y91: 200617.86 | Z91: 202477 | AA91: 203849.77
A92: 88 | D92: 6. | E92: Anxiety disorders | G92: 0 | H92: 0 | I92: 0 | J92: 0 | K92: 0 | L92: 0 | M92: 0 | N92: 0 | O92: 0 | P92: 0 | Q92: 0 | R92: 0 | S92: 0 | T92: 0 | U92: 0 | V92: 0 | W92: 0 | X92: 0 | Y92: 0 | Z92: 0 | AA92: 0
A93: 89 | D93: 7. | E93: Eating disorders | G93: 1845.1708 | H93: 1791.4267 | I93: 1808.2384 | J93: 1816.9539 | K93: 1818.5097 | L93: 1817.0551 | M93: 1813.3389 | N93: 1810.6118 | O93: 1805.4284 | P93: 1798.7838 | Q93: 1791.7279 | R93: 1784.0295 | S93: 1775.8771 | T93: 1767.0239 | U93: 1757.4686 | V93: 1706.8535 | W93: 1647.0404 | X93: 1588.9353 | Y93: 1534.7495 | Z93: 1482.9627 | AA93: 1431.0288
A94: 90 | D94: 8. | E94: Pervasive developmental disorders | G94: 0 | H94: 0 | I94: 0 | J94: 0 | K94: 0 | L94: 0 | M94: 0 | N94: 0 | O94: 0 | P94: 0 | Q94: 0 | R94: 0 | S94: 0 | T94: 0 | U94: 0 | V94: 0 | W94: 0 | X94: 0 | Y94: 0 | Z94: 0 | AA94: 0
A95: 91 | D95: 9. | E95: Childhood behavioural disorders | G95: 0 | H95: 0 | I95: 0 | J95: 0 | K95: 0 | L95: 0 | M95: 0 | N95: 0 | O95: 0 | P95: 0 | Q95: 0 | R95: 0 | S95: 0 | T95: 0 | U95: 0 | V95: 0 | W95: 0 | X95: 0 | Y95: 0 | Z95: 0 | AA95: 0
A96: 92 | D96: 10. | E96: Idiopathic intellectual disability | G96: 1768.6533 | H96: 1594.3734 | I96: 1604.7151 | J96: 1611.2375 | K96: 1614.6688 | L96: 1616.4906 | M96: 1617.8539 | N96: 1621.1411 | O96: 1624.2962 | P96: 1627.7609 | Q96: 1630.5084 | R96: 1633.832 | S96: 1637.0403 | T96: 1640.0084 | U96: 1643.0484 | V96: 1649.5671 | W96: 1644.1034 | X96: 1625.6897 | Y96: 1607.4068 | Z96: 1581.4369 | AA96: 1551.6448
A97: 93 | D97: 11. | E97: Other mental and behavioural disorders | G97: 0 | H97: 0 | I97: 0 | J97: 0 | K97: 0 | L97: 0 | M97: 0 | N97: 0 | O97: 0 | P97: 0 | Q97: 0 | R97: 0 | S97: 0 | T97: 0 | U97: 0 | V97: 0 | W97: 0 | X97: 0 | Y97: 0 | Z97: 0 | AA97: 0
A98: 94 | C98: F. | D98: Neurological conditions | G98: 2538459.8 | H98: 2675314.8 | I98: 2799794.6 | J98: 2901697.2 | K98: 2980180.2 | L98: 3118992.9 | M98: 3238672 | N98: 3340039.7 | O98: 3422617.3 | P98: 3489398.7 | Q98: 3618749.8 | R98: 3729721.5 | S98: 3830553.5 | T98: 3925752.4 | U98: 4019380.5 | V98: 4746230.5 | W98: 5557411.7 | X98: 6333708.2 | Y98: 7114390.6 | Z98: 7802776.7 | AA98: 8348100.1
A99: 95 | D99: 1. | E99: Alzheimer's disease and other dementias | G99: 1991708.3 | H99: 2114043.3 | I99: 2221548.5 | J99: 2308401.6 | K99: 2373602.2 | L99: 2495812.1 | M99: 2600710.4 | N99: 2688532.8 | O99: 2759023.2 | P99: 2814771.8 | Q99: 2929663.6 | R99: 3027704.8 | S99: 3116232.8 | T99: 3199459.1 | U99: 3281069.3 | V99: 3935433.6 | W99: 4674903.2 | X99: 5384592.1 | Y99: 6108269.5 | Z99: 6751682 | AA99: 7258228.5
A100: 96 | D100: 2. | E100: Parkinson's disease | G100: 213652.12 | H100: 222629.06 | I100: 232539.83 | J100: 241250.42 | K100: 248707.73 | L100: 259418.35 | M100: 268923.87 | N100: 277457.75 | O100: 285105.12 | P100: 292109.35 | Q100: 302352.61 | R100: 311536.32 | S100: 320261.5 | T100: 328750.63 | U100: 337265.41 | V100: 391471.37 | W100: 447043.66 | X100: 500029.34 | Y100: 545752.18 | Z100: 581632.37 | AA100: 612528.41
A101: 97 | D101: 3. | E101: Epilepsy | G101: 137203.24 | H101: 137934.46 | I101: 139579.06 | J101: 141110.91 | K101: 142713.33 | L101: 144573.47 | M101: 146298.62 | N101: 147987.82 | O101: 149548.24 | P101: 151034.55 | Q101: 152824.18 | R101: 154527.75 | S101: 156153.83 | T101: 157719.81 | U101: 159256.76 | V101: 167870.19 | W101: 176380.66 | X101: 184637.71 | Y101: 192491.75 | Z101: 199683.16 | AA101: 206361.31
A102: 98 | D102: 4. | E102: Multiple sclerosis | G102: 24065.094 | H102: 24430.806 | I102: 24978.481 | J102: 25491.31 | K102: 25962.581 | L102: 26352.165 | M102: 26692.029 | N102: 27014.617 | O102: 27285.624 | P102: 27517.102 | Q102: 27684.844 | R102: 27819.936 | S102: 27948.53 | T102: 28069.363 | U102: 28185.958 | V102: 28533.461 | W102: 28594.037 | X102: 28408.46 | Y102: 28086.645 | Z102: 27784.446 | AA102: 27493.672
A103: 99 | D103: 5. | E103: Migraine | G103: 21.669257 | H103: 14.760559 | I103: 14.746787 | J103: 14.724002 | K103: 14.701198 | L103: 14.710947 | M103: 14.745182 | N103: 14.801183 | O103: 14.862844 | P103: 14.926805 | Q103: 14.995908 | R103: 15.061139 | S103: 15.11531 | T103: 15.179326 | U103: 15.267981 | V103: 15.873673 | W103: 16.638116 | X103: 17.478228 | Y103: 18.22394 | Z103: 19.029963 | AA103: 19.659082
A104: 100 | D104: 6. | E104: Non-migraine headache | G104: 0 | H104: 0 | I104: 0 | J104: 0 | K104: 0 | L104: 0 | M104: 0 | N104: 0 | O104: 0 | P104: 0 | Q104: 0 | R104: 0 | S104: 0 | T104: 0 | U104: 0 | V104: 0 | W104: 0 | X104: 0 | Y104: 0 | Z104: 0 | AA104: 0
A105: 101 | D105: 7. | E105: Other neurological conditions | G105: 171809.43 | H105: 176262.41 | I105: 181133.97 | J105: 185428.22 | K105: 189179.59 | L105: 192822.12 | M105: 196032.3 | N105: 199031.83 | O105: 201640.26 | P105: 203950.99 | Q105: 206209.56 | R105: 208117.63 | S105: 209941.63 | T105: 211738.3 | U105: 213587.68 | V105: 222906 | W105: 230473.44 | X105: 236023.05 | Y105: 239772.37 | Z105: 241975.82 | AA105: 243468.38
A106: 102 | C106: G. | D106: Sense organ diseases | G106: 630.73767 | H106: 491.48333 | I106: 496.46269 | J106: 500.14296 | K106: 502.7787 | L106: 511.55322 | M106: 519.06489 | N106: 525.93215 | O106: 532.21136 | P106: 538.42109 | Q106: 550.22117 | R106: 560.95021 | S106: 570.95939 | T106: 581.47823 | U106: 593.41386 | V106: 677.318 | W106: 759.60616 | X106: 841.27442 | Y106: 926.95031 | Z106: 994.7296 | AA106: 1044.0983
...

Sheet World2016-2060 ASDR
A1: Global Health Estimates (GHE) 2016: Global deaths by cause and year
A2: Region: | C2: World
A3: Year: | C3: 2016-2060
F6: Year | G6: 2016 | H6: 2017 | I6: 2018 | J6: 2019 | K6: 2020 | L6: 2021 | M6: 2022 | N6: 2023 | O6: 2024 | P6: 2025 | Q6: 2026 | R6: 2027 | S6: 2028 | T6: 2029 | U6: 2030 | V6: 2035 | W6: 2040 | X6: 2045 | Y6: 2050 | Z6: 2055 | AA6: 2060
A9: GHE code | C9: GHE cause category
A10: 0 | C10: All Causes | G10: 726.00576 | H10: 716.86011 | I10: 709.49008 | J10: 701.84034 | K10: 693.72599 | L10: 687.24061 | M10: 679.96024 | N10: 674.38374 | O10: 664.45872 | P10: 656.91094 | Q10: 650.02721 | R10: 642.46807 | S10: 636.3069 | T10: 628.35443 | U10: 620.88323 | V10: 589.71684 | W10: 563.65282 | X10: 541.01309 | Y10: 524.93263 | Z10: 509.74268 | AA10: 496.20902
A11: 1 | B11: I. | C11: Communicable, maternal, perinatal and nutritional conditions | G11: 149.31855 | H11: 146.06064 | I11: 142.99355 | J11: 139.60509 | K11: 136.32939 | L11: 133.35321 | M11: 130.26884 | N11: 127.21711 | O11: 124.14601 | P11: 121.04448 | Q11: 118.16363 | R11: 115.2368 | S11: 112.30983 | T11: 109.40746 | U11: 106.57208 | V11: 94.024696 | W11: 83.489597 | X11: 74.930536 | Y11: 67.982932 | Z11: 62.194687 | AA11: 57.196358
A12: 2 | C12: A. | D12: Infectious and parasitic diseases | G12: 72.156884 | H12: 69.953153 | I12: 67.993981 | J12: 66.010181 | K12: 64.171911 | L12: 62.50384 | M12: 60.818643 | N12: 59.163085 | O12: 57.548681 | P12: 55.922142 | Q12: 54.436362 | R12: 52.944436 | S12: 51.441638 | T12: 49.95111 | U12: 48.512109 | V12: 42.310315 | W12: 37.326366 | X12: 33.365716 | Y12: 30.162661 | Z12: 27.42645 | AA12: 24.983198
A13: 3 | D13: 1. | E13: Tuberculosis | G13: 16.938823 | H13: 16.435207 | I13: 15.917868 | J13: 15.424799 | K13: 14.954153 | L13: 14.548345 | M13: 14.154682 | N13: 13.771439 | O13: 13.395498 | P13: 13.024134 | Q13: 12.709053 | R13: 12.39562 | S13: 12.088844 | T13: 11.787128 | U13: 11.48849 | V13: 10.281185 | W13: 9.3218489 | X13: 8.5459914 | Y13: 7.8584896 | Z13: 7.1579249 | AA13: 6.415456
A14: 4 | D14: 2. | E14: STDs excluding HIV | G14: 1.3427175 | H14: 1.3467041 | I14: 1.3470039 | J14: 1.3340886 | K14: 1.3138178 | L14: 1.2882486 | M14: 1.2552839 | N14: 1.2185743 | O14: 1.1755817 | P14: 1.1277645 | Q14: 1.07642 | R14: 1.0210172 | S14: 0.96792648 | T14: 0.91716226 | U14: 0.8689594 | V14: 0.66099192 | W14: 0.50028085 | X14: 0.37988002 | Y14: 0.29156284 | Z14: 0.22706962 | AA14: 0.17940716
A15: 5 | E15: a. | F15: Syphilis | G15: 1.2529361 | H15: 1.2602486 | I15: 1.261619 | J15: 1.2497299 | K15: 1.230408 | L15: 1.2059184 | M15: 1.174131 | N15: 1.1386186 | O15: 1.0969449 | P15: 1.0505443 | Q15: 1.0006961 | R15: 0.9468739 | S15: 0.89533973 | T15: 0.8461088 | U15: 0.7994137 | V15: 0.59860012 | W15: 0.44430571 | X15: 0.32938026 | Y15: 0.24574764 | Z15: 0.18531162 | AA15: 0.14133331
A16: 6 | E16: b. | F16: Chlamydia | G16: 0.017432778 | H16: 0.016768487 | I16: 0.016591606 | J16: 0.016414773 | K16: 0.016240483 | L16: 0.016037104 | M16: 0.015810585 | N16: 0.015576274 | O16: 0.015315846 | P16: 0.015035196 | Q16: 0.014738671 | R16: 0.014424922 | S16: 0.014115061 | T16: 0.013809589 | U16: 0.013509498 | V16: 0.01209918 | W16: 0.01085506 | X16: 0.009795513 | Y16: 0.0088799115 | Z16: 0.0080890093 | AA16: 0.0073705552
A17: 7 | E17: c. | F17: Gonorrhoea | G17: 0.048430229 | H17: 0.046625546 | I17: 0.046017145 | J17: 0.045446169 | K17: 0.044933308 | L17: 0.044356655 | M17: 0.043733955 | N17: 0.043104882 | O17: 0.042412848 | P17: 0.041668373 | Q17: 0.040881671 | R17: 0.040048737 | S17: 0.03922716 | T17: 0.03841719 | U17: 0.037620374 | V17: 0.03382713 | W17: 0.030403944 | X17: 0.027503479 | Y17: 0.025044013 | Z17: 0.022915114 | AA17: 0.020992294
A18: 8 | E18: d. | F18: Trichomoniasis | G18: 0 | H18: 0 | I18: 0 | J18: 0 | K18: 0 | L18: 0 | M18: 0 | N18: 0 | O18: 0 | P18: 0 | Q18: 0 | R18: 0 | S18: 0 | T18: 0 | U18: 0 | V18: 0 | W18: 0 | X18: 0 | Y18: 0 | Z18: 0 | AA18: 0
A19: 9 | E19: e. | F19: Other STDs | G19: 0.023918412 | H19: 0.023061505 | I19: 0.022776159 | J19: 0.022497763 | K19: 0.022235988 | L19: 0.021936475 | M19: 0.02160837 | N19: 0.021274539 | O19: 0.020908179 | P19: 0.020516609 | Q19: 0.020103546 | R19: 0.019669613 | S19: 0.019244527 | T19: 0.01882669 | U19: 0.01841582 | V19: 0.016465488 | W19: 0.014716145 | X19: 0.013200772 | Y19: 0.011891271 | Z19: 0.010753878 | AA19: 0.0097110055
A20: 10 | D20: 3. | E20: HIV/AIDS | G20: 13.592967 | H20: 12.838308 | I20: 12.435819 | J20: 11.949073 | K20: 11.524954 | L20: 11.131701 | M20: 10.756677 | N20: 10.403512 | O20: 10.133808 | P20: 9.8798243 | Q20: 9.6628225 | R20: 9.463407 | S20: 9.2182007 | T20: 8.9538985 | U20: 8.710194 | V20: 7.5222553 | W20: 6.4838744 | X20: 5.5814206 | Y20: 4.8131241 | Z20: 4.1530829 | AA20: 3.5856305
A21: 11 | D21: 4. | E21: Diarrhoeal diseases | G21: 17.94361 | H21: 17.479145 | I21: 17.012574 | J21: 16.562688 | K21: 16.150844 | L21: 15.805993 | M21: 15.432512 | N21: 15.053737 | O21: 14.646654 | P21: 14.219382 | Q21: 13.849237 | R21: 13.461479 | S21: 13.075748 | T21: 12.691055 | U21: 12.308007 | V21: 10.766273 | W21: 9.5942436 | X21: 8.7373922 | Y21: 8.1248638 | Z21: 7.6753785 | AA21: 7.3184743
A22: 12 | D22: 5. | E22: Childhood-cluster diseases | G22: 2.0557797 | H22: 1.9313362 | I22: 1.8122038 | J22: 1.7203202 | K22: 1.6390036 | L22: 1.5654804 | M22: 1.4937543 | N22: 1.4266528 | O22: 1.3616615 | P22: 1.2997931 | Q22: 1.2407186 | R22: 1.1838879 | S22: 1.1297719 | T22: 1.0780908 | U22: 1.0288072 | V22: 0.81587365 | W22: 0.65328075 | X22: 0.53156524 | Y22: 0.439705 | Z22: 0.36823442 | AA22: 0.31169323
A23: 13 | E23: a. | F23: Whooping cough | G23: 0.13443985 | H23: 0.13330953 | I23: 0.13076548 | J23: 0.12867992 | K23: 0.12655005 | L23: 0.12399859 | M23: 0.1209666 | N23: 0.11760875 | O23: 0.11382596 | P23: 0.10964879 | Q23: 0.10519599 | R23: 0.10051756 | S23: 0.096052515 | T23: 0.091771189 | U23: 0.087665674 | V23: 0.069626844 | W23: 0.055045359 | X23: 0.043368936 | Y23: 0.034159857 | Z23: 0.026952786 | AA23: 0.021336455
A24: 14 | E24: b. | F24: Diphtheria | G24: 0.019120544 | H24: 0.018535152 | I24: 0.01796836 | J24: 0.017390578 | K24: 0.016854201 | L24: 0.016317609 | M24: 0.015764292 | N24: 0.015194859 | O24: 0.014618346 | P24: 0.014034072 | Q24: 0.013445949 | R24: 0.012847162 | S24: 0.012270684 | T24: 0.011718016 | U24: 0.011191573 | V24: 0.0088754682 | W24: 0.0070376333 | X24: 0.0056268303 | Y24: 0.0045451663 | Z24: 0.0036996831 | AA24: 0.0030331936
A25: 15 | E25: c. | F25: Measles | G25: 1.1947616 | H25: 1.1237641 | I25: 1.0526084 | J25: 0.99935938 | K25: 0.9506797 | L25: 0.90661205 | M25: 0.86251335 | N25: 0.82053432 | O25: 0.77940466 | P25: 0.7401636 | Q25: 0.70232868 | R25: 0.66586783 | S25: 0.63135374 | T25: 0.59848896 | U25: 0.56718618 | V25: 0.43257913 | W25: 0.33173673 | X25: 0.25813789 | Y25: 0.20422652 | Z25: 0.16333646 | AA25: 0.13172513
A26: 16 | E26: d. | F26: Tetanus | G26: 0.70745777 | H26: 0.6557274 | I26: 0.61086167 | J26: 0.57489033 | K26: 0.54491961 | L26: 0.51855214 | M26: 0.49450999 | N26: 0.47331482 | O26: 0.45381254 | P26: 0.43594662 | Q26: 0.41974802 | R26: 0.40465539 | S26: 0.39009495 | T26: 0.37611266 | U26: 0.36276377 | V26: 0.30479222 | W26: 0.25946105 | X26: 0.22443158 | Y26: 0.19677345 | Z26: 0.1742455 | AA26: 0.15559844
A27: 17 | D27: 6. | E27: Meningitis | G27: 3.7069388 | H27: 3.6663108 | I27: 3.6197904 | J27: 3.5533836 | K27: 3.4870263 | L27: 3.4230818 | M27: 3.352644 | N27: 3.2792826 | O27: 3.1994691 | P27: 3.1141517 | Q27: 3.0287891 | R27: 2.9386579 | S27: 2.8509183 | T27: 2.7652946 | U27: 2.6819245 | V27: 2.3176417 | W27: 2.0239447 | X27: 1.7887531 | Y27: 1.5983422 | Z27: 1.441308 | AA27: 1.311709
A28: 18 | D28: 7. | E28: Encephalitis | G28: 1.3514252 | H28: 1.3334926 | I28: 1.3246337 | J28: 1.3095918 | K28: 1.2925031 | L28: 1.2698549 | M28: 1.2442574 | N28: 1.2177913 | O28: 1.1887717 | P28: 1.1581792 | Q28: 1.1235657 | R28: 1.0880471 | S28: 1.0543193 | T28: 1.0220996 | U28: 0.9913881 | V28: 0.84980639 | W28: 0.73576545 | X28: 0.64651829 | Y28: 0.57397087 | Z28: 0.51364271 | AA28: 0.46245465
A29: 19 | D29: 8. | E29: Acute hepatitis B | G29: 1.459427 | H29: 1.4441069 | I29: 1.4308477 | J29: 1.4169205 | K29: 1.4023719 | L29: 1.3856373 | M29: 1.3661521 | N29: 1.3456286 | O29: 1.3215876 | P29: 1.2948063 | Q29: 1.2668783 | R29: 1.2365705 | S29: 1.2068842 | T29: 1.1780427 | U29: 1.1501711 | V29: 1.0262916 | W29: 0.92171315 | X29: 0.83345316 | Y29: 0.75939661 | Z29: 0.69578963 | AA29: 0.63896343
A30: 20 | D30: 9. | E30: Acute hepatitis C | G30: 0.03336549 | H30: 0.03304098 | I30: 0.032675426 | J30: 0.032295763 | K30: 0.031901824 | L30: 0.031497428 | M30: 0.031036852 | N30: 0.030551312 | O30: 0.029995196 | P30: 0.029382911 | Q30: 0.028788243 | R30: 0.028149521 | S30: 0.027522152 | T30: 0.026909996 | U30: 0.026314385 | V30: 0.023782015 | W30: 0.021675018 | X30: 0.019946983 | Y30: 0.018560585 | Z30: 0.017418736 | AA30: 0.016387559
A31: 21 | D31: 10. | E31: Parasitic and vector diseases | G31: 7.5638544 | H31: 7.3449014 | I31: 7.0090366 | J31: 6.7237602 | K31: 6.4737613 | L31: 6.2533115 | M31: 6.0463547 | N31: 5.8530837 | O31: 5.6680239 | P31: 5.4913403 | Q31: 5.3239948 | R31: 5.165189 | S31: 5.0158563 | T31: 4.8763562 | U31: 4.746876 | V31: 4.1915826 | W31: 3.7532426 | X31: 3.4030984 | Y31: 3.1252002 | Z31: 2.8952222 | AA31: 2.6893697
A32: 22 | E32: a. | F32: Malaria | G32: 5.8858179 | H32: 5.7133526 | I32: 5.4201329 | J32: 5.1741345 | K32: 4.9616434 | L32: 4.7771287 | M32: 4.6067953 | N32: 4.4488884 | O32: 4.3003756 | P32: 4.1608142 | Q32: 4.0285013 | R32: 3.9049068 | S32: 3.7899847 | T32: 3.6840187 | U32: 3.5871603 | V32: 3.1722613 | W32: 2.8474303 | X32: 2.5886878 | Y32: 2.3842399 | Z32: 2.2137178 | AA32: 2.0580278
A33: 23 | E33: b. | F33: Trypanosomiasis | G33: 0.041761669 | H33: 0.039243481 | I33: 0.037524218 | J33: 0.036296839 | K33: 0.035438991 | L33: 0.03461868 | M33: 0.033839508 | N33: 0.033148298 | O33: 0.032479222 | P33: 0.031842279 | Q33: 0.03122485 | R33: 0.030645602 | S33: 0.030086404 | T33: 0.029535848 | U33: 0.028999065 | V33: 0.02639314 | W33: 0.023964123 | X33: 0.021719232 | Y33: 0.019644536 | Z33: 0.017733992 | AA33: 0.015984136
A34: 24 | E34: c. | F34: Chagas disease | G34: 0.098959346 | H34: 0.09496454 | I34: 0.092043147 | J34: 0.089500269 | K34: 0.087314216 | L34: 0.085185181 | M34: 0.083291914 | N34: 0.08160712 | O34: 0.080132352 | P34: 0.078864566 | Q34: 0.077576857 | R34: 0.076482993 | S34: 0.075445501 | T34: 0.074458476 | U34: 0.073507515 | V34: 0.068601475 | W34: 0.064258242 | X34: 0.060267773 | Y34: 0.05661936 | Z34: 0.053320402 | AA34: 0.050061548
A35: 25 | E35: d. | F35: Schistosomiasis | G35: 0.31895271 | H35: 0.29844411 | I35: 0.28048418 | J35: 0.26492164 | K35: 0.25135448 | L35: 0.24017347 | M35: 0.2305721 | N35: 0.22248218 | O35: 0.21566227 | P35: 0.20998574 | Q35: 0.20582122 | R35: 0.20266568 | S35: 0.19957923 | T35: 0.19656373 | U35: 0.1936061 | V35: 0.18135228 | W35: 0.17122341 | X35: 0.1632038 | Y35: 0.15665252 | Z35: 0.15082005 | AA35: 0.14548583
A36: 26 | E36: e. | F36: Leishmaniasis | G36: 0.19119283 | H36: 0.18603675 | I36: 0.18190439 | J36: 0.17826042 | K36: 0.17515215 | L36: 0.17228572 | M36: 0.16908761 | N36: 0.16582331 | O36: 0.16225605 | P36: 0.15840593 | Q36: 0.15463818 | R36: 0.15058829 | S36: 0.14658659 | T36: 0.14262748 | U36: 0.13870011 | V36: 0.12208984 | W36: 0.10885604 | X36: 0.098765111 | Y36: 0.090607437 | Z36: 0.084093822 | AA36: 0.078785193
A37: 27 | E37: f. | F37: Lymphatic filariasis | G37: 4.7557064e-06 | H37: 4.3853215e-06 | I37: 4.3298842e-06 | J37: 4.2647594e-06 | K37: 4.1824801e-06 | L37: 4.0975783e-06 | M37: 4.0043105e-06 | N37: 3.9021397e-06 | O37: 3.7898094e-06 | P37: 3.6692704e-06 | Q37: 3.5474879e-06 | R37: 3.4207133e-06 | S37: 3.294281e-06 | T37: 3.1761003e-06 | U37: 3.0686499e-06 | V37: 2.7093026e-06 | W37: 2.6243415e-06 | X37: 2.2930622e-06 | Y37: 1.7946678e-06 | Z37: 1.5844869e-06 | AA37: 1.4288535e-06
A38: 28 | E38: g. | F38: Onchocerciasis | G38: 1.9794752e-05 | H38: 1.3615603e-05 | I38: 1.3428081e-05 | J38: 1.3187395e-05 | K38: 1.2907112e-05 | L38: 1.2603961e-05 | M38: 1.2291953e-05 | N38: 1.1968728e-05 | O38: 1.1686738e-05 | P38: 1.144951e-05 | Q38: 1.1244598e-05 | R38: 1.1078069e-05 | S38: 1.0921615e-05 | T38: 1.0757612e-05 | U38: 1.0586607e-05 | V38: 9.6341846e-06 | W38: 8.6098119e-06 | X38: 8.0082266e-06 | Y38: 7.9660456e-06 | Z38: 7.8132382e-06 | AA38: 7.1343359e-06
A39: 29 | E39: h. | F39: Leprosy | G39: 0.17193101 | H39: 0.1646085 | I39: 0.15793972 | J39: 0.15184743 | K39: 0.14623702 | L39: 0.14150448 | M39: 0.13717045 | N39: 0.13333773 | O39: 0.12971457 | P39: 0.12632927 | Q39: 0.12367337 | R39: 0.12121209 | S39: 0.11873258 | T39: 0.11626169 | U39: 0.11381443 | V39: 0.10350975 | W39: 0.094908212 | X39: 0.088111025 | Y39: 0.082966878 | Z39: 0.078730517 | AA39: 0.074772926
A40: 30 | E40: i. | F40: Dengue | G40: 0.52949987 | H40: 0.53837603 | I40: 0.54359029 | J40: 0.5464778 | K40: 0.54639354 | L40: 0.54325065 | M40: 0.53675035 | N40: 0.52831891 | O40: 0.51677911 | P40: 0.50280705 | Q40: 0.48800785 | R40: 0.47138573 | S40: 0.45512528 | T40: 0.43931002 | U40: 0.42398994 | V40: 0.35893965 | W40: 0.30759943 | X40: 0.26662674 | Y40: 0.23471239 | Z40: 0.21019732 | AA40: 0.19045468
A41: 31 | E41: j. | F41: Trachoma | G41: 1.7657992e-05 | H41: 1.1872617e-05 | I41: 1.1584737e-05 | J41: 1.1310608e-05 | K41: 1.1054866e-05 | L41: 1.0811195e-05 | M41: 1.064444e-05 | N41: 1.0508827e-05 | O41: 1.0357628e-05 | P41: 1.0177883e-05 | Q41: 9.9185381e-06 | R41: 9.650149e-06 | S41: 9.3973724e-06 | T41: 9.2001462e-06 | U41: 9.0703944e-06 | V41: 8.4582393e-06 | W41: 7.6391131e-06 | X41: 7.1847069e-06 | Y41: 6.8996097e-06 | Z41: 6.8943333e-06 | AA41: 6.300079e-06
A42: 32 | E42: k. | F42: Rabies | G42: 0.32569693 | H42: 0.30984539 | I42: 0.29538829 | J42: 0.28229265 | K42: 0.27019908 | L42: 0.25913695 | M42: 0.24882076 | N42: 0.23945122 | O42: 0.23059904 | P42: 0.22226596 | Q42: 0.21452647 | R42: 0.20727748 | S42: 0.20029247 | T42: 0.19355697 | U42: 0.18707577 | V42: 0.1584144 | W42: 0.13498401 | X42: 0.11569938 | Y42: 0.099740464 | Z42: 0.086592087 | AA42: 0.075782611
A43: 33 | D43: 11. | E43: Intestinal nematode infections | G43: 0.082182705 | H43: 0.081338718 | I43: 0.080319867 | J43: 0.078679206 | K43: 0.076954252 | L43: 0.075062905 | M43: 0.072851758 | N43: 0.070441945 | O43: 0.067771227 | P43: 0.064896334 | Q43: 0.061913825 | R43: 0.058751968 | S43: 0.055719851 | T43: 0.052817027 | U43: 0.050058603 | V43: 0.038159103 | W43: 0.02895986 | X43: 0.022115346 | Y43: 0.017129601 | Z43: 0.013532605 | AA43: 0.010902209
A44: 34 | E44: a. | F44: Ascariasis | G44: 0.082156384 | H44: 0.08131641 | I44: 0.08029804 | J44: 0.078657869 | K44: 0.076933399 | L44: 0.075042555 | M44: 0.072831815 | N44: 0.070422326 | O44: 0.067751904 | P44: 0.064877293 | Q44: 0.061895172 | R44: 0.058733711 | S44: 0.055701975 | T44: 0.052799478 | U44: 0.050041314 | V44: 0.038143226 | W44: 0.028945362 | X44: 0.02210221 | Y44: 0.017117513 | Z44: 0.013521502 | AA44: 0.010892296
A45: 35 | E45: b. | F45: Trichuriasis | G45: 1.1086798e-05 | H45: 8.2433239e-06 | I45: 8.0523785e-06 | J45: 7.8556586e-06 | K45: 7.6625111e-06 | L45: 7.4907782e-06 | M45: 7.3462991e-06 | N45: 7.2233863e-06 | O45: 7.0874662e-06 | P45: 6.9331563e-06 | Q45: 6.7591407e-06 | R45: 6.5745226e-06 | S45: 6.3817938e-06 | T45: 6.1960961e-06 | U45: 6.0198618e-06 | V45: 5.3046831e-06 | W45: 5.049214e-06 | X45: 4.5754103e-06 | Y45: 3.9874578e-06 | Z45: 3.5199888e-06 | AA45: 3.1245576e-06
A46: 36 | E46: c. | F46: Hookworm disease | G46: 1.5234054e-05 | H46: 1.4064995e-05 | I46: 1.3775289e-05 | J46: 1.3481578e-05 | K46: 1.3190483e-05 | L46: 1.2859072e-05 | M46: 1.2596535e-05 | N46: 1.2395577e-05 | O46: 1.2235449e-05 | P46: 1.2107741e-05 | Q46: 1.1893616e-05 | R46: 1.1683162e-05 | S46: 1.1493968e-05 | T46: 1.1352566e-05 | U46: 1.1269133e-05 | V46: 1.0571915e-05 | W46: 9.4486311e-06 | X46: 8.5606284e-06 | Y46: 8.0999001e-06 | Z46: 7.582924e-06 | AA46: 6.7887054e-06
A47: 37 | D47: 12. | E47: Other infectious diseases | G47: 6.0857937 | H47: 6.0192627 | I47: 5.9712086 | J47: 5.9045807 | K47: 5.8246219 | L47: 5.7256259 | M47: 5.6124375 | N47: 5.4923907 | O47: 5.3598606 | P47: 5.2184873 | Q47: 5.0641807 | R47: 4.90366 | S47: 4.749928 | T47: 4.6022556 | U47: 4.4609183 | V47: 3.8164736 | W47: 3.287537 | X47: 2.8755813 | Y47: 2.5423154 | Z47: 2.2678462 | AA47: 2.0427496
A48: 38 | C48: B. | D48: Respiratory infections | G48: 37.609117 | H48: 37.280129 | I48: 36.838916 | J48: 36.302365 | K48: 35.72544 | L48: 35.209721 | M48: 34.646792 | N48: 34.068359 | O48: 33.449608 | P48: 32.803819 | Q48: 32.216184 | R48: 31.595285 | S48: 30.972986 | T48: 30.351248 | U48: 29.734058 | V48: 27.034334 | W48: 24.730257 | X48: 22.923116 | Y48: 21.525452 | Z48: 20.431214 | AA48: 19.525967
A49: 39 | D49: 1. | E49: Lower respiratory infections | G49: 37.516714 | H49: 37.201696 | I49: 36.766323 | J49: 36.233634 | K49: 35.659109 | L49: 35.145594 | M49: 34.584658 | N49: 34.007987 | O49: 33.39086 | P49: 32.746568 | Q49: 32.160376 | R49: 31.540835 | S49: 30.919851 | T49: 30.29938 | U49: 29.6834 | V49: 26.989331 | W49: 24.690109 | X49: 22.886967 | Y49: 21.4927 | Z49: 20.401321 | AA49: 19.498455
A50: 40 | D50: 2. | E50: Upper respiratory infections | G50: 0.073542324 | H50: 0.061330192 | I50: 0.055990731 | J50: 0.052595921 | K50: 0.050616862 | L50: 0.048770161 | M50: 0.047128822 | N50: 0.045699245 | O50: 0.044408992 | P50: 0.043251009 | Q50: 0.042095736 | R50: 0.041027877 | S50: 0.040005007 | T50: 0.039031057 | U50: 0.038116821 | V50: 0.033724223 | W50: 0.029931845 | X50: 0.026786058 | Y50: 0.024107433 | Z50: 0.021865866 | AA50: 0.020000743
A51: 41 | D51: 3. | E51: Otitis media | G51: 0.018860834 | H51: 0.017102836 | I51: 0.016602791 | J51: 0.016134948 | K51: 0.015713593 | L51: 0.015356263 | M51: 0.015005015 | N51: 0.014673746 | O51: 0.014338429 | P51: 0.014000649 | Q51: 0.013711684 | R51: 0.013421926 | S51: 0.013129936 | T51: 0.01283624 | U51: 0.012541605 | V51: 0.011278915 | W51: 0.010216665 | X51: 0.0093617723 | Y51: 0.0086443296 | Z51: 0.0080279054 | AA51: 0.0075110065
A52: 42 | C52: C. | D52: Maternal conditions | G52: 4.0463327 | H52: 3.9330531 | I52: 3.8369619 | J52: 3.7486732 | K52: 3.657089 | L52: 3.5680945 | M52: 3.4797614 | N52: 3.3985013 | O52: 3.3168373 | P52: 3.2365036 | Q52: 3.1570029 | R52: 3.0789197 | S52: 3.0028538 | T52: 2.9305608 | U52: 2.8587326 | V52: 2.5307947 | W52: 2.2574729 | X52: 2.0320138 | Y52: 1.8426421 | Z52: 1.6837149 | AA52: 1.5478504
A53: 49 | C53: D. | D53: Neonatal conditions | G53: 29.70356 | H53: 29.157868 | I53: 28.629106 | J53: 27.924587 | K53: 27.242896 | L53: 26.61799 | M53: 25.965228 | N53: 25.335265 | O53: 24.69954 | P53: 24.082932 | Q53: 23.476275 | R53: 22.871406 | S53: 22.274409 | T53: 21.683503 | U53: 21.100495 | V53: 18.282756 | W53: 15.679644 | X53: 13.367783 | Y53: 11.372708 | Z53: 9.6728746 | AA53: 8.2248678
A54: 50 | D54: 1. | E54: Preterm birth complications | G54: 13.231663 | H54: 13.088571 | I54: 12.945057 | J54: 12.675791 | K54: 12.410579 | L54: 12.169878 | M54: 11.906377 | N54: 11.644908 | O54: 11.376067 | P54: 11.114079 | Q54: 10.851808 | R54: 10.589144 | S54: 10.329859 | T54: 10.071616 | U54: 9.8141804 | V54: 8.5497517 | W54: 7.3648656 | X54: 6.3072804 | Y54: 5.3922277 | Z54: 4.6080361 | AA54: 3.9357768
A55: 51 | D55: 2. | E55: Birth asphyxia and birth trauma | G55: 8.8614541 | H55: 8.5992778 | I55: 8.3563191 | J55: 8.111617 | K55: 7.8861997 | L55: 7.6853818 | M55: 7.4896738 | N55: 7.3091499 | O55: 7.1360877 | P55: 6.9743121 | Q55: 6.8222054 | R55: 6.6739743 | S55: 6.5248917 | T55: 6.3756157 | U55: 6.2275251 | V55: 5.4891155 | W55: 4.773199 | X55: 4.1122359 | Y55: 3.5248783 | Z55: 3.0146594 | AA55: 2.573506
A56: 52 | D56: 3. | E56: Neonatal sepsis and infections | G56: 5.165359 | H56: 5.0791464 | I56: 4.9968424 | J56: 4.8779387 | K56: 4.7650385 | L56: 4.6637053 | M56: 4.5587296 | N56: 4.4586806 | O56: 4.3585529 | P56: 4.2622323 | Q56: 4.1682363 | R56: 4.0740633 | S56: 3.9798207 | T56: 3.8855634 | U56: 3.7918715 | V56: 3.3261735 | W56: 2.8785033 | X56: 2.4686103 | Y56: 2.1069689 | Z56: 1.7949167 | AA56: 1.5270507
A57: 53 | D57: 4. | E57: Other neonatal conditions | G57: 2.4450834 | H57: 2.390874 | I57: 2.3308877 | J57: 2.2592403 | K57: 2.1810779 | L57: 2.0990238 | M57: 2.0104493 | N57: 1.9225275 | O57: 1.8288295 | P57: 1.73231 | Q57: 1.6340254 | R57: 1.5342259 | S57: 1.4398376 | T57: 1.350708 | U57: 1.2669204 | V57: 0.91771568 | W57: 0.66307652 | X57: 0.47965658 | Y57: 0.34863216 | Z57: 0.25526253 | AA57: 0.18853479
A58: 54 | C58: E. | D58: Nutritional deficiencies | G58: 5.8026493 | H58: 5.7364309 | I58: 5.6945818 | J58: 5.6192871 | K58: 5.5320505 | L58: 5.4535708 | M58: 5.3584104 | N58: 5.251896 | O58: 5.1313488 | P58: 4.9990756 | Q58: 4.8778083 | R58: 4.7467568 | S58: 4.6179402 | T58: 4.4910387 | U58: 4.366685 | V58: 3.8664937 | W58: 3.4958544 | X58: 3.2419082 | Y58: 3.0794684 | Z58: 2.9804322 | AA58: 2.9144743
A59: 55 | D59: 1. | E59: Protein-energy malnutrition | G59: 4.3961037 | H59: 4.3512335 | I59: 4.3196547 | J59: 4.2533797 | K59: 4.1736382 | L59: 4.0999623 | M59: 4.0089821 | N59: 3.9056481 | O59: 3.7875811 | P59: 3.6571191 | Q59: 3.5337496 | R59: 3.3999631 | S59: 3.2688591 | T59: 3.1402802 | U59: 3.0149453 | V59: 2.5014848 | W59: 2.108556 | X59: 1.8156156 | Y59: 1.6037076 | Z59: 1.4508977 | AA59: 1.3319324
A60: 56 | D60: 2. | E60: Iodine deficiency | G60: 0.034937804 | H60: 0.034654655 | I60: 0.034397352 | J60: 0.034046796 | K60: 0.033605252 | L60: 0.033111979 | M60: 0.032520053 | N60: 0.031884088 | O60: 0.031146962 | P60: 0.030329552 | Q60: 0.029503894 | R60: 0.02861151 | S60: 0.027741872 | T60: 0.026897456 | U60: 0.026081536 | V60: 0.022542712 | W60: 0.019651654 | X60: 0.017385662 | Y60: 0.015635124 | Z60: 0.014194175 | AA60: 0.01293748
A61: 57 | D61: 3. | E61: Vitamin A deficiency | G61: 0.0001060154 | H61: 7.319891e-05 | I61: 7.1616238e-05 | J61: 7.0093949e-05 | K61: 6.8534129e-05 | L61: 6.707837e-05 | M61: 6.5449024e-05 | N61: 6.3791667e-05 | O61: 6.2259476e-05 | P61: 6.0939393e-05 | Q61: 6.0097977e-05 | R61: 5.9473174e-05 | S61: 5.8920606e-05 | T61: 5.824525e-05 | U61: 5.7326297e-05 | V61: 5.2298571e-05 | W61: 4.7167019e-05 | X61: 4.2266078e-05 | Y61: 3.8657298e-05 | Z61: 3.7193411e-05 | AA61: 3.4451005e-05
A62: 58 | D62: 4. | E62: Iron-deficiency anaemia | G62: 0.29278989 | H62: 0.28444584 | I62: 0.2813486 | J62: 0.27816654 | K62: 0.27489154 | L62: 0.26937762 | M62: 0.26408215 | N62: 0.25934164 | O62: 0.25507838 | P62: 0.2513971 | Q62: 0.24594777 | R62: 0.24083367 | S62: 0.23621169 | T62: 0.2320605 | U62: 0.22841682 | V62: 0.20611452 | W62: 0.18457514 | X62: 0.16811011 | Y62: 0.15328306 | Z62: 0.14003809 | AA62: 0.12892389
A63: 59 | D63: 5. | E63: Other nutritional deficiencies | G63: 1.0787118 | H63: 1.0660238 | I63: 1.0591096 | J63: 1.0536237 | K63: 1.0498471 | L63: 1.0510519 | M63: 1.0527605 | N63: 1.0549583 | O63: 1.05748 | P63: 1.060169 | Q63: 1.0685468 | R63: 1.0772892 | S63: 1.0850684 | T63: 1.0917423 | U63: 1.097184 | V63: 1.1362994 | W63: 1.1830244 | X63: 1.2407545 | Y63: 1.3068039 | Z63: 1.3752651 | AA63: 1.4406462
A64: 60 | B64: II. | C64: Noncommunicable diseases | G64: 512.23355 | H64: 506.86629 | I64: 503.01686 | J64: 498.82292 | K64: 494.27637 | L64: 490.61691 | M64: 486.66085 | N64: 482.7052 | O64: 478.45862 | P64: 474.10898 | Q64: 470.3712 | R64: 466.43976 | S64: 462.38772 | T64: 458.2643 | U64: 454.13579 | V64: 437.12266 | W64: 422.10648 | X64: 408.59271 | Y64: 396.77193 | Z64: 386.75075 | AA64: 377.95011
A65: 61 | C65: A. | D65: Malignant neoplasms | G65: 115.03337 | H65: 113.63488 | I65: 112.67571 | J65: 111.74557 | K65: 110.86794 | L65: 110.05313 | M65: 109.26038 | N65: 108.50647 | O65: 107.79939 | P65: 107.18287 | Q65: 106.56503 | R65: 106.01167 | S65: 105.4714 | T65: 104.91767 | U65: 104.34786 | V65: 101.77697 | W65: 99.770888 | X65: 98.097552 | Y65: 96.485774 | Z65: 94.843983 | AA65: 93.676138
A66: 62 | D66: 1. | E66: Mouth and oropharynx cancers | G66: 4.309273 | H66: 4.2589088 | I66: 4.2487515 | J66: 4.2387626 | K66: 4.2295245 | L66: 4.2217321 | M66: 4.2139341 | N66: 4.2050182 | O66: 4.1954961 | P66: 4.186986 | Q66: 4.1752526 | R66: 4.1622535 | S66: 4.1485881 | T66: 4.1342707 | U66: 4.1191552 | V66: 4.0582418 | W66: 4.018531 | X66: 3.981301 | Y66: 3.9465916 | Z66: 3.9057948 | AA66: 3.873119
A67: 63 | D67: 2. | E67: Oesophagus cancer | G67: 5.5087089 | H67: 5.3935244 | I67: 5.3159817 | J67: 5.2493954 | K67: 5.1958686 | L67: 5.1565274 | M67: 5.119305 | N67: 5.0854838 | O67: 5.0583434 | P67: 5.0385101 | Q67: 5.0340169 | R67: 5.0345042 | S67: 5.0322906 | T67: 5.0256123 | U67: 5.0141158 | V67: 4.9540182 | W67: 4.9117329 | X67: 4.8773024 | Y67: 4.8237827 | Z67: 4.7362934 | AA67: 4.6633339
A68: 64 | D68: 3. | E68: Stomach cancer | G68: 9.7239843 | H68: 9.4755767 | I68: 9.2593024 | J68: 9.0740792 | K68: 8.9277205 | L68: 8.8097752 | M68: 8.7060447 | N68: 8.616606 | O68: 8.5439108 | P68: 8.4890098 | Q68: 8.457656 | R68: 8.4408021 | S68: 8.4203342 | T68: 8.3942427 | U68: 8.3625428 | V68: 8.1887993 | W68: 8.0377692 | X68: 7.8683913 | Y68: 7.6524244 | Z68: 7.3888005 | AA68: 7.1464703
A69: 65 | D69: 4. | E69: Colon and rectum cancers | G69: 10.08744 | H69: 9.953562 | I69: 9.866179 | J69: 9.7829729 | K69: 9.704775 | L69: 9.6250958 | M69: 9.5514527 | N69: 9.4862821 | O69: 9.4284379 | P69: 9.3806164 | Q69: 9.3250349 | R69: 9.2761466 | S69: 9.2282085 | T69: 9.1781362 | U69: 9.1253259 | V69: 8.8300001 | W69: 8.5791492 | X69: 8.3531084 | Y69: 8.1174788 | Z69: 7.8495176 | AA69: 7.6172697
A70: 66 | D70: 5. | E70: Liver cancer | G70: 10.712406 | H70: 10.604993 | I70: 10.556843 | J70: 10.509067 | K70: 10.462844 | L70: 10.424919 | M70: 10.380014 | N70: 10.330309 | O70: 10.279899 | P70: 10.228647 | Q70: 10.191045 | R70: 10.15263 | S70: 10.10963 | T70: 10.06063 | U70: 10.006253 | V70: 9.7339594 | W70: 9.4866982 | X70: 9.250361 | Y70: 8.9609324 | Z70: 8.6539274 | AA70: 8.415035
A71: 67 | D71: 6. | E71: Pancreas cancer | G71: 4.7405209 | H71: 4.6872472 | I71: 4.6808085 | J71: 4.670027 | K71: 4.6545202 | L71: 4.6276463 | M71: 4.5980013 | N71: 4.5680627 | O71: 4.5370761 | P71: 4.5065533 | Q71: 4.4659445 | R71: 4.426356 | S71: 4.388232 | T71: 4.3496828 | U71: 4.3101844 | V71: 4.0956562 | W71: 3.908977 | X71: 3.7413375 | Y71: 3.5803033 | Z71: 3.4189674 | AA71: 3.2782138
A72: 68 | D72: 7. | E72: Trachea, bronchus, lung cancers | G72: 21.890291 | H72: 21.72356 | I72: 21.482127 | J72: 21.205708 | K72: 20.903326 | L72: 20.591634 | M72: 20.256406 | N72: 19.904379 | O72: 19.542319 | P72: 19.200984 | Q72: 18.816974 | R72: 18.444557 | S72: 18.099008 | T72: 17.771097 | U72: 17.460963 | V72: 16.210226 | W72: 15.145075 | X72: 14.17936 | Y72: 13.264752 | Z72: 12.409321 | AA72: 11.730038
A73: 69 | D73: 8. | E73: Melanoma and other skin cancers | G73: 1.4288182 | H73: 1.4209985 | I73: 1.4175091 | J73: 1.4129416 | K73: 1.4072783 | L73: 1.4001148 | M73: 1.3925913 | N73: 1.3853105 | O73: 1.3779277 | P73: 1.3708576 | Q73: 1.3619942 | R73: 1.3533739 | S73: 1.3450408 | T73: 1.3368872 | U73: 1.328929 | V73: 1.2877448 | W73: 1.2498722 | X73: 1.2147785 | Y73: 1.1832701 | Z73: 1.1576122 | AA73: 1.1390578
A74: 70 | D74: 9. | E74: Breast cancer | G74: 7.5646085 | H74: 7.5173826 | I74: 7.4786684 | J74: 7.4514046 | K74: 7.4332671 | L74: 7.4133722 | M74: 7.4051577 | N74: 7.4163038 | O74: 7.4372991 | P74: 7.4694285 | Q74: 7.4996468 | R74: 7.5421933 | S74: 7.5873311 | T74: 7.6339673 | U74: 7.6808372 | V74: 7.9006484 | W74: 8.147053 | X74: 8.4135539 | Y74: 8.6963267 | Z74: 8.995756 | AA74: 9.3283159
A75: 71 | D75: 10. | E75: Cervix uteri cancer | G75: 3.691537 | H75: 3.6433427 | I75: 3.608256 | J75: 3.5790326 | K75: 3.5564641 | L75: 3.5375909 | M75: 3.5245861 | N75: 3.5157291 | O75: 3.5116752 | P75: 3.5115948 | Q75: 3.5153687 | R75: 3.5230866 | S75: 3.5309507 | T75: 3.5387072 | U75: 3.5461348 | V75: 3.5857469 | W75: 3.6433535 | X75: 3.7156285 | Y75: 3.8006 | Z75: 3.8901341 | AA75: 3.9864847
A76: 72 | D76: 11. | E76: Corpus uteri cancer | G76: 1.0817635 | H76: 1.0569801 | I76: 1.0430997 | J76: 1.03057 | K76: 1.0196786 | L76: 1.0074307 | M76: 0.9958941 | N76: 0.98548245 | O76: 0.97580528 | P76: 0.96691009 | Q76: 0.95702203 | R76: 0.94815317 | S76: 0.93967737 | T76: 0.93136031 | U76: 0.9231356 | V76: 0.88033324 | W76: 0.84352063 | X76: 0.81123278 | Y76: 0.78397067 | Z76: 0.76000221 | AA76: 0.73950408
A77: 73 | D77: 12. | E77: Ovary cancer | G77: 2.1284019 | H77: 2.1180755 | I77: 2.1072728 | J77: 2.0970001 | K77: 2.0870196 | L77: 2.074366 | M77: 2.0626633 | N77: 2.0525766 | O77: 2.0432177 | P77: 2.0344479 | Q77: 2.023407 | R77: 2.0134227 | S77: 2.0041353 | T77: 1.995089 | U77: 1.9860897 | V77: 1.936384 | W77: 1.8926827 | X77: 1.8516167 | Y77: 1.8157551 | Z77: 1.7836554 | AA77: 1.7537372
... A81: 77 | D81: 16. | E81: Leukaemia | G81: 3.7921174 | H81: 3.7387077 | I81: 3.7034248 | J81: 3.6694437 | K81: 3.6380351 | L81: 3.6053036 | M81: 3.5757992 | N81: 3.5495153 | O81: 3.5257646 | P81: 3.5048298 | Q81: 3.4808347 | R81: 3.4593023 | S81: 3.4382038 | T81: 3.4171796 | U81: 3.3962648 | V81: 3.2858967 | W81: 3.1846218 | X81: 3.0889084 | Y81: 2.9983082 | Z81: 2.9158247 | AA81: 2.8448329
A82: 78 | E82: Other malignant neoplasms | G82: 16.969419 | H82: 16.776874 | I82: 16.70606 | J82: 16.640082 | K82: 16.581979 | L82: 16.533281 | M82: 16.491897 | N82: 16.453061 | O82: 16.422067 | P82: 16.400872 | Q82: 16.380374 | R82: 16.365143 | S82: 16.347836 | T82: 16.325655 | U82: 16.297956 | V82: 16.166575 | W82: 16.125477 | X82: 16.13195 | Y82: 16.145025 | Z82: 16.144493 | AA82: 16.181586
A83: 79 | C83: B. | D83: Other neoplasms | G83: 2.7246718 | H83: 2.6983529 | I83: 2.6809729 | J83: 2.6671706 | K83: 2.6563891 | L83: 2.6389047 | M83: 2.6238622 | N83: 2.6118861 | O83: 2.6031473 | P83: 2.5982168 | Q83: 2.5881449 | R83: 2.5814525 | S83: 2.5757366 | T83: 2.570687 | U83: 2.5665754 | V83: 2.5229162 | W83: 2.4670324 | X83: 2.4322788 | Y83: 2.4074664 | Z83: 2.3806035 | AA83: 2.3604215
A84: 80 | C84: C. | D84: Diabetes mellitus | G84: 20.357482 | H84: 20.360094 | I84: 20.416929 | J84: 20.457512 | K84: 20.476932 | L84: 20.524487 | M84: 20.560841 | N84: 20.599034 | O84: 20.624331 | P84: 20.642282 | Q84: 20.694541 | R84: 20.74326 | S84: 20.783717 | T84: 20.815705 | U84: 20.843068 | V84: 21.114225 | W84: 21.537107 | X84: 22.075174 | Y84: 22.682739 | Z84: 23.367441 | AA84: 24.083923
A85: 81 | C85: D. | D85: Endocrine, blood, immune disorders | G85: 4.6611627 | H85: 4.6312502 | I85: 4.6569093 | J85: 4.6700858 | K85: 4.6778237 | L85: 4.6772647 | M85: 4.6751582 | N85: 4.6752924 | O85: 4.6746519 | P85: 4.6740651 | Q85: 4.6678408 | R85: 4.6617143 | S85: 4.6564529 | T85: 4.6515894 | U85: 4.647687 | V85: 4.6151107 | W85: 4.5845128 | X85: 4.5705083 | Y85: 4.5562696 | Z85: 4.5406905 | AA85: 4.5297335
A86: 82 | C86: E. | D86: Mental and behavioral disorders | G86: 4.1576937 | H86: 4.1570352 | I86: 4.1413974 | J86: 4.117693 | K86: 4.0842417 | L86: 4.0486405 | M86: 4.009363 | N86: 3.9718334 | O86: 3.9313192 | P86: 3.8894839 | Q86: 3.8468777 | R86: 3.8033956 | S86: 3.7607805 | T86: 3.7192153 | U86: 3.679227 | V86: 3.5050266 | W86: 3.3536378 | X86: 3.2199951 | Y86: 3.0953932 | Z86: 2.9791879 | AA86: 2.8729946
A87: 83 | D87: 1. | E87: Unipolar depressive disorders | G87: 0 | H87: 0 | I87: 0 | J87: 0 | K87: 0 | L87: 0 | M87: 0 | N87: 0 | O87: 0 | P87: 0 | Q87: 0 | R87: 0 | S87: 0 | T87: 0 | U87: 0 | V87: 0 | W87: 0 | X87: 0 | Y87: 0 | Z87: 0 | AA87: 0
A88: 84 | D88: 2. | E88: Bipolar disorder | G88: 0.0098719942 | H88: 0.0077281877 | I88: 0.0076360031 | J88: 0.0075532563 | K88: 0.0074794947 | L88: 0.0073512431 | M88: 0.0072374393 | N88: 0.0071430064 | O88: 0.0070573219 | P88: 0.0069766304 | Q88: 0.0068468368 | R88: 0.006728084 | S88: 0.0066199109 | T88: 0.0065209891 | U88: 0.0064322737 | V88: 0.0058924423 | W88: 0.0053682657 | X88: 0.004892869 | Y88: 0.0044738077 | Z88: 0.0041163246 | AA88: 0.0038228288
A89: 85 | D89: 3. | E89: Schizophrenia | G89: 0.066041906 | H89: 0.060075044 | I89: 0.060633423 | J89: 0.061180868 | K89: 0.061671731 | L89: 0.061561803 | M89: 0.061290304 | N89: 0.06091797 | O89: 0.060432403 | P89: 0.059858723 | Q89: 0.058846848 | R89: 0.057813945 | S89: 0.056859727 | T89: 0.055971192 | U89: 0.055147771 | V89: 0.050367746 | W89: 0.045647324 | X89: 0.041679874 | Y89: 0.038240245 | Z89: 0.035364982 | AA89: 0.032779168
A90: 86 | D90: 4. | E90: Alcohol use disorders | G90: 1.9133167 | H90: 1.8852269 | I90: 1.8591348 | J90: 1.8364315 | K90: 1.8152362 | L90: 1.794245 | M90: 1.7722994 | N90: 1.7512818 | O90: 1.7296949 | P90: 1.7081652 | Q90: 1.6870207 | R90: 1.6660167 | S90: 1.6454434 | T90: 1.6253076 | U90: 1.60566 | V90: 1.5171456 | W90: 1.441067 | X90: 1.3762941 | Y90: 1.3187166 | Z90: 1.2666462 | AA90: 1.2184648
A91: 87 | D91: 5. | E91: Drug use disorders | G91: 2.1204628 | H91: 2.1596185 | I91: 2.1698396 | J91: 2.1687428 | K91: 2.1565584 | L91: 2.1427475 | M91: 2.126369 | N91: 2.1108356 | O91: 2.0930153 | P91: 2.0739138 | Q91: 2.0541701 | R91: 2.0334121 | S91: 2.0129929 | T91: 1.9931029 | U91: 1.9742139 | V91: 1.8963872 | W91: 1.8285775 | X91: 1.7662344 | Y91: 1.7049082 | Z91: 1.6456286 | AA91: 1.591945
A92: 88 | D92: 6. | E92: Anxiety disorders | G92: 0 | H92: 0 | I92: 0 | J92: 0 | K92: 0 | L92: 0 | M92: 0 | N92: 0 | O92: 0 | P92: 0 | Q92: 0 | R92: 0 | S92: 0 | T92: 0 | U92: 0 | V92: 0 | W92: 0 | X92: 0 | Y92: 0 | Z92: 0 | AA92: 0
A93: 89 | D93: 7. | E93: Eating disorders | G93: 0.025022127 | H93: 0.024127203 | I93: 0.024200171 | J93: 0.024172003 | K93: 0.024053385 | L93: 0.023893791 | M93: 0.023710518 | N93: 0.023544441 | O93: 0.023347195 | P93: 0.023129134 | Q93: 0.022897929 | R93: 0.022655724 | S93: 0.022410028 | T93: 0.022163868 | U93: 0.02192046 | V93: 0.020789348 | W93: 0.01977922 | X93: 0.018785414 | Y93: 0.017839454 | Z93: 0.016991185 | AA93: 0.016231605
A94: 90 | D94: 8. | E94: Pervasive developmental disorders | G94: 0 | H94: 0 | I94: 0 | J94: 0 | K94: 0 | L94: 0 | M94: 0 | N94: 0 | O94: 0 | P94: 0 | Q94: 0 | R94: 0 | S94: 0 | T94: 0 | U94: 0 | V94: 0 | W94: 0 | X94: 0 | Y94: 0 | Z94: 0 | AA94: 0
A95: 91 | D95: 9. | E95: Childhood behavioural disorders | G95: 0 | H95: 0 | I95: 0 | J95: 0 | K95: 0 | L95: 0 | M95: 0 | N95: 0 | O95: 0 | P95: 0 | Q95: 0 | R95: 0 | S95: 0 | T95: 0 | U95: 0 | V95: 0 | W95: 0 | X95: 0 | Y95: 0 | Z95: 0 | AA95: 0
A96: 92 | D96: 10. | E96: Idiopathic intellectual disability | G96: 0.022978196 | H96: 0.020259419 | I96: 0.019953366 | J96: 0.019612578 | K96: 0.019242423 | L96: 0.018841171 | M96: 0.018456412 | N96: 0.018110621 | O96: 0.017772025 | P96: 0.017440517 | Q96: 0.017095221 | R96: 0.016769013 | S96: 0.016454498 | T96: 0.016148704 | U96: 0.015852536 | V96: 0.014444186 | W96: 0.013198372 | X96: 0.012108506 | Y96: 0.011214962 | Z96: 0.010440528 | AA96: 0.0097511704
A97: 93 | D97: 11. | E97: Other mental and behavioural disorders | G97: 0 | H97: 0 | I97: 0 | J97: 0 | K97: 0 | L97: 0 | M97: 0 | N97: 0 | O97: 0 | P97: 0 | Q97: 0 | R97: 0 | S97: 0 | T97: 0 | U97: 0 | V97: 0 | W97: 0 | X97: 0 | Y97: 0 | Z97: 0 | AA97: 0
A98: 94 | C98: F. | D98: Neurological conditions | G98: 30.790723 | H98: 31.320582 | I98: 31.831239 | J98: 32.207564 | K98: 32.435628 | L98: 32.591332 | M98: 32.668156 | N98: 32.694389 | O98: 32.674358 | P98: 32.621685 | Q98: 32.519 | R98: 32.382302 | S98: 32.253923 | T98: 32.134731 | U98: 32.031303 | V98: 31.432595 | W98: 30.725782 | X98: 30.018778 | Y98: 29.216062 | Z98: 28.325156 | AA98: 27.449707
A99: 95 | D99: 1. | E99: Alzheimer's disease and other dementias | G99: 23.797511 | H99: 24.319489 | I99: 24.782646 | J99: 25.127635 | K99: 25.339314 | L99: 25.499997 | M99: 25.592306 | N99: 25.638081 | O99: 25.64551 | P99: 25.6257 | Q99: 25.571825 | R99: 25.487222 | S99: 25.408516 | T99: 25.337269 | U99: 25.279255 | V99: 24.927893 | W99: 24.46093 | X99: 23.979715 | Y99: 23.40387 | Z99: 22.725792 | AA99: 22.036956
A100: 96 | D100: 2. | E100: Parkinson's disease | G100: 2.6291819 | H100: 2.6488768 | I100: 2.6868232 | J100: 2.7165844 | K100: 2.7368181 | L100: 2.7480061 | M100: 2.7529541 | N100: 2.753624 | O100: 2.7500439 | P100: 2.7432783 | Q100: 2.7281979 | R100: 2.7104283 | S100: 2.6936056 | T100: 2.6774628 | U100: 2.6625961 | V100: 2.5741325 | W100: 2.4831977 | X100: 2.3901291 | Y100: 2.2832833 | Z100: 2.1782351 | AA100: 2.0887345
A101: 97 | D101: 3. | E101: Epilepsy | G101: 1.8187372 | H101: 1.8018543 | I101: 1.7973666 | J101: 1.7921733 | K101: 1.7885577 | L101: 1.7843167 | M101: 1.7793285 | N101: 1.7749881 | O101: 1.7702165 | P101: 1.7656023 | Q101: 1.7610995 | R101: 1.7570002 | S101: 1.7530475 | T101: 1.7491685 | U101: 1.7454522 | V101: 1.728981 | W101: 1.7162768 | X101: 1.7076799 | Y101: 1.6997506 | Z101: 1.6910792 | AA101: 1.6826833
A102: 98 | D102: 4. | E102: Multiple sclerosis | G102: 0.31499694 | H102: 0.31282397 | I102: 0.31277775 | J102: 0.3121602 | K102: 0.31091646 | L102: 0.30870871 | M102: 0.30599546 | N102: 0.30320909 | O102: 0.29994808 | P102: 0.29634833 | Q102: 0.29235974 | R102: 0.28823417 | S102: 0.28420693 | T102: 0.28020601 | U102: 0.27621661 | V102: 0.25652341 | W102: 0.23793451 | X102: 0.22086452 | Y102: 0.20604703 | Z102: 0.19354533 | AA102: 0.18254423
A103: 99 | D103: 5. | E103: Migraine | G103: 0.00028425595 | H103: 0.00019013803 | I103: 0.00018628758 | J103: 0.00018255218 | K103: 0.00017905642 | L103: 0.00017558241 | M103: 0.00017268511 | N103: 0.00017027732 | O103: 0.00016812345 | P103: 0.00016614231 | Q103: 0.00016395922 | R103: 0.00016197882 | S103: 0.00016006215 | T103: 0.00015831489 | U103: 0.00015679306 | V103: 0.00014976133 | W103: 0.00014332777 | X103: 0.0001379104 | Y103: 0.00013409658 | Z103: 0.00013104249 | AA103: 0.00012752079
A104: 100 | D104: 6. | E104: Non-migraine headache | G104: 0 | H104: 0 | I104: 0 | J104: 0 | K104: 0 | L104: 0 | M104: 0 | N104: 0 | O104: 0 | P104: 0 | Q104: 0 | R104: 0 | S104: 0 | T104: 0 | U104: 0 | V104: 0 | W104: 0 | X104: 0 | Y104: 0 | Z104: 0 | AA104: 0
A105: 101 | D105: 7. | E105: Other neurological conditions | G105: 2.2300112 | H105: 2.2373483 | I105: 2.2514386 | J105: 2.2588284 | K105: 2.2598435 | L105: 2.2501284 | M105: 2.2374002 | N105: 2.2243162 | O105: 2.2084718 | P105: 2.1905887 | Q105: 2.1653556 | R105: 2.1392541 | S105: 2.114388 | T105: 2.0904663 | U105: 2.0676267 | V105: 1.9449153 | W105: 1.8273 | X105: 1.7202516 | Y105: 1.6229781 | Z105: 1.5363731 | AA105: 1.458662
A106: 102 | C106: G. | D106: Sense organ diseases | G106: 0.0077133391 | H106: 0.0057725394 | I106: 0.0056732282 | J106: 0.0055892119 | K106: 0.0055181708 | L106: 0.0053989862 | M106: 0.0052983252 | N106: 0.0052219766 | O106: 0.0051688402 | P106: 0.0051395657 | Q106: 0.0050663998 | R106: 0.0050098533 | S106: 0.0049655625 | T106: 0.0049361201 | U106: 0.0049236552 | V106: 0.0047247185 | W106: 0.0044452252 | X106: 0.0042426251 | Y106: 0.0040470128 | Z106: 0.0038378483 | AA106: 0.0036499949
A107: 110 | C107: H. | D107: Cardiovascular diseases | G107: 224.45671 | H107: 221.4041 | I107: 218.91817 | J107: 216.26328 | K107: 213.37189 | L107: 211.21015 | M107: 208.86402 | N107: 206.48119 | O107: 203.86842 | P107: 201.09886 | Q107: 198.84019 | R107: 196.3826 | S107: 193.80081 | T107: 191.15804 | U107: 188.49683 | V107: 177.73797 | W107: 167.98975 | X107: 158.79912 | Y107: 150.84917 | Z107: 144.48765 | AA107: 138.74148
...

Sheet World2016
A1: Global Health Estimates (GHE) 2016: Deaths by age, sex and cause
A2: Region: | C2: World
A3: Year: | C3: 2016
F5: Sex | G5: Both sexes | H5: Male | O5: Female
F6: Age group | G6: Total | H6: 0-4 years | I6: 5-14 years | J6: 15-29 years | K6: 30-49 years | L6: 50-69 years | M6: 70+ years | N6: Total | O6: 0-4 years | P6: 5-14 years | Q6: 15-29 years | R6: 30-49 years | S6: 50-69 years | T6: 70+ years | U6: Total
A7: Population (thousands) | G7: =N7+U7 -> 7462277.2 | H7: 349354.1 | I7: 655235.91 | J7: 928226.92 | K7: 1022146.6 | L7: 632852.39 | M7: 176597.93 | N7: =SUM(H7:M7) -> 3764413.9 | O7: 326527.38 | P7: 611992.6 | Q7: 876849.75 | R7: 998438.27 | S7: 654010.56 | T7: 230044.76 | U7: =SUM(O7:T7) -> 3697863.3
A9: GHE code | C9: GHE cause category
A10: 0 | C10: All Causes | G10: =N10+U10 -> 56873405 | H10: 2996518.7 | I10: 547388.46 | J10: 1580618.4 | K10: 3516036.8 | L10: 8813196.4 | M10: 12892903 | N10: =SUM(H10:M10) -> 30346662 | O10: 2660096.4 | P10: 486752.46 | Q10: 1057075.8 | R10: 2182402.8 | S10: 5934259.9 | T10: 14206155 | U10: =SUM(O10:T10) -> 26526743
A11: 1 | B11: I. | C11: Communicable, maternal, perinatal and nutritional conditions | G11: =N11+U11 -> 11481463 | H11: 2427930 | I11: 252030.75 | J11: 340964.69 | K11: 802476.64 | L11: 911795.52 | M11: 1233808.4 | N11: =SUM(H11:M11) -> 5969005.9 | O11: 2153824.5 | P11: 262243.35 | Q11: 453760.06 | R11: 656599.86 | S11: 629681.1 | T11: 1356348.6 | U11: =SUM(O11:T11) -> 5512457.5
A12: 2 | C12: A. | D12: Infectious and parasitic diseases | G12: =N12+U12 -> 5491337.5 | H12: 637703.1 | I12: 199173.5 | J12: 290659.78 | K12: 708239.4 | L12: 641772.6 | M12: 526506.31 | N12: =SUM(H12:M12) -> 3004054.7 | O12: 611472.37 | P12: 206599.45 | Q12: 257509.6 | R12: 446306.54 | S12: 418785.99 | T12: 546608.91 | U12: =SUM(O12:T12) -> 2487282.9
A13: 3 | D13: 1. | E13: Tuberculosis | G13: =N13+U13 -> 1292900.6 | H13: 12495.015 | I13: 7660.9702 | J13: 79582.098 | K13: 211080.76 | L13: 297242.07 | M13: 220520.73 | N13: =SUM(H13:M13) -> 828581.64 | O13: 12607.68 | P13: 9824.1295 | Q13: 55425.402 | R13: 97010.735 | S13: 141146.1 | T13: 148304.94 | U13: =SUM(O13:T13) -> 464318.99
A14: 4 | D14: 2. | E14: STDs excluding HIV | G14: =N14+U14 -> 102360.54 | H14: 36197.7 | I14: 5097.1181 | J14: 282.4882 | K14: 450.59068 | L14: 465.06739 | M14: 300.72308 | N14: =SUM(H14:M14) -> 42793.687 | O14: 41379.429 | P14: 9788.4689 | Q14: 2516.8107 | R14: 2283.3198 | S14: 1973.5472 | T14: 1625.2763 | U14: =SUM(O14:T14) -> 59566.852
A15: 5 | E15: a. | F15: Syphilis | G15: =N15+U15 -> 95557.801 | H15: 36197.7 | I15: 5088.2923 | J15: 239.49465 | K15: 395.06825 | L15: 432.7722 | M15: 271.97699 | N15: =SUM(H15:M15) -> 42625.304 | O15: 41379.429 | P15: 9737.7139 | Q15: 628.10124 | R15: 317.14628 | S15: 453.48002 | T15: 416.62681 | U15: =SUM(O15:T15) -> 52932.497
A16: 6 | E16: b. | F16: Chlamydia | G16: =N16+U16 -> 1323.7512 | H16: 0 | I16: 0 | J16: 0 | K16: 0 | L16: 0 | M16: 0 | N16: =SUM(H16:M16) -> 0 | O16: 0 | P16: 14.175785 | Q16: 433.94205 | R16: 350.19509 | S16: 277.11836 | T16: 248.31989 | U16: =SUM(O16:T16) -> 1323.7512
A17: 7 | E17: c. | F17: Gonorrhoea | G17: =N17+U17 -> 3680.321 | H17: 0 | I17: 5.7845577 | J17: 32.034415 | K17: 35.277676 | L17: 15.952176 | M17: 17.351763 | N17: =SUM(H17:M17) -> 106.40059 | O17: 0 | P17: 24.885023 | Q17: 918.45348 | R17: 1039.1646 | S17: 847.46611 | T17: 743.95129 | U17: =SUM(O17:T17) -> 3573.9205
A18: 8 | E18: d. | F18: Trichomoniasis | G18: =N18+U18 -> 0 | H18: 0 | I18: 0 | J18: 0 | K18: 0 | L18: 0 | M18: 0 | N18: =SUM(H18:M18) -> 0 | O18: 0 | P18: 0 | Q18: 0 | R18: 0 | S18: 0 | T18: 0 | U18: =SUM(O18:T18) -> 0
A19: 9 | E19: e. | F19: Other STDs | G19: =N19+U19 -> 1798.6658 | H19: 0 | I19: 3.0413721 | J19: 10.959132 | K19: 20.244756 | L19: 16.343018 | M19: 11.394325 | N19: =SUM(H19:M19) -> 61.982603 | O19: 0 | P19: 11.69426 | Q19: 536.31394 | R19: 576.81395 | S19: 395.48272 | T19: 216.37832 | U19: =SUM(O19:T19) -> 1736.6832
A20: 10 | D20: 3. | E20: HIV/AIDS | G20: =N20+U20 -> 1011992.2 | H20: 33466.902 | I20: 24687.073 | J20: 71331.824 | K20: 342469.69 | L20: 111430.43 | M20: 8878.9551 | N20: =SUM(H20:M20) -> 592264.88 | O20: 32521.139 | P20: 23529.454 | Q20: 71503.341 | R20: 231226.17 | S20: 56441.61 | T20: 4505.625 | U20: =SUM(O20:T20) -> 419727.34
A21: 11 | D21: 4. | E21: Diarrhoeal diseases | G21: =N21+U21 -> 1382706.8 | H21: 246011.48 | I21: 42107.404 | J21: 42289.787 | K21: 58401.885 | L21: 108973.83 | M21: 171151.82 | N21: =SUM(H21:M21) -> 668936.2 | O21: 231320.67 | P21: 41439.903 | Q21: 42939.073 | R21: 44139.218 | S21: 115132.28 | T21: 238799.44 | U21: =SUM(O21:T21) -> 713770.58
A22: 12 | D22: 5. | E22: Childhood-cluster diseases | G22: =N22+U22 -> 156115.92 | H22: 56764.624 | I22: 10534.322 | J22: 3957.6332 | K22: 3981.9647 | L22: 4344.3202 | M22: 2189.4996 | N22: =SUM(H22:M22) -> 81772.364 | O22: 50417.924 | P22: 13644.015 | Q22: 3250.6227 | R22: 2074.2982 | S22: 2744.4097 | T22: 2212.2835 | U22: =SUM(O22:T22) -> 74343.553
A23: 13 | E23: a. | F23: Whooping cough | G23: =N23+U23 -> 9989.0006 | H23: 175.41221 | I23: 3400.038 | J23: 353.50602 | K23: 132.97065 | L23: 90.464726 | M23: 6.395018 | N23: =SUM(H23:M23) -> 4158.7866 | O23: 166.21655 | P23: 5010.7995 | Q23: 484.99062 | R23: 120.73022 | S23: 38.748464 | T23: 8.7286724 | U23: =SUM(O23:T23) -> 5830.214
A24: 14 | E24: b. | F24: Diphtheria | G24: =N24+U24 -> 1446.7969 | H24: 470.11312 | I24: 147.55604 | J24: 46.735021 | K24: 44.310838 | L24: 37.513612 | M24: 1.6969338 | N24: =SUM(H24:M24) -> 747.92556 | O24: 462.89698 | P24: 151.22793 | Q24: 35.910438 | R24: 30.007018 | S24: 17.521338 | T24: 1.3076022 | U24: =SUM(O24:T24) -> 698.87131
A25: 15 | E25: c. | F25: Measles | G25: =N25+U25 -> 90956.355 | H25: 36423.346 | I25: 5570.711 | J25: 698.9659 | K25: 146.02931 | L25: 531.24721 | M25: 890.1007 | N25: =SUM(H25:M25) -> 44260.4 | O25: 37591.964 | P25: 7267.2437 | Q25: 1189.619 | R25: 271.84749 | S25: 336.67579 | T25: 38.605682 | U25: =SUM(O25:T25) -> 46695.955
A26: 16 | E26: d. | F26: Tetanus | G26: =N26+U26 -> 53723.763 | H26: 19695.752 | I26: 1416.0172 | J26: 2858.4263 | K26: 3658.654 | L26: 3685.0946 | M26: 1291.307 | N26: =SUM(H26:M26) -> 32605.252 | O26: 12196.846 | P26: 1214.7439 | Q26: 1540.1026 | R26: 1651.7135 | S26: 2351.464 | T26: 2163.6416 | U26: =SUM(O26:T26) -> 21118.512
A27: 17 | D27: 6. | E27: Meningitis | G27: =N27+U27 -> 278812.26 | H27: 40777.624 | I27: 27615.278 | J27: 27625.835 | K27: 21092.205 | L27: 19044.837 | M27: 11199.904 | N27: =SUM(H27:M27) -> 147355.68 | O27: 42000.152 | P27: 24082.913 | Q27: 21726.367 | R27: 14130.783 | S27: 14733.421 | T27: 14782.944 | U27: =SUM(O27:T27) -> 131456.58
A28: 18 | D28: 7. | E28: Encephalitis | G28: =N28+U28 -> 104482.44 | H28: 8229.2436 | I28: 5329.9297 | J28: 4724.0354 | K28: 5810.9892 | L28: 9950.8622 | M28: 15217.276 | N28: =SUM(H28:M28) -> 49262.336 | O28: 8251.5908 | P28: 5380.2508 | Q28: 4656.5101 | R28: 4622.4542 | S28: 10146.508 | T28: 22162.789 | U28: =SUM(O28:T28) -> 55220.103
A29: 19 | D29: 8. | E29: Acute hepatitis B | G29: =N29+U29 -> 110830.04 | H29: 1395.5923 | I29: 624.74456 | J29: 7082.5078 | K29: 17884.954 | L29: 21800.579 | M29: 11210.796 | N29: =SUM(H29:M29) -> 59999.174 | O29: 1217.0921 | P29: 651.08542 | Q29: 7217.3245 | R29: 12774.788 | S29: 16690.233 | T29: 12280.339 | U29: =SUM(O29:T29) -> 50830.862
A30: 20 | D30: 9. | E30: Acute hepatitis C | G30: =N30+U30 -> 2552.712 | H30: 0 | I30: 107.65983 | J30: 108.90118 | K30: 186.98454 | L30: 513.40188 | M30: 310.26121 | N30: =SUM(H30:M30) -> 1227.2086 | O30: 0 | P30: 112.88083 | Q30: 132.90274 | R30: 162.24883 | S30: 528.42464 | T30: 389.04628 | U30: =SUM(O30:T30) -> 1325.5033
A31: 21 | D31: 10. | E31: Parasitic and vector diseases | G31: =N31+U31 -> 573721.24 | H31: 149333.63 | I31: 37502.056 | J31: 25848.453 | K31: 25243.655 | L31: 29283.023 | M31: 20343.277 | N31: =SUM(H31:M31) -> 287554.09 | O31: 153128.76 | P31: 39616.911 | Q31: 22626.662 | R31: 19712.474 | S31: 27282.903 | T31: 23799.434 | U31: =SUM(O31:T31) -> 286167.15
A32: 22 | E32: a. | F32: Malaria | G32: =N32+U32 -> 446445.95 | H32: 142167.06 | I32: 29300.061 | J32: 15627.57 | K32: 13251.56 | L32: 11582.732 | M32: 7993.2158 | N32: =SUM(H32:M32) -> 219922.2 | O32: 146493.34 | P32: 32436.255 | Q32: 15246.868 | R32: 10452.883 | S32: 12002.415 | T32: 9891.9869 | U32: =SUM(O32:T32) -> 226523.75
A33: 23 | E33: b. | F33: Trypanosomiasis | G33: =N33+U33 -> 3077.2969 | H33: 29.470533 | I33: 429.41818 | J33: 518.98415 | K33: 341.61125 | L33: 144.67041 | M33: 39.683642 | N33: =SUM(H33:M33) -> 1503.8382 | O33: 33.56945 | P33: 472.30769 | Q33: 529.77205 | R33: 349.19538 | S33: 143.20632 | T33: 45.407864 | U33: =SUM(O33:T33) -> 1573.4588
A34: 24 | E34: c. | F34: Chagas disease | G34: =N34+U34 -> 7727.879 | H34: 0.80271708 | I34: 1.1753486 | J34: 29.688004 | K34: 464.9546 | L34: 1869.9525 | M34: 1950.5846 | N34: =SUM(H34:M34) -> 4317.1577 | O34: 0.85893153 | P34: 1.0575191 | Q34: 11.315638 | R34: 217.041 | S34: 1174.5546 | T34: 2005.8936 | U34: =SUM(O34:T34) -> 3410.7213
A35: 25 | E35: d. | F35: Schistosomiasis | G35: =N35+U35 -> 24072.074 | H35: 161.8018 | I35: 900.44137 | J35: 2019.8018 | K35: 3179.7425 | L35: 4234.2398 | M35: 2108.397 | N35: =SUM(H35:M35) -> 12604.424 | O35: 157.91322 | P35: 973.74185 | Q35: 1294.3794 | R35: 2384.1555 | S35: 4057.7975 | T35: 2599.6627 | U35: =SUM(O35:T35) -> 11467.65
A36: 26 | E36: e. | F36: Leishmaniasis | G36: =N36+U36 -> 14453.969 | H36: 1438.9319 | I36: 625.03469 | J36: 1315.8188 | K36: 1431.2796 | L36: 1569.5994 | M36: 1281.5263 | N36: =SUM(H36:M36) -> 7662.1907 | O36: 1392.2109 | P36: 607.9608 | Q36: 1160.3471 | R36: 1141.5205 | S36: 1329.78 | T36: 1159.9592 | U36: =SUM(O36:T36) -> 6791.7785
A37: 27 | E37: f. | F37: Lymphatic filariasis | G37: =N37+U37 -> 0.38413689 | H37: 0 | I37: 0 | J37: 0 | K37: 0 | L37: 0.38413689 | M37: 0 | N37: =SUM(H37:M37) -> 0.38413689 | O37: 0 | P37: 0 | Q37: 0 | R37: 0 | S37: 0 | T37: 0 | U37: =SUM(O37:T37) -> 0
A38: 28 | E38: g. | F38: Onchocerciasis | G38: =N38+U38 -> 1.4504721 | H38: 0 | I38: 0 | J38: 0.69783038 | K38: 0 | L38: 0 | M38: 0 | N38: =SUM(H38:M38) -> 0.69783038 | O38: 0 | P38: 0 | Q38: 0 | R38: 0 | S38: 0 | T38: 0.75264171 | U38: =SUM(O38:T38) -> 0.75264171
A39: 29 | E39: h. | F39: Leprosy | G39: =N39+U39 -> 13221.084 | H39: 0 | I39: 0 | J39: 159.51039 | K39: 920.9646 | L39: 3060.4035 | M39: 3020.3481 | N39: =SUM(H39:M39) -> 7161.2266 | O39: 0 | P39: 0 | Q39: 132.04103 | R39: 822.73681 | S39: 2713.7874 | T39: 2391.2926 | U39: =SUM(O39:T39) -> 6059.8578
A40: 30 | E40: i. | F40: Dengue | G40: =N40+U40 -> 40392.498 | H40: 3724.2845 | I40: 2312.7803 | J40: 3452.7332 | K40: 3411.3554 | L40: 4538.7008 | M40: 3491.3974 | N40: =SUM(H40:M40) -> 20931.252 | O40: 3375.3141 | P40: 2339.1998 | Q40: 2439.6754 | R40: 2096.3496 | S40: 4116.8028 | T40: 5093.9049 | U40: =SUM(O40:T40) -> 19461.247
A41: 31 | E41: j. | F41: Trachoma | G41: =N41+U41 -> 1.4091835 | H41: 0 | I41: 0 | J41: 0 | K41: 0 | L41: 0.37843159 | M41: 0.67071018 | N41: =SUM(H41:M41) -> 1.0491418 | O41: 0 | P41: 0 | Q41: 0 | R41: 0 | S41: 0 | T41: 0.36004171 | U41: =SUM(O41:T41) -> 0.36004171
A42: 32 | E42: k. | F42: Rabies | G42: =N42+U42 -> 24327.245 | H42: 1811.2799 | I42: 3933.1453 | J42: 2723.6484 | K42: 2242.1871 | L42: 2281.962 | M42: 457.45281 | N42: =SUM(H42:M42) -> 13449.675 | O42: 1675.5536 | P42: 2786.3885 | Q42: 1812.2633 | R42: 2248.5916 | S42: 1744.5594 | T42: 610.21344 | U42: =SUM(O42:T42) -> 10877.57
A43: 33 | D43: 11. | E43: Intestinal nematode infections | G43: =N43+U43 -> 6250.325 | H43: 1754.5097 | I43: 545.76087 | J43: 66.151085 | K43: 61.556368 | L43: 109.16346 | M43: 157.40743 | N43: =SUM(H43:M43) -> 2694.5489 | O43: 2423.0065 | P43: 745.97896 | Q43: 68.374141 | R43: 59.050916 | S43: 121.19348 | T43: 138.17206 | U43: =SUM(O43:T43) -> 3555.7761
A44: 34 | E44: a. | F44: Ascariasis | G44: =N44+U44 -> 6248.2824 | H44: 1754.5097 | I44: 545.76087 | J44: 65.698683 | K44: 61.556368 | L44: 108.79225 | M44: 157.40743 | N44: =SUM(H44:M44) -> 2693.7253 | O44: 2423.0065 | P44: 745.97896 | Q44: 67.925763 | R44: 58.692172 | S44: 121.19348 | T44: 137.76021 | U44: =SUM(O44:T44) -> 3554.5571
A45: 35 | E45: b. | F45: Trichuriasis | G45: =N45+U45 -> 0.80712211 | H45: 0 | I45: 0 | J45: 0 | K45: 0 | L45: 0 | M45: 0 | N45: =SUM(H45:M45) -> 0 | O45: 0 | P45: 0 | Q45: 0.44837797 | R45: 0.35874414 | S45: 0 | T45: 0 | U45: =SUM(O45:T45) -> 0.80712211
A46: 36 | E46: c. | F46: Hookworm disease | G46: =N46+U46 -> 1.23546 | H46: 0 | I46: 0 | J46: 0.45240217 | K46: 0 | L46: 0.37121066 | M46: 0 | N46: =SUM(H46:M46) -> 0.82361284 | O46: 0 | P46: 0 | Q46: 0 | R46: 0 | S46: 0 | T46: 0.4118472 | U46: =SUM(O46:T46) -> 0.4118472
A47: 37 | D47: 12. | E47: Other infectious diseases | G47: =N47+U47 -> 468612.44 | H47: 51276.778 | I47: 37361.182 | J47: 27760.068 | K47: 21574.178 | L47: 38615.003 | M47: 65025.656 | N47: =SUM(H47:M47) -> 241612.86 | O47: 36204.927 | P47: 37783.458 | Q47: 25446.212 | R47: 18110.996 | S47: 31845.352 | T47: 77608.627 | U47: =SUM(O47:T47) -> 226999.57
A48: 38 | C48: B. | D48: Respiratory infections | G48: =N48+U48 -> 2964480.5 | H48: 449684.85 | I48: 40318.885 | J48: 42312.751 | K48: 82877.369 | L48: 241232.05 | M48: 645526.36 | N48: =SUM(H48:M48) -> 1501952.3 | O48: 429291.15 | P48: 43508.769 | Q48: 34366.978 | R48: 51397.701 | S48: 178996.78 | T48: 724966.9 | U48: =SUM(O48:T48) -> 1462528.3
A49: 39 | D49: 1. | E49: Lower respiratory infections | G49: =N49+U49 -> 2957135.9 | H49: 448843.45 | I49: 40117.112 | J49: 42105.094 | K49: 82536.919 | L49: 240637.89 | M49: 644057.26 | N49: =SUM(H49:M49) -> 1498297.7 | O49: 428495.72 | P49: 43358.893 | Q49: 34210.064 | R49: 51172.217 | S49: 178548.14 | T49: 723053.14 | U49: =SUM(O49:T49) -> 1458838.2
A50: 40 | D50: 2. | E50: Upper respiratory infections | G50: =N50+U50 -> 5899.3995 | H50: 699.08311 | I50: 75.083686 | J50: 163.65368 | K50: 249.77907 | L50: 438.48995 | M50: 1298.443 | N50: =SUM(H50:M50) -> 2924.5325 | O50: 664.76346 | P50: 62.03093 | Q50: 103.20995 | R50: 156.84277 | S50: 289.17194 | T50: 1698.848 | U50: =SUM(O50:T50) -> 2974.867
A51: 41 | D51: 3. | E51: Otitis media | G51: =N51+U51 -> 1445.2338 | H51: 142.31277 | I51: 126.68816 | J51: 44.003422 | K51: 90.670704 | L51: 155.665 | M51: 170.65444 | N51: =SUM(H51:M51) -> 729.9945 | O51: 130.66178 | P51: 87.84633 | Q51: 53.703802 | R51: 68.640879 | S51: 159.47225 | T51: 214.91431 | U51: =SUM(O51:T51) -> 715.23934
A52: 42 | C52: C. | D52: Maternal conditions | G52: =N52+U52 -> 298189.97 | H52: 0 | I52: 0 | J52: 0 | K52: 0 | L52: 0 | M52: 0 | N52: =SUM(H52:M52) -> 0 | O52: 0 | P52: 0 | Q52: 152347.16 | R52: 145842.81 | S52: 0 | T52: 0 | U52: =SUM(O52:T52) -> 298189.97
A53: 49 | C53: D. | D53: Neonatal conditions | G53: =N53+U53 -> 2274798.3 | H53: 1247323.4 | I53: 138.00811 | J53: 73.919501 | K53: 44.440331 | L53: 37.244095 | M53: 25.826529 | N53: =SUM(H53:M53) -> 1247642.9 | O53: 1026963.6 | P53: 49.356795 | Q53: 46.970895 | R53: 36.050864 | S53: 26.448898 | T53: 32.998461 | U53: =SUM(O53:T53) -> 1027155.4
A54: 50 | D54: 1. | E54: Preterm birth complications | G54: =N54+U54 -> 1013330.4 | H54: 558272.24 | I54: 6.8117113 | J54: 3.1326078 | K54: 3.1647838 | L54: 0.36585525 | M54: 0 | N54: =SUM(H54:M54) -> 558285.71 | O54: 455027.36 | P54: 4.267704 | Q54: 7.0750449 | R54: 1.3862363 | S54: 2.1923517 | T54: 2.3613931 | U54: =SUM(O54:T54) -> 455044.65
A55: 51 | D55: 2. | E55: Birth asphyxia and birth trauma | G55: =N55+U55 -> 678638.3 | H55: 381751.49 | I55: 24.56193 | J55: 40.738838 | K55: 20.182835 | L55: 14.708625 | M55: 6.9166725 | N55: =SUM(H55:M55) -> 381858.6 | O55: 296703.65 | P55: 21.446679 | Q55: 23.252685 | R55: 16.487453 | S55: 8.3877724 | T55: 6.4812881 | U55: =SUM(O55:T55) -> 296779.7
A56: 52 | D56: 3. | E56: Neonatal sepsis and infections | G56: =N56+U56 -> 395583.02 | H56: 207617.44 | I56: 0 | J56: 0 | K56: 0 | L56: 0 | M56: 0 | N56: =SUM(H56:M56) -> 207617.44 | O56: 187965.58 | P56: 0 | Q56: 0 | R56: 0 | S56: 0 | T56: 0 | U56: =SUM(O56:T56) -> 187965.58
A57: 53 | D57: 4. | E57: Other neonatal conditions | G57: =N57+U57 -> 187246.6 | H57: 99682.238 | I57: 106.63447 | J57: 30.048054 | K57: 21.092712 | L57: 22.169614 | M57: 18.909856 | N57: =SUM(H57:M57) -> 99881.093 | O57: 87267.025 | P57: 23.642412 | Q57: 16.643165 | R57: 18.177176 | S57: 15.868774 | T57: 24.15578 | U57: =SUM(O57:T57) -> 87365.512
A58: 54 | C58: E. | D58: Nutritional deficiencies | G58: =N58+U58 -> 452657.07 | H58: 93218.607 | I58: 12400.364 | J58: 7918.2352 | K58: 11315.426 | L58: 28753.628 | M58: 61749.876 | N58: =SUM(H58:M58) -> 215356.14 | O58: 86097.342 | P58: 12085.775 | Q58: 9489.3519 | R58: 13016.756 | S58: 31871.885 | T58: 84739.825 | U58: =SUM(O58:T58) -> 237300.93
A59: 55 | D59: 1. | E59: Protein-energy malnutrition | G59: =N59+U59 -> 342319.58 | H59: 90567.051 | I59: 11372.248 | J59: 5237.4908 | K59: 6553.9585 | L59: 15314.881 | M59: 40819.341 | N59: =SUM(H59:M59) -> 169864.97 | O59: 82204.489 | P59: 10424.113 | Q59: 5298.4835 | R59: 5644.0789 | S59: 15760.589 | T59: 53122.86 | U59: =SUM(O59:T59) -> 172454.61
A60: 56 | D60: 2. | E60: Iodine deficiency | G60: =N60+U60 -> 2657.2301 | H60: 262.42225 | I60: 63.990468 | J60: 154.4034 | K60: 149.34018 | L60: 248.97122 | M60: 222.84501 | N60: =SUM(H60:M60) -> 1101.9725 | O60: 364.77694 | P60: 97.775693 | Q60: 147.80127 | R60: 190.61911 | S60: 347.8896 | T60: 406.39498 | U60: =SUM(O60:T60) -> 1555.2576
A61: 57 | D61: 3. | E61: Vitamin A deficiency | G61: =N61+U61 -> 8.4214639 | H61: 0 | I61: 0 | J61: 0 | K61: 0.37096879 | L61: 0.61842692 | M61: 3.4584464 | N61: =SUM(H61:M61) -> 4.4478421 | O61: 0 | P61: 0 | Q61: 0 | R61: 0.36175999 | S61: 1.7413145 | T61: 1.8705473 | U61: =SUM(O61:T61) -> 3.9736218
A62: 58 | D62: 4. | E62: Iron-deficiency anaemia | G62: =N62+U62 -> 23917.949 | H62: 140.80038 | I62: 201.39403 | J62: 572.68652 | K62: 848.80903 | L62: 2019.8735 | M62: 6364.5621 | N62: =SUM(H62:M62) -> 10148.126 | O62: 145.93042 | P62: 249.82159 | Q62: 586.42006 | R62: 876.95394 | S62: 1643.1684 | T62: 10267.529 | U62: =SUM(O62:T62) -> 13769.824
A63: 59 | D63: 5. | E63: Other nutritional deficiencies | G63: =N63+U63 -> 83753.887 | H63: 2248.3325 | I63: 762.73162 | J63: 1953.6544 | K63: 3762.9474 | L63: 11169.284 | M63: 14339.67 | N63: =SUM(H63:M63) -> 34236.62 | O63: 3382.145 | P63: 1314.0647 | Q63: 3456.6469 | R63: 6304.7422 | S63: 14118.497 | T63: 20941.171 | U63: =SUM(O63:T63) -> 49517.267
A64: 60 | B64: II. | C64: Noncommunicable diseases | G64: =N64+U64 -> 40507600 | H64: 374917.89 | I64: 110992.41 | J64: 417965.49 | K64: 1817837.5 | L64: 7210596.5 | M64: 11180717 | N64: =SUM(H64:M64) -> 21113027 | O64: 352340.94 | P64: 108770.08 | Q64: 317654.15 | R64: 1241547.5 | S64: 4972770 | T64: 12401490 | U64: =SUM(O64:T64) -> 19394572
A65: 61 | C65: A. | D65: Malignant neoplasms | G65: =N65+U65 -> 8966294.4 | H65: 25389.717 | I65: 28155.698 | J65: 83866.701 | K65: 453110.03 | L65: 2111358.9 | M65: 2412092.2 | N65: =SUM(H65:M65) -> 5113973.2 | O65: 18486.148 | P65: 20586.232 | Q65: 67969.213 | R65: 496506.2 | S65: 1475592.7 | T65: 1773180.7 | U65: =SUM(O65:T65) -> 3852321.2
A66: 62 | D66: 1. | E66: Mouth and oropharynx cancers | G66: =N66+U66 -> 332560.81 | H66: 343.35784 | I66: 428.70341 | J66: 4383.1668 | K66: 41476.251 | L66: 129500.26 | M66: 64607.766 | N66: =SUM(H66:M66) -> 240739.5 | O66: 221.4392 | P66: 360.67508 | Q66: 2120.8368 | R66: 15352.075 | S66: 41596.938 | T66: 32169.341 | U66: =SUM(O66:T66) -> 91821.305
A67: 63 | D67: 2. | E67: Oesophagus cancer | G67: =N67+U67 -> 429144.73 | H67: 48.603792 | I67: 24.260022 | J67: 967.75186 | K67: 20690.874 | L67: 153294.69 | M67: 133662.2 | N67: =SUM(H67:M67) -> 308688.38 | O67: 17.141946 | P67: 6.9304302 | Q67: 843.37245 | R67: 9156.8156 | S67: 45562.223 | T67: 64869.863 | U67: =SUM(O67:T67) -> 120456.35
A68: 64 | D68: 3. | E68: Stomach cancer | G68: =N68+U68 -> 760171.75 | H68: 346.7102 | I68: 209.91975 | J68: 2577.4276 | K68: 38375.797 | L68: 214302.57 | M68: 240095.7 | N68: =SUM(H68:M68) -> 495908.12 | O68: 193.00426 | P68: 143.30593 | Q68: 2168.5194 | R68: 24370.15 | S68: 89923.41 | T68: 147465.24 | U68: =SUM(O68:T68) -> 264263.63
A69: 65 | D69: 4. | E69: Colon and rectum cancers | G69: =N69+U69 -> 794495.33 | H69: 353.06567 | I69: 277.54993 | J69: 3932.2086 | K69: 34363.65 | L69: 163550.23 | M69: 229240.25 | N69: =SUM(H69:M69) -> 431716.96 | O69: 432.70414 | P69: 247.88339 | Q69: 3219.7675 | R69: 28641.882 | S69: 112167.15 | T69: 218068.98 | U69: =SUM(O69:T69) -> 362778.37
A70: 66 | D70: 5. | E70: Liver cancer | G70: =N70+U70 -> 829599.5 | H70: 0 | I70: 1393.3844 | J70: 8555.7084 | K70: 90750.687 | L70: 274208.63 | M70: 210797.04 | N70: =SUM(H70:M70) -> 585705.46 | O70: 0 | P70: 713.43875 | Q70: 2788.4999 | R70: 24700.163 | S70: 94026.197 | T70: 121665.74 | U70: =SUM(O70:T70) -> 243894.04
A71: 67 | D71: 6. | E71: Pancreas cancer | G71: =N71+U71 -> 371813.88 | H71: 33.431807 | I71: 32.186549 | J71: 527.23435 | K71: 11730.639 | L71: 87305.194 | M71: 95894.296 | N71: =SUM(H71:M71) -> 195522.98 | O71: 83.408735 | P71: 85.761345 | Q71: 420.51148 | R71: 7947.5202 | S71: 60280.861 | T71: 107472.83 | U71: =SUM(O71:T71) -> 176290.9
A72: 68 | D72: 7. | E72: Trachea, bronchus, lung cancers | G72: =N72+U72 -> 1707740 | H72: 474.29139 | I72: 245.25547 | J72: 2492.2639 | K72: 60939.02 | L72: 521828.36 | M72: 590752.68 | N72: =SUM(H72:M72) -> 1176731.9 | O72: 365.17711 | P72: 187.51411 | Q72: 1878.5801 | R72: 31376.274 | S72: 205013.27 | T72: 292187.3 | U72: =SUM(O72:T72) -> 531008.11
A73: 69 | D73: 8. | E73: Melanoma and other skin cancers | G73: =N73+U73 -> 113080.02 | H73: 79.005129 | I73: 68.209533 | J73: 922.83647 | K73: 5916.3021 | L73: 25123.394 | M73: 35383.017 | N73: =SUM(H73:M73) -> 67492.763 | O73: 81.017089 | P73: 71.769749 | Q73: 720.5232 | R73: 4457.3723 | S73: 13806.41 | T73: 26450.162 | U73: =SUM(O73:T73) -> 45587.254
A74: 70 | D74: 9. | E74: Breast cancer | G74: =N74+U74 -> 586012.34 | H74: 0 | I74: 0.51345938 | J74: 43.881472 | K74: 302.53096 | L74: 1453.0827 | M74: 1768.6063 | N74: =SUM(H74:M74) -> 3568.6149 | O74: 106.07202 | P74: 102.80461 | Q74: 7797.1701 | R74: 133093.93 | S74: 252019.82 | T74: 189323.94 | U74: =SUM(O74:T74) -> 582443.73
A75: 71 | D75: 10. | E75: Cervix uteri cancer | G75: =N75+U75 -> 283439.3 | H75: 0 | I75: 0 | J75: 0 | K75: 0 | L75: 0 | M75: 0 | N75: =SUM(H75:M75) -> 0 | O75: 86.691758 | P75: 69.930786 | Q75: 4221.1962 | R75: 72277.028 | S75: 136472.73 | T75: 70311.718 | U75: =SUM(O75:T75) -> 283439.3
A76: 72 | D76: 11. | E76: Corpus uteri cancer | G76: =N76+U76 -> 84161.463 | H76: 0 | I76: 0 | J76: 0 | K76: 0 | L76: 0 | M76: 0 | N76: =SUM(H76:M76) -> 0 | O76: 22.406236 | P76: 17.09452 | Q76: 724.96669 | R76: 11421.753 | S76: 38236.043 | T76: 33739.199 | U76: =SUM(O76:T76) -> 84161.463
A77: 73 | D77: 12. | E77: Ovary cancer | G77: =N77+U77 -> 164568.09 | H77: 0 | I77: 0 | J77: 0 | K77: 0 | L77: 0 | M77: 0 | N77: =SUM(H77:M77) -> 0 | O77: 500.82562 | P77: 362.62103 | Q77: 3191.6532 | R77: 26189.669 | S77: 77936.463 | T77: 56386.857 | U77: =SUM(O77:T77) -> 164568.09
... A81: 77 | D81: 16. | E81: Leukaemia | G81: =N81+U81 -> 292341.53 | H81: 7760.4948 | I81: 10148.68 | J81: 18014.28 | K81: 22877.279 | L81: 47912.83 | M81: 60837.281 | N81: =SUM(H81:M81) -> 167550.84 | O81: 4882.6828 | P81: 6391.2094 | Q81: 10875.48 | R81: 18413.005 | S81: 35178.235 | T81: 49050.072 | U81: =SUM(O81:T81) -> 124790.68
A82: 78 | E82: Other malignant neoplasms | G82: =N82+U82 -> 1315299.4 | H82: 12998.625 | I82: 11285.463 | J82: 31431.594 | K82: 94671.714 | L82: 308084.26 | M82: 280979.84 | N82: =SUM(H82:M82) -> 739451.5 | O82: 9683.5827 | P82: 9671.5261 | Q82: 21078.557 | R82: 72209.534 | S82: 211939.38 | T82: 251265.31 | U82: =SUM(O82:T82) -> 575847.88
A83: 79 | C83: B. | D83: Other neoplasms | G83: =N83+U83 -> 215193.58 | H83: 2240.2978 | I83: 1914.2645 | J83: 4857.7079 | K83: 10290.178 | L83: 36338.968 | M83: 57653.636 | N83: =SUM(H83:M83) -> 113295.05 | O83: 2142.2944 | P83: 1624.77 | Q83: 2545.6842 | R83: 11790.302 | S83: 27079.836 | T83: 56715.639 | U83: =SUM(O83:T83) -> 101898.53
A84: 80 | C84: C. | D84: Diabetes mellitus | G84: =N84+U84 -> 1598526 | H84: 781.81431 | I84: 1123.467 | J84: 8304.7103 | K84: 54112.611 | L84: 287032.85 | M84: 385501.65 | N84: =SUM(H84:M84) -> 736857.1 | O84: 763.67128 | P84: 1593.6561 | Q84: 8118.6918 | R84: 45588.347 | S84: 292365.01 | T84: 513239.49 | U84: =SUM(O84:T84) -> 861668.87
A85: 81 | C85: D. | D85: Endocrine, blood, immune disorders | G85: =N85+U85 -> 362048.62 | H85: 21069.549 | I85: 9911.7433 | J85: 15352.456 | K85: 18641.107 | L85: 36993.052 | M85: 56726.003 | N85: =SUM(H85:M85) -> 158693.91 | O85: 21156.998 | P85: 15498.703 | Q85: 28425.825 | R85: 19915.487 | S85: 35566.177 | T85: 82791.523 | U85: =SUM(O85:T85) -> 203354.71
A86: 82 | C86: E. | D86: Mental and behavioral disorders | G86: =N86+U86 -> 315397.21 | H86: 3.244338 | I86: 76.193256 | J86: 33429.374 | K86: 90551.082 | L86: 83454.022 | M86: 27530.146 | N86: =SUM(H86:M86) -> 235044.06 | O86: 6.753132 | P86: 156.10303 | Q86: 11192.237 | R86: 24204.994 | S86: 26393.627 | T86: 18399.438 | U86: =SUM(O86:T86) -> 80353.153
A87: 83 | D87: 1. | E87: Unipolar depressive disorders | G87: =N87+U87 -> 0 | H87: 0 | I87: 0 | J87: 0 | K87: 0 | L87: 0 | M87: 0 | N87: =SUM(H87:M87) -> 0 | O87: 0 | P87: 0 | Q87: 0 | R87: 0 | S87: 0 | T87: 0 | U87: =SUM(O87:T87) -> 0
A88: 84 | D88: 2. | E88: Bipolar disorder | G88: =N88+U88 -> 785.24821 | H88: 0 | I88: 0 | J88: 4.6290216 | K88: 30.187478 | L88: 117.42172 | M88: 142.8288 | N88: =SUM(H88:M88) -> 295.06702 | O88: 0 | P88: 0 | Q88: 4.2341054 | R88: 38.80274 | S88: 127.74893 | T88: 319.39542 | U88: =SUM(O88:T88) -> 490.18119
A89: 85 | D89: 3. | E89: Schizophrenia | G89: =N89+U89 -> 5197.9722 | H89: 0 | I89: 4.194084 | J89: 82.31327 | K89: 476.00479 | L89: 1067.0651 | M89: 893.05211 | N89: =SUM(H89:M89) -> 2522.6294 | O89: 0 | P89: 3.4577215 | Q89: 34.328685 | R89: 225.22974 | S89: 716.55528 | T89: 1695.7714 | U89: =SUM(O89:T89) -> 2675.3428
A90: 86 | D90: 4. | E90: Alcohol use disorders | G90: =N90+U90 -> 145565.28 | H90: 0 | I90: 0 | J90: 7414.4792 | K90: 45489.666 | L90: 55625.136 | M90: 13028.011 | N90: =SUM(H90:M90) -> 121557.29 | O90: 0 | P90: 0 | Q90: 1300.7805 | R90: 7138.8 | S90: 10792.515 | T90: 4775.8976 | U90: =SUM(O90:T90) -> 24007.993
A91: 87 | D91: 5. | E91: Drug use disorders | G91: =N91+U91 -> 160234.89 | H91: 3.244338 | I91: 0 | J91: 25719.731 | K91: 44109.399 | L91: 26239.109 | M91: 13202.94 | N91: =SUM(H91:M91) -> 109274.42 | O91: 6.753132 | P91: 0 | Q91: 9160.1305 | R91: 16005.12 | S91: 14463.966 | T91: 11324.493 | U91: =SUM(O91:T91) -> 50960.463
A92: 88 | D92: 6. | E92: Anxiety disorders | G92: =N92+U92 -> 0 | H92: 0 | I92: 0 | J92: 0 | K92: 0 | L92: 0 | M92: 0 | N92: =SUM(H92:M92) -> 0 | O92: 0 | P92: 0 | Q92: 0 | R92: 0 | S92: 0 | T92: 0 | U92: =SUM(O92:T92) -> 0
A93: 89 | D93: 7. | E93: Eating disorders | G93: =N93+U93 -> 1845.1708 | H93: 0 | I93: 47.829495 | J93: 110.9639 | K93: 252.22611 | L93: 0 | M93: 0 | N93: =SUM(H93:M93) -> 411.01951 | O93: 0 | P93: 137.15143 | Q93: 636.002 | R93: 660.99789 | S93: 0 | T93: 0 | U93: =SUM(O93:T93) -> 1434.1513
A94: 90 | D94: 8. | E94: Pervasive developmental disorders | G94: =N94+U94 -> 0 | H94: 0 | I94: 0 | J94: 0 | K94: 0 | L94: 0 | M94: 0 | N94: =SUM(H94:M94) -> 0 | O94: 0 | P94: 0 | Q94: 0 | R94: 0 | S94: 0 | T94: 0 | U94: =SUM(O94:T94) -> 0
A95: 91 | D95: 9. | E95: Childhood behavioural disorders | G95: =N95+U95 -> 0 | H95: 0 | I95: 0 | J95: 0 | K95: 0 | L95: 0 | M95: 0 | N95: =SUM(H95:M95) -> 0 | O95: 0 | P95: 0 | Q95: 0 | R95: 0 | S95: 0 | T95: 0 | U95: =SUM(O95:T95) -> 0
A96: 92 | D96: 10. | E96: Idiopathic intellectual disability | G96: =N96+U96 -> 1768.6533 | H96: 0 | I96: 24.169678 | J96: 97.258147 | K96: 193.59981 | L96: 405.29007 | M96: 263.31337 | N96: =SUM(H96:M96) -> 983.63108 | O96: 0 | P96: 15.493876 | Q96: 56.761461 | R96: 136.04322 | S96: 292.84285 | T96: 283.88078 | U96: =SUM(O96:T96) -> 785.02219
A97: 93 | D97: 11. | E97: Other mental and behavioural disorders | G97: =N97+U97 -> 0 | H97: 0 | I97: 0 | J97: 0 | K97: 0 | L97: 0 | M97: 0 | N97: =SUM(H97:M97) -> 0 | O97: 0 | P97: 0 | Q97: 0 | R97: 0 | S97: 0 | T97: 0 | U97: =SUM(O97:T97) -> 0
A98: 94 | C98: F. | D98: Neurological conditions | G98: =N98+U98 -> 2538459.8 | H98: 8054.0434 | I98: 11648.081 | J98: 33420.342 | K98: 39492.319 | L98: 123177.53 | M98: 776369.37 | N98: =SUM(H98:M98) -> 992161.68 | O98: 8760.0605 | P98: 10043.328 | Q98: 21338.061 | R98: 28012.849 | S98: 132113.53 | T98: 1346030.3 | U98: =SUM(O98:T98) -> 1546298.1
A99: 95 | D99: 1. | E99: Alzheimer's disease and other dementias | G99: =N99+U99 -> 1991708.2 | H99: 0 | I99: 51.815065 | J99: 103.06334 | K99: 1294.3991 | L99: 61943.319 | M99: 632745.25 | N99: =SUM(H99:M99) -> 696137.84 | O99: 0 | P99: 36.846077 | Q99: 55.694121 | R99: 1388.9244 | S99: 82335.456 | T99: 1211753.5 | U99: =SUM(O99:T99) -> 1295570.4
A100: 96 | D100: 2. | E100: Parkinson's disease | G100: =N100+U100 -> 213652.12 | H100: 0 | I100: 0.33121455 | J100: 40.790827 | K100: 993.92449 | L100: 13059.8 | M100: 102376.37 | N100: =SUM(H100:M100) -> 116471.22 | O100: 0 | P100: 1.0406804 | Q100: 30.995204 | R100: 798.45251 | S100: 9708.4422 | T100: 86641.967 | U100: =SUM(O100:T100) -> 97180.898
A101: 97 | D101: 3. | E101: Epilepsy | G101: =N101+U101 -> 137203.24 | H101: 5349.2095 | I101: 6247.4716 | J101: 20621.589 | K101: 19962.696 | L101: 14567.573 | M101: 10340.834 | N101: =SUM(H101:M101) -> 77089.373 | O101: 5924.9286 | P101: 5422.4633 | Q101: 12751.955 | R101: 11704.08 | S101: 11098.989 | T101: 13211.448 | U101: =SUM(O101:T101) -> 60113.864
A102: 98 | D102: 4. | E102: Multiple sclerosis | G102: =N102+U102 -> 24065.094 | H102: 0 | I102: 1.4718807 | J102: 299.74693 | K102: 2788.2549 | L102: 4273.9522 | M102: 1958.3413 | N102: =SUM(H102:M102) -> 9321.7672 | O102: 0 | P102: 1.4170701 | Q102: 750.30629 | R102: 3920.4651 | S102: 6235.6354 | T102: 3835.5027 | U102: =SUM(O102:T102) -> 14743.327
A103: 99 | D103: 5. | E103: Migraine | G103: =N103+U103 -> 21.669257 | H103: 0 | I103: 0 | J103: 0.67526013 | K103: 1.8886125 | L103: 2.1993069 | M103: 2.188931 | N103: =SUM(H103:M103) -> 6.9521106 | O103: 0 | P103: 0.52160144 | Q103: 2.8395859 | R103: 3.1789149 | S103: 4.8313109 | T103: 3.345733 | U103: =SUM(O103:T103) -> 14.717146
A104: 100 | D104: 6. | E104: Non-migraine headache | G104: =N104+U104 -> 0 | H104: 0 | I104: 0 | J104: 0 | K104: 0 | L104: 0 | M104: 0 | N104: =SUM(H104:M104) -> 0 | O104: 0 | P104: 0 | Q104: 0 | R104: 0 | S104: 0 | T104: 0 | U104: =SUM(O104:T104) -> 0
A105: 101 | D105: 7. | E105: Other neurological conditions | G105: =N105+U105 -> 171809.43 | H105: 2704.8339 | I105: 5346.991 | J105: 12354.476 | K105: 14451.156 | L105: 29330.687 | M105: 28946.368 | N105: =SUM(H105:M105) -> 93134.512 | O105: 2835.1318 | P105: 4581.0391 | Q105: 7746.2712 | R105: 10197.749 | S105: 22730.178 | T105: 30584.551 | U105: =SUM(O105:T105) -> 78674.921
...

Sheet World2030
A1: Global Health Estimates (GHE) 2016: Deaths by age, sex and cause
A2: Region: | C2: World
A3: Year: | C3: 2030
F5: Sex | G5: Both sexes | H5: Male | O5: Female
F6: Age group | G6: Total | H6: 0-4 years | I6: 5-14 years | J6: 15-29 years | K6: 30-49 years | L6: 50-69 years | M6: 70+ years | N6: Total | O6: 0-4 years | P6: 5-14 years | Q6: 15-29 years | R6: 30-49 years | S6: 50-69 years | T6: 70+ years | U6: Total
A7: Population (thousands) | G7: =N7+U7 -> 8545864.6 | H7: 349707.1 | I7: 693099.16 | J7: 980090.31 | K7: 1169026.5 | L7: 824628.14 | M7: 290059.24 | N7: =SUM(H7:M7) -> 4306610.4 | O7: 329898.81 | P7: 651418.98 | Q7: 917444.03 | R7: 1125590 | S7: 849352.86 | T7: 365549.55 | U7: =SUM(O7:T7) -> 4239254.2
A9: GHE code | C9: GHE cause category
A10: 0 | C10: All Causes | G10: =N10+U10 -> 68119453 | H10: 2076370.8 | I10: 477499.58 | J10: 1535985.6 | K10: 3530352.8 | L10: 9962805 | M10: 18401443 | N10: =SUM(H10:M10) -> 35984457 | O10: 1850275.5 | P10: 415670.75 | Q10: 952955.91 | R10: 2166636 | S10: 7036229.8 | T10: 19713228 | U10: =SUM(O10:T10) -> 32134996
A11: 1 | B11: I. | C11: Communicable, maternal, perinatal and nutritional conditions | G11: =N11+U11 -> 10094844 | H11: 1510171.7 | I11: 177614.53 | J11: 299032.11 | K11: 684197.08 | L11: 893354.89 | M11: 1662881.2 | N11: =SUM(H11:M11) -> 5227251.5 | O11: 1335785.3 | P11: 183958.15 | Q11: 361554.98 | R11: 534840.87 | S11: 647899.6 | T11: 1803553.6 | U11: =SUM(O11:T11) -> 4867592.4
A12: 2 | C12: A. | D12: Infectious and parasitic diseases | G12: =N12+U12 -> 4578777.5 | H12: 310602.69 | I12: 137021.01 | J12: 248689.02 | K12: 584159.39 | L12: 581965.45 | M12: 632451.5 | N12: =SUM(H12:M12) -> 2494889.1 | O12: 303358.87 | P12: 140938.12 | Q12: 205574.76 | R12: 353767.95 | S12: 400596.8 | T12: 679651.92 | U12: =SUM(O12:T12) -> 2083888.4
A13: 3 | D13: 1. | E13: Tuberculosis | G13: =N13+U13 -> 1137041.5 | H13: 10174.983 | I13: 5853.9923 | J13: 69647.125 | K13: 175231.18 | L13: 248036.28 | M13: 211717.99 | N13: =SUM(H13:M13) -> 720661.56 | O13: 10627.145 | P13: 7662.1212 | Q13: 46659.239 | R13: 82231.698 | S13: 122421.05 | T13: 146778.71 | U13: =SUM(O13:T13) -> 416379.96
A14: 4 | D14: 2. | E14: STDs excluding HIV | G14: =N14+U14 -> 68622.331 | H14: 22436.08 | I14: 3553.6704 | J14: 219.36546 | K14: 428.68228 | L14: 474.38065 | M14: 358.0481 | N14: =SUM(H14:M14) -> 27470.227 | O14: 26400.552 | P14: 6772.1835 | Q14: 2204.0496 | R14: 1992.9318 | S14: 1848.8013 | T14: 1933.585 | U14: =SUM(O14:T14) -> 41152.103
A15: 5 | E15: a. | F15: Syphilis | G15: =N15+U15 -> 62193.551 | H15: 22436.08 | I15: 3547.8444 | J15: 185.63937 | K15: 376.62802 | L15: 443.21121 | M15: 322.534 | N15: =SUM(H15:M15) -> 27311.937 | O15: 26400.552 | P15: 6735.6325 | Q15: 546.7401 | R15: 278.55248 | S15: 427.25469 | T15: 492.88225 | U15: =SUM(O15:T15) -> 34881.614
A16: 6 | E16: b. | F16: Chlamydia | G16: =N16+U16 -> 1243.3476 | H16: 0 | I16: 0 | J16: 0 | K16: 0 | L16: 0 | M16: 0 | N16: =SUM(H16:M16) -> 0 | O16: 0 | P16: 10.208599 | Q16: 381.86777 | R16: 305.67671 | S16: 255.73525 | T16: 289.85925 | U16: =SUM(O16:T16) -> 1243.3476
A17: 7 | E17: c. | F17: Gonorrhoea | G17: =N17+U17 -> 3531.0496 | H17: 0 | I17: 3.8183624 | J17: 25.11971 | K17: 33.292409 | L17: 15.364374 | M17: 21.317448 | N17: =SUM(H17:M17) -> 98.912303 | O17: 0 | P17: 17.92079 | Q17: 811.20563 | R17: 905.94156 | S17: 800.14614 | T17: 896.92318 | U17: =SUM(O17:T17) -> 3432.1373
A18: 8 | E18: d. | F18: Trichomoniasis | G18: =N18+U18 -> 0 | H18: 0 | I18: 0 | J18: 0 | K18: 0 | L18: 0 | M18: 0 | N18: =SUM(H18:M18) -> 0 | O18: 0 | P18: 0 | Q18: 0 | R18: 0 | S18: 0 | T18: 0 | U18: =SUM(O18:T18) -> 0
A19: 9 | E19: e. | F19: Other STDs | G19: =N19+U19 -> 1654.3819 | H19: 0 | I19: 2.0076625 | J19: 8.6063779 | K19: 18.76185 | L19: 15.80507 | M19: 14.196656 | N19: =SUM(H19:M19) -> 59.377617 | O19: 0 | P19: 8.4215455 | Q19: 464.2361 | R19: 502.76105 | S19: 365.66527 | T19: 253.92035 | U19: =SUM(O19:T19) -> 1595.0043
A20: 10 | D20: 3. | E20: HIV/AIDS | G20: =N20+U20 -> 741299.49 | H20: 17184.5 | I20: 13988.886 | J20: 53561.514 | K20: 262515.11 | L20: 95138.183 | M20: 9221.2365 | N20: =SUM(H20:M20) -> 451609.42 | O20: 16550.923 | P20: 12827.549 | Q20: 45884.342 | R20: 159866.47 | S20: 49816.318 | T20: 4744.4624 | U20: =SUM(O20:T20) -> 289690.07
A21: 11 | D21: 4. | E21: Diarrhoeal diseases | G21: =N21+U21 -> 1236180.6 | H21: 112605.12 | I21: 28366.843 | J21: 38781.618 | K21: 57354.729 | L21: 114274.42 | M21: 228867.04 | N21: =SUM(H21:M21) -> 580249.77 | O21: 107841.71 | P21: 28085.898 | Q21: 38347.172 | R21: 44405.017 | S21: 121294.42 | T21: 315956.6 | U21: =SUM(O21:T21) -> 655930.82
A22: 12 | D22: 5. | E22: Childhood-cluster diseases | G22: =N22+U22 -> 83373.713 | H22: 23847.907 | I22: 6474.8587 | J22: 3204.4985 | K22: 3360.4915 | L22: 3850.5935 | M22: 2806.6102 | N22: =SUM(H22:M22) -> 43544.959 | O22: 22270.913 | P22: 8410.3364 | Q22: 2410.4422 | R22: 1822.9514 | S22: 2428.7276 | T22: 2485.3832 | U22: =SUM(O22:T22) -> 39828.754
A23: 13 | E23: a. | F23: Whooping cough | G23: =N23+U23 -> 6837.2248 | H23: 184.5993 | I23: 2167.1848 | J23: 305.454 | K23: 128.004 | L23: 74.371626 | M23: 5.4576076 | N23: =SUM(H23:M23) -> 2865.0713 | O23: 158.5564 | P23: 3245.1827 | Q23: 400.97717 | R23: 120.0489 | S23: 40.225697 | T23: 7.1626259 | U23: =SUM(O23:T23) -> 3972.1535
A24: 14 | E24: b. | F24: Diphtheria | G24: =N24+U24 -> 879.72882 | H24: 249.0291 | I24: 88.199136 | J24: 42.147097 | K24: 42.644303 | L24: 31.845055 | M24: 1.7061275 | N24: =SUM(H24:M24) -> 455.57081 | O24: 253.7722 | P24: 89.50318 | Q24: 31.238145 | R24: 30.675595 | S24: 17.760301 | T24: 1.2085828 | U24: =SUM(O24:T24) -> 424.158
A25: 15 | E25: c. | F25: Measles | G25: =N25+U25 -> 44533.384 | H25: 15694.087 | I25: 3371.9372 | J25: 560.08253 | K25: 112.83733 | L25: 540.86347 | M25: 1316.4073 | N25: =SUM(H25:M25) -> 21596.215 | O25: 17061.584 | P25: 4393.2414 | Q25: 896.96755 | R25: 196.8093 | S25: 334.15873 | T25: 54.407826 | U25: =SUM(O25:T25) -> 22937.169
A26: 16 | E26: d. | F26: Tetanus | G26: =N26+U26 -> 31123.375 | H26: 7720.1912 | I26: 847.53756 | J26: 2296.8149 | K26: 3077.0059 | L26: 3203.5133 | M26: 1483.0392 | N26: =SUM(H26:M26) -> 18628.102 | O26: 4797.0001 | P26: 682.40912 | Q26: 1081.2594 | R26: 1475.4176 | S26: 2036.5829 | T26: 2422.6042 | U26: =SUM(O26:T26) -> 12495.273
A27: 17 | D27: 6. | E27: Meningitis | G27: =N27+U27 -> 232914.31 | H27: 17998.665 | I27: 20149.398 | J27: 27712.459 | K27: 22906.46 | L27: 22052.675 | M27: 15759.494 | N27: =SUM(H27:M27) -> 126579.15 | O27: 19412.548 | P27: 16888.521 | Q27: 19870.091 | R27: 14571.274 | S27: 15838.147 | T27: 19754.573 | U27: =SUM(O27:T27) -> 106335.16
A28: 18 | D28: 7. | E28: Encephalitis | G28: =N28+U28 -> 105347.75 | H28: 3361.6607 | I28: 3150.9225 | J28: 3416.6696 | K28: 4729.9773 | L28: 9781.1517 | M28: 24141.74 | N28: =SUM(H28:M28) -> 48582.121 | O28: 3510.7878 | P28: 3102.812 | Q28: 3262.9403 | R28: 3794.0525 | S28: 10597.857 | T28: 32497.175 | U28: =SUM(O28:T28) -> 56765.625
A29: 19 | D29: 8. | E29: Acute hepatitis B | G29: =N29+U29 -> 114083.23 | H29: 708.76953 | I29: 384.61941 | J29: 5496.0253 | K29: 15382.119 | L29: 22366.774 | M29: 16102.785 | N29: =SUM(H29:M29) -> 60441.092 | O29: 608.97728 | P29: 374.06065 | Q29: 5765.9 | R29: 11432.369 | S29: 17908.564 | T29: 17552.272 | U29: =SUM(O29:T29) -> 53642.142
A30: 20 | D30: 9. | E30: Acute hepatitis C | G30: =N30+U30 -> 2719.8101 | H30: 0 | I30: 70.336475 | J30: 85.0581 | K30: 165.90527 | L30: 527.67637 | M30: 426.16926 | N30: =SUM(H30:M30) -> 1275.1455 | O30: 0 | P30: 69.993819 | Q30: 107.24121 | R30: 149.98245 | S30: 574.63892 | T30: 542.80818 | U30: =SUM(O30:T30) -> 1444.6646
A31: 21 | D31: 10. | E31: Parasitic and vector diseases | G31: =N31+U31 -> 405749.09 | H31: 71818.879 | I31: 29859.31 | J31: 23332.463 | K31: 23471.547 | L31: 29062.838 | M31: 25515.39 | N31: =SUM(H31:M31) -> 203060.43 | O31: 74732.802 | P31: 31637.509 | Q31: 20320.004 | R31: 18337.587 | S31: 27435.519 | T31: 30225.246 | U31: =SUM(O31:T31) -> 202688.67
A32: 22 | E32: a. | F32: Malaria | G32: =N32+U32 -> 293070.38 | H32: 68032.71 | I32: 25237.193 | J32: 16020.387 | K32: 13683.874 | L32: 12604.031 | M32: 9226.5746 | N32: =SUM(H32:M32) -> 144804.77 | O32: 70958.396 | P32: 27474.991 | Q32: 14893.936 | R32: 10694.962 | S32: 12886.765 | T32: 11356.559 | U32: =SUM(O32:T32) -> 148265.61
A33: 23 | E33: b. | F33: Trypanosomiasis | G33: =N33+U33 -> 2363.0956 | H33: 14.881011 | I33: 275.30034 | J33: 419.99211 | K33: 274.54534 | L33: 122.18611 | M33: 40.892612 | N33: =SUM(H33:M33) -> 1147.7975 | O33: 18.350432 | P33: 306.13741 | Q33: 440.77675 | R33: 292.40892 | S33: 114.12723 | T33: 43.497326 | U33: =SUM(O33:T33) -> 1215.2981
A34: 24 | E34: c. | F34: Chagas disease | G34: =N34+U34 -> 8645.6332 | H34: 0.25039885 | I34: 0.54105812 | J34: 10.252013 | K34: 298.89037 | L34: 1535.7752 | M34: 2714.4491 | N34: =SUM(H34:M34) -> 4560.1581 | O34: 0.2791428 | P34: 0.42073723 | Q34: 5.1838194 | R34: 127.19288 | S34: 980.61038 | T34: 2971.7881 | U34: =SUM(O34:T34) -> 4085.4751
A35: 25 | E35: d. | F35: Schistosomiasis | G35: =N35+U35 -> 18585.463 | H35: 87.604458 | I35: 495.37027 | J35: 1419.681 | K35: 2328.8929 | L35: 3308.5446 | M35: 1991.1309 | N35: =SUM(H35:M35) -> 9631.2241 | O35: 88.02117 | P35: 543.07313 | Q35: 917.51428 | R35: 1778.1108 | S35: 3177.0701 | T35: 2450.4494 | U35: =SUM(O35:T35) -> 8954.2389
A36: 26 | E36: e. | F36: Leishmaniasis | G36: =N36+U36 -> 12934.417 | H36: 726.28995 | I36: 350.45155 | J36: 1036.4081 | K36: 1320.9329 | L36: 1666.6391 | M36: 1687.1436 | N36: =SUM(H36:M36) -> 6787.8651 | O36: 870.62492 | P36: 340.62898 | Q36: 872.9116 | R36: 1142.0523 | S36: 1402.3362 | T36: 1517.9975 | U36: =SUM(O36:T36) -> 6146.5514
A37: 27 | E37: f. | F37: Lymphatic filariasis | G37: =N37+U37 -> 0.33724138 | H37: 0 | I37: 0 | J37: 0 | K37: 0 | L37: 0.33724138 | M37: 0 | N37: =SUM(H37:M37) -> 0.33724138 | O37: 0 | P37: 0 | Q37: 0 | R37: 0 | S37: 0 | T37: 0 | U37: =SUM(O37:T37) -> 0
A38: 28 | E38: g. | F38: Onchocerciasis | G38: =N38+U38 -> 1.0513241 | H38: 0 | I38: 0 | J38: 0.40807012 | K38: 0 | L38: 0 | M38: 0 | N38: =SUM(H38:M38) -> 0.40807012 | O38: 0 | P38: 0 | Q38: 0 | R38: 0 | S38: 0 | T38: 0.64325398 | U38: =SUM(O38:T38) -> 0.64325398
A39: 29 | E39: h. | F39: Leprosy | G39: =N39+U39 -> 12517.026 | H39: 0 | I39: 0 | J39: 101.07695 | K39: 713.37191 | L39: 2565.7644 | M39: 3309.5226 | N39: =SUM(H39:M39) -> 6689.7359 | O39: 0 | P39: 0 | Q39: 84.671491 | R39: 631.10786 | S39: 2424.8845 | T39: 2686.626 | U39: =SUM(O39:T39) -> 5827.2898
A40: 30 | E40: i. | F40: Dengue | G40: =N40+U40 -> 41807.633 | H40: 1933.3697 | I40: 1432.9518 | J40: 2581.9299 | K40: 3269.5778 | L40: 5661.9274 | M40: 6116.0921 | N40: =SUM(H40:M40) -> 20995.849 | O40: 1812.7835 | P40: 1438.8306 | Q40: 1832.816 | R40: 2005.2071 | S40: 5128.5437 | T40: 8593.6035 | U40: =SUM(O40:T40) -> 20811.784
A41: 31 | E41: j. | F41: Trachoma | G41: =N41+U41 -> 1.1613339 | H41: 0 | I41: 0 | J41: 0 | K41: 0 | L41: 0.18636723 | M41: 0.64243406 | N41: =SUM(H41:M41) -> 0.82880129 | O41: 0 | P41: 0 | Q41: 0 | R41: 0 | S41: 0 | T41: 0.33253258 | U41: =SUM(O41:T41) -> 0.33253258
A42: 32 | E42: k. | F42: Rabies | G42: =N42+U42 -> 15822.9 | H42: 1023.7737 | I42: 2067.5016 | J42: 1742.3281 | K42: 1581.4623 | L42: 1597.4459 | M42: 428.94252 | N42: =SUM(H42:M42) -> 8441.454 | O42: 984.34792 | P42: 1533.4262 | Q42: 1272.1935 | R42: 1666.5459 | S42: 1321.1818 | T42: 603.75048 | U42: =SUM(O42:T42) -> 7381.4458
A43: 33 | D43: 11. | E43: Intestinal nematode infections | G43: =N43+U43 -> 4072.8643 | H43: 994.71484 | I43: 364.24821 | J43: 54.66653 | K43: 55.258124 | L43: 102.62101 | M43: 201.57239 | N43: =SUM(H43:M43) -> 1773.0811 | O43: 1397.7747 | P43: 497.26183 | Q43: 57.5276 | R43: 54.207849 | S43: 116.83072 | T43: 176.18046 | U43: =SUM(O43:T43) -> 2299.7832
A44: 34 | E44: a. | F44: Ascariasis | G44: =N44+U44 -> 4071.197 | H44: 994.71484 | I44: 364.24821 | J44: 54.536594 | K44: 55.258124 | L44: 102.3542 | M44: 201.57239 | N44: =SUM(H44:M44) -> 1772.6844 | O44: 1397.7747 | P44: 497.26183 | Q44: 57.285278 | R44: 53.641754 | S44: 116.83072 | T44: 175.71837 | U44: =SUM(O44:T44) -> 2298.5127
A45: 35 | E45: b. | F45: Trichuriasis | G45: =N45+U45 -> 0.4984116 | H45: 0 | I45: 0 | J45: 0 | K45: 0 | L45: 0 | M45: 0 | N45: =SUM(H45:M45) -> 0 | O45: 0 | P45: 0 | Q45: 0.24232158 | R45: 0.25609002 | S45: 0 | T45: 0 | U45: =SUM(O45:T45) -> 0.4984116
A46: 36 | E46: c. | F46: Hookworm disease | G46: =N46+U46 -> 1.1688412 | H46: 0 | I46: 0 | J46: 0.12993622 | K46: 0 | L46: 0.26681113 | M46: 0 | N46: =SUM(H46:M46) -> 0.39674735 | O46: 0 | P46: 0 | Q46: 0 | R46: 0.31000552 | S46: 0 | T46: 0.46208829 | U46: =SUM(O46:T46) -> 0.7720938
A47: 37 | D47: 12. | E47: Other infectious diseases | G47: =N47+U47 -> 447372.78 | H47: 29471.404 | I47: 24803.923 | J47: 23177.564 | K47: 18557.94 | L47: 36297.854 | M47: 97333.431 | N47: =SUM(H47:M47) -> 229642.12 | O47: 20004.74 | P47: 24609.87 | Q47: 20685.817 | R47: 15109.404 | S47: 30315.92 | T47: 107004.91 | U47: =SUM(O47:T47) -> 217730.66
A48: 38 | C48: B. | D48: Respiratory infections | G48: =N48+U48 -> 3226344.8 | H48: 257168.32 | I48: 31235.271 | J48: 42290.675 | K48: 87886.878 | L48: 278563.23 | M48: 946084.1 | N48: =SUM(H48:M48) -> 1643228.5 | O48: 242030.06 | P48: 34286.273 | Q48: 33470.814 | R48: 54427.737 | S48: 209074.11 | T48: 1009827.3 | U48: =SUM(O48:T48) -> 1583116.3
A49: 39 | D49: 1. | E49: Lower respiratory infections | G49: =N49+U49 -> 3221258.3 | H49: 256655.01 | I49: 31094.439 | J49: 42132.051 | K49: 87614.153 | L49: 278096.24 | M49: 945092.33 | N49: =SUM(H49:M49) -> 1640684.2 | O49: 241550.99 | P49: 34191.429 | Q49: 33344.783 | R49: 54241.806 | S49: 208675.64 | T49: 1008569.4 | U49: =SUM(O49:T49) -> 1580574.1
A50: 40 | D50: 2. | E50: Upper respiratory infections | G50: =N50+U50 -> 3854.9523 | H50: 428.48395 | I50: 49.259582 | J50: 127.98874 | K50: 196.81296 | L50: 329.95607 | M50: 793.94408 | N50: =SUM(H50:M50) -> 1926.4454 | O50: 410.56564 | P50: 43.988257 | Q50: 88.239245 | R50: 133.5694 | S50: 244.31473 | T50: 1007.8297 | U50: =SUM(O50:T50) -> 1928.5069
A51: 41 | D51: 3. | E51: Otitis media | G51: =N51+U51 -> 1231.5766 | H51: 84.818912 | I51: 91.57117 | J51: 30.634199 | K51: 75.911855 | L51: 137.03248 | M51: 197.82884 | N51: =SUM(H51:M51) -> 617.79745 | O51: 68.497413 | P51: 50.854571 | Q51: 37.792178 | R51: 52.360552 | S51: 154.1526 | T51: 250.1218 | U51: =SUM(O51:T51) -> 613.77912
A52: 42 | C52: C. | D52: Maternal conditions | G52: =N52+U52 -> 226920.59 | H52: 0 | I52: 0 | J52: 0 | K52: 0 | L52: 0 | M52: 0 | N52: =SUM(H52:M52) -> 0 | O52: 0 | P52: 0 | Q52: 113820.06 | R52: 113100.53 | S52: 0 | T52: 0 | U52: =SUM(O52:T52) -> 226920.59
A53: 49 | C53: D. | D53: Neonatal conditions | G53: =N53+U53 -> 1624902.5 | H53: 886784.62 | I53: 70.68571 | J53: 34.629325 | K53: 23.207577 | L53: 20.609306 | M53: 24.823492 | N53: =SUM(H53:M53) -> 886958.57 | O53: 737829.66 | P53: 21.679286 | Q53: 23.046933 | R53: 19.290299 | S53: 22.039945 | T53: 28.213701 | U53: =SUM(O53:T53) -> 737943.93
A54: 50 | D54: 1. | E54: Preterm birth complications | G54: =N54+U54 -> 755752.81 | H54: 414545.24 | I54: 4.3107774 | J54: 3.2911242 | K54: 0.83814483 | L54: 0.11072055 | M54: 0 | N54: =SUM(H54:M54) -> 414553.79 | O54: 341189.12 | P54: 2.2446587 | Q54: 2.9263958 | R54: 1.0597651 | S54: 1.9069078 | T54: 1.7669167 | U54: =SUM(O54:T54) -> 341199.02
A55: 51 | D55: 2. | E55: Birth asphyxia and birth trauma | G55: =N55+U55 -> 479567.31 | H55: 269111.7 | I55: 13.721161 | J55: 17.949441 | K55: 11.023096 | L55: 6.552461 | M55: 6.0118883 | N55: =SUM(H55:M55) -> 269166.95 | O55: 210356.84 | P55: 9.057029 | Q55: 12.129863 | R55: 7.9947267 | S55: 8.0082839 | T55: 6.3344662 | U55: =SUM(O55:T55) -> 210400.36
A56: 52 | D56: 3. | E56: Neonatal sepsis and infections | G56: =N56+U56 -> 291997.09 | H56: 151984.59 | I56: 0 | J56: 0 | K56: 0 | L56: 0 | M56: 0 | N56: =SUM(H56:M56) -> 151984.59 | O56: 140012.5 | P56: 0 | Q56: 0 | R56: 0 | S56: 0 | T56: 0 | U56: =SUM(O56:T56) -> 140012.5
A57: 53 | D57: 4. | E57: Other neonatal conditions | G57: =N57+U57 -> 97585.296 | H57: 51143.095 | I57: 52.653771 | J57: 13.38876 | K57: 11.346336 | L57: 13.946124 | M57: 18.811603 | N57: =SUM(H57:M57) -> 51253.241 | O57: 46271.214 | P57: 10.377597 | Q57: 7.9906741 | R57: 10.235808 | S57: 12.124754 | T57: 20.112318 | U57: =SUM(O57:T57) -> 46332.055
A58: 54 | C58: E. | D58: Nutritional deficiencies | G58: =N58+U58 -> 437898.56 | H58: 55616.083 | I58: 9287.5672 | J58: 8017.7801 | K58: 12127.604 | L58: 32805.594 | M58: 84320.777 | N58: =SUM(H58:M58) -> 202175.4 | O58: 52566.69 | P58: 8712.0779 | Q58: 8666.2878 | R58: 13525.365 | S58: 38206.659 | T58: 114046.07 | U58: =SUM(O58:T58) -> 235723.15
A59: 55 | D59: 1. | E59: Protein-energy malnutrition | G59: =N59+U59 -> 290861.16 | H59: 53333.149 | I59: 8363.1616 | J59: 5145.2515 | K59: 6466.6968 | L59: 15495.283 | M59: 52511.887 | N59: =SUM(H59:M59) -> 141315.43 | O59: 48882.71 | P59: 7250.1244 | Q59: 4615.2936 | R59: 5086.8851 | S59: 16217.422 | T59: 67493.297 | U59: =SUM(O59:T59) -> 149545.73
A60: 56 | D60: 2. | E60: Iodine deficiency | G60: =N60+U60 -> 2511.5384 | H60: 159.93544 | I60: 43.66242 | J60: 143.15918 | K60: 139.98572 | L60: 239.31437 | M60: 290.60932 | N60: =SUM(H60:M60) -> 1016.6664 | O60: 225.73368 | P60: 64.279584 | Q60: 123.82547 | R60: 170.2113 | S60: 360.74083 | T60: 550.0811 | U60: =SUM(O60:T60) -> 1494.872
A61: 57 | D61: 3. | E61: Vitamin A deficiency | G61: =N61+U61 -> 6.7494529 | H61: 0 | I61: 0 | J61: 0 | K61: 0.35598773 | L61: 0.37667888 | M61: 3.0699356 | N61: =SUM(H61:M61) -> 3.8026023 | O61: 0 | P61: 0 | Q61: 0 | R61: 0.20041838 | S61: 0.98314379 | T61: 1.7632885 | U61: =SUM(O61:T61) -> 2.9468506
A62: 58 | D62: 4. | E62: Iron-deficiency anaemia | G62: =N62+U62 -> 27504.498 | H62: 70.563401 | I62: 119.82762 | J62: 457.30735 | K62: 730.08631 | L62: 1859.7321 | M62: 8857.609 | N62: =SUM(H62:M62) -> 12095.126 | O62: 91.734139 | P62: 142.33529 | Q62: 446.70569 | R62: 693.80868 | S62: 1609.7269 | T62: 12425.061 | U62: =SUM(O62:T62) -> 15409.372
A63: 59 | D63: 5. | E63: Other nutritional deficiencies | G63: =N63+U63 -> 117014.61 | H63: 2052.4354 | I63: 760.91539 | J63: 2272.0621 | K63: 4790.4791 | L63: 15210.888 | M63: 22657.602 | N63: =SUM(H63:M63) -> 47744.382 | O63: 3366.512 | P63: 1255.3386 | Q63: 3480.4632 | R63: 7574.2593 | S63: 20017.787 | T63: 33575.87 | U63: =SUM(O63:T63) -> 69270.23
A64: 60 | B64: II. | C64: Noncommunicable diseases | G64: =N64+U64 -> 52461236 | H64: 363996.86 | I64: 110381.73 | J64: 413291.66 | K64: 1896401.3 | L64: 8289090.3 | M64: 16029662 | N64: =SUM(H64:M64) -> 27102824 | O64: 348899.02 | P64: 111615.34 | Q64: 312871.45 | R64: 1331046.9 | S64: 5994122.4 | T64: 17259857 | U64: =SUM(O64:T64) -> 25358412
A65: 61 | C65: A. | D65: Malignant neoplasms | G65: =N65+U65 -> 11713213 | H65: 24513.966 | I65: 26345.174 | J65: 84763.067 | K65: 463240.16 | L65: 2409002.1 | M65: 3572017.8 | N65: =SUM(H65:M65) -> 6579882.3 | O65: 17941.192 | P65: 19562.792 | Q65: 67348.546 | R65: 558106.87 | S65: 1837173.7 | T65: 2633197.7 | U65: =SUM(O65:T65) -> 5133330.8
A66: 62 | D66: 1. | E66: Mouth and oropharynx cancers | G66: =N66+U66 -> 439211.7 | H66: 322.54185 | I66: 390.76614 | J66: 4462.5661 | K66: 45374.922 | L66: 157698.01 | M66: 105437.5 | N66: =SUM(H66:M66) -> 313686.31 | O66: 209.57068 | P66: 328.03792 | Q66: 2079.1995 | R66: 17314.513 | S66: 55037.835 | T66: 50556.232 | U66: =SUM(O66:T66) -> 125525.39
A67: 63 | D67: 2. | E67: Oesophagus cancer | G67: =N67+U67 -> 572901.95 | H67: 38.527772 | I67: 20.434527 | J67: 955.32239 | K67: 21185.406 | L67: 178121.95 | M67: 207789.1 | N67: =SUM(H67:M67) -> 408110.74 | O67: 14.433797 | P67: 5.9763807 | Q67: 784.07165 | R67: 10270.164 | S67: 55620.328 | T67: 98096.245 | U67: =SUM(O67:T67) -> 164791.22
A68: 64 | D68: 3. | E68: Stomach cancer | G68: =N68+U68 -> 962623.06 | H68: 355.06669 | I68: 218.19916 | J68: 2285.6919 | K68: 36037.734 | L68: 237522.07 | M68: 351767.85 | N68: =SUM(H68:M68) -> 628186.61 | O68: 188.19835 | P68: 144.88382 | Q68: 1735.2361 | R68: 23150.525 | S68: 101828.38 | T68: 207389.23 | U68: =SUM(O68:T68) -> 334436.46
A69: 65 | D69: 4. | E69: Colon and rectum cancers | G69: =N69+U69 -> 1059089.6 | H69: 335.61745 | I69: 262.98026 | J69: 4051.5517 | K69: 37413.582 | L69: 187891.62 | M69: 348679.99 | N69: =SUM(H69:M69) -> 578635.33 | O69: 493.06264 | P69: 257.0884 | Q69: 3047.1633 | R69: 31003.954 | S69: 132163.72 | T69: 313489.27 | U69: =SUM(O69:T69) -> 480454.25
A70: 66 | D70: 5. | E70: Liver cancer | G70: =N70+U70 -> 1111788.4 | H70: 0 | I70: 1267.2751 | J70: 8550.4532 | K70: 84471.19 | L70: 332313.07 | M70: 351248.63 | N70: =SUM(H70:M70) -> 777850.62 | O70: 0 | P70: 656.55788 | Q70: 2717.7228 | R70: 24485.097 | S70: 115076.19 | T70: 191002.2 | U70: =SUM(O70:T70) -> 333937.77
A71: 67 | D71: 6. | E71: Pancreas cancer | G71: =N71+U71 -> 503953.1 | H71: 22.822415 | I71: 22.467126 | J71: 472.50824 | K71: 11527.004 | L71: 98633.683 | M71: 151080.56 | N71: =SUM(H71:M71) -> 261759.04 | O71: 71.221528 | P71: 78.783962 | Q71: 382.57718 | R71: 8273.7693 | S71: 71601.731 | T71: 161785.97 | U71: =SUM(O71:T71) -> 242194.05
A72: 68 | D72: 7. | E72: Trachea, bronchus, lung cancers | G72: =N72+U72 -> 2018521.3 | H72: 422.04541 | I72: 219.2839 | J72: 2101.0306 | K72: 52877.498 | L72: 520995.1 | M72: 728173.2 | N72: =SUM(H72:M72) -> 1304788.2 | O72: 327.98272 | P72: 163.44296 | Q72: 1695.53 | R72: 31158.782 | S72: 248257.7 | T72: 432129.71 | U72: =SUM(O72:T72) -> 713733.14
A73: 69 | D73: 8. | E73: Melanoma and other skin cancers | G73: =N73+U73 -> 155209.76 | H73: 69.839804 | I73: 56.065338 | J73: 751.49907 | K73: 5516.7881 | L73: 28967.07 | M73: 58884.518 | N73: =SUM(H73:M73) -> 94245.781 | O73: 70.355994 | P73: 60.656751 | Q73: 572.09663 | R73: 4225.249 | S73: 16076.171 | T73: 39959.447 | U73: =SUM(O73:T73) -> 60963.977
A74: 70 | D74: 9. | E74: Breast cancer | G74: =N74+U74 -> 807244.16 | H74: 0 | I74: 0.4391194 | J74: 46.648285 | K74: 322.3421 | L74: 1447.2164 | M74: 2384.9847 | N74: =SUM(H74:M74) -> 4201.6306 | O74: 101.26439 | P74: 100.86171 | Q74: 8565.7567 | R74: 167595.53 | S74: 341174.3 | T74: 285504.81 | U74: =SUM(O74:T74) -> 803042.52
A75: 71 | D75: 10. | E75: Cervix uteri cancer | G75: =N75+U75 -> 366186.5 | H75: 0 | I75: 0 | J75: 0 | K75: 0 | L75: 0 | M75: 0 | N75: =SUM(H75:M75) -> 0 | O75: 105.96019 | P75: 83.044513 | Q75: 4030.8699 | R75: 80086.778 | S75: 173779.34 | T75: 108100.51 | U75: =SUM(O75:T75) -> 366186.5
A76: 72 | D76: 11. | E76: Corpus uteri cancer | G76: =N76+U76 -> 102643 | H76: 0 | I76: 0 | J76: 0 | K76: 0 | L76: 0 | M76: 0 | N76: =SUM(H76:M76) -> 0 | O76: 14.969105 | P76: 12.552565 | Q76: 508.0393 | R76: 10130.064 | S76: 43003.689 | T76: 48973.682 | U76: =SUM(O76:T76) -> 102643
A77: 73 | D77: 12. | E77: Ovary cancer | G77: =N77+U77 -> 213032.84 | H77: 0 | I77: 0 | J77: 0 | K77: 0 | L77: 0 | M77: 0 | N77: =SUM(H77:M77) -> 0 | O77: 510.71149 | P77: 355.38293 | Q77: 3202.9027 | R77: 29746.887 | S77: 95597.185 | T77: 83619.773 | U77: =SUM(O77:T77) -> 213032.84
... A81: 77 | D81: 16. | E81: Leukaemia | G81: =N81+U81 -> 356878.25 | H81: 6592.6944 | I81: 8667.7501 | J81: 16970.879 | K81: 23537.893 | L81: 56699.165 | M81: 95019.401 | N81: =SUM(H81:M81) -> 207487.78 | O81: 3906.5617 | P81: 5242.9365 | Q81: 9342.5303 | R81: 18622.565 | S81: 41802.235 | T81: 70473.639 | U81: =SUM(O81:T81) -> 149390.47
A82: 78 | E82: Other malignant neoplasms | G82: =N82+U82 -> 1769671.3 | H82: 13253.629 | I82: 10974.229 | J82: 33801.453 | K82: 109591.69 | L82: 382729.49 | M82: 446943.58 | N82: =SUM(H82:M82) -> 997294.06 | O82: 9981.5747 | P82: 9680.6322 | Q82: 22604.426 | R82: 82957.536 | S82: 268675.75 | T82: 378477.29 | U82: =SUM(O82:T82) -> 772377.21
A83: 79 | C83: B. | D83: Other neoplasms | G83: =N83+U83 -> 290802.47 | H83: 2059.0744 | I83: 1855.637 | J83: 5047.0351 | K83: 11513.259 | L83: 43074.06 | M83: 92651.62 | N83: =SUM(H83:M83) -> 156200.68 | O83: 2145.26 | P83: 1639.0233 | Q83: 2573.7325 | R83: 12766.176 | S83: 33215.287 | T83: 82262.307 | U83: =SUM(O83:T83) -> 134601.79
A84: 80 | C84: C. | D84: Diabetes mellitus | G84: =N84+U84 -> 2412635.6 | H84: 766.67851 | I84: 1176.1682 | J84: 8728.4499 | K84: 66425.55 | L84: 390904.07 | M84: 620806.92 | N84: =SUM(H84:M84) -> 1088807.8 | O84: 768.75961 | P84: 1619.9082 | Q84: 8305.1702 | R84: 58592.784 | S84: 423054.14 | T84: 831486.95 | U84: =SUM(O84:T84) -> 1323827.7
A85: 81 | C85: D. | D85: Endocrine, blood, immune disorders | G85: =N85+U85 -> 469714.17 | H85: 22190.194 | I85: 11216.994 | J85: 17819.676 | K85: 21458.834 | L85: 44042.352 | M85: 90846.644 | N85: =SUM(H85:M85) -> 207574.69 | O85: 23127.581 | P85: 18627.114 | Q85: 36428.38 | R85: 22275.299 | S85: 42278.883 | T85: 119402.22 | U85: =SUM(O85:T85) -> 262139.47
A86: 82 | C86: E. | D86: Mental and behavioral disorders | G86: =N86+U86 -> 347680.78 | H86: 3.2668694 | I86: 59.025936 | J86: 34320.323 | K86: 95629.552 | L86: 85295.814 | M86: 41892.792 | N86: =SUM(H86:M86) -> 257200.77 | O86: 7.9781552 | P86: 152.35558 | Q86: 10357.832 | R86: 24871.005 | S86: 27118.083 | T86: 27972.752 | U86: =SUM(O86:T86) -> 90480.006
A87: 83 | D87: 1. | E87: Unipolar depressive disorders | G87: =N87+U87 -> 0 | H87: 0 | I87: 0 | J87: 0 | K87: 0 | L87: 0 | M87: 0 | N87: =SUM(H87:M87) -> 0 | O87: 0 | P87: 0 | Q87: 0 | R87: 0 | S87: 0 | T87: 0 | U87: =SUM(O87:T87) -> 0
A88: 84 | D88: 2. | E88: Bipolar disorder | G88: =N88+U88 -> 754.83585 | H88: 0 | I88: 0 | J88: 3.0596237 | K88: 30.137948 | L88: 80.729416 | M88: 163.87523 | N88: =SUM(H88:M88) -> 277.80221 | O88: 0 | P88: 0 | Q88: 3.6100525 | R88: 25.117414 | S88: 106.20714 | T88: 342.09903 | U88: =SUM(O88:T88) -> 477.03364
A89: 85 | D89: 3. | E89: Schizophrenia | G89: =N89+U89 -> 6252.4366 | H89: 0 | I89: 2.6554125 | J89: 75.385232 | K89: 431.48598 | L89: 1170.3433 | M89: 1216.6748 | N89: =SUM(H89:M89) -> 2896.5447 | O89: 0 | P89: 2.1700904 | Q89: 18.670754 | R89: 190.39038 | S89: 786.27268 | T89: 2358.388 | U89: =SUM(O89:T89) -> 3355.8919
A90: 86 | D90: 4. | E90: Alcohol use disorders | G90: =N90+U90 -> 154875.32 | H90: 0 | I90: 0 | J90: 6471.8788 | K90: 46830.374 | L90: 56583.33 | M90: 19274.224 | N90: =SUM(H90:M90) -> 129159.81 | O90: 0 | P90: 0 | Q90: 1168.834 | R90: 7206.4049 | S90: 10359.395 | T90: 6980.8831 | U90: =SUM(O90:T90) -> 25715.517
A91: 87 | D91: 5. | E91: Drug use disorders | G91: =N91+U91 -> 182397.67 | H91: 3.2668694 | I91: 0 | J91: 27609.814 | K91: 47966.855 | L91: 27083.806 | M91: 20943.568 | N91: =SUM(H91:M91) -> 123607.31 | O91: 7.9781552 | P91: 0 | Q91: 8522.5633 | R91: 16671.453 | S91: 15599.548 | T91: 17988.817 | U91: =SUM(O91:T91) -> 58790.359
A92: 88 | D92: 6. | E92: Anxiety disorders | G92: =N92+U92 -> 0 | H92: 0 | I92: 0 | J92: 0 | K92: 0 | L92: 0 | M92: 0 | N92: =SUM(H92:M92) -> 0 | O92: 0 | P92: 0 | Q92: 0 | R92: 0 | S92: 0 | T92: 0 | U92: =SUM(O92:T92) -> 0
A93: 89 | D93: 7. | E93: Eating disorders | G93: =N93+U93 -> 1757.4686 | H93: 0 | I93: 38.26955 | J93: 84.659881 | K93: 216.9516 | L93: 0 | M93: 0 | N93: =SUM(H93:M93) -> 339.88103 | O93: 0 | P93: 139.1081 | Q93: 600.87281 | R93: 677.60663 | S93: 0 | T93: 0 | U93: =SUM(O93:T93) -> 1417.5875
A94: 90 | D94: 8. | E94: Pervasive developmental disorders | G94: =N94+U94 -> 0 | H94: 0 | I94: 0 | J94: 0 | K94: 0 | L94: 0 | M94: 0 | N94: =SUM(H94:M94) -> 0 | O94: 0 | P94: 0 | Q94: 0 | R94: 0 | S94: 0 | T94: 0 | U94: =SUM(O94:T94) -> 0
A95: 91 | D95: 9. | E95: Childhood behavioural disorders | G95: =N95+U95 -> 0 | H95: 0 | I95: 0 | J95: 0 | K95: 0 | L95: 0 | M95: 0 | N95: =SUM(H95:M95) -> 0 | O95: 0 | P95: 0 | Q95: 0 | R95: 0 | S95: 0 | T95: 0 | U95: =SUM(O95:T95) -> 0
A96: 92 | D96: 10. | E96: Idiopathic intellectual disability | G96: =N96+U96 -> 1643.0484 | H96: 0 | I96: 18.100974 | J96: 75.525843 | K96: 153.74833 | L96: 377.60687 | M96: 294.44914 | N96: =SUM(H96:M96) -> 919.43116 | O96: 0 | P96: 11.077399 | Q96: 43.280741 | R96: 100.03317 | S96: 266.66048 | T96: 302.5655 | U96: =SUM(O96:T96) -> 723.61729
A97: 93 | D97: 11. | E97: Other mental and behavioural disorders | G97: =N97+U97 -> 0 | H97: 0 | I97: 0 | J97: 0 | K97: 0 | L97: 0 | M97: 0 | N97: =SUM(H97:M97) -> 0 | O97: 0 | P97: 0 | Q97: 0 | R97: 0 | S97: 0 | T97: 0 | U97: =SUM(O97:T97) -> 0
A98: 94 | C98: F. | D98: Neurological conditions | G98: =N98+U98 -> 4019380.4 | H98: 7540.3737 | I98: 11351.091 | J98: 34169.126 | K98: 43338.231 | L98: 152669.43 | M98: 1343731.4 | N98: =SUM(H98:M98) -> 1592799.6 | O98: 8654.7902 | P98: 10016.933 | Q98: 21360.887 | R98: 30706.149 | S98: 174379.36 | T98: 2181462.7 | U98: =SUM(O98:T98) -> 2426580.8
A99: 95 | D99: 1. | E99: Alzheimer's disease and other dementias | G99: =N99+U99 -> 3281069.3 | H99: 0 | I99: 36.900063 | J99: 64.445496 | K99: 1355.887 | L99: 81563.997 | M99: 1106100.6 | N99: =SUM(H99:M99) -> 1189121.9 | O99: 0 | P99: 23.963423 | Q99: 42.802573 | R99: 1414.4261 | S99: 113672.42 | T99: 1976793.8 | U99: =SUM(O99:T99) -> 2091947.4
A100: 96 | D100: 2. | E100: Parkinson's disease | G100: =N100+U100 -> 337265.41 | H100: 0 | I100: 0.2344794 | J100: 35.608664 | K100: 1025.996 | L100: 16521.624 | M100: 172053.5 | N100: =SUM(H100:M100) -> 189636.97 | O100: 0 | P100: 0.94521934 | Q100: 30.306121 | R100: 871.26961 | S100: 12883.099 | T100: 133842.83 | U100: =SUM(O100:T100) -> 147628.45
A101: 97 | D101: 3. | E101: Epilepsy | G101: =N101+U101 -> 159256.76 | H101: 5011.2672 | I101: 6057.1069 | J101: 22243.909 | K101: 22449.216 | L101: 16987.17 | M101: 16146.34 | N101: =SUM(H101:M101) -> 88895.009 | O101: 5907.7081 | P101: 5337.747 | Q101: 12691.387 | R101: 12693.967 | S101: 13687.102 | T101: 20043.841 | U101: =SUM(O101:T101) -> 70361.752
A102: 98 | D102: 4. | E102: Multiple sclerosis | G102: =N102+U102 -> 28185.958 | H102: 0 | I102: 1.1272376 | J102: 252.48392 | K102: 2753.6233 | L102: 4503.1697 | M102: 2950.2987 | N102: =SUM(H102:M102) -> 10460.703 | O102: 0 | P102: 1.0657959 | Q102: 699.39675 | R102: 4168.0506 | S102: 7086.3111 | T102: 5770.4309 | U102: =SUM(O102:T102) -> 17725.255
A103: 99 | D103: 5. | E103: Migraine | G103: =N103+U103 -> 15.267981 | H103: 0 | I103: 0.16534196 | J103: 0.3136777 | K103: 1.535894 | L103: 1.7127778 | M103: 1.3775305 | N103: =SUM(H103:M103) -> 5.1052219 | O103: 0 | P103: 0.47375518 | Q103: 0.969598 | R103: 2.692904 | S103: 2.2963836 | T103: 3.7301187 | U103: =SUM(O103:T103) -> 10.162759
A104: 100 | D104: 6. | E104: Non-migraine headache | G104: =N104+U104 -> 0 | H104: 0 | I104: 0 | J104: 0 | K104: 0 | L104: 0 | M104: 0 | N104: =SUM(H104:M104) -> 0 | O104: 0 | P104: 0 | Q104: 0 | R104: 0 | S104: 0 | T104: 0 | U104: =SUM(O104:T104) -> 0
A105: 101 | D105: 7. | E105: Other neurological conditions | G105: =N105+U105 -> 213587.68 | H105: 2529.1065 | I105: 5255.5574 | J105: 11572.366 | K105: 15751.973 | L105: 33091.763 | M105: 46479.209 | N105: =SUM(H105:M105) -> 114679.97 | O105: 2747.0821 | P105: 4652.7375 | Q105: 7896.0254 | R105: 11555.743 | S105: 27048.125 | T105: 45007.994 | U105: =SUM(O105:T105) -> 98907.706
...

Sheet World2045
A1: Global Health Estimates (GHE) 2016: Deaths by age, sex and cause
A2: Region: | C2: World
A3: Year: | C3: 2045
F5: Sex | G5: Both sexes | H5: Male | O5: Female
F6: Age group | G6: Total | H6: 0-4 years | I6: 5-14 years | J6: 15-29 years | K6: 30-49 years | L6: 50-69 years | M6: 70+ years | N6: Total | O6: 0-4 years | P6: 5-14 years | Q6: 15-29 years | R6: 30-49 years | S6: 50-69 years | T6: 70+ years | U6: Total
A7: Population (thousands) | G7: =N7+U7 -> 9498328.2 | H7: 358172.15 | I7: 700595.17 | J7: 1028088.2 | K7: 1244780.1 | L7: 994613.15 | M7: 449391.26 | N7: =SUM(H7:M7) -> 4775640 | O7: 340190.4 | P7: 664356.85 | Q7: 970990.38 | R7: 1178909.2 | S7: 1012328.3 | T7: 555913.07 | U7: =SUM(O7:T7) -> 4722688.2
A9: GHE code | C9: GHE cause category
A10: 0 | C10: All Causes | G10: =N10+U10 -> 85532627 | H10: 1441236.4 | I10: 405142.44 | J10: 1502801.5 | K10: 3245445.3 | L10: 10117813 | M10: 26833425 | N10: =SUM(H10:M10) -> 43545864 | O10: 1310269.5 | P10: 350541.75 | Q10: 883140.61 | R10: 2022700.3 | S10: 7450411.3 | T10: 29969699 | U10: =SUM(O10:T10) -> 41986763
A11: 1 | B11: I. | C11: Communicable, maternal, perinatal and nutritional conditions | G11: =N11+U11 -> 9666058.5 | H11: 866682.02 | I11: 98752.42 | J11: 229519.55 | K11: 542636.65 | L11: 831688.16 | M11: 2336496.4 | N11: =SUM(H11:M11) -> 4905775.2 | O11: 774185.04 | P11: 102901.38 | Q11: 267694.07 | R11: 416760.52 | S11: 611268.99 | T11: 2587473.4 | U11: =SUM(O11:T11) -> 4760283.4
A12: 2 | C12: A. | D12: Infectious and parasitic diseases | G12: =N12+U12 -> 4100773.9 | H12: 147940.82 | I12: 74599.245 | J12: 184134.83 | K12: 451391.12 | L12: 516672.23 | M12: 813401.64 | N12: =SUM(H12:M12) -> 2188139.9 | O12: 149652.41 | P12: 76974.267 | Q12: 148446.24 | R12: 265293.37 | S12: 360119.12 | T12: 912148.59 | U12: =SUM(O12:T12) -> 1912634
A13: 3 | D13: 1. | E13: Tuberculosis | G13: =N13+U13 -> 1050053.6 | H13: 7299.2485 | I13: 3912.6129 | J13: 57391.768 | K13: 146918.06 | L13: 215398.07 | M13: 227396.54 | N13: =SUM(H13:M13) -> 658316.3 | O13: 7830.6817 | P13: 5118.9965 | Q13: 37425.606 | R13: 70694.461 | S13: 109782.1 | T13: 160885.43 | U13: =SUM(O13:T13) -> 391737.27
A14: 4 | D14: 2. | E14: STDs excluding HIV | G14: =N14+U14 -> 33012.726 | H14: 8695.2352 | I14: 1657.6988 | J14: 151.12715 | K14: 347.68546 | L14: 448.00745 | M14: 529.90584 | N14: =SUM(H14:M14) -> 11829.66 | O14: 10611.047 | P14: 3176.9206 | Q14: 1650.7673 | R14: 1474.5702 | S14: 1563.7311 | T14: 2706.0297 | U14: =SUM(O14:T14) -> 21183.066
A15: 5 | E15: a. | F15: Syphilis | G15: =N15+U15 -> 27107.158 | H15: 8695.2352 | I15: 1654.8797 | J15: 127.97564 | K15: 305.75031 | L15: 418.6758 | M15: 475.69339 | N15: =SUM(H15:M15) -> 11678.21 | O15: 10611.047 | P15: 3157.7888 | Q15: 406.39689 | R15: 208.35656 | S15: 363.636 | T15: 681.72354 | U15: =SUM(O15:T15) -> 15428.948
A16: 6 | E16: b. | F16: Chlamydia | G16: =N16+U16 -> 1146.1863 | H16: 0 | I16: 0 | J16: 0 | K16: 0 | L16: 0 | M16: 0 | N16: =SUM(H16:M16) -> 0 | O16: 0 | P16: 5.3434775 | Q16: 287.93557 | R16: 223.09026 | S16: 214.22935 | T16: 415.58762 | U16: =SUM(O16:T16) -> 1146.1863
A17: 7 | E17: c. | F17: Gonorrhoea | G17: =N17+U17 -> 3317.8774 | H17: 0 | I17: 1.8476665 | J17: 17.233192 | K17: 26.877369 | L17: 14.402368 | M17: 32.024538 | N17: =SUM(H17:M17) -> 92.385134 | O17: 0 | P17: 9.3802621 | Q17: 612.49296 | R17: 671.04825 | S17: 677.69592 | T17: 1254.8749 | U17: =SUM(O17:T17) -> 3225.4923
A18: 8 | E18: d. | F18: Trichomoniasis | G18: =N18+U18 -> 0 | H18: 0 | I18: 0 | J18: 0 | K18: 0 | L18: 0 | M18: 0 | N18: =SUM(H18:M18) -> 0 | O18: 0 | P18: 0 | Q18: 0 | R18: 0 | S18: 0 | T18: 0 | U18: =SUM(O18:T18) -> 0
A19: 9 | E19: e. | F19: Other STDs | G19: =N19+U19 -> 1441.5034 | H19: 0 | I19: 0.97152328 | J19: 5.9183147 | K19: 15.057777 | L19: 14.929284 | M19: 22.187916 | N19: =SUM(H19:M19) -> 59.064816 | O19: 0 | P19: 4.4080814 | Q19: 343.94184 | R19: 372.07516 | S19: 308.16982 | T19: 353.84363 | U19: =SUM(O19:T19) -> 1382.4385
A20: 10 | D20: 3. | E20: HIV/AIDS | G20: =N20+U20 -> 522158.52 | H20: 9786.0549 | I20: 8402.4075 | J20: 32967.923 | K20: 184576.31 | L20: 79954.186 | M20: 9675.3532 | N20: =SUM(H20:M20) -> 325362.24 | O20: 9473.3875 | P20: 7672.4671 | Q20: 28928.545 | R20: 105534.13 | S20: 38845.009 | T20: 6342.7475 | U20: =SUM(O20:T20) -> 196796.28
A21: 11 | D21: 4. | E21: Diarrhoeal diseases | G21: =N21+U21 -> 1274268.6 | H21: 41891.283 | I21: 13460.628 | J21: 29995.686 | K21: 49504.973 | L21: 112181.13 | M21: 328833.6 | N21: =SUM(H21:M21) -> 575867.29 | O21: 42770.353 | P21: 13430.787 | Q21: 28768.302 | R21: 37301.885 | S21: 117684.81 | T21: 458445.15 | U21: =SUM(O21:T21) -> 698401.29
A22: 12 | D22: 5. | E22: Childhood-cluster diseases | G22: =N22+U22 -> 49044.165 | H22: 10238.217 | I22: 3031.5626 | J22: 2455.7201 | K22: 2878.5039 | L22: 3550.8997 | M22: 3773.3065 | N22: =SUM(H22:M22) -> 25928.21 | O22: 9930.5523 | P22: 3983.2812 | Q22: 1746.6171 | R22: 1524.688 | S22: 2317.5268 | T22: 3613.2895 | U22: =SUM(O22:T22) -> 23115.955
A23: 13 | E23: a. | F23: Whooping cough | G23: =N23+U23 -> 3507.5404 | H23: 53.991061 | I23: 1008.6956 | J23: 230.21867 | K23: 112.33671 | L23: 70.628611 | M23: 7.6649865 | N23: =SUM(H23:M23) -> 1483.5357 | O23: 45.985107 | P23: 1533.4942 | Q23: 293.1221 | R23: 101.69969 | S23: 39.751493 | T23: 9.9521031 | U23: =SUM(O23:T23) -> 2024.0047
A24: 14 | E24: b. | F24: Diphtheria | G24: =N24+U24 -> 469.90516 | H24: 102.56106 | I24: 43.275929 | J24: 33.047483 | K24: 37.802499 | L24: 29.014628 | M24: 2.4935232 | N24: =SUM(H24:M24) -> 248.19512 | O24: 108.63233 | P24: 43.858576 | Q24: 23.901837 | R24: 26.814665 | S24: 17.151281 | T24: 1.3513465 | U24: =SUM(O24:T24) -> 221.71003
A25: 15 | E25: c. | F25: Measles | G25: =N25+U25 -> 21705.694 | H25: 6753.7959 | I25: 1563.2392 | J25: 408.17759 | K25: 89.992863 | L25: 469.45133 | M25: 1604.2987 | N25: =SUM(H25:M25) -> 10888.956 | O25: 7619.7171 | P25: 2070.5731 | Q25: 635.11005 | R25: 146.19018 | S25: 285.34224 | T25: 59.805734 | U25: =SUM(O25:T25) -> 10816.738
A26: 16 | E26: d. | F26: Tetanus | G26: =N26+U26 -> 23361.025 | H26: 3327.8691 | I26: 416.35178 | J26: 1784.2764 | K26: 2638.3718 | L26: 2981.8052 | M26: 2158.8494 | N26: =SUM(H26:M26) -> 13307.524 | O26: 2156.2176 | P26: 335.35531 | Q26: 794.48307 | R26: 1249.9835 | S26: 1975.2818 | T26: 3542.1804 | U26: =SUM(O26:T26) -> 10053.502
A27: 17 | D27: 6. | E27: Meningitis | G27: =N27+U27 -> 190097.73 | H27: 7158.1675 | I27: 9857.6044 | J27: 21280.917 | K27: 19748.547 | L27: 21978.451 | M27: 22979.647 | N27: =SUM(H27:M27) -> 103003.33 | O27: 7592.2511 | P27: 8344.4424 | Q27: 14828.26 | R27: 12224.282 | S27: 15483.148 | T27: 28622.018 | U27: =SUM(O27:T27) -> 87094.401
A28: 18 | D28: 7. | E28: Encephalitis | G28: =N28+U28 -> 104265.13 | H28: 1248.3311 | I28: 1282.7126 | J28: 2175.0449 | K28: 3077.5712 | L28: 7681.0667 | M28: 31614.698 | N28: =SUM(H28:M28) -> 47079.424 | O28: 1346.6458 | P28: 1226.4213 | Q28: 1930.6334 | R28: 2360.8221 | S28: 8567.2209 | T28: 41753.963 | U28: =SUM(O28:T28) -> 57185.706
A29: 19 | D29: 8. | E29: Acute hepatitis B | G29: =N29+U29 -> 108004.35 | H29: 255.79569 | I29: 181.32514 | J29: 3886.4713 | K29: 10891.553 | L29: 18621.443 | M29: 21985.577 | N29: =SUM(H29:M29) -> 55822.165 | O29: 231.93945 | P29: 163.27669 | Q29: 4023.9306 | R29: 8275.4624 | S29: 15434.593 | T29: 24052.987 | U29: =SUM(O29:T29) -> 52182.189
A30: 20 | D30: 9. | E30: Acute hepatitis C | G30: =N30+U30 -> 2785.7456 | H30: 0 | I30: 32.721932 | J30: 59.670314 | K30: 126.17818 | L30: 467.4161 | M30: 596.26188 | N30: =SUM(H30:M30) -> 1282.2484 | O30: 0 | P30: 31.187988 | Q30: 74.819522 | R30: 117.20891 | S30: 523.7273 | T30: 756.5535 | U30: =SUM(O30:T30) -> 1503.4972
A31: 21 | D31: 10. | E31: Parasitic and vector diseases | G31: =N31+U31 -> 336510.62 | H31: 50048.787 | I31: 21098.964 | J31: 17151.553 | K31: 19231.003 | L31: 27062.727 | M31: 32962.092 | N31: =SUM(H31:M31) -> 167555.13 | O31: 51934.523 | P31: 22164.763 | Q31: 14765.155 | R31: 14904.747 | S31: 25750.081 | T31: 39436.22 | U31: =SUM(O31:T31) -> 168955.49
A32: 22 | E32: a. | F32: Malaria | G32: =N32+U32 -> 229919.7 | H32: 48416.549 | I32: 19083.092 | J32: 12274.667 | K32: 11856.589 | L32: 12284.751 | M32: 10271.942 | N32: =SUM(H32:M32) -> 114187.59 | O32: 50260.681 | P32: 20314.379 | Q32: 11137.355 | R32: 9033.7585 | S32: 12407.217 | T32: 12578.718 | U32: =SUM(O32:T32) -> 115732.11
A33: 23 | E33: b. | F33: Trypanosomiasis | G33: =N33+U33 -> 1947.3115 | H33: 4.7588668 | I33: 146.67715 | J33: 346.10824 | K33: 271.05575 | L33: 131.51091 | M33: 61.860208 | N33: =SUM(H33:M33) -> 961.97112 | O33: 6.085912 | P33: 162.18934 | Q33: 355.59722 | R33: 279.94176 | S33: 119.93926 | T33: 61.586849 | U33: =SUM(O33:T33) -> 985.34034
A34: 24 | E34: c. | F34: Chagas disease | G34: =N34+U34 -> 10851.749 | H34: 0.066872561 | I34: 0.20125479 | J34: 5.724339 | K34: 175.52559 | L34: 1310.0488 | M34: 3995.1575 | N34: =SUM(H34:M34) -> 5486.7244 | O34: 0.073617274 | P34: 0.1648434 | Q34: 2.9728045 | R34: 75.408324 | S34: 827.43334 | T34: 4458.972 | U34: =SUM(O34:T34) -> 5365.025
A35: 25 | E35: d. | F35: Schistosomiasis | G35: =N35+U35 -> 19653.197 | H35: 33.694109 | I35: 257.43977 | J35: 1139.937 | K35: 2138.1945 | L35: 3534.6504 | M35: 2938.4865 | N35: =SUM(H35:M35) -> 10042.402 | O35: 34.818543 | P35: 283.3664 | Q35: 724.0842 | R35: 1611.2881 | S35: 3372.706 | T35: 3584.5311 | U35: =SUM(O35:T35) -> 9610.7944
A36: 26 | E36: e. | F36: Leishmaniasis | G36: =N36+U36 -> 11748.078 | H36: 363.1393 | I36: 140.98959 | J36: 758.39644 | K36: 1081.918 | L36: 1640.8648 | M36: 2264.7003 | N36: =SUM(H36:M36) -> 6250.0085 | O36: 443.42718 | P36: 138.24097 | Q36: 598.59232 | R36: 906.36246 | S36: 1347.1363 | T36: 2064.3098 | U36: =SUM(O36:T36) -> 5498.069
A37: 27 | E37: f. | F37: Lymphatic filariasis | G37: =N37+U37 -> 0.29665497 | H37: 0 | I37: 0 | J37: 0 | K37: 0 | L37: 0.29665497 | M37: 0 | N37: =SUM(H37:M37) -> 0.29665497 | O37: 0 | P37: 0 | Q37: 0 | R37: 0 | S37: 0 | T37: 0 | U37: =SUM(O37:T37) -> 0
A38: 28 | E38: g. | F38: Onchocerciasis | G38: =N38+U38 -> 1.1008324 | H38: 0 | I38: 0 | J38: 0.24749449 | K38: 0 | L38: 0 | M38: 0 | N38: =SUM(H38:M38) -> 0.24749449 | O38: 0 | P38: 0 | Q38: 0 | R38: 0 | S38: 0 | T38: 0.85333794 | U38: =SUM(O38:T38) -> 0.85333794
A39: 29 | E39: h. | F39: Leprosy | G39: =N39+U39 -> 13433.167 | H39: 0 | I39: 0 | J39: 54.565083 | K39: 483.68104 | L39: 2178.9172 | M39: 4416.2747 | N39: =SUM(H39:M39) -> 7133.438 | O39: 0 | P39: 0 | Q39: 47.078522 | R39: 426.86656 | S39: 2189.7408 | T39: 3636.0426 | U39: =SUM(O39:T39) -> 6299.7285
A40: 30 | E40: i. | F40: Dengue | G40: =N40+U40 -> 37669.209 | H40: 789.76093 | I40: 530.54115 | J40: 1395.4982 | K40: 2003.0726 | L40: 4621.5159 | M40: 8424.2483 | N40: =SUM(H40:M40) -> 17764.637 | O40: 748.26517 | P40: 540.19195 | Q40: 985.27293 | R40: 1200.4482 | S40: 4275.6929 | T40: 12154.701 | U40: =SUM(O40:T40) -> 19904.572
A41: 31 | E41: j. | F41: Trachoma | G41: =N41+U41 -> 1.4155711 | H41: 0 | I41: 0 | J41: 0 | K41: 0 | L41: 0.1516137 | M41: 0.84831089 | N41: =SUM(H41:M41) -> 0.99992459 | O41: 0 | P41: 0 | Q41: 0 | R41: 0 | S41: 0 | T41: 0.41564652 | U41: =SUM(O41:T41) -> 0.41564652
A42: 32 | E42: k. | F42: Rabies | G42: =N42+U42 -> 11285.396 | H42: 440.81828 | I42: 940.02307 | J42: 1176.4093 | K42: 1220.9666 | L42: 1360.0196 | M42: 588.57551 | N42: =SUM(H42:M42) -> 5726.8124 | O42: 441.17182 | P42: 726.23049 | Q42: 914.20193 | R42: 1370.673 | S42: 1210.216 | T42: 896.09014 | U42: =SUM(O42:T42) -> 5558.5834
A43: 33 | D43: 11. | E43: Intestinal nematode infections | G43: =N43+U43 -> 2135.4959 | H43: 345.20536 | I43: 175.32026 | J43: 39.682462 | K43: 43.917843 | L43: 90.253457 | M43: 270.44428 | N43: =SUM(H43:M43) -> 964.82366 | O43: 501.75475 | P43: 240.19925 | Q43: 41.040264 | R43: 43.121371 | S43: 103.6846 | T43: 240.87204 | U43: =SUM(O43:T43) -> 1170.6723
A44: 34 | E44: a. | F44: Ascariasis | G44: =N44+U44 -> 2133.8811 | H44: 345.20536 | I44: 175.32026 | J44: 39.61282 | K44: 43.917843 | L44: 90.01531 | M44: 270.44428 | N44: =SUM(H44:M44) -> 964.51587 | O44: 501.75475 | P44: 240.19925 | Q44: 40.893344 | R44: 42.527031 | S44: 103.6846 | T44: 240.30629 | U44: =SUM(O44:T44) -> 1169.3653
A45: 35 | E45: b. | F45: Trichuriasis | G45: =N45+U45 -> 0.40019551 | H45: 0 | I45: 0 | J45: 0 | K45: 0 | L45: 0 | M45: 0 | N45: =SUM(H45:M45) -> 0 | O45: 0 | P45: 0 | Q45: 0.14691934 | R45: 0.25327617 | S45: 0 | T45: 0 | U45: =SUM(O45:T45) -> 0.40019551
