Workbook
Name __LEX1955: '[1]summary-targets'!#REF!
Name __LEX1955: '[1]summary-targets'!#REF!
Name __LEX1955: '[1]summary-targets'!#REF!
Name __LEX1955: '[1]summary-targets'!#REF!
Name __LEX1955: '[1]summary-targets'!#REF!
Name __LEX1955: '[1]summary-targets'!#REF!
Name __LEX1975: '[1]summary-targets'!#REF!
Name __LEX1975: '[1]summary-targets'!#REF!
Name __LEX1975: '[1]summary-targets'!#REF!
Name __LEX1975: '[1]summary-targets'!#REF!
Name __LEX1975: '[1]summary-targets'!#REF!
Name __LEX1975: '[1]summary-targets'!#REF!
Name __LEX2025: '[1]summary-targets'!#REF!
Name __LEX2025: '[1]summary-targets'!#REF!
Name __LEX2025: '[1]summary-targets'!#REF!
Name __LEX2025: '[1]summary-targets'!#REF!
Name __LEX2025: '[1]summary-targets'!#REF!
Name __LEX2025: '[1]summary-targets'!#REF!
Name _reg98: [2]whoreg!#REF!
Name _reg98: [2]whoreg!#REF!
Name _reg98: [2]whoreg!#REF!
Name _reg98: [2]whoreg!#REF!
Name _reg98: [2]whoreg!#REF!
Name _resul: '[3]slop-inter'!$A$45:$AG$48
Name _yellowF: #REF!
Name _yellowF: #REF!
Name _yellowF: #REF!
Name _yellowF: #REF!
Name _yellowF: #REF!
Name _yellowM: #REF!
Name _yellowM: #REF!
Name _yellowM: #REF!
Name _yellowM: #REF!
Name _yellowM: #REF!
Name data: #REF!
Name data: #REF!
Name data: #REF!
Name data: #REF!
Name data: #REF!
Name GBDageD95: [4]Deaths!$A$1:$T$643
Name home: '[3]slop-inter'!$D$1:$F$1
Name label: [3]lx!$D$1788:$E$1825
Name PA: #REF!
Name PA: #REF!
Name PA: #REF!
Name PA: #REF!
Name PA: #REF!
Name pop: #REF!
Name pop: #REF!
Name pop: #REF!
Name pop: #REF!
Name pop: #REF!
Name ppp: [5]Setup!#REF!
Name ppp: [5]Setup!#REF!
Name ppp: [5]Setup!#REF!
Name ppp: [5]Setup!#REF!
Name ppp: [5]Setup!#REF!
Name PrintAr2: #REF!
Name PrintAr2: #REF!
Name PrintAr2: #REF!

Sheet Notes
B2: GLOBAL HEALTH ESTIMATES SUMMARY TABLES: PROJECTION OF DEATHS BY CAUSE, AGE AND SEX October 2018 World Health Organization Geneva, Switzerland
B3: http://www.who.int/healthinfo/global_burden_disease/en/
B5: Global Health Estimates Summary Tables: Projection This workbook contains summary projections of mortality by cause, sex, age and region. Following the release of the WHO Global Health Estimates of deaths by cause, age, sex and country for years 2000-2016 (1), WHO projections of mortality and causes of death have been updated and extended for years 2017-2060 (2). These projections are an update of previous projections released in 2006 (3), 2008 (4) and 2013 (5). A set of relatively simple models were used to project future health trends for baseline, optimistic and pessimistic scenarios, based largely on projections of economic and social development, and using the historically observed relationships of these with cause-specific mortality rates. Projected death rates were converted to numbers of deaths using the median population projections of the World Population Prospects 2017 (7). For a more detailed summary of methods and data inputs, refer to the documentation available on the WHO website at <url> (8). All projection covariates have been revised and updated. These include country level projections of gross domestic product (GDP) per capita in purchasing parity adjusted 2011 dollars, average years of education for men and women aged 25 years and over, and smoking impact SI, the component of observed lung cancer mortality attributable to tobacco smoking. SI was projected using 25-year lagged projections of prevalence of tobacco smoking and average cigarettes per smoker per day. In the original projections, separate projection models were developed for HIV/AIDS, tuberculosis, lung cancer, diabetes mellitus and chronic respiratory diseases (3). These models have been revised and updated as described in the projections documentation (8). Additional special projection models have also been developed for malaria, maternal deaths, road injury, homicide, natural disasters and war and conflict (8). These projections are less firm than the base year assessments for 2016, and provide “business-as-usual” projections under specified assumptions that do not specifically take account of trends in major risk factors apart from tobacco smoking, and to a limited extent, overweight and obesity. This spreadsheet includes point estimates for projected deaths by region, cause, age and sex under a business-as-usual scenario for projected covariates. Explicit uncertainty ranges are not included here, uncertainty in projections is better conveyed through comparison of optimistic and pessimistic scenarios with varying input assumptions (under preparation and not yet released). The number of significant figures displayed in worksheet cells in this this Excel workbook do not provide information on uncertainty ranges of projected estimates. The base scenario does not necessarily represent the best predictions or potential range of future global and regional health trends; it is possible that more sophisticated causal models incorporating projections of important determinants may provide better predictions for specific diseases. The preparation of these statistics was undertaken by the WHO Department of Health Statistics and Informatics in collaboration with WHO technical programs. Documentation and regional-level summary tables are available on the WHO website (8). For other queries, please send an email to healthstat@who.int. References 1. Global Health Estimates 2016: Deaths by cause, age and sex, by country and by region, 2000-2016. Geneva: World Health Organization; 2018. Available at http://www.who.int/healthinfo/global_burden_disease/estimates/en/. 2. World Health Organization (2018). Projections of mortality and causes of death, 2017-2060. Available on the WHO website at http://www.who.int/healthinfo/global_burden_disease/projections/en/. 3. Mathers CD, Loncar D. Projections of global mortality and burden of disease from 2002 to 2030. PLoS Medicine, 2006, 3(11): e442. 4. World Health Organization. The global burden of disease: 2004 update. Geneva, World Health Organization, 2008. 5. World Health Organization (2013). Projections of mortality and causes of death, 2012-2030. Available on the WHO website at http://www.who.int/healthinfo/global_burden_disease/projections/en/. 6. Murray CJL, Lopez AD, eds. The global burden of disease: a comprehensive assessment of mortality and disability from diseases, injuries and risk factors in 1990 and projected to 2020. Cambridge, Harvard School of Public Health on behalf of the World Health Organization and the World Bank, 1996. 7. UN Population Division. World Population Prospects - the 2017 revision. New York, United Nations, 2017. 8. World Health Organization (2018). Updated projections of mortality and causes of death, 2016-2060. Available on the WHO website at http://www.who.int/healthinfo/global_burden_disease/projections/en/.

Sheet Summary
B1: Summary: Deaths (thousands) by cause
F3: Year | G3: 2015 | I3: 2030 | K3: 2045 | M3: 2060
F4: Region | G4: WORLD | I4: WORLD | K4: WORLD | M4: WORLD
B6: Population (thousands) | G6: =World2016!$G7 -> 7462277.2 | I6: =World2030!$G7 -> 8545864.6 | K6: =World2045!$G7 -> 9498328.2 | M6: =World2060!$G7 -> 10216375
A7: GHE 2012 code | B7: GHE 2012 cause category | G7: Deaths (000s) | H7: % total | I7: Deaths (000s) | J7: % total | K7: Deaths (000s) | L7: % total | M7: Deaths (000s) | N7: % total
A8: 0 | C8: All Causes | G8: =World2016!$G10/1000 -> 56873.405 | H8: =100*G8/G$8 -> 100 | I8: =World2030!$G10/1000 -> 68119.453 | J8: =100*I8/I$8 -> 100 | K8: =World2045!$G10/1000 -> 85532.627 | L8: =100*K8/K$8 -> 100 | M8: =World2060!$G10/1000 -> 101831.16 | N8: =100*M8/M$8 -> 100
A9: 1 | B9: I. | C9: Communicable, maternal, perinatal and nutritional conditions | G9: =World2016!$G11/1000 -> 11481.463 | H9: =100*G9/G$8 -> 20.187755 | I9: =World2030!$G11/1000 -> 10094.844 | J9: =100*I9/I$8 -> 14.819326 | K9: =World2045!$G11/1000 -> 9666.0585 | L9: =100*K9/K$8 -> 11.301019 | M9: =World2060!$G11/1000 -> 9990.2208 | N9: =100*M9/M$8 -> 9.8105735
A10: 2 | C10: A. | D10: Infectious and parasitic diseases | G10: =World2016!$G12/1000 -> 5491.3375 | H10: =100*G10/G$8 -> 9.6553698 | I10: =World2030!$G12/1000 -> 4578.7775 | J10: =100*I10/I$8 -> 6.7216886 | K10: =World2045!$G12/1000 -> 4100.7739 | L10: =100*K10/K$8 -> 4.7943972 | M10: =World2060!$G12/1000 -> 3968.4132 | N10: =100*M10/M$8 -> 3.8970519
A11: 3 | D11: 1. | E11: Tuberculosis | G11: =World2016!$G13/1000 -> 1292.9006 | H11: =100*G11/G$8 -> 2.2732957 | I11: =World2030!$G13/1000 -> 1137.0415 | J11: =100*I11/I$8 -> 1.6691877 | K11: =World2045!$G13/1000 -> 1050.0536 | L11: =100*K11/K$8 -> 1.2276644 | M11: =World2060!$G13/1000 -> 926.96353 | N11: =100*M11/M$8 -> 0.91029458
A12: 4 | D12: 2. | E12: STDs excluding HIV | G12: =World2016!$G14/1000 -> 102.36054 | H12: =100*G12/G$8 -> 0.17997962 | I12: =World2030!$G14/1000 -> 68.622331 | J12: =100*I12/I$8 -> 0.10073823 | K12: =World2045!$G14/1000 -> 33.012726 | L12: =100*K12/K$8 -> 0.038596647 | M12: =World2060!$G14/1000 -> 18.227393 | N12: =100*M12/M$8 -> 0.017899622
A13: 5 | E13: a. | F13: Syphilis | G13: =World2016!$G15/1000 -> 95.557801 | H13: =100*G13/G$8 -> 0.16801843 | I13: =World2030!$G15/1000 -> 62.193551 | J13: =100*I13/I$8 -> 0.091300721 | K13: =World2045!$G15/1000 -> 27.107158 | L13: =100*K13/K$8 -> 0.031692185 | M13: =World2060!$G15/1000 -> 12.612664 | N13: =100*M13/M$8 -> 0.012385859
A14: 6 | E14: b. | F14: Chlamydia | G14: =World2016!$G16/1000 -> 1.3237512 | H14: =100*G14/G$8 -> 0.0023275399 | I14: =World2030!$G16/1000 -> 1.2433476 | J14: =100*I14/I$8 -> 0.001825246 | K14: =World2045!$G16/1000 -> 1.1461863 | L14: =100*K14/K$8 -> 0.0013400574 | M14: =World2060!$G16/1000 -> 1.0970673 | N14: =100*M14/M$8 -> 0.0010773395
A15: 7 | E15: c. | F15: Gonorrhoea | G15: =World2016!$G17/1000 -> 3.680321 | H15: =100*G15/G$8 -> 0.0064710757 | I15: =World2030!$G17/1000 -> 3.5310496 | J15: =100*I15/I$8 -> 0.0051836142 | K15: =World2045!$G17/1000 -> 3.3178774 | L15: =100*K15/K$8 -> 0.0038790781 | M15: =World2060!$G17/1000 -> 3.2295705 | N15: =100*M15/M$8 -> 0.0031714953
A16: 8 | E16: d. | F16: Trichomoniasis | G16: =World2016!$G18/1000 -> 0 | H16: =100*G16/G$8 -> 0 | I16: =World2030!$G18/1000 -> 0 | J16: =100*I16/I$8 -> 0 | K16: =World2045!$G18/1000 -> 0 | L16: =100*K16/K$8 -> 0 | M16: =World2060!$G18/1000 -> 0 | N16: =100*M16/M$8 -> 0
A17: 9 | E17: e. | F17: Other STDs | G17: =World2016!$G19/1000 -> 1.7986658 | H17: =100*G17/G$8 -> 0.003162578 | I17: =World2030!$G19/1000 -> 1.6543819 | J17: =100*I17/I$8 -> 0.0024286483 | K17: =World2045!$G19/1000 -> 1.4415034 | L17: =100*K17/K$8 -> 0.0016853257 | M17: =World2060!$G19/1000 -> 1.2880916 | N17: =100*M17/M$8 -> 0.0012649288
A18: 10 | D18: 3. | E18: HIV/AIDS | G18: =World2016!$G20/1000 -> 1011.9922 | H18: =100*G18/G$8 -> 1.7793769 | I18: =World2030!$G20/1000 -> 741.29949 | J18: =100*I18/I$8 -> 1.0882347 | K18: =World2045!$G20/1000 -> 522.15852 | L18: =100*K18/K$8 -> 0.61047876 | M18: =World2060!$G20/1000 -> 363.35619 | N18: =100*M18/M$8 -> 0.3568222
A19: 11 | D19: 4. | E19: Diarrhoeal diseases | G19: =World2016!$G21/1000 -> 1382.7068 | H19: =100*G19/G$8 -> 2.431201 | I19: =World2030!$G21/1000 -> 1236.1806 | J19: =100*I19/I$8 -> 1.8147248 | K19: =World2045!$G21/1000 -> 1274.2686 | L19: =100*K19/K$8 -> 1.4898041 | M19: =World2060!$G21/1000 -> 1491.6887 | N19: =100*M19/M$8 -> 1.4648647
A20: 12 | D20: 5. | E20: Childhood-cluster diseases | G20: =World2016!$G22/1000 -> 156.11592 | H20: =100*G20/G$8 -> 0.27449722 | I20: =World2030!$G22/1000 -> 83.373713 | J20: =100*I20/I$8 -> 0.1223934 | K20: =World2045!$G22/1000 -> 49.044165 | L20: =100*K20/K$8 -> 0.057339715 | M20: =World2060!$G22/1000 -> 34.551795 | N20: =100*M20/M$8 -> 0.033930474
A21: 13 | E21: a. | F21: Whooping cough | G21: =World2016!$G23/1000 -> 9.9890006 | H21: =100*G21/G$8 -> 0.017563571 | I21: =World2030!$G23/1000 -> 6.8372248 | J21: =100*I21/I$8 -> 0.010037111 | K21: =World2045!$G23/1000 -> 3.5075404 | L21: =100*K21/K$8 -> 0.0041008216 | M21: =World2060!$G23/1000 -> 1.7967315 | N21: =100*M21/M$8 -> 0.0017644221
A22: 14 | E22: b. | F22: Diphtheria | G22: =World2016!$G24/1000 -> 1.4467969 | H22: =100*G22/G$8 -> 0.00254389 | I22: =World2030!$G24/1000 -> 0.87972882 | J22: =100*I22/I$8 -> 0.0012914502 | K22: =World2045!$G24/1000 -> 0.46990516 | L22: =100*K22/K$8 -> 0.00054938703 | M22: =World2060!$G24/1000 -> 0.26854351 | N22: =100*M22/M$8 -> 0.00026371447
A23: 15 | E23: c. | F23: Measles | G23: =World2016!$G25/1000 -> 90.956355 | H23: =100*G23/G$8 -> 0.15992775 | I23: =World2030!$G25/1000 -> 44.533384 | J23: =100*I23/I$8 -> 0.065375429 | K23: =World2045!$G25/1000 -> 21.705694 | L23: =100*K23/K$8 -> 0.025377093 | M23: =World2060!$G25/1000 -> 12.09542 | N23: =100*M23/M$8 -> 0.011877916
A24: 16 | E24: d. | F24: Tetanus | G24: =World2016!$G26/1000 -> 53.723763 | H24: =100*G24/G$8 -> 0.094462014 | I24: =World2030!$G26/1000 -> 31.123375 | J24: =100*I24/I$8 -> 0.045689409 | K24: =World2045!$G26/1000 -> 23.361025 | L24: =100*K24/K$8 -> 0.027312414 | M24: =World2060!$G26/1000 -> 20.391101 | N24: =100*M24/M$8 -> 0.020024421
A25: 17 | D25: 6. | E25: Meningitis | G25: =World2016!$G27/1000 -> 278.81226 | H25: =100*G25/G$8 -> 0.49023312 | I25: =World2030!$G27/1000 -> 232.91431 | J25: =100*I25/I$8 -> 0.3419204 | K25: =World2045!$G27/1000 -> 190.09773 | L25: =100*K25/K$8 -> 0.22225172 | M25: =World2060!$G27/1000 -> 177.80444 | N25: =100*M25/M$8 -> 0.1746071
A26: 18 | D26: 7. | E26: Encephalitis | G26: =World2016!$G28/1000 -> 104.48244 | H26: =100*G26/G$8 -> 0.18371054 | I26: =World2030!$G28/1000 -> 105.34775 | J26: =100*I26/I$8 -> 0.15465149 | K26: =World2045!$G28/1000 -> 104.26513 | L26: =100*K26/K$8 -> 0.121901 | M26: =World2060!$G28/1000 -> 105.1503 | N26: =100*M26/M$8 -> 0.10325946
A27: 19 | D27: 8. | E27: Acute hepatitis B | G27: =World2016!$G29/1000 -> 110.83004 | H27: =100*G27/G$8 -> 0.19487146 | I27: =World2030!$G29/1000 -> 114.08323 | J27: =100*I27/I$8 -> 0.16747527 | K27: =World2045!$G29/1000 -> 108.00435 | L27: =100*K27/K$8 -> 0.1262727 | M27: =World2060!$G29/1000 -> 105.52487 | N27: =100*M27/M$8 -> 0.10362729
A28: 20 | D28: 9. | E28: Acute hepatitis C | G28: =World2016!$G30/1000 -> 2.552712 | H28: =100*G28/G$8 -> 0.0044884107 | I28: =World2030!$G30/1000 -> 2.7198101 | J28: =100*I28/I$8 -> 0.0039927069 | K28: =World2045!$G30/1000 -> 2.7857456 | L28: =100*K28/K$8 -> 0.0032569392 | M28: =World2060!$G30/1000 -> 2.9694603 | N28: =100*M28/M$8 -> 0.0029160625
A29: 21 | D29: 10. | E29: Parasitic and vector diseases | G29: =World2016!$G31/1000 -> 573.72124 | H29: =100*G29/G$8 -> 1.0087689 | I29: =World2030!$G31/1000 -> 405.74909 | J29: =100*I29/I$8 -> 0.5956435 | K29: =World2045!$G31/1000 -> 336.51062 | L29: =100*K29/K$8 -> 0.39342954 | M29: =World2060!$G31/1000 -> 305.70097 | N29: =100*M29/M$8 -> 0.30020375
A30: 22 | E30: a. | F30: Malaria | G30: =World2016!$G32/1000 -> 446.44595 | H30: =100*G30/G$8 -> 0.78498193 | I30: =World2030!$G32/1000 -> 293.07038 | J30: =100*I30/I$8 -> 0.43023009 | K30: =World2045!$G32/1000 -> 229.9197 | L30: =100*K30/K$8 -> 0.26880935 | M30: =World2060!$G32/1000 -> 196.29909 | N30: =100*M30/M$8 -> 0.19276918
A31: 23 | E31: b. | F31: Trypanosomiasis | G31: =World2016!$G33/1000 -> 3.0772969 | H31: =100*G31/G$8 -> 0.0054107837 | I31: =World2030!$G33/1000 -> 2.3630956 | J31: =100*I31/I$8 -> 0.0034690467 | K31: =World2045!$G33/1000 -> 1.9473115 | L31: =100*K31/K$8 -> 0.0022766885 | M31: =World2060!$G33/1000 -> 1.601334 | N31: =100*M31/M$8 -> 0.0015725383
A32: 24 | E32: c. | F32: Chagas disease | G32: =World2016!$G34/1000 -> 7.727879 | H32: =100*G32/G$8 -> 0.013587861 | I32: =World2030!$G34/1000 -> 8.6456332 | J32: =100*I32/I$8 -> 0.012691871 | K32: =World2045!$G34/1000 -> 10.851749 | L32: =100*K32/K$8 -> 0.012687263 | M32: =World2060!$G34/1000 -> 12.484912 | N32: =100*M32/M$8 -> 0.012260404
A33: 25 | E33: d. | F33: Schistosomiasis | G33: =World2016!$G35/1000 -> 24.072074 | H33: =100*G33/G$8 -> 0.042325714 | I33: =World2030!$G35/1000 -> 18.585463 | J33: =100*I33/I$8 -> 0.027283635 | K33: =World2045!$G35/1000 -> 19.653197 | L33: =100*K33/K$8 -> 0.022977427 | M33: =World2060!$G35/1000 -> 21.857393 | N33: =100*M33/M$8 -> 0.021464347
A34: 26 | E34: e. | F34: Leishmaniasis | G34: =World2016!$G36/1000 -> 14.453969 | H34: =100*G34/G$8 -> 0.025414285 | I34: =World2030!$G36/1000 -> 12.934417 | J34: =100*I34/I$8 -> 0.018987846 | K34: =World2045!$G36/1000 -> 11.748078 | L34: =100*K34/K$8 -> 0.0137352 | M34: =World2060!$G36/1000 -> 11.998386 | N34: =100*M34/M$8 -> 0.011782627
A35: 27 | E35: f. | F35: Lymphatic filariasis | G35: =World2016!$G37/1000 -> 0.00038413689 | H35: =100*G35/G$8 -> 6.7542446e-07 | I35: =World2030!$G37/1000 -> 0.00033724138 | J35: =100*I35/I$8 -> 4.9507353e-07 | K35: =World2045!$G37/1000 -> 0.00029665497 | L35: =100*K35/K$8 -> 3.4683253e-07 | M35: =World2060!$G37/1000 -> 0.00019816527 | N35: =100*M35/M$8 -> 1.946018e-07
A36: 28 | E36: g. | F36: Onchocerciasis | G36: =World2016!$G38/1000 -> 0.0014504721 | H36: =100*G36/G$8 -> 2.5503521e-06 | I36: =World2030!$G38/1000 -> 0.0010513241 | J36: =100*I36/I$8 -> 1.5433537e-06 | K36: =World2045!$G38/1000 -> 0.0011008324 | L36: =100*K36/K$8 -> 1.2870322e-06 | M36: =World2060!$G38/1000 -> 0.001319242 | N36: =100*M36/M$8 -> 1.295519e-06
A37: 29 | E37: h. | F37: Leprosy | G37: =World2016!$G39/1000 -> 13.221084 | H37: =100*G37/G$8 -> 0.023246515 | I37: =World2030!$G39/1000 -> 12.517026 | J37: =100*I37/I$8 -> 0.018375112 | K37: =World2045!$G39/1000 -> 13.433167 | L37: =100*K37/K$8 -> 0.015705313 | M37: =World2060!$G39/1000 -> 14.668835 | N37: =100*M37/M$8 -> 0.014405055
A38: 30 | E38: i. | F38: Dengue | G38: =World2016!$G40/1000 -> 40.392498 | H38: =100*G38/G$8 -> 0.07102177 | I38: =World2030!$G40/1000 -> 41.807633 | J38: =100*I38/I$8 -> 0.061374001 | K38: =World2045!$G40/1000 -> 37.669209 | L38: =100*K38/K$8 -> 0.044040749 | M38: =World2060!$G40/1000 -> 38.082562 | N38: =100*M38/M$8 -> 0.037397749
A39: 31 | E39: j. | F39: Trachoma | G39: =World2016!$G41/1000 -> 0.0014091835 | H39: =100*G39/G$8 -> 2.4777547e-06 | I39: =World2030!$G41/1000 -> 0.0011613339 | J39: =100*I39/I$8 -> 1.7048491e-06 | K39: =World2045!$G41/1000 -> 0.0014155711 | L39: =100*K39/K$8 -> 1.6550072e-06 | M39: =World2060!$G41/1000 -> 0.0016359039 | N39: =100*M39/M$8 -> 1.6064865e-06
A40: 32 | E40: k. | F40: Rabies | G40: =World2016!$G42/1000 -> 24.327245 | H40: =100*G40/G$8 -> 0.042774379 | I40: =World2030!$G42/1000 -> 15.8229 | J40: =100*I40/I$8 -> 0.023228166 | K40: =World2045!$G42/1000 -> 11.285396 | L40: =100*K40/K$8 -> 0.013194258 | M40: =World2060!$G42/1000 -> 8.7052996 | N40: =100*M40/M$8 -> 0.0085487581
A41: 33 | D41: 11. | E41: Intestinal nematode infections | G41: =World2016!$G43/1000 -> 6.250325 | H41: =100*G41/G$8 -> 0.010989891 | I41: =World2030!$G43/1000 -> 4.0728643 | J41: =100*I41/I$8 -> 0.0059790033 | K41: =World2045!$G43/1000 -> 2.1354959 | L41: =100*K41/K$8 -> 0.0024967033 | M41: =World2060!$G43/1000 -> 1.4095091 | N41: =100*M41/M$8 -> 0.0013841629
A42: 34 | E42: a. | F42: Ascariasis | G42: =World2016!$G44/1000 -> 6.2482824 | H42: =100*G42/G$8 -> 0.010986299 | I42: =World2030!$G44/1000 -> 4.071197 | J42: =100*I42/I$8 -> 0.0059765557 | K42: =World2045!$G44/1000 -> 2.1338811 | L42: =100*K42/K$8 -> 0.0024948154 | M42: =World2060!$G44/1000 -> 1.4080004 | N42: =100*M42/M$8 -> 0.0013826813
...

Sheet Top 20 causes
A1: 20 Leading Causes of Death
A3: World
A4: 2016 | C4: WORLD, 2000 | G4: 2030 | I4: WORLD, 2011 | M4: 2045 | O4: WORLD, 2011 | S4: 2060 | U4: WORLD, 2011
A5: Rank | B5: GHE code | C5: Cause | D5: Deaths (000s) | E5: % deaths | F5: Deaths per 100,000 population | G5: Rank | H5: GHE code | I5: Cause | J5: Deaths (000s) | K5: % deaths | L5: Deaths per 100,000 population | M5: Rank | N5: GHE code | O5: Cause | P5: Deaths (000s) | Q5: % deaths | R5: Deaths per 100,000 population | S5: Rank | T5: GHE code | U5: Cause | V5: Deaths (000s) | W5: % deaths | X5: Deaths per 100,000 population
A6: 1 | B6: 113 | C6: Ischaemic heart disease | D6: 9433.224 | E6: =100000*D6/World2016!$G$10 -> 16.586354 | F6: =100000*D6/World2016!$G$7 -> 126.41214 | G6: 1 | H6: 113 | I6: Ischaemic heart disease | J6: 11740.367 | K6: =100000*J6/World2030!$G$10 -> 17.234969 | L6: =100000*J6/World2030!$G$7 -> 137.38068 | M6: 1 | N6: 113 | O6: Ischaemic heart disease | P6: 14553.656 | Q6: =100000*P6/World2045!$G$10 -> 17.015326 | R6: =100000*P6/World2045!$G$7 -> 153.22334 | S6: 1 | T6: 113 | U6: Ischaemic heart disease | V6: 16560.299 | W6: =100000*V6/World2060!$G$10 -> 16.262507 | X6: =100000*V6/World2060!$G$7 -> 162.09564
A7: 2 | B7: 114 | C7: Stroke | D7: 5780.6414 | E7: =100000*D7/World2016!$G$10 -> 10.16405 | F7: =100000*D7/World2016!$G$7 -> 77.464844 | G7: 2 | H7: 114 | I7: Stroke | J7: 7180.2224 | K7: =100000*J7/World2030!$G$10 -> 10.540634 | L7: =100000*J7/World2030!$G$7 -> 84.019847 | M7: 2 | N7: 114 | O7: Stroke | P7: 9243.8795 | Q7: =100000*P7/World2045!$G$10 -> 10.807431 | R7: =100000*P7/World2045!$G$7 -> 97.321122 | S7: 2 | T7: 114 | U7: Stroke | V7: 10759.496 | W7: =100000*V7/World2060!$G$10 -> 10.566015 | X7: =100000*V7/World2060!$G$7 -> 105.31618
A8: 3 | B8: 118 | C8: Chronic obstructive pulmonary disease | D8: 3041.446 | E8: =100000*D8/World2016!$G$10 -> 5.3477474 | F8: =100000*D8/World2016!$G$7 -> 40.757612 | G8: 3 | H8: 118 | I8: Chronic obstructive pulmonary disease | J8: 3864.1484 | K8: =100000*J8/World2030!$G$10 -> 5.6726064 | L8: =100000*J8/World2030!$G$7 -> 45.216588 | M8: 3 | N8: 118 | O8: Chronic obstructive pulmonary disease | P8: 5483.7462 | Q8: =100000*P8/World2045!$G$10 -> 6.4112918 | R8: =100000*P8/World2045!$G$7 -> 57.733805 | S8: 3 | T8: 95 | U8: Alzheimer disease and other dementias | V8: 7258.2285 | W8: =100000*V8/World2060!$G$10 -> 7.1277088 | X8: =100000*V8/World2060!$G$7 -> 71.045045
A9: 4 | B9: 39 | C9: Lower respiratory infections | D9: 2957.1359 | E9: =100000*D9/World2016!$G$10 -> 5.1995057 | F9: =100000*D9/World2016!$G$7 -> 39.627795 | G9: 4 | H9: 95 | I9: Alzheimer disease and other dementias | J9: 3281.0693 | K9: =100000*J9/World2030!$G$10 -> 4.8166407 | L9: =100000*J9/World2030!$G$7 -> 38.39365 | M9: 4 | N9: 95 | O9: Alzheimer disease and other dementias | P9: 5384.5922 | Q9: =100000*P9/World2045!$G$10 -> 6.2953663 | R9: =100000*P9/World2045!$G$7 -> 56.689894 | S9: 4 | T9: 118 | U9: Chronic obstructive pulmonary disease | V9: 7053.0569 | W9: =100000*V9/World2060!$G$10 -> 6.9262266 | X9: =100000*V9/World2060!$G$7 -> 69.036783
A10: 5 | B10: 95 | C10: Alzheimer disease and other dementias | D10: 1991.7083 | E10: =100000*D10/World2016!$G$10 -> 3.5020029 | F10: =100000*D10/World2016!$G$7 -> 26.690355 | G10: 5 | H10: 39 | I10: Lower respiratory infections | J10: 3221.2583 | K10: =100000*J10/World2030!$G$10 -> 4.7288376 | L10: =100000*J10/World2030!$G$7 -> 37.693767 | M10: 5 | N10: 39 | O10: Lower respiratory infections | P10: 3842.4553 | Q10: =100000*P10/World2045!$G$10 -> 4.4923854 | R10: =100000*P10/World2045!$G$7 -> 40.454017 | S10: 5 | T10: 80 | U10: Diabetes mellitus | V10: 5128.5589 | W10: =100000*V10/World2060!$G$10 -> 5.0363355 | X10: =100000*V10/World2060!$G$7 -> 50.199397
A11: 6 | B11: 68 | C11: Trachea, bronchus, lung cancers | D11: 1707.7399 | E11: =100000*D11/World2016!$G$10 -> 3.0027039 | F11: =100000*D11/World2016!$G$7 -> 22.884971 | G11: 6 | H11: 80 | I11: Diabetes mellitus | J11: 2412.6356 | K11: =100000*J11/World2030!$G$10 -> 3.5417718 | L11: =100000*J11/World2030!$G$7 -> 28.231615 | M11: 6 | N11: 80 | O11: Diabetes mellitus | P11: 3663.4593 | Q11: =100000*P11/World2045!$G$10 -> 4.2831133 | R11: =100000*P11/World2045!$G$7 -> 38.569517 | S11: 6 | T11: 39 | U11: Lower respiratory infections | V11: 4620.9047 | W11: =100000*V11/World2060!$G$10 -> 4.5378101 | X11: =100000*V11/World2060!$G$7 -> 45.230373
A12: 7 | B12: 80 | C12: Diabetes mellitus | D12: 1598.526 | E12: =100000*D12/World2016!$G$10 -> 2.810674 | F12: =100000*D12/World2016!$G$7 -> 21.421423 | G12: 7 | H12: 68 | I12: Trachea, bronchus, lung cancers | J12: 2018.5212 | K12: =100000*J12/World2030!$G$10 -> 2.9632082 | L12: =100000*J12/World2030!$G$7 -> 23.61986 | M12: 7 | N12: 68 | O12: Trachea, bronchus, lung cancers | P12: 2340.3731 | Q12: =100000*P12/World2045!$G$10 -> 2.7362343 | R12: =100000*P12/World2045!$G$7 -> 24.639842 | S12: 7 | T12: 127 | U12: Kidney diseases | V12: 2784.9036 | W12: =100000*V12/World2060!$G$10 -> 2.7348246 | X12: =100000*V12/World2060!$G$7 -> 27.259213
A13: 8 | B13: 153 | C13: Road injury | D13: 1402.3018 | E13: =100000*D13/World2016!$G$10 -> 2.4656547 | F13: =100000*D13/World2016!$G$7 -> 18.791875 | G13: 8 | H13: 127 | I13: Kidney diseases | J13: 1626.1265 | K13: =100000*J13/World2030!$G$10 -> 2.387169 | L13: =100000*J13/World2030!$G$7 -> 19.028227 | M13: 8 | N13: 127 | O13: Kidney diseases | P13: 2224.5518 | Q13: =100000*P13/World2045!$G$10 -> 2.6008225 | R13: =100000*P13/World2045!$G$7 -> 23.420456 | S13: 8 | T13: 68 | U13: Trachea, bronchus, lung cancers | V13: 2448.8055 | W13: =100000*V13/World2060!$G$10 -> 2.4047703 | X13: =100000*V13/World2060!$G$7 -> 23.969416
A14: 9 | B14: 11 | C14: Diarrhoeal diseases | D14: 1382.7068 | E14: =100000*D14/World2016!$G$10 -> 2.431201 | F14: =100000*D14/World2016!$G$7 -> 18.529287 | G14: 9 | H14: 123 | I14: Cirrhosis of the liver | J14: 1501.9698 | K14: =100000*J14/World2030!$G$10 -> 2.2049059 | L14: =100000*J14/World2030!$G$7 -> 17.575399 | M14: 9 | N14: 123 | O14: Cirrhosis of the liver | P14: 1748.3617 | Q14: =100000*P14/World2045!$G$10 -> 2.0440875 | R14: =100000*P14/World2045!$G$7 -> 18.407047 | S14: 9 | T14: 153 | U14: Road injury | V14: 2260.0095 | W14: =100000*V14/World2060!$G$10 -> 2.2193693 | X14: =100000*V14/World2060!$G$7 -> 22.121441
A15: 10 | B15: 3 | C15: Tuberculosis | D15: 1292.9007 | E15: =100000*D15/World2016!$G$10 -> 2.2732957 | F15: =100000*D15/World2016!$G$7 -> 17.325819 | G15: 10 | H15: 153 | I15: Road injury | J15: 1498.6527 | K15: =100000*J15/World2030!$G$10 -> 2.2000363 | L15: =100000*J15/World2030!$G$7 -> 17.536584 | M15: 10 | N15: 153 | O15: Road injury | P15: 1596.01 | Q15: =100000*P15/World2045!$G$10 -> 1.8659663 | R15: =100000*P15/World2045!$G$7 -> 16.803063 | S15: 10 | T15: 123 | U15: Cirrhosis of the liver | V15: 1989.7948 | W15: =100000*V15/World2060!$G$10 -> 1.9540137 | X15: =100000*V15/World2060!$G$7 -> 19.476524
A16: 11 | B16: 123 | C16: Cirrhosis of the liver | D16: 1254.0714 | E16: =100000*D16/World2016!$G$10 -> 2.2050226 | F16: =100000*D16/World2016!$G$7 -> 16.805479 | G16: 11 | H16: 11 | I16: Diarrhoeal diseases | J16: 1236.1805 | K16: =100000*J16/World2030!$G$10 -> 1.8147247 | L16: =100000*J16/World2030!$G$7 -> 14.465248 | M16: 11 | N16: 112 | O16: Hypertensive heart disease | P16: 1594.2791 | Q16: =100000*P16/World2045!$G$10 -> 1.8639426 | R16: =100000*P16/World2045!$G$7 -> 16.784839 | S16: 11 | T16: 112 | U16: Hypertensive heart disease | V16: 1910.0347 | W16: =100000*V16/World2060!$G$10 -> 1.8756879 | X16: =100000*V16/World2060!$G$7 -> 18.695815
A17: 12 | B17: 127 | C17: Kidney diseases | D17: 1179.8387 | E17: =100000*D17/World2016!$G$10 -> 2.0744999 | F17: =100000*D17/World2016!$G$7 -> 15.810706 | G17: 12 | H17: 112 | I17: Hypertensive heart disease | J17: 1203.4148 | K17: =100000*J17/World2030!$G$10 -> 1.7666243 | L17: =100000*J17/World2030!$G$7 -> 14.081838 | M17: 12 | N17: 66 | O17: Liver cancer | P17: 1441.4463 | Q17: =100000*P17/World2045!$G$10 -> 1.685259 | R17: =100000*P17/World2045!$G$7 -> 15.17579 | S17: 12 | T17: 65 | U17: Colon and rectum cancers | V17: 1705.7693 | W17: =100000*V17/World2060!$G$10 -> 1.6750956 | X17: =100000*V17/World2060!$G$7 -> 16.696424
... A25: 20 | B25: 51 | C25: Birth asphyxia and birth trauma | D25: 678.6383 | E25: =100000*D25/World2016!$G$10 -> 1.1932437 | F25: =100000*D25/World2016!$G$7 -> 9.0942521 | G25: 20 | H25: 50 | I25: Preterm birth complications | J25: 755.75282 | K25: =100000*J25/World2030!$G$10 -> 1.1094523 | L25: =100000*J25/World2030!$G$7 -> 8.8434916 | M25: 20 | N25: 74 | O25: Prostate cancer | P25: 843.92138 | Q25: =100000*P25/World2045!$G$10 -> 0.98666604 | R25: =100000*P25/World2045!$G$7 -> 8.8849466 | S25: 20 | T25: 63 | U25: Oesophagus cancer | V25: 977.28342 | W25: =100000*V25/World2060!$G$10 -> 0.9597096 | X25: =100000*V25/World2060!$G$7 -> 9.5658526

Sheet World2016-2060 Deaths
A1: Global Health Estimates (GHE) 2016: Global age-standardized death rate per 100,000 population by cause and year
A2: Region: | C2: World
A3: Year: | C3: 2016-2060
F6: Year | G6: 2016 | H6: 2017 | I6: 2018 | J6: 2019 | K6: 2020 | L6: 2021 | M6: 2022 | N6: 2023 | O6: 2024 | P6: 2025 | Q6: 2026 | R6: 2027 | S6: 2028 | T6: 2029 | U6: 2030 | V6: 2035 | W6: 2040 | X6: 2045 | Y6: 2050 | Z6: 2055 | AA6: 2060
A7: Population (thousands) | G7: 7462277.2 | H7: 7545527.3 | I7: 7628036.1 | J7: 7709744.6 | K7: 7790601.8 | L7: 7870537.4 | M7: 7949495.4 | N7: 8027468.6 | O7: 8104468.6 | P7: 8180504.2 | Q7: 8255555.1 | R7: 8329601.1 | S7: 8402654.9 | T7: 8474737.4 | U7: 8545864.4 | V7: 8887160.2 | W7: 9204612.1 | X7: 9498328.2 | Y7: 9765810.1 | Z7: 10005047 | AA7: 10216375
A9: GHE code | C9: GHE cause category
A10: 0 | C10: All Causes | G10: 56873404 | H10: 57599157 | I10: 58357680 | J10: 58995499 | K10: 59513981 | L10: 60597753 | M10: 61519175 | N10: 62479624 | O10: 62991698 | P10: 63612222 | Q10: 64714616 | R10: 65650879 | S10: 66613582 | T10: 67363859 | U10: 68119453 | V10: 73737411 | W10: 79816277 | X10: 85532626 | Y10: 91472850 | Z10: 96905269 | AA10: 1.0183116e+08
A11: 1 | B11: I. | C11: Communicable, maternal, perinatal and nutritional conditions | G11: 11481463 | H11: 11398909 | I11: 11311254 | J11: 11183551 | K11: 11052249 | L11: 10984557 | M11: 10896180 | N11: 10796945 | O11: 10682482 | P11: 10553295 | Q11: 10488058 | R11: 10404097 | S11: 10306756 | T11: 10201398 | U11: 10094844 | V11: 9827286 | W11: 9697262.8 | X11: 9666058.7 | Y11: 9727520.7 | Z11: 9844902.8 | AA11: 9990220.8
A12: 2 | C12: A. | D12: Infectious and parasitic diseases | G12: 5491337.7 | H12: 5407145.1 | I12: 5333751.6 | J12: 5252708 | K12: 5178020.9 | L12: 5125790.1 | M12: 5066957 | N12: 5004705.6 | O12: 4940093.2 | P12: 4869465.3 | Q12: 4821754.5 | R12: 4767816.3 | S12: 4707296.9 | T12: 4642834.2 | U12: 4578777.5 | V12: 4356239.3 | W12: 4201183.6 | X12: 4100773.8 | Y12: 4038983.1 | Z12: 3997952 | AA12: 3968413.2
A13: 3 | D13: 1. | E13: Tuberculosis | G13: 1292900.6 | H13: 1280391.7 | I13: 1264918.1 | J13: 1249648.9 | K13: 1234695.9 | L13: 1225627.7 | M13: 1215852.1 | N13: 1205170.9 | O13: 1193487.8 | P13: 1180811 | Q13: 1174284.8 | R13: 1166472.6 | S13: 1157669.8 | T13: 1147855.2 | U13: 1137041.6 | V13: 1103554.9 | W13: 1075511.5 | X13: 1050053.6 | Y13: 1020458.8 | Z13: 980402.59 | AA13: 926963.54
A14: 4 | D14: 2. | E14: STDs excluding HIV | G14: 102360.54 | H14: 103128.15 | I14: 103511.27 | J14: 102797.33 | K14: 101464.86 | L14: 99698.397 | M14: 97345.018 | N14: 94678.936 | O14: 91496.23 | P14: 87912.115 | Q14: 84135.075 | R14: 80008.926 | S14: 76034.364 | T14: 72228.146 | U14: 68622.33 | V14: 53388.908 | W14: 41764.936 | X14: 33012.726 | Y14: 26484.246 | Z14: 21693.794 | AA14: 18227.393
A15: 5 | E15: a. | F15: Syphilis | G15: 95557.8 | H15: 96483.796 | I15: 96854.7 | J15: 96130.993 | K15: 94787.165 | L15: 93006.936 | M15: 90653.516 | N15: 87994.743 | O15: 84834.244 | P15: 81284.251 | Q15: 77534.462 | R15: 73447.006 | S15: 69514.174 | T15: 65752.613 | U15: 62193.552 | V15: 47149.68 | W15: 35702.779 | X15: 27107.158 | Y15: 20712.597 | Z15: 16020.127 | AA15: 12612.664
A16: 6 | E16: b. | F16: Chlamydia | G16: 1323.7512 | H16: 1288.7467 | I16: 1291.0963 | J16: 1292.5032 | K16: 1293.5905 | L16: 1296.186 | M16: 1296.1393 | N16: 1294.556 | O16: 1289.8721 | P16: 1282.6359 | Q16: 1277.6353 | R16: 1270.1957 | S16: 1261.928 | T16: 1252.909 | U16: 1243.3476 | V16: 1206.7191 | W16: 1173.1141 | X16: 1146.1863 | Y16: 1122.7515 | Z16: 1105.5802 | AA16: 1097.0673
A17: 7 | E17: c. | F17: Gonorrhoea | G17: 3680.321 | H17: 3598.837 | I17: 3607.0446 | J17: 3614.3228 | K17: 3623.1411 | L17: 3634.1283 | M17: 3637.5161 | N17: 3636.8982 | O17: 3628.4761 | P17: 3613.9624 | Q17: 3604.1868 | R17: 3588.2914 | S17: 3570.6972 | T17: 3551.454 | U17: 3531.0497 | V17: 3454.3832 | W17: 3382.7703 | X17: 3317.8774 | Y17: 3267.3849 | Z17: 3237.4569 | AA17: 3229.5706
A18: 8 | E18: d. | F18: Trichomoniasis | G18: 0 | H18: 0 | I18: 0 | J18: 0 | K18: 0 | L18: 0 | M18: 0 | N18: 0 | O18: 0 | P18: 0 | Q18: 0 | R18: 0 | S18: 0 | T18: 0 | U18: 0 | V18: 0 | W18: 0 | X18: 0 | Y18: 0 | Z18: 0 | AA18: 0
A19: 9 | E19: e. | F19: Other STDs | G19: 1798.6658 | H19: 1756.7698 | I19: 1758.4313 | J19: 1759.5167 | K19: 1760.9625 | L19: 1761.1476 | M19: 1757.8481 | N19: 1752.7418 | O19: 1743.6385 | P19: 1731.2668 | Q19: 1718.792 | R19: 1703.4348 | S19: 1687.5686 | T19: 1671.1677 | U19: 1654.3819 | V19: 1578.1236 | W19: 1506.2735 | X19: 1441.5034 | Y19: 1381.513 | Z19: 1330.6291 | AA19: 1288.0916
A20: 10 | D20: 3. | E20: HIV/AIDS | G20: 1011992.2 | H20: 967483.32 | I20: 947997.74 | J20: 921377.93 | K20: 898553.98 | L20: 876957.66 | M20: 856051.68 | N20: 836090.59 | O20: 822114.87 | P20: 808775.48 | Q20: 797653.97 | R20: 787508.98 | S20: 773047.17 | T20: 756459.86 | U20: 741299.48 | V20: 661874.68 | W20: 588623.79 | X20: 522158.51 | Y20: 463303.18 | Z20: 410726.74 | AA20: 363356.18
A21: 11 | D21: 4. | E21: Diarrhoeal diseases | G21: 1382706.8 | H21: 1370344.7 | I21: 1355455.9 | J21: 1339996.7 | K21: 1326300.7 | L21: 1323814.9 | M21: 1317630.1 | N21: 1309339.8 | O21: 1296998.3 | P21: 1281398.2 | Q21: 1277144.1 | R21: 1269479.8 | S21: 1259980.2 | T21: 1248768.7 | U21: 1236180.6 | V21: 1222042.8 | W21: 1236606.5 | X21: 1274268.6 | Y21: 1331552.5 | Z21: 1404943.8 | AA21: 1491688.6
A22: 12 | D22: 5. | E22: Childhood-cluster diseases | G22: 156115.92 | H22: 147455.3 | I22: 139005.86 | J22: 132521.58 | K22: 126777.42 | L22: 121571.61 | M22: 116477.65 | N22: 111708.39 | O22: 107064.36 | P22: 102630.19 | Q22: 98461.425 | R22: 94427.329 | S22: 90569.947 | T22: 86881.672 | U22: 83373.714 | V22: 68475.351 | W22: 57294.362 | X22: 49044.165 | Y22: 42865.653 | Z22: 38139.551 | AA22: 34551.795
A23: 13 | E23: a. | F23: Whooping cough | G23: 9989.0007 | H23: 9984.54 | I23: 9861.9922 | J23: 9762.3954 | K23: 9648.3687 | L23: 9502.4414 | M23: 9307.3798 | N23: 9075.1853 | O23: 8800.6679 | P23: 8489.8582 | Q23: 8162.858 | R23: 7813.9417 | S23: 7477.5835 | T23: 7152.0507 | U23: 6837.2249 | V23: 5473.7136 | W23: 4381.9258 | X23: 3507.5404 | Y23: 2805.471 | Z23: 2243.245 | AA23: 1796.7315
A24: 14 | E24: b. | F24: Diphtheria | G24: 1446.7969 | H24: 1409.3733 | I24: 1371.7787 | J24: 1332.1252 | K24: 1294.8296 | L24: 1256.9064 | M24: 1217.3768 | N24: 1176.208 | O24: 1134.0078 | P24: 1090.7551 | Q24: 1047.6967 | R24: 1003.3425 | S24: 960.35252 | T24: 919.03256 | U24: 879.72877 | V24: 709.13823 | W24: 574.83475 | X24: 469.90515 | Y24: 386.68396 | Z24: 320.79877 | AA24: 268.54351
A25: 15 | E25: c. | F25: Measles | G25: 90956.352 | H25: 85870.965 | I25: 80664.209 | J25: 76764.308 | K25: 73177.821 | L25: 69906.604 | M25: 66627.461 | N25: 63501.3 | O25: 60423.7 | P25: 57475.421 | Q25: 54666.671 | R25: 51941 | S25: 49349.825 | T25: 46879.926 | U25: 44533.385 | V25: 34563.609 | W25: 27141.64 | X25: 21705.694 | Y25: 17650.197 | Z25: 14520.262 | AA25: 12095.42
A26: 16 | E26: d. | F26: Tetanus | G26: 53723.762 | H26: 50190.425 | I26: 47107.884 | J26: 44662.746 | K26: 42656.409 | L26: 40905.662 | M26: 39325.437 | N26: 37955.694 | O26: 36705.977 | P26: 35574.156 | Q26: 34584.201 | R26: 33669.046 | S26: 32782.189 | T26: 31930.66 | U26: 31123.375 | V26: 27728.887 | W26: 25195.961 | X26: 23361.026 | Y26: 22023.301 | Z26: 21055.245 | AA26: 20391.101
A27: 17 | D27: 6. | E27: Meningitis | G27: 278812.26 | H27: 278551.6 | I27: 277710.97 | J27: 275191.94 | K27: 272551.8 | L27: 270282.93 | M27: 267398.57 | N27: 264148.16 | O27: 260252.88 | P27: 255798.71 | Q27: 251601.01 | R27: 246868.26 | S27: 242172.35 | T27: 237510.2 | U27: 232914.31 | V27: 214384.59 | W27: 200296.4 | X27: 190097.73 | Y27: 183154.15 | Z27: 179219.84 | AA27: 177804.44
A28: 18 | D28: 7. | E28: Encephalitis | G28: 104482.44 | H28: 105290.68 | I28: 106727.59 | J28: 107583.26 | K28: 108179.72 | L28: 108941.23 | M28: 109288.68 | N28: 109380.35 | O28: 109085.07 | P28: 108505.67 | Q28: 108137.69 | R28: 107437.68 | S28: 106712.36 | T28: 105999.97 | U28: 105347.75 | V28: 104052.6 | W28: 103749.03 | X28: 104265.13 | Y28: 104942.93 | Z28: 105229.57 | AA28: 105150.3
A29: 19 | D29: 8. | E29: Acute hepatitis B | G29: 110830.04 | H29: 111822.04 | I29: 112965.69 | J29: 114040.5 | K29: 115051.32 | L29: 115883.41 | M29: 116440.46 | N29: 116864.12 | O29: 116955.48 | P29: 116782.81 | Q29: 116476.17 | R29: 115882.98 | S29: 115268.52 | T29: 114659.98 | U29: 114083.23 | V29: 111723.43 | W29: 109612.4 | X29: 108004.35 | Y29: 106795.21 | Z29: 106028.08 | AA29: 105524.87
A30: 20 | D30: 9. | E30: Acute hepatitis C | G30: 2552.712 | H30: 2584.4419 | I30: 2612.2088 | J30: 2637.8084 | K30: 2661.4903 | L30: 2686.7214 | M30: 2705.6139 | N30: 2720.6451 | O30: 2727.9813 | P30: 2729.0047 | Q30: 2733.5244 | R30: 2731.6795 | S30: 2728.3735 | T30: 2724.2275 | U30: 2719.8101 | V30: 2729.0344 | W30: 2748.695 | X30: 2785.7456 | Y30: 2835.5988 | Z30: 2898.9546 | AA30: 2969.4603
A31: 21 | D31: 10. | E31: Parasitic and vector diseases | G31: 573721.24 | H31: 561786.89 | I31: 540335.73 | J31: 522404.56 | K31: 506960.05 | L31: 493936.68 | M31: 481775.24 | N31: 470431.41 | O31: 459434.13 | P31: 448808.67 | Q31: 439291.83 | R31: 430151.08 | S31: 421458.3 | T31: 413296.16 | U31: 405749.09 | V31: 375557.45 | W31: 353207.43 | X31: 336510.62 | Y31: 324123.75 | Z31: 314287.71 | AA31: 305700.96
A32: 22 | E32: a. | F32: Malaria | G32: 446445.95 | H32: 435897.94 | I32: 415667.88 | J32: 398803.54 | K32: 384370.15 | L32: 372109.43 | M32: 360869.44 | N32: 350450.64 | O32: 340566.97 | P32: 331176 | Q32: 322527.23 | R32: 314363.15 | S32: 306686.57 | T32: 299566.87 | U32: 293070.37 | V32: 266197.99 | W32: 245802.03 | X32: 229919.7 | Y32: 217407.88 | Z32: 206598.99 | AA32: 196299.09
A33: 23 | E33: b. | F33: Trypanosomiasis | G33: 3077.2968 | H33: 2916.5516 | I33: 2811.9689 | J33: 2741.6641 | K33: 2697.3205 | L33: 2655.1223 | M33: 2614.6094 | N33: 2579.3845 | O33: 2544.573 | P33: 2511.2052 | Q33: 2479.3653 | R33: 2449.8515 | S33: 2421.006 | T33: 2391.9255 | U33: 2363.0955 | V33: 2219.8304 | W33: 2080.2624 | X33: 1947.3115 | Y33: 1822.0417 | Z33: 1706.1956 | AA33: 1601.3339
A34: 24 | E34: c. | F34: Chagas disease | G34: 7727.8791 | H34: 7637.3858 | I34: 7615.8519 | J34: 7613.0151 | K34: 7630.7985 | L34: 7682.3257 | M34: 7741.0338 | N34: 7807.4739 | O34: 7886.1371 | P34: 7980.8752 | Q34: 8106.3919 | R34: 8241.2281 | S34: 8374.3729 | T34: 8508.7065 | U34: 8645.6333 | V34: 9386.9869 | W34: 10140.34 | X34: 10851.75 | Y34: 11474.742 | Z34: 12020.456 | AA34: 12484.912
A35: 25 | E35: d. | F35: Schistosomiasis | G35: 24072.075 | H35: 22938.598 | I35: 21951.609 | J35: 21110.161 | K35: 20393.413 | L35: 19831.738 | M35: 19373.217 | N35: 19016.633 | O35: 18749.154 | P35: 18567.431 | Q35: 18507.597 | R35: 18531.677 | S35: 18552.443 | T35: 18570.187 | U35: 18585.463 | V35: 18819.189 | W35: 19165.174 | X35: 19653.197 | Y35: 20264.749 | Z35: 21002.729 | AA35: 21857.393
A36: 26 | E36: e. | F36: Leishmaniasis | G36: 14453.969 | H36: 14266.19 | I36: 14145.41 | J36: 14054.552 | K36: 14002.295 | L36: 13980.756 | M36: 13927.328 | N36: 13861.214 | O36: 13763.626 | P36: 13636.483 | Q36: 13531.74 | R36: 13394.39 | S36: 13249.428 | T36: 13096.127 | U36: 12934.418 | V36: 12353.969 | W36: 11945.976 | X36: 11748.077 | Y36: 11698.23 | Z36: 11795.526 | AA36: 11998.386
A37: 27 | E37: f. | F37: Lymphatic filariasis | G37: 0.38413689 | H37: 0.3598465 | I37: 0.36001006 | J37: 0.36034653 | K37: 0.36120573 | L37: 0.36206499 | M37: 0.36363065 | N37: 0.36506468 | O37: 0.3651835 | P37: 0.36352509 | Q37: 0.35962969 | R37: 0.3545844 | S37: 0.34878311 | T37: 0.3429276 | U37: 0.33724138 | V37: 0.31297174 | W37: 0.30868021 | X37: 0.29665497 | Y37: 0.25765824 | Z37: 0.22290456 | AA37: 0.19816527
A38: 28 | E38: g. | F38: Onchocerciasis | G38: 1.4504721 | H38: 1.0029171 | I38: 1.0010081 | J38: 0.99865191 | K38: 0.99702258 | L38: 0.99387789 | M38: 0.99279959 | N38: 0.99248143 | O38: 0.99560115 | P38: 1.0022101 | Q38: 1.0084299 | R38: 1.0184692 | S38: 1.0296634 | T38: 1.0406439 | U38: 1.0513241 | V38: 1.0784542 | W38: 1.0787514 | X38: 1.1008324 | Y38: 1.1828654 | Z38: 1.2792222 | AA38: 1.319242
A39: 29 | E39: h. | F39: Leprosy | G39: 13221.085 | H39: 12982.081 | I39: 12774.256 | J39: 12596.947 | K39: 12447.626 | L39: 12356.782 | M39: 12286.036 | N39: 12248.401 | O39: 12223.194 | P39: 12216.98 | Q39: 12274.174 | R39: 12345.986 | S39: 12408.737 | T39: 12464.863 | U39: 12517.025 | V39: 12849.665 | W39: 13123.969 | X39: 13433.166 | Y39: 13782.867 | Z39: 14203.767 | AA39: 14668.835
A40: 30 | E40: i. | F40: Dengue | G40: 40392.499 | H40: 41756.979 | I40: 42844.009 | J40: 43752.6 | K40: 44427.819 | L40: 45008.939 | M40: 45291.647 | N40: 45378.127 | O40: 45166.62 | P40: 44710.904 | Q40: 44332.978 | R40: 43735.896 | S40: 43109.09 | T40: 42462.45 | U40: 41807.633 | V40: 39710.852 | W40: 38430.85 | X40: 37669.209 | Y40: 37409.423 | Z40: 37551.489 | AA40: 38082.559
A41: 31 | E41: j. | F41: Trachoma | G41: 1.4091835 | H41: 0.98843157 | I41: 0.98839203 | J41: 0.98757435 | K41: 0.98824614 | L41: 1.0026256 | M41: 1.0212682 | N41: 1.0415137 | O41: 1.0603676 | P41: 1.0770576 | Q41: 1.0962699 | R41: 1.113105 | S41: 1.1281298 | T41: 1.1437392 | U41: 1.1613339 | V41: 1.2510726 | W41: 1.3287251 | X41: 1.4155711 | Y41: 1.5137326 | Z41: 1.6172537 | AA41: 1.6359039
A42: 32 | E42: k. | F42: Rabies | G42: 24327.246 | H42: 23388.832 | I42: 22522.409 | J42: 21729.719 | K42: 20988.283 | L42: 20309.23 | M42: 19669.558 | N42: 19087.139 | O42: 18531.438 | P42: 18006.331 | Q42: 17529.893 | R42: 17086.413 | S42: 16654.156 | T42: 16232.514 | U42: 15822.9 | V42: 14016.319 | W42: 12516.104 | X42: 11285.396 | Y42: 10260.865 | Z42: 9405.4316 | AA42: 8705.2995
A43: 33 | D43: 11. | E43: Intestinal nematode infections | G43: 6250.3253 | H43: 6223.2887 | I43: 6176.2145 | J43: 6076.6903 | K43: 5967.7911 | L43: 5845.0654 | M43: 5696.2317 | N43: 5530.2054 | O43: 5341.7343 | P43: 5135.5315 | Q43: 4925.5806 | R43: 4699.3769 | S43: 4481.1658 | T43: 4271.685 | U43: 4072.8643 | V43: 3235.7974 | W43: 2601.9233 | X43: 2135.4959 | Y43: 1798.7112 | Z43: 1564.9121 | AA43: 1409.5091
...

Sheet World2016-2060 ASDR
A1: Global Health Estimates (GHE) 2016: Global deaths by cause and year
A2: Region: | C2: World
A3: Year: | C3: 2016-2060
F6: Year | G6: 2016 | H6: 2017 | I6: 2018 | J6: 2019 | K6: 2020 | L6: 2021 | M6: 2022 | N6: 2023 | O6: 2024 | P6: 2025 | Q6: 2026 | R6: 2027 | S6: 2028 | T6: 2029 | U6: 2030 | V6: 2035 | W6: 2040 | X6: 2045 | Y6: 2050 | Z6: 2055 | AA6: 2060
A9: GHE code | C9: GHE cause category
A10: 0 | C10: All Causes | G10: 726.00576 | H10: 716.86011 | I10: 709.49008 | J10: 701.84034 | K10: 693.72599 | L10: 687.24061 | M10: 679.96024 | N10: 674.38374 | O10: 664.45872 | P10: 656.91094 | Q10: 650.02721 | R10: 642.46807 | S10: 636.3069 | T10: 628.35443 | U10: 620.88323 | V10: 589.71684 | W10: 563.65282 | X10: 541.01309 | Y10: 524.93263 | Z10: 509.74268 | AA10: 496.20902
A11: 1 | B11: I. | C11: Communicable, maternal, perinatal and nutritional conditions | G11: 149.31855 | H11: 146.06064 | I11: 142.99355 | J11: 139.60509 | K11: 136.32939 | L11: 133.35321 | M11: 130.26884 | N11: 127.21711 | O11: 124.14601 | P11: 121.04448 | Q11: 118.16363 | R11: 115.2368 | S11: 112.30983 | T11: 109.40746 | U11: 106.57208 | V11: 94.024696 | W11: 83.489597 | X11: 74.930536 | Y11: 67.982932 | Z11: 62.194687 | AA11: 57.196358
A12: 2 | C12: A. | D12: Infectious and parasitic diseases | G12: 72.156884 | H12: 69.953153 | I12: 67.993981 | J12: 66.010181 | K12: 64.171911 | L12: 62.50384 | M12: 60.818643 | N12: 59.163085 | O12: 57.548681 | P12: 55.922142 | Q12: 54.436362 | R12: 52.944436 | S12: 51.441638 | T12: 49.95111 | U12: 48.512109 | V12: 42.310315 | W12: 37.326366 | X12: 33.365716 | Y12: 30.162661 | Z12: 27.42645 | AA12: 24.983198
A13: 3 | D13: 1. | E13: Tuberculosis | G13: 16.938823 | H13: 16.435207 | I13: 15.917868 | J13: 15.424799 | K13: 14.954153 | L13: 14.548345 | M13: 14.154682 | N13: 13.771439 | O13: 13.395498 | P13: 13.024134 | Q13: 12.709053 | R13: 12.39562 | S13: 12.088844 | T13: 11.787128 | U13: 11.48849 | V13: 10.281185 | W13: 9.3218489 | X13: 8.5459914 | Y13: 7.8584896 | Z13: 7.1579249 | AA13: 6.415456
A14: 4 | D14: 2. | E14: STDs excluding HIV | G14: 1.3427175 | H14: 1.3467041 | I14: 1.3470039 | J14: 1.3340886 | K14: 1.3138178 | L14: 1.2882486 | M14: 1.2552839 | N14: 1.2185743 | O14: 1.1755817 | P14: 1.1277645 | Q14: 1.07642 | R14: 1.0210172 | S14: 0.96792648 | T14: 0.91716226 | U14: 0.8689594 | V14: 0.66099192 | W14: 0.50028085 | X14: 0.37988002 | Y14: 0.29156284 | Z14: 0.22706962 | AA14: 0.17940716
A15: 5 | E15: a. | F15: Syphilis | G15: 1.2529361 | H15: 1.2602486 | I15: 1.261619 | J15: 1.2497299 | K15: 1.230408 | L15: 1.2059184 | M15: 1.174131 | N15: 1.1386186 | O15: 1.0969449 | P15: 1.0505443 | Q15: 1.0006961 | R15: 0.9468739 | S15: 0.89533973 | T15: 0.8461088 | U15: 0.7994137 | V15: 0.59860012 | W15: 0.44430571 | X15: 0.32938026 | Y15: 0.24574764 | Z15: 0.18531162 | AA15: 0.14133331
A16: 6 | E16: b. | F16: Chlamydia | G16: 0.017432778 | H16: 0.016768487 | I16: 0.016591606 | J16: 0.016414773 | K16: 0.016240483 | L16: 0.016037104 | M16: 0.015810585 | N16: 0.015576274 | O16: 0.015315846 | P16: 0.015035196 | Q16: 0.014738671 | R16: 0.014424922 | S16: 0.014115061 | T16: 0.013809589 | U16: 0.013509498 | V16: 0.01209918 | W16: 0.01085506 | X16: 0.009795513 | Y16: 0.0088799115 | Z16: 0.0080890093 | AA16: 0.0073705552
A17: 7 | E17: c. | F17: Gonorrhoea | G17: 0.048430229 | H17: 0.046625546 | I17: 0.046017145 | J17: 0.045446169 | K17: 0.044933308 | L17: 0.044356655 | M17: 0.043733955 | N17: 0.043104882 | O17: 0.042412848 | P17: 0.041668373 | Q17: 0.040881671 | R17: 0.040048737 | S17: 0.03922716 | T17: 0.03841719 | U17: 0.037620374 | V17: 0.03382713 | W17: 0.030403944 | X17: 0.027503479 | Y17: 0.025044013 | Z17: 0.022915114 | AA17: 0.020992294
A18: 8 | E18: d. | F18: Trichomoniasis | G18: 0 | H18: 0 | I18: 0 | J18: 0 | K18: 0 | L18: 0 | M18: 0 | N18: 0 | O18: 0 | P18: 0 | Q18: 0 | R18: 0 | S18: 0 | T18: 0 | U18: 0 | V18: 0 | W18: 0 | X18: 0 | Y18: 0 | Z18: 0 | AA18: 0
A19: 9 | E19: e. | F19: Other STDs | G19: 0.023918412 | H19: 0.023061505 | I19: 0.022776159 | J19: 0.022497763 | K19: 0.022235988 | L19: 0.021936475 | M19: 0.02160837 | N19: 0.021274539 | O19: 0.020908179 | P19: 0.020516609 | Q19: 0.020103546 | R19: 0.019669613 | S19: 0.019244527 | T19: 0.01882669 | U19: 0.01841582 | V19: 0.016465488 | W19: 0.014716145 | X19: 0.013200772 | Y19: 0.011891271 | Z19: 0.010753878 | AA19: 0.0097110055
A20: 10 | D20: 3. | E20: HIV/AIDS | G20: 13.592967 | H20: 12.838308 | I20: 12.435819 | J20: 11.949073 | K20: 11.524954 | L20: 11.131701 | M20: 10.756677 | N20: 10.403512 | O20: 10.133808 | P20: 9.8798243 | Q20: 9.6628225 | R20: 9.463407 | S20: 9.2182007 | T20: 8.9538985 | U20: 8.710194 | V20: 7.5222553 | W20: 6.4838744 | X20: 5.5814206 | Y20: 4.8131241 | Z20: 4.1530829 | AA20: 3.5856305
A21: 11 | D21: 4. | E21: Diarrhoeal diseases | G21: 17.94361 | H21: 17.479145 | I21: 17.012574 | J21: 16.562688 | K21: 16.150844 | L21: 15.805993 | M21: 15.432512 | N21: 15.053737 | O21: 14.646654 | P21: 14.219382 | Q21: 13.849237 | R21: 13.461479 | S21: 13.075748 | T21: 12.691055 | U21: 12.308007 | V21: 10.766273 | W21: 9.5942436 | X21: 8.7373922 | Y21: 8.1248638 | Z21: 7.6753785 | AA21: 7.3184743
A22: 12 | D22: 5. | E22: Childhood-cluster diseases | G22: 2.0557797 | H22: 1.9313362 | I22: 1.8122038 | J22: 1.7203202 | K22: 1.6390036 | L22: 1.5654804 | M22: 1.4937543 | N22: 1.4266528 | O22: 1.3616615 | P22: 1.2997931 | Q22: 1.2407186 | R22: 1.1838879 | S22: 1.1297719 | T22: 1.0780908 | U22: 1.0288072 | V22: 0.81587365 | W22: 0.65328075 | X22: 0.53156524 | Y22: 0.439705 | Z22: 0.36823442 | AA22: 0.31169323
A23: 13 | E23: a. | F23: Whooping cough | G23: 0.13443985 | H23: 0.13330953 | I23: 0.13076548 | J23: 0.12867992 | K23: 0.12655005 | L23: 0.12399859 | M23: 0.1209666 | N23: 0.11760875 | O23: 0.11382596 | P23: 0.10964879 | Q23: 0.10519599 | R23: 0.10051756 | S23: 0.096052515 | T23: 0.091771189 | U23: 0.087665674 | V23: 0.069626844 | W23: 0.055045359 | X23: 0.043368936 | Y23: 0.034159857 | Z23: 0.026952786 | AA23: 0.021336455
A24: 14 | E24: b. | F24: Diphtheria | G24: 0.019120544 | H24: 0.018535152 | I24: 0.01796836 | J24: 0.017390578 | K24: 0.016854201 | L24: 0.016317609 | M24: 0.015764292 | N24: 0.015194859 | O24: 0.014618346 | P24: 0.014034072 | Q24: 0.013445949 | R24: 0.012847162 | S24: 0.012270684 | T24: 0.011718016 | U24: 0.011191573 | V24: 0.0088754682 | W24: 0.0070376333 | X24: 0.0056268303 | Y24: 0.0045451663 | Z24: 0.0036996831 | AA24: 0.0030331936
A25: 15 | E25: c. | F25: Measles | G25: 1.1947616 | H25: 1.1237641 | I25: 1.0526084 | J25: 0.99935938 | K25: 0.9506797 | L25: 0.90661205 | M25: 0.86251335 | N25: 0.82053432 | O25: 0.77940466 | P25: 0.7401636 | Q25: 0.70232868 | R25: 0.66586783 | S25: 0.63135374 | T25: 0.59848896 | U25: 0.56718618 | V25: 0.43257913 | W25: 0.33173673 | X25: 0.25813789 | Y25: 0.20422652 | Z25: 0.16333646 | AA25: 0.13172513
A26: 16 | E26: d. | F26: Tetanus | G26: 0.70745777 | H26: 0.6557274 | I26: 0.61086167 | J26: 0.57489033 | K26: 0.54491961 | L26: 0.51855214 | M26: 0.49450999 | N26: 0.47331482 | O26: 0.45381254 | P26: 0.43594662 | Q26: 0.41974802 | R26: 0.40465539 | S26: 0.39009495 | T26: 0.37611266 | U26: 0.36276377 | V26: 0.30479222 | W26: 0.25946105 | X26: 0.22443158 | Y26: 0.19677345 | Z26: 0.1742455 | AA26: 0.15559844
A27: 17 | D27: 6. | E27: Meningitis | G27: 3.7069388 | H27: 3.6663108 | I27: 3.6197904 | J27: 3.5533836 | K27: 3.4870263 | L27: 3.4230818 | M27: 3.352644 | N27: 3.2792826 | O27: 3.1994691 | P27: 3.1141517 | Q27: 3.0287891 | R27: 2.9386579 | S27: 2.8509183 | T27: 2.7652946 | U27: 2.6819245 | V27: 2.3176417 | W27: 2.0239447 | X27: 1.7887531 | Y27: 1.5983422 | Z27: 1.441308 | AA27: 1.311709
A28: 18 | D28: 7. | E28: Encephalitis | G28: 1.3514252 | H28: 1.3334926 | I28: 1.3246337 | J28: 1.3095918 | K28: 1.2925031 | L28: 1.2698549 | M28: 1.2442574 | N28: 1.2177913 | O28: 1.1887717 | P28: 1.1581792 | Q28: 1.1235657 | R28: 1.0880471 | S28: 1.0543193 | T28: 1.0220996 | U28: 0.9913881 | V28: 0.84980639 | W28: 0.73576545 | X28: 0.64651829 | Y28: 0.57397087 | Z28: 0.51364271 | AA28: 0.46245465
A29: 19 | D29: 8. | E29: Acute hepatitis B | G29: 1.459427 | H29: 1.4441069 | I29: 1.4308477 | J29: 1.4169205 | K29: 1.4023719 | L29: 1.3856373 | M29: 1.3661521 | N29: 1.3456286 | O29: 1.3215876 | P29: 1.2948063 | Q29: 1.2668783 | R29: 1.2365705 | S29: 1.2068842 | T29: 1.1780427 | U29: 1.1501711 | V29: 1.0262916 | W29: 0.92171315 | X29: 0.83345316 | Y29: 0.75939661 | Z29: 0.69578963 | AA29: 0.63896343
A30: 20 | D30: 9. | E30: Acute hepatitis C | G30: 0.03336549 | H30: 0.03304098 | I30: 0.032675426 | J30: 0.032295763 | K30: 0.031901824 | L30: 0.031497428 | M30: 0.031036852 | N30: 0.030551312 | O30: 0.029995196 | P30: 0.029382911 | Q30: 0.028788243 | R30: 0.028149521 | S30: 0.027522152 | T30: 0.026909996 | U30: 0.026314385 | V30: 0.023782015 | W30: 0.021675018 | X30: 0.019946983 | Y30: 0.018560585 | Z30: 0.017418736 | AA30: 0.016387559
A31: 21 | D31: 10. | E31: Parasitic and vector diseases | G31: 7.5638544 | H31: 7.3449014 | I31: 7.0090366 | J31: 6.7237602 | K31: 6.4737613 | L31: 6.2533115 | M31: 6.0463547 | N31: 5.8530837 | O31: 5.6680239 | P31: 5.4913403 | Q31: 5.3239948 | R31: 5.165189 | S31: 5.0158563 | T31: 4.8763562 | U31: 4.746876 | V31: 4.1915826 | W31: 3.7532426 | X31: 3.4030984 | Y31: 3.1252002 | Z31: 2.8952222 | AA31: 2.6893697
A32: 22 | E32: a. | F32: Malaria | G32: 5.8858179 | H32: 5.7133526 | I32: 5.4201329 | J32: 5.1741345 | K32: 4.9616434 | L32: 4.7771287 | M32: 4.6067953 | N32: 4.4488884 | O32: 4.3003756 | P32: 4.1608142 | Q32: 4.0285013 | R32: 3.9049068 | S32: 3.7899847 | T32: 3.6840187 | U32: 3.5871603 | V32: 3.1722613 | W32: 2.8474303 | X32: 2.5886878 | Y32: 2.3842399 | Z32: 2.2137178 | AA32: 2.0580278
A33: 23 | E33: b. | F33: Trypanosomiasis | G33: 0.041761669 | H33: 0.039243481 | I33: 0.037524218 | J33: 0.036296839 | K33: 0.035438991 | L33: 0.03461868 | M33: 0.033839508 | N33: 0.033148298 | O33: 0.032479222 | P33: 0.031842279 | Q33: 0.03122485 | R33: 0.030645602 | S33: 0.030086404 | T33: 0.029535848 | U33: 0.028999065 | V33: 0.02639314 | W33: 0.023964123 | X33: 0.021719232 | Y33: 0.019644536 | Z33: 0.017733992 | AA33: 0.015984136
A34: 24 | E34: c. | F34: Chagas disease | G34: 0.098959346 | H34: 0.09496454 | I34: 0.092043147 | J34: 0.089500269 | K34: 0.087314216 | L34: 0.085185181 | M34: 0.083291914 | N34: 0.08160712 | O34: 0.080132352 | P34: 0.078864566 | Q34: 0.077576857 | R34: 0.076482993 | S34: 0.075445501 | T34: 0.074458476 | U34: 0.073507515 | V34: 0.068601475 | W34: 0.064258242 | X34: 0.060267773 | Y34: 0.05661936 | Z34: 0.053320402 | AA34: 0.050061548
A35: 25 | E35: d. | F35: Schistosomiasis | G35: 0.31895271 | H35: 0.29844411 | I35: 0.28048418 | J35: 0.26492164 | K35: 0.25135448 | L35: 0.24017347 | M35: 0.2305721 | N35: 0.22248218 | O35: 0.21566227 | P35: 0.20998574 | Q35: 0.20582122 | R35: 0.20266568 | S35: 0.19957923 | T35: 0.19656373 | U35: 0.1936061 | V35: 0.18135228 | W35: 0.17122341 | X35: 0.1632038 | Y35: 0.15665252 | Z35: 0.15082005 | AA35: 0.14548583
A36: 26 | E36: e. | F36: Leishmaniasis | G36: 0.19119283 | H36: 0.18603675 | I36: 0.18190439 | J36: 0.17826042 | K36: 0.17515215 | L36: 0.17228572 | M36: 0.16908761 | N36: 0.16582331 | O36: 0.16225605 | P36: 0.15840593 | Q36: 0.15463818 | R36: 0.15058829 | S36: 0.14658659 | T36: 0.14262748 | U36: 0.13870011 | V36: 0.12208984 | W36: 0.10885604 | X36: 0.098765111 | Y36: 0.090607437 | Z36: 0.084093822 | AA36: 0.078785193
A37: 27 | E37: f. | F37: Lymphatic filariasis | G37: 4.7557064e-06 | H37: 4.3853215e-06 | I37: 4.3298842e-06 | J37: 4.2647594e-06 | K37: 4.1824801e-06 | L37: 4.0975783e-06 | M37: 4.0043105e-06 | N37: 3.9021397e-06 | O37: 3.7898094e-06 | P37: 3.6692704e-06 | Q37: 3.5474879e-06 | R37: 3.4207133e-06 | S37: 3.294281e-06 | T37: 3.1761003e-06 | U37: 3.0686499e-06 | V37: 2.7093026e-06 | W37: 2.6243415e-06 | X37: 2.2930622e-06 | Y37: 1.7946678e-06 | Z37: 1.5844869e-06 | AA37: 1.4288535e-06
A38: 28 | E38: g. | F38: Onchocerciasis | G38: 1.9794752e-05 | H38: 1.3615603e-05 | I38: 1.3428081e-05 | J38: 1.3187395e-05 | K38: 1.2907112e-05 | L38: 1.2603961e-05 | M38: 1.2291953e-05 | N38: 1.1968728e-05 | O38: 1.1686738e-05 | P38: 1.144951e-05 | Q38: 1.1244598e-05 | R38: 1.1078069e-05 | S38: 1.0921615e-05 | T38: 1.0757612e-05 | U38: 1.0586607e-05 | V38: 9.6341846e-06 | W38: 8.6098119e-06 | X38: 8.0082266e-06 | Y38: 7.9660456e-06 | Z38: 7.8132382e-06 | AA38: 7.1343359e-06
A39: 29 | E39: h. | F39: Leprosy | G39: 0.17193101 | H39: 0.1646085 | I39: 0.15793972 | J39: 0.15184743 | K39: 0.14623702 | L39: 0.14150448 | M39: 0.13717045 | N39: 0.13333773 | O39: 0.12971457 | P39: 0.12632927 | Q39: 0.12367337 | R39: 0.12121209 | S39: 0.11873258 | T39: 0.11626169 | U39: 0.11381443 | V39: 0.10350975 | W39: 0.094908212 | X39: 0.088111025 | Y39: 0.082966878 | Z39: 0.078730517 | AA39: 0.074772926
A40: 30 | E40: i. | F40: Dengue | G40: 0.52949987 | H40: 0.53837603 | I40: 0.54359029 | J40: 0.5464778 | K40: 0.54639354 | L40: 0.54325065 | M40: 0.53675035 | N40: 0.52831891 | O40: 0.51677911 | P40: 0.50280705 | Q40: 0.48800785 | R40: 0.47138573 | S40: 0.45512528 | T40: 0.43931002 | U40: 0.42398994 | V40: 0.35893965 | W40: 0.30759943 | X40: 0.26662674 | Y40: 0.23471239 | Z40: 0.21019732 | AA40: 0.19045468
A41: 31 | E41: j. | F41: Trachoma | G41: 1.7657992e-05 | H41: 1.1872617e-05 | I41: 1.1584737e-05 | J41: 1.1310608e-05 | K41: 1.1054866e-05 | L41: 1.0811195e-05 | M41: 1.064444e-05 | N41: 1.0508827e-05 | O41: 1.0357628e-05 | P41: 1.0177883e-05 | Q41: 9.9185381e-06 | R41: 9.650149e-06 | S41: 9.3973724e-06 | T41: 9.2001462e-06 | U41: 9.0703944e-06 | V41: 8.4582393e-06 | W41: 7.6391131e-06 | X41: 7.1847069e-06 | Y41: 6.8996097e-06 | Z41: 6.8943333e-06 | AA41: 6.300079e-06
A42: 32 | E42: k. | F42: Rabies | G42: 0.32569693 | H42: 0.30984539 | I42: 0.29538829 | J42: 0.28229265 | K42: 0.27019908 | L42: 0.25913695 | M42: 0.24882076 | N42: 0.23945122 | O42: 0.23059904 | P42: 0.22226596 | Q42: 0.21452647 | R42: 0.20727748 | S42: 0.20029247 | T42: 0.19355697 | U42: 0.18707577 | V42: 0.1584144 | W42: 0.13498401 | X42: 0.11569938 | Y42: 0.099740464 | Z42: 0.086592087 | AA42: 0.075782611
A43: 33 | D43: 11. | E43: Intestinal nematode infections | G43: 0.082182705 | H43: 0.081338718 | I43: 0.080319867 | J43: 0.078679206 | K43: 0.076954252 | L43: 0.075062905 | M43: 0.072851758 | N43: 0.070441945 | O43: 0.067771227 | P43: 0.064896334 | Q43: 0.061913825 | R43: 0.058751968 | S43: 0.055719851 | T43: 0.052817027 | U43: 0.050058603 | V43: 0.038159103 | W43: 0.02895986 | X43: 0.022115346 | Y43: 0.017129601 | Z43: 0.013532605 | AA43: 0.010902209
A44: 34 | E44: a. | F44: Ascariasis | G44: 0.082156384 | H44: 0.08131641 | I44: 0.08029804 | J44: 0.078657869 | K44: 0.076933399 | L44: 0.075042555 | M44: 0.072831815 | N44: 0.070422326 | O44: 0.067751904 | P44: 0.064877293 | Q44: 0.061895172 | R44: 0.058733711 | S44: 0.055701975 | T44: 0.052799478 | U44: 0.050041314 | V44: 0.038143226 | W44: 0.028945362 | X44: 0.02210221 | Y44: 0.017117513 | Z44: 0.013521502 | AA44: 0.010892296
...

Sheet World2016
A1: Global Health Estimates (GHE) 2016: Deaths by age, sex and cause
A2: Region: | C2: World
A3: Year: | C3: 2016
F5: Sex | G5: Both sexes | H5: Male | O5: Female
F6: Age group | G6: Total | H6: 0-4 years | I6: 5-14 years | J6: 15-29 years | K6: 30-49 years | L6: 50-69 years | M6: 70+ years | N6: Total | O6: 0-4 years | P6: 5-14 years | Q6: 15-29 years | R6: 30-49 years | S6: 50-69 years | T6: 70+ years | U6: Total
A7: Population (thousands) | G7: =N7+U7 -> 7462277.2 | H7: 349354.1 | I7: 655235.91 | J7: 928226.92 | K7: 1022146.6 | L7: 632852.39 | M7: 176597.93 | N7: =SUM(H7:M7) -> 3764413.9 | O7: 326527.38 | P7: 611992.6 | Q7: 876849.75 | R7: 998438.27 | S7: 654010.56 | T7: 230044.76 | U7: =SUM(O7:T7) -> 3697863.3
A9: GHE code | C9: GHE cause category
A10: 0 | C10: All Causes | G10: =N10+U10 -> 56873405 | H10: 2996518.7 | I10: 547388.46 | J10: 1580618.4 | K10: 3516036.8 | L10: 8813196.4 | M10: 12892903 | N10: =SUM(H10:M10) -> 30346662 | O10: 2660096.4 | P10: 486752.46 | Q10: 1057075.8 | R10: 2182402.8 | S10: 5934259.9 | T10: 14206155 | U10: =SUM(O10:T10) -> 26526743
A11: 1 | B11: I. | C11: Communicable, maternal, perinatal and nutritional conditions | G11: =N11+U11 -> 11481463 | H11: 2427930 | I11: 252030.75 | J11: 340964.69 | K11: 802476.64 | L11: 911795.52 | M11: 1233808.4 | N11: =SUM(H11:M11) -> 5969005.9 | O11: 2153824.5 | P11: 262243.35 | Q11: 453760.06 | R11: 656599.86 | S11: 629681.1 | T11: 1356348.6 | U11: =SUM(O11:T11) -> 5512457.5
A12: 2 | C12: A. | D12: Infectious and parasitic diseases | G12: =N12+U12 -> 5491337.5 | H12: 637703.1 | I12: 199173.5 | J12: 290659.78 | K12: 708239.4 | L12: 641772.6 | M12: 526506.31 | N12: =SUM(H12:M12) -> 3004054.7 | O12: 611472.37 | P12: 206599.45 | Q12: 257509.6 | R12: 446306.54 | S12: 418785.99 | T12: 546608.91 | U12: =SUM(O12:T12) -> 2487282.9
A13: 3 | D13: 1. | E13: Tuberculosis | G13: =N13+U13 -> 1292900.6 | H13: 12495.015 | I13: 7660.9702 | J13: 79582.098 | K13: 211080.76 | L13: 297242.07 | M13: 220520.73 | N13: =SUM(H13:M13) -> 828581.64 | O13: 12607.68 | P13: 9824.1295 | Q13: 55425.402 | R13: 97010.735 | S13: 141146.1 | T13: 148304.94 | U13: =SUM(O13:T13) -> 464318.99
A14: 4 | D14: 2. | E14: STDs excluding HIV | G14: =N14+U14 -> 102360.54 | H14: 36197.7 | I14: 5097.1181 | J14: 282.4882 | K14: 450.59068 | L14: 465.06739 | M14: 300.72308 | N14: =SUM(H14:M14) -> 42793.687 | O14: 41379.429 | P14: 9788.4689 | Q14: 2516.8107 | R14: 2283.3198 | S14: 1973.5472 | T14: 1625.2763 | U14: =SUM(O14:T14) -> 59566.852
