Workbook
Name __LEX1955: '[1]summary-targets'!#REF!
Name __LEX1955: '[1]summary-targets'!#REF!
Name __LEX1955: '[1]summary-targets'!#REF!
Name __LEX1955: '[1]summary-targets'!#REF!
Name __LEX1955: '[1]summary-targets'!#REF!
Name __LEX1975: '[1]summary-targets'!#REF!
Name __LEX1975: '[1]summary-targets'!#REF!
Name __LEX1975: '[1]summary-targets'!#REF!
Name __LEX1975: '[1]summary-targets'!#REF!
Name __LEX1975: '[1]summary-targets'!#REF!
Name __LEX2025: '[1]summary-targets'!#REF!
Name __LEX2025: '[1]summary-targets'!#REF!
Name __LEX2025: '[1]summary-targets'!#REF!
Name __LEX2025: '[1]summary-targets'!#REF!
Name __LEX2025: '[1]summary-targets'!#REF!
Name _reg98: [2]whoreg!#REF!
Name _reg98: [2]whoreg!#REF!
Name _reg98: [2]whoreg!#REF!
Name _reg98: [2]whoreg!#REF!
Name _reg98: [2]whoreg!#REF!
Name _resul: '[3]slop-inter'!$A$45:$AG$48
Name _yellowF: #REF!
Name _yellowF: #REF!
Name _yellowF: #REF!
Name _yellowF: #REF!
Name _yellowF: #REF!
Name _yellowM: #REF!
Name _yellowM: #REF!
Name _yellowM: #REF!
Name _yellowM: #REF!
Name _yellowM: #REF!
Name data: #REF!
Name data: #REF!
Name data: #REF!
Name data: #REF!
Name data: #REF!
Name GBDageD95: [4]Deaths!$A$1:$T$643
Name home: '[3]slop-inter'!$D$1:$F$1
Name label: [3]lx!$D$1788:$E$1825
Name n: #REF!
Name PA: #REF!
Name PA: #REF!
Name PA: #REF!
Name PA: #REF!
Name PA: #REF!
Name pop: #REF!
Name pop: #REF!
Name pop: #REF!
Name pop: #REF!
Name pop: #REF!
Name ppp: [5]Setup!#REF!
Name ppp: [5]Setup!#REF!
Name ppp: [5]Setup!#REF!
Name ppp: [5]Setup!#REF!
Name ppp: [5]Setup!#REF!
Name PrintAr2: #REF!
Name PrintAr2: #REF!
Name PrintAr2: #REF!
Name PrintAr2: #REF!
Name PrintAr2: #REF!

Sheet Notes
B2: GLOBAL HEALTH ESTIMATES SUMMARY TABLES: PROJECTION OF DEATHS BY CAUSE, AGE AND SEX, BY UNITED NATIONS MILLENNIUM DEVELOPMENT GOALS (SDG) REGION October 2018 World Health Organization Geneva, Switzerland
B3: http://www.who.int/healthinfo/global_burden_disease/en/
B5: Global Health Estimates Summary Tables: Projection This workbook contains summary projections of mortality by cause, sex, age and region. Following the release of the WHO Global Health Estimates of deaths by cause, age, sex and country for years 2000-2016 (1), WHO projections of mortality and causes of death have been updated and extended for years 2017-2060 (2). These projections are an update of previous projections released in 2006 (3), 2008 (4) and 2013 (5). A set of relatively simple models were used to project future health trends for baseline, optimistic and pessimistic scenarios, based largely on projections of economic and social development, and using the historically observed relationships of these with cause-specific mortality rates. Projected death rates were converted to numbers of deaths using the median population projections of the World Population Prospects 2017 (7). For a more detailed summary of methods and data inputs, refer to the documentation available on the WHO website at <url> (8). All projection covariates have been revised and updated. These include country level projections of gross domestic product (GDP) per capita in purchasing parity adjusted 2011 dollars, average years of education for men and women aged 25 years and over, and smoking impact SI, the component of observed lung cancer mortality attributable to tobacco smoking. SI was projected using 25-year lagged projections of prevalence of tobacco smoking and average cigarettes per smoker per day. In the original projections, separate projection models were developed for HIV/AIDS, tuberculosis, lung cancer, diabetes mellitus and chronic respiratory diseases (3). These models have been revised and updated as described in the projections documentation (8). Additional special projection models have also been developed for malaria, maternal deaths, road injury, homicide, natural disasters and war and conflict (8). These projections are less firm than the base year assessments for 2016, and provide “business-as-usual” projections under specified assumptions that do not specifically take account of trends in major risk factors apart from tobacco smoking, and to a limited extent, overweight and obesity. This spreadsheet includes point estimates for projected deaths by region, cause, age and sex under a business-as-usual scenario for projected covariates. Explicit uncertainty ranges are not included here, uncertainty in projections is better conveyed through comparison of optimistic and pessimistic scenarios with varying input assumptions (under preparation and not yet released). The number of significant figures displayed in worksheet cells in this this Excel workbook do not provide information on uncertainty ranges of projected estimates. The base scenario does not necessarily represent the best predictions or potential range of future global and regional health trends; it is possible that more sophisticated causal models incorporating projections of important determinants may provide better predictions for specific diseases. The preparation of these statistics was undertaken by the WHO Department of Health Statistics and Informatics in collaboration with WHO technical programs. Documentation and regional-level summary tables are available on the WHO website (8). For other queries, please send an email to healthstat@who.int. References 1. Global Health Estimates 2016: Deaths by cause, age and sex, by country and by region, 2000-2016. Geneva: World Health Organization; 2018. Available at http://www.who.int/healthinfo/global_burden_disease/estimates/en/. 2. World Health Organization (2018). Projections of mortality and causes of death, 2017-2060. Available on the WHO website at http://www.who.int/healthinfo/global_burden_disease/projections/en/. 3. Mathers CD, Loncar D. Projections of global mortality and burden of disease from 2002 to 2030. PLoS Medicine, 2006, 3(11): e442. 4. World Health Organization. The global burden of disease: 2004 update. Geneva, World Health Organization, 2008. 5. World Health Organization (2013). Projections of mortality and causes of death, 2012-2030. Available on the WHO website at http://www.who.int/healthinfo/global_burden_disease/projections/en/. 6. Murray CJL, Lopez AD, eds. The global burden of disease: a comprehensive assessment of mortality and disability from diseases, injuries and risk factors in 1990 and projected to 2020. Cambridge, Harvard School of Public Health on behalf of the World Health Organization and the World Bank, 1996. 7. UN Population Division. World Population Prospects - the 2017 revision. New York, United Nations, 2017. 8. World Health Organization (2018). Updated projections of mortality and causes of death, 2016-2060. Available on the WHO website at http://www.who.int/healthinfo/global_burden_disease/projections/en/.

Sheet Country list
B2: List of Countries in Regional Categories
B4: SDG Region | C4: Countries included
B5: Developed regions | C5: Albania
C6: Australia
C7: Austria
C8: Belarus
C9: Belgium
C10: Bosnia and Herzegovina
C11: Bulgaria
C12: Canada
C13: Croatia
C14: Cyprus
C15: Czechia
C16: Denmark
C17: Estonia
... C50: United States of America
B52: Developing regions
B53: Central Asia | C53: Kazakhstan
C54: Kyrgyzstan
C55: Tajikistan
C56: Turkmenistan
C57: Uzbekistan
B59: Eastern Asia | C59: China
C60: Democratic People's Republic of Korea
C61: Mongolia
C62: Republic of Korea
B64: Latin America and the Caribbean | C64: Antigua and Barbuda
C65: Argentina
C66: Bahamas
C67: Barbados
C68: Belize
C69: Bolivia (Plurinational State of)
C70: Brazil
C71: Chile
C72: Colombia
C73: Costa Rica
C74: Cuba
C75: Dominican Republic
C76: Ecuador
... C94: Venezuela (Bolivarian Republic of)
...

Sheet Summary
B1: Summary: Deaths (thousands) by cause and by MDG region
F3: Year | G3: 2016 | AC3: 2030 | AY3: 2045 | BU3: 2060
F4: Region | G4: WORLD | I4: Developed regions | K4: Developing regions | AC4: WORLD | AE4: Developed regions | AG4: Developing regions | AY4: WORLD | BA4: Developed regions | BC4: Developing regions | BU4: WORLD | BW4: Developed regions | BY4: Developing regions
K5: Caucasus and Central Asia | M5: Eastern Asia | O5: Latin America and the Caribbean | Q5: North Africa | S5: Oceania | U5: South-eastern Asia | W5: South Asia | Y5: Sub-Saharan Africa | AA5: Western Asia | AG5: Caucasus and Central Asia | AI5: Eastern Asia | AK5: Latin America and the Caribbean | AM5: North Africa | AO5: Oceania | AQ5: South-eastern Asia | AS5: South Asia | AU5: Sub-Saharan Africa | AW5: Western Asia | BC5: Caucasus and Central Asia | BE5: Eastern Asia | BG5: Latin America and the Caribbean | BI5: North Africa | BK5: Oceania | BM5: South-eastern Asia | BO5: South Asia | BQ5: Sub-Saharan Africa | BS5: Western Asia | BY5: Caucasus and Central Asia | CA5: Eastern Asia | CC5: Latin America and the Caribbean | CE5: North Africa | CG5: Oceania | CI5: South-eastern Asia | CK5: South Asia | CM5: Sub-Saharan Africa | CO5: Western Asia
B7: Population (thousands) | G7: =World2016!$G7 -> 7462277.2 | I7: ='Dev''d2016'!$G7 -> 1265294.4 | K7: ='CCA2016'!$G7 -> 69787.759 | M7: ='EA2016'!$G7 -> 1514160 | O7: ='LAC2016'!$G7 -> 637226.69 | Q7: ='NA2016'!$G7 -> 228846.86 | S7: =Ocea2016!$G7 -> 10375.169 | U7: ='SEA2016'!$G7 -> 641775.78 | W7: ='SA2016'!$G7 -> 1846266.6 | Y7: ='SSA2016'!$G7 -> 994574.49 | AA7: ='WA2016'!G7 -> 253576.05 | AC7: =World2030!$G7 -> 8545864.6 | AE7: ='Dev''d2030'!$G7 -> 1300530.2 | AG7: ='CCA2030'!$G7 -> 81972.711 | AI7: ='EA2030'!$G7 -> 1557072.3 | AK7: ='LAC2030'!$G7 -> 716506.33 | AM7: ='NA2030'!$G7 -> 284467.67 | AO7: =Ocea2030!$G7 -> 13175.803 | AQ7: ='SEA2030'!$G7 -> 727991 | AS7: ='SA2030'!$G7 -> 2134449 | AU7: ='SSA2030'!$G7 -> 1417028 | AW7: ='WA2030'!$G7 -> 312254.94 | AY7: =World2045!$G7 -> 9498328.2 | BA7: ='Dev''d2045'!$G7 -> 1310964.9 | BC7: ='CCA2045'!$G7 -> 91799.572 | BE7: ='EA2045'!$G7 -> 1509308.2 | BG7: ='LAC2045'!$G7 -> 768282.69 | BI7: ='NA2045'!$G7 -> 341305.44 | BK7: =Ocea2045!$G7 -> 16148.142 | BM7: ='SEA2045'!$G7 -> 786163.36 | BO7: ='SA2045'!$G7 -> 2339299 | BQ7: ='SSA2045'!$G7 -> 1967858.8 | BS7: ='WA2045'!AY7 -> 0 | BU7: =World2060!$G7 -> 10216375 | BW7: ='Dev''d2060'!$G7 -> 1308362.3 | BY7: ='CCA2060'!$G7 -> 97965.054 | CA7: ='EA2060'!$G7 -> 1397665.2 | CC7: ='LAC2060'!$G7 -> 785313.22 | CE7: ='NA2060'!$G7 -> 389874.31 | CG7: =Ocea2060!$G7 -> 18756.607 | CI7: ='SEA2060'!$G7 -> 809854.07 | CK7: ='SA2060'!$G7 -> 60 | CM7: ='SSA2060'!$G7 -> 2571822.1 | CO7: ='WA2060'!$G7 -> 409338.63
A8: GHE 2012 code | B8: GHE 2012 cause category | G8: Deaths (000s) | H8: % total | I8: Deaths (000s) | J8: % total | K8: Deaths (000s) | L8: % total | M8: Deaths (000s) | N8: % total | O8: Deaths (000s) | P8: % total | Q8: Deaths (000s) | R8: % total | S8: Deaths (000s) | T8: % total | U8: Deaths (000s) | V8: % total | W8: Deaths (000s) | X8: % total | Y8: Deaths (000s) | Z8: % total | AA8: Deaths (000s) | AB8: % total | AC8: Deaths (000s) | AD8: % total | AE8: Deaths (000s) | AF8: % total | AG8: Deaths (000s) | AH8: % total | AI8: Deaths (000s) | AJ8: % total | AK8: Deaths (000s) | AL8: % total | AM8: Deaths (000s) | AN8: % total | AO8: Deaths (000s) | AP8: % total | AQ8: Deaths (000s) | AR8: % total | AS8: Deaths (000s) | AT8: % total | AU8: Deaths (000s) | AV8: % total | AW8: Deaths (000s) | AX8: % total | AY8: Deaths (000s) | AZ8: % total | BA8: Deaths (000s) | BB8: % total | BC8: Deaths (000s) | BD8: % total | BE8: Deaths (000s) | BF8: % total | BG8: Deaths (000s) | BH8: % total | BI8: Deaths (000s) | BJ8: % total | BK8: Deaths (000s) | BL8: % total | BM8: Deaths (000s) | BN8: % total | BO8: Deaths (000s) | BP8: % total | BQ8: Deaths (000s) | BR8: % total | BS8: Deaths (000s) | BT8: % total | BU8: Deaths (000s) | BV8: % total | BW8: Deaths (000s) | BX8: % total | BY8: Deaths (000s) | BZ8: % total | CA8: Deaths (000s) | CB8: % total | CC8: Deaths (000s) | CD8: % total | CE8: Deaths (000s) | CF8: % total | CG8: Deaths (000s) | CH8: % total | CI8: Deaths (000s) | CJ8: % total | CK8: Deaths (000s) | CL8: % total | CM8: Deaths (000s) | CN8: % total | CO8: Deaths (000s) | CP8: % total
A9: 0 | C9: All Causes | G9: =World2016!$G10/1000 -> 56873.405 | H9: =100*G9/G$9 -> 100 | I9: ='Dev''d2016'!$G10/1000 -> 12728.707 | J9: =100*I9/I$9 -> 100 | K9: ='CCA2016'!$G10/1000 -> 441.51219 | L9: =100*K9/K$9 -> 100 | M9: ='EA2016'!$G10/1000 -> 11066.84 | N9: =100*M9/M$9 -> 100 | O9: ='LAC2016'!$G10/1000 -> 3848.6758 | P9: =100*O9/O$9 -> 100 | Q9: ='NA2016'!$G10/1000 -> 1368.4332 | R9: =100*Q9/Q$9 -> 100 | S9: =Ocea2016!$G10/1000 -> 69.774565 | T9: =100*S9/S$9 -> 100 | U9: ='SEA2016'!$G10/1000 -> 4375.3505 | V9: =100*U9/U$9 -> 100 | W9: ='SA2016'!$G10/1000 -> 12778.95 | X9: =100*W9/W$9 -> 100 | Y9: ='SSA2016'!$G10/1000 -> 8829.2606 | Z9: =100*Y9/Y$9 -> 100 | AA9: ='WA2016'!$G10/1000 -> 1365.9009 | AB9: =100*AA9/AA$9 -> 100 | AC9: =World2030!$G10/1000 -> 68119.453 | AD9: =100*AC9/AC$9 -> 100 | AE9: ='Dev''d2030'!$G10/1000 -> 13973.464 | AF9: =100*AE9/AE$9 -> 100 | AG9: ='CCA2030'!$G10/1000 -> 533.23006 | AH9: =100*AG9/AG$9 -> 100 | AI9: ='EA2030'!$G10/1000 -> 13977.952 | AJ9: =100*AI9/AI$9 -> 100 | AK9: ='LAC2030'!$G10/1000 -> 5016.2963 | AL9: =100*AK9/AK$9 -> 100 | AM9: ='NA2030'!$G10/1000 -> 1844.1277 | AN9: =100*AM9/AM$9 -> 100 | AO9: =Ocea2030!$G10/1000 -> 89.83457 | AP9: =100*AO9/AO$9 -> 100 | AQ9: ='SEA2030'!$G10/1000 -> 5504.3077 | AR9: =100*AQ9/AQ$9 -> 100 | AS9: ='SA2030'!$G10/1000 -> 15438.489 | AT9: =100*AS9/AS$9 -> 100 | AU9: ='SSA2030'!$G10/1000 -> 10028.903 | AV9: =100*AU9/AU$9 -> 100 | AW9: ='WA2030'!$G10/1000 -> 1712.8491 | AX9: =100*AW9/AW$9 -> 100 | AY9: =World2045!$G10/1000 -> 85532.627 | AZ9: =100*AY9/AY$9 -> 100 | BA9: ='Dev''d2045'!$G10/1000 -> 15963.418 | BB9: =100*BA9/BA$9 -> 100 | BC9: ='CCA2045'!$G10/1000 -> 715.93069 | BD9: =100*BC9/BC$9 -> 100 | BE9: ='EA2045'!$G10/1000 -> 18181.181 | BF9: =100*BE9/BE$9 -> 100 | BG9: ='LAC2045'!$G10/1000 -> 6906.1835 | BH9: =100*BG9/BG$9 -> 100 | BI9: ='NA2045'!$G10/1000 -> 2706.3019 | BJ9: =100*BI9/BI$9 -> 100 | BK9: =Ocea2045!$G10/1000 -> 114.80714 | BL9: =100*BK9/BK$9 -> 100 | BM9: ='SEA2045'!$G10/1000 -> 7101.2439 | BN9: =100*BM9/BM$9 -> 100 | BO9: ='SA2045'!$G10/1000 -> 18476.03 | BP9: =100*BO9/BO$9 -> 100 | BQ9: ='SSA2045'!$G10/1000 -> 12769.116 | BR9: =100*BQ9/BQ$9 -> 100 | BS9: ='WA2045'!$G10/1000 -> 2598.4148 | BT9: =100*BS9/BS$9 -> 100 | BU9: =World2060!$G10/1000 -> 101831.16 | BV9: =100*BU9/BU$9 -> 100 | BW9: ='Dev''d2060'!$G10/1000 -> 15966.47 | BX9: =100*BW9/BW$9 -> 100 | BY9: ='CCA2060'!$G10/1000 -> 852.7401 | BZ9: =100*BY9/BY$9 -> 100 | CA9: ='EA2060'!$G10/1000 -> 19704.906 | CB9: =100*CA9/CA$9 -> 100 | CC9: ='LAC2060'!$G10/1000 -> 8873.2835 | CD9: =100*CC9/CC$9 -> 100 | CE9: ='NA2060'!$G10/1000 -> 3745.3802 | CF9: =100*CE9/CE$9 -> 100 | CG9: =Ocea2060!$G10/1000 -> 143.65654 | CH9: =100*CG9/CG$9 -> 100 | CI9: ='SEA2060'!$G10/1000 -> 8539.4364 | CJ9: =100*CI9/CI$9 -> 100 | CK9: ='SA2060'!$G10/1000 -> 22427.178 | CL9: =100*CK9/CK$9 -> 100 | CM9: ='SSA2060'!$G10/1000 -> 17817.168 | CN9: =100*CM9/CM$9 -> 100 | CO9: ='WA2060'!$G10/1000 -> 3760.9418 | CP9: =100*CO9/CO$9 -> 100
A10: 1 | B10: I. | C10: Communicable, maternal, perinatal and nutritional conditions | G10: =World2016!$G11/1000 -> 11481.463 | H10: =100*G10/G$9 -> 20.187755 | I10: ='Dev''d2016'!$G11/1000 -> 751.80075 | J10: =100*I10/I$9 -> 5.9063404 | K10: ='CCA2016'!$G11/1000 -> 45.674755 | L10: =100*K10/K$9 -> 10.345072 | M10: ='EA2016'!$G11/1000 -> 454.57869 | N10: =100*M10/M$9 -> 4.1075746 | O10: ='LAC2016'!$G11/1000 -> 524.45816 | P10: =100*O10/O$9 -> 13.626977 | Q10: ='NA2016'!$G11/1000 -> 224.6164 | R10: =100*Q10/Q$9 -> 16.41413 | S10: =Ocea2016!$G11/1000 -> 22.389379 | T10: =100*S10/S$9 -> 32.088167 | U10: ='SEA2016'!$G11/1000 -> 880.09136 | V10: =100*U10/U$9 -> 20.114762 | W10: ='SA2016'!$G11/1000 -> 3387.9229 | X10: =100*W10/W$9 -> 26.511747 | Y10: ='SSA2016'!$G11/1000 -> 5047.0289 | Z10: =100*Y10/Y$9 -> 57.162531 | AA10: ='WA2016'!$G11/1000 -> 142.90213 | AB10: =100*AA10/AA$9 -> 10.462116 | AC10: =World2030!$G11/1000 -> 10094.844 | AD10: =100*AC10/AC$9 -> 14.819326 | AE10: ='Dev''d2030'!$G11/1000 -> 812.2 | AF10: =100*AE10/AE$9 -> 5.8124457 | AG10: ='CCA2030'!$G11/1000 -> 27.243161 | AH10: =100*AG10/AG$9 -> 5.1090819 | AI10: ='EA2030'!$G11/1000 -> 440.44048 | AJ10: =100*AI10/AI$9 -> 3.1509658 | AK10: ='LAC2030'!$G11/1000 -> 570.64938 | AL10: =100*AK10/AK$9 -> 11.375911 | AM10: ='NA2030'!$G11/1000 -> 189.54119 | AN10: =100*AM10/AM$9 -> 10.278095 | AO10: =Ocea2030!$G11/1000 -> 18.68186 | AP10: =100*AO10/AO$9 -> 20.795848 | AQ10: ='SEA2030'!$G11/1000 -> 786.99897 | AR10: =100*AQ10/AQ$9 -> 14.297874 | AS10: ='SA2030'!$G11/1000 -> 2796.1093 | AT10: =100*AS10/AS$9 -> 18.111289 | AU10: ='SSA2030'!$G11/1000 -> 4330.1508 | AV10: =100*AU10/AU$9 -> 43.176714 | AW10: ='WA2030'!$G11/1000 -> 122.82883 | AX10: =100*AW10/AW$9 -> 7.1710245 | AY10: =World2045!$G11/1000 -> 9666.0585 | AZ10: =100*AY10/AY$9 -> 11.301019 | BA10: ='Dev''d2045'!$G11/1000 -> 878.43203 | BB10: =100*BA10/BA$9 -> 5.5027818 | BC10: ='CCA2045'!$G11/1000 -> 18.751374 | BD10: =100*BC10/BC$9 -> 2.6191605 | BE10: ='EA2045'!$G11/1000 -> 566.90321 | BF10: =100*BE10/BE$9 -> 3.1180769 | BG10: ='LAC2045'!$G11/1000 -> 695.65076 | BH10: =100*BG10/BG$9 -> 10.072868 | BI10: ='NA2045'!$G11/1000 -> 179.70862 | BJ10: =100*BI10/BI$9 -> 6.6403758 | BK10: =Ocea2045!$G11/1000 -> 15.132176 | BL10: =100*BK10/BK$9 -> 13.180518 | BM10: ='SEA2045'!$G11/1000 -> 809.12699 | BN10: =100*BM10/BM$9 -> 11.394159 | BO10: ='SA2045'!$G11/1000 -> 2581.7884 | BP10: =100*BO10/BO$9 -> 13.973718 | BQ10: ='SSA2045'!$G11/1000 -> 3789.0548 | BR10: =100*BQ10/BQ$9 -> 29.673587 | BS10: ='WA2045'!$G11/1000 -> 131.51024 | BT10: =100*BS10/BS$9 -> 5.0611722 | BU10: =World2060!$G11/1000 -> 9990.2208 | BV10: =100*BU10/BU$9 -> 9.8105735 | BW10: ='Dev''d2060'!$G11/1000 -> 876.76049 | BX10: =100*BW10/BW$9 -> 5.4912606 | BY10: ='CCA2060'!$G11/1000 -> 15.046494 | BZ10: =100*BY10/BY$9 -> 1.7644877 | CA10: ='EA2060'!$G11/1000 -> 628.96501 | CB10: =100*CA10/CA$9 -> 3.1919208 | CC10: ='LAC2060'!$G11/1000 -> 858.58647 | CD10: =100*CC10/CC$9 -> 9.6760852 | CE10: ='NA2060'!$G11/1000 -> 180.69921 | CF10: =100*CE10/CE$9 -> 4.8245892 | CG10: =Ocea2060!$G11/1000 -> 13.748348 | CH10: =100*CG10/CG$9 -> 9.5702907 | CI10: ='SEA2060'!$G11/1000 -> 856.93706 | CJ10: =100*CI10/CI$9 -> 10.035054 | CK10: ='SA2060'!$G11/1000 -> 2716.2577 | CL10: =100*CK10/CK$9 -> 12.111456 | CM10: ='SSA2060'!$G11/1000 -> 3687.9618 | CN10: =100*CM10/CM$9 -> 20.698923 | CO10: ='WA2060'!$G11/1000 -> 155.25823 | CP10: =100*CO10/CO$9 -> 4.1281742
A11: 2 | C11: A. | D11: Infectious and parasitic diseases | G11: =World2016!$G12/1000 -> 5491.3375 | H11: =100*G11/G$9 -> 9.6553698 | I11: ='Dev''d2016'!$G12/1000 -> 244.60284 | J11: =100*I11/I$9 -> 1.9216629 | K11: ='CCA2016'!$G12/1000 -> 12.93999 | L11: =100*K11/K$9 -> 2.9308341 | M11: ='EA2016'!$G12/1000 -> 152.6864 | N11: =100*M11/M$9 -> 1.3796748 | O11: ='LAC2016'!$G12/1000 -> 160.88074 | P11: =100*O11/O$9 -> 4.1801582 | Q11: ='NA2016'!$G12/1000 -> 67.469257 | R11: =100*Q11/Q$9 -> 4.9304019 | S11: =Ocea2016!$G12/1000 -> 11.986346 | T11: =100*S11/S$9 -> 17.178676 | U11: ='SEA2016'!$G12/1000 -> 465.79422 | V11: =100*U11/U$9 -> 10.645872 | W11: ='SA2016'!$G12/1000 -> 1564.6208 | X11: =100*W11/W$9 -> 12.243735 | Y11: ='SSA2016'!$G12/1000 -> 2776.2836 | Z11: =100*Y11/Y$9 -> 31.444123 | AA11: ='WA2016'!$G12/1000 -> 34.073367 | AB11: =100*AA11/AA$9 -> 2.494571 | AC11: =World2030!$G12/1000 -> 4578.7775 | AD11: =100*AC11/AC$9 -> 6.7216886 | AE11: ='Dev''d2030'!$G12/1000 -> 269.26815 | AF11: =100*AE11/AE$9 -> 1.9269964 | AG11: ='CCA2030'!$G12/1000 -> 7.4041695 | AH11: =100*AG11/AG$9 -> 1.3885507 | AI11: ='EA2030'!$G12/1000 -> 110.40489 | AJ11: =100*AI11/AI$9 -> 0.78985025 | AK11: ='LAC2030'!$G12/1000 -> 150.8777 | AL11: =100*AK11/AK$9 -> 3.0077511 | AM11: ='NA2030'!$G12/1000 -> 55.218274 | AN11: =100*AM11/AM$9 -> 2.9942761 | AO11: =Ocea2030!$G12/1000 -> 8.5097197 | AP11: =100*AO11/AO$9 -> 9.472656 | AQ11: ='SEA2030'!$G12/1000 -> 372.14534 | AR11: =100*AQ11/AQ$9 -> 6.7609837 | AS11: ='SA2030'!$G12/1000 -> 1223.1428 | AT11: =100*AS11/AS$9 -> 7.9226848 | AU11: ='SSA2030'!$G12/1000 -> 2357.1064 | AV11: =100*AU11/AU$9 -> 23.503133 | AW11: ='WA2030'!$G12/1000 -> 24.700051 | AX11: =100*AW11/AW$9 -> 1.4420448 | AY11: =World2045!$G12/1000 -> 4100.7739 | AZ11: =100*AY11/AY$9 -> 4.7943972 | BA11: ='Dev''d2045'!$G12/1000 -> 274.62461 | BB11: =100*BA11/BA$9 -> 1.7203372 | BC11: ='CCA2045'!$G12/1000 -> 4.2438425 | BD11: =100*BC11/BC$9 -> 0.59277282 | BE11: ='EA2045'!$G12/1000 -> 93.295415 | BF11: =100*BE11/BE$9 -> 0.51314276 | BG11: ='LAC2045'!$G12/1000 -> 145.80764 | BH11: =100*BG11/BG$9 -> 2.1112623 | BI11: ='NA2045'!$G12/1000 -> 46.921539 | BJ11: =100*BI11/BI$9 -> 1.7337881 | BK11: =Ocea2045!$G12/1000 -> 6.2277844 | BL11: =100*BK11/BK$9 -> 5.4245617 | BM11: ='SEA2045'!$G12/1000 -> 317.94139 | BN11: =100*BM11/BM$9 -> 4.4772634 | BO11: ='SA2045'!$G12/1000 -> 1056.7456 | BP11: =100*BO11/BO$9 -> 5.719549 | BQ11: ='SSA2045'!$G12/1000 -> 2133.3885 | BR11: =100*BQ11/BQ$9 -> 16.707409 | BS11: ='WA2045'!$G12/1000 -> 21.577651 | BT11: =100*BS11/BS$9 -> 0.83041597 | BU11: =World2060!$G12/1000 -> 3968.4132 | BV11: =100*BU11/BU$9 -> 3.8970519 | BW11: ='Dev''d2060'!$G12/1000 -> 260.42928 | BX11: =100*BW11/BW$9 -> 1.6311012 | BY11: ='CCA2060'!$G12/1000 -> 2.9139682 | BZ11: =100*BY11/BY$9 -> 0.34171821 | CA11: ='EA2060'!$G12/1000 -> 76.457867 | CB11: =100*CA11/CA$9 -> 0.38801437 | CC11: ='LAC2060'!$G12/1000 -> 153.99302 | CD11: =100*CC11/CC$9 -> 1.7354683 | CE11: ='NA2060'!$G12/1000 -> 43.089984 | CF11: =100*CE11/CE$9 -> 1.1504836 | CG11: =Ocea2060!$G12/1000 -> 5.4009877 | CH11: =100*CG11/CG$9 -> 3.7596533 | CI11: ='SEA2060'!$G12/1000 -> 291.19981 | CJ11: =100*CI11/CI$9 -> 3.4100589 | CK11: ='SA2060'!$G12/1000 -> 1051.7303 | CL11: =100*CK11/CK$9 -> 4.6895349 | CM11: ='SSA2060'!$G12/1000 -> 2060.8624 | CN11: =100*CM11/CM$9 -> 11.566723 | CO11: ='WA2060'!$G12/1000 -> 22.33556 | CP11: =100*CO11/CO$9 -> 0.59388209
A12: 3 | D12: 1. | E12: Tuberculosis | G12: =World2016!$G13/1000 -> 1292.9006 | H12: =100*G12/G$9 -> 2.2732957 | I12: ='Dev''d2016'!$G13/1000 -> 25.715656 | J12: =100*I12/I$9 -> 0.20202882 | K12: ='CCA2016'!$G13/1000 -> 3.6945542 | L12: =100*K12/K$9 -> 0.83679552 | M12: ='EA2016'!$G13/1000 -> 65.125946 | N12: =100*M12/M$9 -> 0.58847827 | O12: ='LAC2016'!$G13/1000 -> 18.047304 | P12: =100*O12/O$9 -> 0.46892244 | Q12: ='NA2016'!$G13/1000 -> 13.617763 | R12: =100*Q12/Q$9 -> 0.99513542 | S12: =Ocea2016!$G13/1000 -> 3.5632693 | T12: =100*S12/S$9 -> 5.1068313 | U12: ='SEA2016'!$G13/1000 -> 193.29023 | V12: =100*U12/U$9 -> 4.4177085 | W12: ='SA2016'!$G13/1000 -> 551.5288 | X12: =100*W12/W$9 -> 4.3159163 | Y12: ='SSA2016'!$G13/1000 -> 412.73524 | Z12: =100*Y12/Y$9 -> 4.6746297 | AA12: ='WA2016'!$G13/1000 -> 5.5818631 | AB12: =100*AA12/AA$9 -> 0.40865799 | AC12: =World2030!$G13/1000 -> 1137.0415 | AD12: =100*AC12/AC$9 -> 1.6691877 | AE12: ='Dev''d2030'!$G13/1000 -> 10.693717 | AF12: =100*AE12/AE$9 -> 0.076528748 | AG12: ='CCA2030'!$G13/1000 -> 1.4571445 | AH12: =100*AG12/AG$9 -> 0.27326751 | AI12: ='EA2030'!$G13/1000 -> 38.240665 | AJ12: =100*AI12/AI$9 -> 0.27357846 | AK12: ='LAC2030'!$G13/1000 -> 13.69396 | AL12: =100*AK12/AK$9 -> 0.27298945 | AM12: ='NA2030'!$G13/1000 -> 14.180169 | AN12: =100*AM12/AM$9 -> 0.76893639 | AO12: =Ocea2030!$G13/1000 -> 2.1295893 | AP12: =100*AO12/AO$9 -> 2.3705677 | AQ12: ='SEA2030'!$G13/1000 -> 145.19868 | AR12: =100*AQ12/AQ$9 -> 2.6379099 | AS12: ='SA2030'!$G13/1000 -> 396.89803 | AT12: =100*AS12/AS$9 -> 2.5708347 | AU12: ='SSA2030'!$G13/1000 -> 510.94256 | AV12: =100*AU12/AU$9 -> 5.0947004 | AW12: ='WA2030'!$G13/1000 -> 3.6070091 | AX12: =100*AW12/AW$9 -> 0.21058534 | AY12: =World2045!$G13/1000 -> 1050.0536 | AZ12: =100*AY12/AY$9 -> 1.2276644 | BA12: ='Dev''d2045'!$G13/1000 -> 4.9966198 | BB12: =100*BA12/BA$9 -> 0.031300439 | BC12: ='CCA2045'!$G13/1000 -> 0.68249729 | BD12: =100*BC12/BC$9 -> 0.095330079 | BE12: ='EA2045'!$G13/1000 -> 22.568846 | BF12: =100*BE12/BE$9 -> 0.124133 | BG12: ='LAC2045'!$G13/1000 -> 9.7389345 | BH12: =100*BG12/BG$9 -> 0.14101761 | BI12: ='NA2045'!$G13/1000 -> 13.666188 | BJ12: =100*BI12/BI$9 -> 0.50497647 | BK12: =Ocea2045!$G13/1000 -> 1.2562676 | BL12: =100*BK12/BK$9 -> 1.0942416 | BM12: ='SEA2045'!$G13/1000 -> 110.7922 | BN12: =100*BM12/BM$9 -> 1.5601802 | BO12: ='SA2045'!$G13/1000 -> 281.3976 | BP12: =100*BO12/BO$9 -> 1.5230415 | BQ12: ='SSA2045'!$G13/1000 -> 601.87807 | BR12: =100*BQ12/BQ$9 -> 4.7135452 | BS12: ='WA2045'!$G13/1000 -> 3.0763504 | BT12: =100*BS12/BS$9 -> 0.11839335 | BU12: =World2060!$G13/1000 -> 926.96353 | BV12: =100*BU12/BU$9 -> 0.91029458 | BW12: ='Dev''d2060'!$G13/1000 -> 2.8162529 | BX12: =100*BW12/BW$9 -> 0.017638544 | BY12: ='CCA2060'!$G13/1000 -> 0.39092187 | BZ12: =100*BY12/BY$9 -> 0.045843026 | CA12: ='EA2060'!$G13/1000 -> 11.295941 | CB12: =100*CA12/CA$9 -> 0.057325524 | CC12: ='LAC2060'!$G13/1000 -> 6.1464095 | CD12: =100*CC12/CC$9 -> 0.069268715 | CE12: ='NA2060'!$G13/1000 -> 12.133899 | CF12: =100*CE12/CE$9 -> 0.32396976 | CG12: =Ocea2060!$G13/1000 -> 0.79071686 | CH12: =100*CG12/CG$9 -> 0.55042178 | CI12: ='SEA2060'!$G13/1000 -> 77.095702 | CJ12: =100*CI12/CI$9 -> 0.90281956 | CK12: ='SA2060'!$G13/1000 -> 203.65794 | CL12: =100*CK12/CK$9 -> 0.90808545 | CM12: ='SSA2060'!$G13/1000 -> 609.9181 | CN12: =100*CM12/CM$9 -> 3.4232046 | CO12: ='WA2060'!$G13/1000 -> 2.7176459 | CP12: =100*CO12/CO$9 -> 0.072259718
A13: 4 | D13: 2. | E13: STDs excluding HIV | G13: =World2016!$G14/1000 -> 102.36054 | H13: =100*G13/G$9 -> 0.17997962 | I13: ='Dev''d2016'!$G14/1000 -> 0.81789094 | J13: =100*I13/I$9 -> 0.006425562 | K13: ='CCA2016'!$G14/1000 -> 0.10659682 | L13: =100*K13/K$9 -> 0.024143574 | M13: ='EA2016'!$G14/1000 -> 0.75494951 | N13: =100*M13/M$9 -> 0.0068217263 | O13: ='LAC2016'!$G14/1000 -> 2.4657696 | P13: =100*O13/O$9 -> 0.064067999 | Q13: ='NA2016'!$G14/1000 -> 6.7490569 | R13: =100*Q13/Q$9 -> 0.49319593 | S13: =Ocea2016!$G14/1000 -> 0.54244462 | T13: =100*S13/S$9 -> 0.77742459 | U13: ='SEA2016'!$G14/1000 -> 5.242838 | V13: =100*U13/U$9 -> 0.1198267 | W13: ='SA2016'!$G14/1000 -> 17.200078 | X13: =100*W13/W$9 -> 0.13459695 | Y13: ='SSA2016'!$G14/1000 -> 64.593156 | Z13: =100*Y13/Y$9 -> 0.73158058 | AA13: ='WA2016'!$G14/1000 -> 3.8877586 | AB13: =100*AA13/AA$9 -> 0.28462963 | AC13: =World2030!$G14/1000 -> 68.622331 | AD13: =100*AC13/AC$9 -> 0.10073823 | AE13: ='Dev''d2030'!$G14/1000 -> 0.62847986 | AF13: =100*AE13/AE$9 -> 0.0044976669 | AG13: ='CCA2030'!$G14/1000 -> 0.054143386 | AH13: =100*AG13/AG$9 -> 0.010153851 | AI13: ='EA2030'!$G14/1000 -> 0.65958916 | AJ13: =100*AI13/AI$9 -> 0.0047187826 | AK13: ='LAC2030'!$G14/1000 -> 1.2245439 | AL13: =100*AK13/AK$9 -> 0.024411316 | AM13: ='NA2030'!$G14/1000 -> 5.3564785 | AN13: =100*AM13/AM$9 -> 0.29046137 | AO13: =Ocea2030!$G14/1000 -> 0.39842093 | AP13: =100*AO13/AO$9 -> 0.44350513 | AQ13: ='SEA2030'!$G14/1000 -> 2.8872798 | AR13: =100*AQ13/AQ$9 -> 0.052454913 | AS13: ='SA2030'!$G14/1000 -> 10.466945 | AT13: =100*AS13/AS$9 -> 0.067797733 | AU13: ='SSA2030'!$G14/1000 -> 44.550351 | AV13: =100*AU13/AU$9 -> 0.44421958 | AW13: ='WA2030'!$G14/1000 -> 2.3960991 | AX13: =100*AW13/AW$9 -> 0.13988968 | AY13: =World2045!$G14/1000 -> 33.012726 | AZ13: =100*AY13/AY$9 -> 0.038596647 | BA13: ='Dev''d2045'!$G14/1000 -> 0.5807897 | BB13: =100*BA13/BA$9 -> 0.0036382541 | BC13: ='CCA2045'!$G14/1000 -> 0.029421978 | BD13: =100*BC13/BC$9 -> 0.0041096126 | BE13: ='EA2045'!$G14/1000 -> 0.6315404 | BF13: =100*BE13/BE$9 -> 0.0034735939 | BG13: ='LAC2045'!$G14/1000 -> 0.7272061 | BH13: =100*BG13/BG$9 -> 0.010529783 | BI13: ='NA2045'!$G14/1000 -> 3.1709406 | BJ13: =100*BI13/BI$9 -> 0.11716877 | BK13: =Ocea2045!$G14/1000 -> 0.19089332 | BL13: =100*BK13/BK$9 -> 0.16627303 | BM13: ='SEA2045'!$G14/1000 -> 1.6401573 | BN13: =100*BM13/BM$9 -> 0.02309676 | BO13: ='SA2045'!$G14/1000 -> 5.7982341 | BP13: =100*BO13/BO$9 -> 0.031382468 | BQ13: ='SSA2045'!$G14/1000 -> 19.107286 | BR13: =100*BQ13/BQ$9 -> 0.14963671 | BS13: ='WA2045'!$G14/1000 -> 1.1362562 | BT13: =100*BS13/BS$9 -> 0.043728822 | BU13: =World2060!$G14/1000 -> 18.227393 | BV13: =100*BU13/BU$9 -> 0.017899622 | BW13: ='Dev''d2060'!$G14/1000 -> 0.52887748 | BX13: =100*BW13/BW$9 -> 0.0033124258 | BY13: ='CCA2060'!$G14/1000 -> 0.02394697 | BZ13: =100*BY13/BY$9 -> 0.0028082379 | CA13: ='EA2060'!$G14/1000 -> 0.55848064 | CB13: =100*CA13/CA$9 -> 0.0028342212 | CC13: ='LAC2060'!$G14/1000 -> 0.60613191 | CD13: =100*CC13/CC$9 -> 0.0068309765 | CE13: ='NA2060'!$G14/1000 -> 1.8193232 | CF13: =100*CE13/CE$9 -> 0.048575128 | CG13: =Ocea2060!$G14/1000 -> 0.091789473 | CH13: =100*CG13/CG$9 -> 0.06389509 | CI13: ='SEA2060'!$G14/1000 -> 1.2641603 | CJ13: =100*CI13/CI$9 -> 0.014803791 | CK13: ='SA2060'!$G14/1000 -> 3.6443441 | CL13: =100*CK13/CK$9 -> 0.016249678 | CM13: ='SSA2060'!$G14/1000 -> 9.1651091 | CN13: =100*CM13/CM$9 -> 0.051439765 | CO13: ='WA2060'!$G14/1000 -> 0.52522993 | CP13: =100*CO13/CO$9 -> 0.013965383
A14: 5 | E14: a. | F14: Syphilis | G14: =World2016!$G15/1000 -> 95.557801 | H14: =100*G14/G$9 -> 0.16801843 | I14: ='Dev''d2016'!$G15/1000 -> 0.30526942 | J14: =100*I14/I$9 -> 0.0023982752 | K14: ='CCA2016'!$G15/1000 -> 0.091389436 | L14: =100*K14/K$9 -> 0.020699188 | M14: ='EA2016'!$G15/1000 -> 0.35195609 | N14: =100*M14/M$9 -> 0.0031802764 | O14: ='LAC2016'!$G15/1000 -> 2.0206571 | P14: =100*O14/O$9 -> 0.052502658 | Q14: ='NA2016'!$G15/1000 -> 6.7142388 | R14: =100*Q14/Q$9 -> 0.49065155 | S14: =Ocea2016!$G15/1000 -> 0.52979813 | T14: =100*S14/S$9 -> 0.75929979 | U14: ='SEA2016'!$G15/1000 -> 4.6706363 | V14: =100*U14/U$9 -> 0.10674885 | W14: ='SA2016'!$G15/1000 -> 15.078612 | X14: =100*W14/W$9 -> 0.1179957 | Y14: ='SSA2016'!$G15/1000 -> 61.967385 | Z14: =100*Y14/Y$9 -> 0.70184116 | AA14: ='WA2016'!$G15/1000 -> 3.8278582 | AB14: =100*AA14/AA$9 -> 0.28024422 | AC14: =World2030!$G15/1000 -> 62.193551 | AD14: =100*AC14/AC$9 -> 0.091300721 | AE14: ='Dev''d2030'!$G15/1000 -> 0.20766755 | AF14: =100*AE14/AE$9 -> 0.0014861566 | AG14: ='CCA2030'!$G15/1000 -> 0.040026746 | AH14: =100*AG14/AG$9 -> 0.0075064684 | AI14: ='EA2030'!$G15/1000 -> 0.26424603 | AJ14: =100*AI14/AI$9 -> 0.0018904489 | AK14: ='LAC2030'!$G15/1000 -> 0.87870052 | AL14: =100*AK14/AK$9 -> 0.017516918 | AM14: ='NA2030'!$G15/1000 -> 5.324396 | AN14: =100*AM14/AM$9 -> 0.28872166 | AO14: =Ocea2030!$G15/1000 -> 0.38672749 | AP14: =100*AO14/AO$9 -> 0.43048849 | AQ14: ='SEA2030'!$G15/1000 -> 2.3492688 | AR14: =100*AQ14/AQ$9 -> 0.04268055 | AS14: ='SA2030'!$G15/1000 -> 8.588807 | AT14: =100*AS14/AS$9 -> 0.055632434 | AU14: ='SSA2030'!$G15/1000 -> 41.808139 | AV14: =100*AU14/AU$9 -> 0.41687649 | AW14: ='WA2030'!$G15/1000 -> 2.3455726 | AX14: =100*AW14/AW$9 -> 0.13693983 | AY14: =World2045!$G15/1000 -> 27.107158 | AZ14: =100*AY14/AY$9 -> 0.031692185 | BA14: ='Dev''d2045'!$G15/1000 -> 0.18108934 | BB14: =100*BA14/BA$9 -> 0.0011344021 | BC14: ='CCA2045'!$G15/1000 -> 0.016608533 | BD14: =100*BC14/BC$9 -> 0.002319852 | BE14: ='EA2045'!$G15/1000 -> 0.24642995 | BF14: =100*BE14/BE$9 -> 0.0013554122 | BG14: ='LAC2045'!$G15/1000 -> 0.38239077 | BH14: =100*BG14/BG$9 -> 0.0055369332 | BI14: ='NA2045'!$G15/1000 -> 3.140772 | BJ14: =100*BI14/BI$9 -> 0.11605402 | BK14: =Ocea2045!$G15/1000 -> 0.18191005 | BL14: =100*BK14/BK$9 -> 0.15844837 | BM14: ='SEA2045'!$G15/1000 -> 1.1055268 | BN14: =100*BM14/BM$9 -> 0.015568072 | BO14: ='SA2045'!$G15/1000 -> 4.189162 | BP14: =100*BO14/BO$9 -> 0.022673497 | BQ14: ='SSA2045'!$G15/1000 -> 16.570645 | BR14: =100*BQ14/BQ$9 -> 0.12977128 | BS14: ='WA2045'!$G15/1000 -> 1.0926238 | BT14: =100*BS14/BS$9 -> 0.042049632 | BU14: =World2060!$G15/1000 -> 12.612664 | BV14: =100*BU14/BU$9 -> 0.012385859 | BW14: ='Dev''d2060'!$G15/1000 -> 0.15896035 | BX14: =100*BW14/BW$9 -> 0.00099558857 | BY14: ='CCA2060'!$G15/1000 -> 0.011208988 | BZ14: =100*BY14/BY$9 -> 0.001314467 | CA14: ='EA2060'!$G15/1000 -> 0.21992386 | CB14: =100*CA14/CA$9 -> 0.0011160868 | CC14: ='LAC2060'!$G15/1000 -> 0.25389639 | CD14: =100*CC14/CC$9 -> 0.0028613578 | CE14: ='NA2060'!$G15/1000 -> 1.7887489 | CF14: =100*CE14/CE$9 -> 0.047758807 | CG14: =Ocea2060!$G15/1000 -> 0.084909344 | CH14: =100*CG14/CG$9 -> 0.059105799 | CI14: ='SEA2060'!$G15/1000 -> 0.67657495 | CJ14: =100*CI14/CI$9 -> 0.0079229462 | CK14: ='SA2060'!$G15/1000 -> 2.1603189 | CL14: =100*CK14/CK$9 -> 0.0096325936 | CM14: ='SSA2060'!$G15/1000 -> 6.7745061 | CN14: =100*CM14/CM$9 -> 0.038022352 | CO14: ='WA2060'!$G15/1000 -> 0.48361586 | CP14: =100*CO14/CO$9 -> 0.012858903
A15: 6 | E15: b. | F15: Chlamydia | G15: =World2016!$G16/1000 -> 1.3237512 | H15: =100*G15/G$9 -> 0.0023275399 | I15: ='Dev''d2016'!$G16/1000 -> 0.10404501 | J15: =100*I15/I$9 -> 0.00081740444 | K15: ='CCA2016'!$G16/1000 -> 0.0028637648 | L15: =100*K15/K$9 -> 0.00064862644 | M15: ='EA2016'!$G16/1000 -> 0.074701128 | N15: =100*M15/M$9 -> 0.00067499964 | O15: ='LAC2016'!$G16/1000 -> 0.084770095 | P15: =100*O15/O$9 -> 0.0022025782 | Q15: ='NA2016'!$G16/1000 -> 0.0065521534 | R15: =100*Q15/Q$9 -> 0.00047880696 | S15: =Ocea2016!$G16/1000 -> 0.0024202391 | T15: =100*S15/S$9 -> 0.0034686552 | U15: ='SEA2016'!$G16/1000 -> 0.11056687 | V15: =100*U15/U$9 -> 0.0025270403 | W15: ='SA2016'!$G16/1000 -> 0.40517196 | X15: =100*W15/W$9 -> 0.0031706201 | Y15: ='SSA2016'!$G16/1000 -> 0.52114519 | Z15: =100*Y15/Y$9 -> 0.0059024783 | AA15: ='WA2016'!$G16/1000 -> 0.011514751 | AB15: =100*AA15/AA$9 -> 0.00084301517 | AC15: =World2030!$G16/1000 -> 1.2433476 | AD15: =100*AC15/AC$9 -> 0.001825246 | AE15: ='Dev''d2030'!$G16/1000 -> 0.084201451 | AF15: =100*AE15/AE$9 -> 0.00060258109 | AG15: ='CCA2030'!$G16/1000 -> 0.0025849784 | AH15: =100*AG15/AG$9 -> 0.00048477731 | AI15: ='EA2030'!$G16/1000 -> 0.074626909 | AJ15: =100*AI15/AI$9 -> 0.00053389016 | AK15: ='LAC2030'!$G16/1000 -> 0.064151257 | AL15: =100*AK15/AK$9 -> 0.001278857 | AM15: ='NA2030'!$G16/1000 -> 0.0060416282 | AN15: =100*AM15/AM$9 -> 0.00032761442 | AO15: =Ocea2030!$G16/1000 -> 0.0022178667 | AP15: =100*AO15/AO$9 -> 0.0024688344 | AQ15: ='SEA2030'!$G16/1000 -> 0.10442566 | AR15: =100*AQ15/AQ$9 -> 0.0018971626 | AS15: ='SA2030'!$G16/1000 -> 0.3539656 | AT15: =100*AS15/AS$9 -> 0.0022927478 | AU15: ='SSA2030'!$G16/1000 -> 0.5414539 | AV15: =100*AU15/AU$9 -> 0.0053989345 | AW15: ='WA2030'!$G16/1000 -> 0.0096783148 | AX15: =100*AW15/AW$9 -> 0.00056504188 | AY15: =World2045!$G16/1000 -> 1.1461863 | AZ15: =100*AY15/AY$9 -> 0.0013400574 | BA15: ='Dev''d2045'!$G16/1000 -> 0.081697421 | BB15: =100*BA15/BA$9 -> 0.00051177902 | BC15: ='CCA2045'!$G16/1000 -> 0.0023594376 | BD15: =100*BC15/BC$9 -> 0.00032956229 | BE15: ='EA2045'!$G16/1000 -> 0.073353376 | BF15: =100*BE15/BE$9 -> 0.0004034577 | BG15: ='LAC2045'!$G16/1000 -> 0.06497228 | BH15: =100*BG15/BG$9 -> 0.00094078417 | BI15: ='NA2045'!$G16/1000 -> 0.0057613766 | BJ15: =100*BI15/BI$9 -> 0.00021288743 | BK15: =Ocea2045!$G16/1000 -> 0.0016927327 | BL15: =100*BK15/BK$9 -> 0.0014744141 | BM15: ='SEA2045'!$G16/1000 -> 0.10696234 | BN15: =100*BM15/BM$9 -> 0.001506248 | BO15: ='SA2045'!$G16/1000 -> 0.30335693 | BP15: =100*BO15/BO$9 -> 0.0016418946 | BQ15: ='SSA2045'!$G16/1000 -> 0.49760024 | BR15: =100*BQ15/BQ$9 -> 0.0038969043 | BS15: ='WA2045'!$G16/1000 -> 0.0084301489 | BT15: =100*BS15/BS$9 -> 0.00032443431 | BU15: =World2060!$G16/1000 -> 1.0970673 | BV15: =100*BU15/BU$9 -> 0.0010773395 | BW15: ='Dev''d2060'!$G16/1000 -> 0.076465125 | BX15: =100*BW15/BW$9 -> 0.00047891064 | BY15: ='CCA2060'!$G16/1000 -> 0.002333356 | BZ15: =100*BY15/BY$9 -> 0.00027363039 | CA15: ='EA2060'!$G16/1000 -> 0.0653385 | CB15: =100*CA15/CA$9 -> 0.00033158493 | CC15: ='LAC2060'!$G16/1000 -> 0.067838938 | CD15: =100*CC15/CC$9 -> 0.00076453027 | CE15: ='NA2060'!$G16/1000 -> 0.0059646289 | CF15: =100*CE15/CE$9 -> 0.00015925296 | CG15: =Ocea2060!$G16/1000 -> 0.0012866363 | CH15: =100*CG15/CG$9 -> 0.0008956337 | CI15: ='SEA2060'!$G16/1000 -> 0.12023801 | CJ15: =100*CI15/CI$9 -> 0.0014080322 | CK15: ='SA2060'!$G16/1000 -> 0.28258603 | CL15: =100*CK15/CK$9 -> 0.001260016 | CM15: ='SSA2060'!$G16/1000 -> 0.46690139 | CN15: =100*CM15/CM$9 -> 0.0026205141 | CO15: ='WA2060'!$G16/1000 -> 0.0081147284 | CP15: =100*CO15/CO$9 -> 0.0002157632
A16: 7 | E16: c. | F16: Gonorrhoea | G16: =World2016!$G17/1000 -> 3.680321 | H16: =100*G16/G$9 -> 0.0064710757 | I16: ='Dev''d2016'!$G17/1000 -> 0.29935156 | J16: =100*I16/I$9 -> 0.0023517829 | K16: ='CCA2016'!$G17/1000 -> 0.0082717551 | L16: =100*K16/K$9 -> 0.0018735055 | M16: ='EA2016'!$G17/1000 -> 0.22996224 | N16: =100*M16/M$9 -> 0.0020779396 | O16: ='LAC2016'!$G17/1000 -> 0.24747134 | P16: =100*O16/O$9 -> 0.0064300387 | Q16: ='NA2016'!$G17/1000 -> 0.018789984 | R16: =100*Q16/Q$9 -> 0.001373102 | S16: =Ocea2016!$G17/1000 -> 0.0065876615 | T16: =100*S16/S$9 -> 0.0094413508 | U16: ='SEA2016'!$G17/1000 -> 0.31375763 | V16: =100*U16/U$9 -> 0.0071710284 | W16: ='SA2016'!$G17/1000 -> 1.1606849 | X16: =100*W16/W$9 -> 0.0090827871 | Y16: ='SSA2016'!$G17/1000 -> 1.3634302 | Z16: =100*Y16/Y$9 -> 0.015442179 | AA16: ='WA2016'!$G17/1000 -> 0.032013793 | AB16: =100*AA16/AA$9 -> 0.002343786 | AC16: =World2030!$G17/1000 -> 3.5310496 | AD16: =100*AC16/AC$9 -> 0.0051836142 | AE16: ='Dev''d2030'!$G17/1000 -> 0.25280739 | AF16: =100*AE16/AE$9 -> 0.0018091963 | AG16: ='CCA2030'!$G17/1000 -> 0.007896031 | AH16: =100*AG16/AG$9 -> 0.0014807925 | AI16: ='EA2030'!$G17/1000 -> 0.23136239 | AJ16: =100*AI16/AI$9 -> 0.0016551952 | AK16: ='LAC2030'!$G17/1000 -> 0.19914492 | AL16: =100*AK16/AK$9 -> 0.0039699592 | AM16: ='NA2030'!$G17/1000 -> 0.017533831 | AN16: =100*AM16/AM$9 -> 0.00095079271 | AO16: =Ocea2030!$G17/1000 -> 0.0061201239 | AP16: =100*AO16/AO$9 -> 0.0068126602 | AQ16: ='SEA2030'!$G17/1000 -> 0.29960191 | AR16: =100*AQ16/AQ$9 -> 0.0054430444 | AS16: ='SA2030'!$G17/1000 -> 1.0497843 | AT16: =100*AS16/AS$9 -> 0.0067997867 | AU16: ='SSA2030'!$G17/1000 -> 1.4393792 | AV16: =100*AU16/AU$9 -> 0.014352309 | AW16: ='WA2030'!$G17/1000 -> 0.027419551 | AX16: =100*AW16/AW$9 -> 0.0016008153 | AY16: =World2045!$G17/1000 -> 3.3178774 | AZ16: =100*AY16/AY$9 -> 0.0038790781 | BA16: ='Dev''d2045'!$G17/1000 -> 0.24296864 | BB16: =100*BA16/BA$9 -> 0.001522034 | BC16: ='CCA2045'!$G17/1000 -> 0.0074099128 | BD16: =100*BC16/BC$9 -> 0.0010350042 | BE16: ='EA2045'!$G17/1000 -> 0.23313881 | BF16: =100*BE16/BE$9 -> 0.0012823084 | BG16: ='LAC2045'!$G17/1000 -> 0.20505031 | BH16: =100*BG16/BG$9 -> 0.0029690829 | BI16: ='NA2045'!$G17/1000 -> 0.017004529 | BJ16: =100*BI16/BI$9 -> 0.00062833082 | BK16: =Ocea2045!$G17/1000 -> 0.0047380048 | BL16: =100*BK16/BK$9 -> 0.004126925 | BM16: ='SEA2045'!$G17/1000 -> 0.30786822 | BN16: =100*BM16/BM$9 -> 0.0043354126 | BO16: ='SA2045'!$G17/1000 -> 0.92309995 | BP16: =100*BO16/BO$9 -> 0.004996203 | BQ16: ='SSA2045'!$G17/1000 -> 1.3521946 | BR16: =100*BQ16/BQ$9 -> 0.010589571 | BS16: ='WA2045'!$G17/1000 -> 0.024404439 | BT16: =100*BS16/BS$9 -> 0.00093920492 | BU16: =World2060!$G17/1000 -> 3.2295705 | BV16: =100*BU16/BU$9 -> 0.0031714953 | BW16: ='Dev''d2060'!$G17/1000 -> 0.22637306 | BX16: =100*BW16/BW$9 -> 0.0014178028 | BY16: ='CCA2060'!$G17/1000 -> 0.0075694522 | BZ16: =100*BY16/BY$9 -> 0.00088766228 | CA16: ='EA2060'!$G17/1000 -> 0.2073339 | CB16: =100*CA16/CA$9 -> 0.0010521943 | CC16: ='LAC2060'!$G17/1000 -> 0.21407639 | CD16: =100*CC16/CC$9 -> 0.002412595 | CE16: ='NA2060'!$G17/1000 -> 0.017707366 | CF16: =100*CE16/CE$9 -> 0.00047277886 | CG16: =Ocea2060!$G17/1000 -> 0.0036716969 | CH16: =100*CG16/CG$9 -> 0.0025558857 | CI16: ='SEA2060'!$G17/1000 -> 0.34654216 | CJ16: =100*CI16/CI$9 -> 0.0040581385 | CK16: ='SA2060'!$G17/1000 -> 0.87442189 | CL16: =100*CK16/CK$9 -> 0.0038989387 | CM16: ='SSA2060'!$G17/1000 -> 1.3078234 | CN16: =100*CM16/CM$9 -> 0.0073402428 | CO16: ='WA2060'!$G17/1000 -> 0.024051227 | CP16: =100*CO16/CO$9 -> 0.00063950012
A17: 8 | E17: d. | F17: Trichomoniasis | G17: =World2016!$G18/1000 -> 0 | H17: =100*G17/G$9 -> 0 | I17: ='Dev''d2016'!$G18/1000 -> 0 | J17: =100*I17/I$9 -> 0 | K17: ='CCA2016'!$G18/1000 -> 0 | L17: =100*K17/K$9 -> 0 | M17: ='EA2016'!$G18/1000 -> 0 | N17: =100*M17/M$9 -> 0 | O17: ='LAC2016'!$G18/1000 -> 0 | P17: =100*O17/O$9 -> 0 | Q17: ='NA2016'!$G18/1000 -> 0 | R17: =100*Q17/Q$9 -> 0 | S17: =Ocea2016!$G18/1000 -> 0 | T17: =100*S17/S$9 -> 0 | U17: ='SEA2016'!$G18/1000 -> 0 | V17: =100*U17/U$9 -> 0 | W17: ='SA2016'!$G18/1000 -> 0 | X17: =100*W17/W$9 -> 0 | Y17: ='SSA2016'!$G18/1000 -> 0 | Z17: =100*Y17/Y$9 -> 0 | AA17: ='WA2016'!$G18/1000 -> 0 | AB17: =100*AA17/AA$9 -> 0 | AC17: =World2030!$G18/1000 -> 0 | AD17: =100*AC17/AC$9 -> 0 | AE17: ='Dev''d2030'!$G18/1000 -> 0 | AF17: =100*AE17/AE$9 -> 0 | AG17: ='CCA2030'!$G18/1000 -> 0 | AH17: =100*AG17/AG$9 -> 0 | AI17: ='EA2030'!$G18/1000 -> 0 | AJ17: =100*AI17/AI$9 -> 0 | AK17: ='LAC2030'!$G18/1000 -> 0 | AL17: =100*AK17/AK$9 -> 0 | AM17: ='NA2030'!$G18/1000 -> 0 | AN17: =100*AM17/AM$9 -> 0 | AO17: =Ocea2030!$G18/1000 -> 0 | AP17: =100*AO17/AO$9 -> 0 | AQ17: ='SEA2030'!$G18/1000 -> 0 | AR17: =100*AQ17/AQ$9 -> 0 | AS17: ='SA2030'!$G18/1000 -> 0 | AT17: =100*AS17/AS$9 -> 0 | AU17: ='SSA2030'!$G18/1000 -> 0 | AV17: =100*AU17/AU$9 -> 0 | AW17: ='WA2030'!$G18/1000 -> 0 | AX17: =100*AW17/AW$9 -> 0 | AY17: =World2045!$G18/1000 -> 0 | AZ17: =100*AY17/AY$9 -> 0 | BA17: ='Dev''d2045'!$G18/1000 -> 0 | BB17: =100*BA17/BA$9 -> 0 | BC17: ='CCA2045'!$G18/1000 -> 0 | BD17: =100*BC17/BC$9 -> 0 | BE17: ='EA2045'!$G18/1000 -> 0 | BF17: =100*BE17/BE$9 -> 0 | BG17: ='LAC2045'!$G18/1000 -> 0 | BH17: =100*BG17/BG$9 -> 0 | BI17: ='NA2045'!$G18/1000 -> 0 | BJ17: =100*BI17/BI$9 -> 0 | BK17: =Ocea2045!$G18/1000 -> 0 | BL17: =100*BK17/BK$9 -> 0 | BM17: ='SEA2045'!$G18/1000 -> 0 | BN17: =100*BM17/BM$9 -> 0 | BO17: ='SA2045'!$G18/1000 -> 0 | BP17: =100*BO17/BO$9 -> 0 | BQ17: ='SSA2045'!$G18/1000 -> 0 | BR17: =100*BQ17/BQ$9 -> 0 | BS17: ='WA2045'!$G18/1000 -> 0 | BT17: =100*BS17/BS$9 -> 0 | BU17: =World2060!$G18/1000 -> 0 | BV17: =100*BU17/BU$9 -> 0 | BW17: ='Dev''d2060'!$G18/1000 -> 0 | BX17: =100*BW17/BW$9 -> 0 | BY17: ='CCA2060'!$G18/1000 -> 0 | BZ17: =100*BY17/BY$9 -> 0 | CA17: ='EA2060'!$G18/1000 -> 0 | CB17: =100*CA17/CA$9 -> 0 | CC17: ='LAC2060'!$G18/1000 -> 0 | CD17: =100*CC17/CC$9 -> 0 | CE17: ='NA2060'!$G18/1000 -> 0 | CF17: =100*CE17/CE$9 -> 0 | CG17: =Ocea2060!$G18/1000 -> 0 | CH17: =100*CG17/CG$9 -> 0 | CI17: ='SEA2060'!$G18/1000 -> 0 | CJ17: =100*CI17/CI$9 -> 0 | CK17: ='SA2060'!$G18/1000 -> 0 | CL17: =100*CK17/CK$9 -> 0 | CM17: ='SSA2060'!$G18/1000 -> 0 | CN17: =100*CM17/CM$9 -> 0 | CO17: ='WA2060'!$G18/1000 -> 0 | CP17: =100*CO17/CO$9 -> 0
A18: 9 | E18: e. | F18: Other STDs | G18: =World2016!$G19/1000 -> 1.7986658 | H18: =100*G18/G$9 -> 0.003162578 | I18: ='Dev''d2016'!$G19/1000 -> 0.10922497 | J18: =100*I18/I$9 -> 0.00085809947 | K18: ='CCA2016'!$G19/1000 -> 0.0040718672 | L18: =100*K18/K$9 -> 0.00092225477 | M18: ='EA2016'!$G19/1000 -> 0.098330031 | N18: =100*M18/M$9 -> 0.00088851049 | O18: ='LAC2016'!$G19/1000 -> 0.11287107 | P18: =100*O18/O$9 -> 0.0029327247 | Q18: ='NA2016'!$G19/1000 -> 0.0094759903 | R18: =100*Q18/Q$9 -> 0.00069247007 | S18: =Ocea2016!$G19/1000 -> 0.0036385964 | T18: =100*S18/S$9 -> 0.005214789 | U18: ='SEA2016'!$G19/1000 -> 0.14787725 | V18: =100*U18/U$9 -> 0.0033797806 | W18: ='SA2016'!$G19/1000 -> 0.55560847 | X18: =100*W18/W$9 -> 0.0043478412 | Y18: ='SSA2016'!$G19/1000 -> 0.74119574 | Z18: =100*Y18/Y$9 -> 0.0083947657 | AA18: ='WA2016'!$G19/1000 -> 0.016371812 | AB18: =100*AA18/AA$9 -> 0.0011986091 | AC18: =World2030!$G19/1000 -> 1.6543819 | AD18: =100*AC18/AC$9 -> 0.0024286483 | AE18: ='Dev''d2030'!$G19/1000 -> 0.083803458 | AF18: =100*AE18/AE$9 -> 0.00059973289 | AG18: ='CCA2030'!$G19/1000 -> 0.0036356312 | AH18: =100*AG18/AG$9 -> 0.00068181287 | AI18: ='EA2030'!$G19/1000 -> 0.089353827 | AJ18: =100*AI18/AI$9 -> 0.00063924836 | AK18: ='LAC2030'!$G19/1000 -> 0.082547257 | AL18: =100*AK18/AK$9 -> 0.0016455818 | AM18: ='NA2030'!$G19/1000 -> 0.0085070824 | AN18: =100*AM18/AM$9 -> 0.00046130659 | AO18: =Ocea2030!$G19/1000 -> 0.0033554476 | AP18: =100*AO18/AO$9 -> 0.0037351407 | AQ18: ='SEA2030'!$G19/1000 -> 0.13398341 | AR18: =100*AQ18/AQ$9 -> 0.0024341555 | AS18: ='SA2030'!$G19/1000 -> 0.4743884 | AT18: =100*AS18/AS$9 -> 0.0030727645 | AU18: ='SSA2030'!$G19/1000 -> 0.76137882 | AV18: =100*AU18/AU$9 -> 0.0075918455 | AW18: ='WA2030'!$G19/1000 -> 0.0134286 | AX18: =100*AW18/AW$9 -> 0.00078399198 | AY18: =World2045!$G19/1000 -> 1.4415034 | AZ18: =100*AY18/AY$9 -> 0.0016853257 | BA18: ='Dev''d2045'!$G19/1000 -> 0.075034293 | BB18: =100*BA18/BA$9 -> 0.00047003903 | BC18: ='CCA2045'!$G19/1000 -> 0.003044095 | BD18: =100*BC18/BC$9 -> 0.00042519409 | BE18: ='EA2045'!$G19/1000 -> 0.078618242 | BF18: =100*BE18/BE$9 -> 0.00043241548 | BG18: ='LAC2045'!$G19/1000 -> 0.074792745 | BH18: =100*BG18/BG$9 -> 0.0010829823 | BI18: ='NA2045'!$G19/1000 -> 0.0074027104 | BJ18: =100*BI18/BI$9 -> 0.00027353602 | BK18: =Ocea2045!$G19/1000 -> 0.0025525359 | BL18: =100*BK18/BK$9 -> 0.002223325 | BM18: ='SEA2045'!$G19/1000 -> 0.11979991 | BN18: =100*BM18/BM$9 -> 0.0016870271 | BO18: ='SA2045'!$G19/1000 -> 0.38261515 | BP18: =100*BO18/BO$9 -> 0.0020708732 | BQ18: ='SSA2045'!$G19/1000 -> 0.68684593 | BR18: =100*BQ18/BQ$9 -> 0.0053789621 | BS18: ='WA2045'!$G19/1000 -> 0.010797746 | BT18: =100*BS18/BS$9 -> 0.00041555129 | BU18: =World2060!$G19/1000 -> 1.2880916 | BV18: =100*BU18/BU$9 -> 0.0012649288 | BW18: ='Dev''d2060'!$G19/1000 -> 0.067078953 | BX18: =100*BW18/BW$9 -> 0.00042012388 | BY18: ='CCA2060'!$G19/1000 -> 0.0028351747 | BZ18: =100*BY18/BY$9 -> 0.00033247817 | CA18: ='EA2060'!$G19/1000 -> 0.065884361 | CB18: =100*CA18/CA$9 -> 0.00033435511 | CC18: ='LAC2060'!$G19/1000 -> 0.070320195 | CD18: =100*CC18/CC$9 -> 0.0007924935 | CE18: ='NA2060'!$G19/1000 -> 0.0069023424 | CF18: =100*CE18/CE$9 -> 0.0001842895 | CG18: =Ocea2060!$G19/1000 -> 0.0019217954 | CH18: =100*CG18/CG$9 -> 0.001337771 | CI18: ='SEA2060'!$G19/1000 -> 0.12080523 | CJ18: =100*CI18/CI$9 -> 0.0014146745 | CK18: ='SA2060'!$G19/1000 -> 0.32701733 | CL18: =100*CK18/CK$9 -> 0.0014581297 | CM18: ='SSA2060'!$G19/1000 -> 0.61587815 | CN18: =100*CM18/CM$9 -> 0.0034566558 | CO18: ='WA2060'!$G19/1000 -> 0.0094481214 | CP18: =100*CO18/CO$9 -> 0.0002512169
A19: 10 | D19: 3. | E19: HIV/AIDS | G19: =World2016!$G20/1000 -> 1011.9922 | H19: =100*G19/G$9 -> 1.7793769 | I19: ='Dev''d2016'!$G20/1000 -> 61.455053 | J19: =100*I19/I$9 -> 0.48280673 | K19: ='CCA2016'!$G20/1000 -> 2.7039431 | L19: =100*K19/K$9 -> 0.61242774 | M19: ='EA2016'!$G20/1000 -> 18.823413 | N19: =100*M19/M$9 -> 0.17008843 | O19: ='LAC2016'!$G20/1000 -> 47.578144 | P19: =100*O19/O$9 -> 1.2362212 | Q19: ='NA2016'!$G20/1000 -> 4.2256199 | R19: =100*Q19/Q$9 -> 0.30879256 | S19: =Ocea2016!$G20/1000 -> 1.1294317 | T19: =100*S19/S$9 -> 1.6186868 | U19: ='SEA2016'!$G20/1000 -> 78.520875 | V19: =100*U19/U$9 -> 1.7946191 | W19: ='SA2016'!$G20/1000 -> 74.9044 | X19: =100*W19/W$9 -> 0.58615456 | Y19: ='SSA2016'!$G20/1000 -> 720.88035 | Z19: =100*Y19/Y$9 -> 8.164674 | AA19: ='WA2016'!$G20/1000 -> 1.7709936 | AB19: =100*AA19/AA$9 -> 0.12965755 | AC19: =World2030!$G20/1000 -> 741.29949 | AD19: =100*AC19/AC$9 -> 1.0882347 | AE19: ='Dev''d2030'!$G20/1000 -> 49.84316 | AF19: =100*AE19/AE$9 -> 0.35669867 | AG19: ='CCA2030'!$G20/1000 -> 2.8503957 | AH19: =100*AG19/AG$9 -> 0.5345527 | AI19: ='EA2030'!$G20/1000 -> 8.1084526 | AJ19: =100*AI19/AI$9 -> 0.058008875 | AK19: ='LAC2030'!$G20/1000 -> 36.042096 | AL19: =100*AK19/AK$9 -> 0.71850015 | AM19: ='NA2030'!$G20/1000 -> 3.6896285 | AN19: =100*AM19/AM$9 -> 0.20007446 | AO19: =Ocea2030!$G20/1000 -> 0.7790641 | AP19: =100*AO19/AO$9 -> 0.86722083 | AQ19: ='SEA2030'!$G20/1000 -> 61.59896 | AR19: =100*AQ19/AQ$9 -> 1.1191046 | AS19: ='SA2030'!$G20/1000 -> 44.695727 | AT19: =100*AS19/AS$9 -> 0.28950844 | AU19: ='SSA2030'!$G20/1000 -> 532.21798 | AV19: =100*AU19/AU$9 -> 5.3068414 | AW19: ='WA2030'!$G20/1000 -> 1.4740298 | AX19: =100*AW19/AW$9 -> 0.086057189 | AY19: =World2045!$G20/1000 -> 522.15852 | AZ19: =100*AY19/AY$9 -> 0.61047876 | BA19: ='Dev''d2045'!$G20/1000 -> 36.016774 | BB19: =100*BA19/BA$9 -> 0.2256207 | BC19: ='CCA2045'!$G20/1000 -> 1.7880883 | BD19: =100*BC19/BC$9 -> 0.24975718 | BE19: ='EA2045'!$G20/1000 -> 3.0231094 | BF19: =100*BE19/BE$9 -> 0.016627684 | BG19: ='LAC2045'!$G20/1000 -> 15.362534 | BH19: =100*BG19/BG$9 -> 0.22244608 | BI19: ='NA2045'!$G20/1000 -> 1.8270631 | BJ19: =100*BI19/BI$9 -> 0.06751143 | BK19: =Ocea2045!$G20/1000 -> 0.3737464 | BL19: =100*BK19/BK$9 -> 0.32554281 | BM19: ='SEA2045'!$G20/1000 -> 30.326498 | BN19: =100*BM19/BM$9 -> 0.42705895 | BO19: ='SA2045'!$G20/1000 -> 17.027854 | BP19: =100*BO19/BO$9 -> 0.092161868 | BQ19: ='SSA2045'!$G20/1000 -> 415.48788 | BR19: =100*BQ19/BQ$9 -> 3.2538499 | BS19: ='WA2045'!$G20/1000 -> 0.92497673 | BT19: =100*BS19/BS$9 -> 0.035597732 | BU19: =World2060!$G20/1000 -> 363.35619 | BV19: =100*BU19/BU$9 -> 0.3568222 | BW19: ='Dev''d2060'!$G20/1000 -> 29.428887 | BX19: =100*BW19/BW$9 -> 0.1843168 | BY19: ='CCA2060'!$G20/1000 -> 1.1330145 | BZ19: =100*BY19/BY$9 -> 0.13286751 | CA19: ='EA2060'!$G20/1000 -> 1.1522618 | CB19: =100*CA19/CA$9 -> 0.0058475883 | CC19: ='LAC2060'!$G20/1000 -> 6.1857398 | CD19: =100*CC19/CC$9 -> 0.06971196 | CE19: ='NA2060'!$G20/1000 -> 0.76664897 | CF19: =100*CE19/CE$9 -> 0.020469189 | CG19: =Ocea2060!$G20/1000 -> 0.15967166 | CH19: =100*CG19/CG$9 -> 0.1111482 | CI19: ='SEA2060'!$G20/1000 -> 14.750341 | CJ19: =100*CI19/CI$9 -> 0.17273203 | CK19: ='SA2060'!$G20/1000 -> 7.0086747 | CL19: =100*CK19/CK$9 -> 0.03125081 | CM19: ='SSA2060'!$G20/1000 -> 302.23033 | CN19: =100*CM19/CM$9 -> 1.6962872 | CO19: ='WA2060'!$G20/1000 -> 0.54062238 | CP19: =100*CO19/CO$9 -> 0.014374654
A20: 11 | D20: 4. | E20: Diarrhoeal diseases | G20: =World2016!$G21/1000 -> 1382.7068 | H20: =100*G20/G$9 -> 2.431201 | I20: ='Dev''d2016'!$G21/1000 -> 31.863399 | J20: =100*I20/I$9 -> 0.25032707 | K20: ='CCA2016'!$G21/1000 -> 2.6337652 | L20: =100*K20/K$9 -> 0.59653284 | M20: ='EA2016'!$G21/1000 -> 11.131491 | N20: =100*M20/M$9 -> 0.10058419 | O20: ='LAC2016'!$G21/1000 -> 23.454308 | P20: =100*O20/O$9 -> 0.60941242 | Q20: ='NA2016'!$G21/1000 -> 17.826326 | R20: =100*Q20/Q$9 -> 1.3026815 | S20: =Ocea2016!$G21/1000 -> 2.378874 | T20: =100*S20/S$9 -> 3.4093713 | U20: ='SEA2016'!$G21/1000 -> 89.667118 | V20: =100*U20/U$9 -> 2.0493699 | W20: ='SA2016'!$G21/1000 -> 524.69809 | X20: =100*W20/W$9 -> 4.1059561 | Y20: ='SSA2016'!$G21/1000 -> 668.5472 | Z20: =100*Y20/Y$9 -> 7.57195 | AA20: ='WA2016'!$G21/1000 -> 10.50621 | AB20: =100*AA20/AA$9 -> 0.76917806 | AC20: =World2030!$G21/1000 -> 1236.1806 | AD20: =100*AC20/AC$9 -> 1.8147248 | AE20: ='Dev''d2030'!$G21/1000 -> 54.976452 | AF20: =100*AE20/AE$9 -> 0.39343467 | AG20: ='CCA2030'!$G21/1000 -> 0.92536441 | AH20: =100*AG20/AG$9 -> 0.17353943 | AI20: ='EA2030'!$G21/1000 -> 9.6041498 | AJ20: =100*AI20/AI$9 -> 0.068709279 | AK20: ='LAC2030'!$G21/1000 -> 20.338691 | AL20: =100*AK20/AK$9 -> 0.40545234 | AM20: ='NA2030'!$G21/1000 -> 12.689909 | AN20: =100*AM20/AM$9 -> 0.68812532 | AO20: =Ocea2030!$G21/1000 -> 2.2978606 | AP20: =100*AO20/AO$9 -> 2.5578801 | AQ20: ='SEA2030'!$G21/1000 -> 83.561577 | AR20: =100*AQ20/AQ$9 -> 1.5181124 | AS20: ='SA2030'!$G21/1000 -> 462.65909 | AT20: =100*AS20/AS$9 -> 2.99679 | AU20: ='SSA2030'!$G21/1000 -> 581.59871 | AV20: =100*AU20/AU$9 -> 5.7992256 | AW20: ='WA2030'!$G21/1000 -> 7.5287801 | AX20: =100*AW20/AW$9 -> 0.43954719 | AY20: =World2045!$G21/1000 -> 1274.2686 | AZ20: =100*AY20/AY$9 -> 1.4898041 | BA20: ='Dev''d2045'!$G21/1000 -> 65.415521 | BB20: =100*BA20/BA$9 -> 0.40978394 | BC20: ='CCA2045'!$G21/1000 -> 0.41882133 | BD20: =100*BC20/BC$9 -> 0.058500263 | BE20: ='EA2045'!$G21/1000 -> 12.202621 | BF20: =100*BE20/BE$9 -> 0.067116769 | BG20: ='LAC2045'!$G21/1000 -> 24.769646 | BH20: =100*BG20/BG$9 -> 0.35865897 | BI20: ='NA2045'!$G21/1000 -> 12.066435 | BJ20: =100*BI20/BI$9 -> 0.44586435 | BK20: =Ocea2045!$G21/1000 -> 2.444131 | BL20: =100*BK20/BK$9 -> 2.1289015 | BM20: ='SEA2045'!$G21/1000 -> 106.18623 | BN20: =100*BM20/BM$9 -> 1.4953187 | BO20: ='SA2045'!$G21/1000 -> 487.67584 | BP20: =100*BO20/BO$9 -> 2.6395056 | BQ20: ='SSA2045'!$G21/1000 -> 556.51664 | BR20: =100*BQ20/BQ$9 -> 4.3583019 | BS20: ='WA2045'!$G21/1000 -> 6.5726954 | BT20: =100*BS20/BS$9 -> 0.2529502 | BU20: =World2060!$G21/1000 -> 1491.6887 | BV20: =100*BU20/BU$9 -> 1.4648647 | BW20: ='Dev''d2060'!$G21/1000 -> 64.338681 | BX20: =100*BW20/BW$9 -> 0.40296121 | BY20: ='CCA2060'!$G21/1000 -> 0.31163393 | BZ20: =100*BY20/BY$9 -> 0.036545007 | CA20: ='EA2060'!$G21/1000 -> 12.970825 | CB20: =100*CA20/CA$9 -> 0.065825358 | CC20: ='LAC2060'!$G21/1000 -> 30.692356 | CD20: =100*CC20/CC$9 -> 0.34589627 | CE20: ='NA2060'!$G21/1000 -> 13.45614 | CF20: =100*CE20/CE$9 -> 0.35927299 | CG20: =Ocea2060!$G21/1000 -> 2.8876642 | CH20: =100*CG20/CG$9 -> 2.0101168 | CI20: ='SEA2060'!$G21/1000 -> 129.51629 | CJ20: =100*CI20/CI$9 -> 1.5166842 | CK20: ='SA2060'!$G21/1000 -> 569.20524 | CL20: =100*CK20/CK$9 -> 2.5380155 | CM20: ='SSA2060'!$G21/1000 -> 660.69271 | CN20: =100*CM20/CM$9 -> 3.7081803 | CO20: ='WA2060'!$G21/1000 -> 7.6171297 | CP20: =100*CO20/CO$9 -> 0.20253251
A21: 12 | D21: 5. | E21: Childhood-cluster diseases | G21: =World2016!$G22/1000 -> 156.11592 | H21: =100*G21/G$9 -> 0.27449722 | I21: ='Dev''d2016'!$G22/1000 -> 0.19474198 | J21: =100*I21/I$9 -> 0.0015299432 | K21: ='CCA2016'!$G22/1000 -> 0.076602251 | L21: =100*K21/K$9 -> 0.017349974 | M21: ='EA2016'!$G22/1000 -> 1.4019799 | N21: =100*M21/M$9 -> 0.012668295 | O21: ='LAC2016'!$G22/1000 -> 0.88102097 | P21: =100*O21/O$9 -> 0.022891535 | Q21: ='NA2016'!$G22/1000 -> 2.2907588 | R21: =100*Q21/Q$9 -> 0.16740012 | S21: =Ocea2016!$G22/1000 -> 0.21832305 | T21: =100*S21/S$9 -> 0.31289776 | U21: ='SEA2016'!$G22/1000 -> 10.680455 | V21: =100*U21/U$9 -> 0.24410514 | W21: ='SA2016'!$G22/1000 -> 52.089019 | X21: =100*W21/W$9 -> 0.40761579 | Y21: ='SSA2016'!$G22/1000 -> 87.214664 | Z21: =100*Y21/Y$9 -> 0.98779125 | AA21: ='WA2016'!$G22/1000 -> 1.0683512 | AB21: =100*AA21/AA$9 -> 0.078215865 | AC21: =World2030!$G22/1000 -> 83.373713 | AD21: =100*AC21/AC$9 -> 0.1223934 | AE21: ='Dev''d2030'!$G22/1000 -> 0.17708427 | AF21: =100*AE21/AE$9 -> 0.0012672897 | AG21: ='CCA2030'!$G22/1000 -> 0.021221408 | AH21: =100*AG21/AG$9 -> 0.0039797846 | AI21: ='EA2030'!$G22/1000 -> 0.59457172 | AJ21: =100*AI21/AI$9 -> 0.0042536398 | AK21: ='LAC2030'!$G22/1000 -> 0.6218712 | AL21: =100*AK21/AK$9 -> 0.012397019 | AM21: ='NA2030'!$G22/1000 -> 1.1576122 | AN21: =100*AM21/AM$9 -> 0.062772887 | AO21: =Ocea2030!$G22/1000 -> 0.11515282 | AP21: =100*AO21/AO$9 -> 0.1281832 | AQ21: ='SEA2030'!$G22/1000 -> 6.1591461 | AR21: =100*AQ21/AQ$9 -> 0.11189684 | AS21: ='SA2030'!$G22/1000 -> 23.255033 | AT21: =100*AS21/AS$9 -> 0.15063024 | AU21: ='SSA2030'!$G22/1000 -> 50.674099 | AV21: =100*AU21/AU$9 -> 0.50528058 | AW21: ='WA2030'!$G22/1000 -> 0.59792069 | AX21: =100*AW21/AW$9 -> 0.034907961 | AY21: =World2045!$G22/1000 -> 49.044165 | AZ21: =100*AY21/AY$9 -> 0.057339715 | BA21: ='Dev''d2045'!$G22/1000 -> 0.11551695 | BB21: =100*BA21/BA$9 -> 0.00072363544 | BC21: ='CCA2045'!$G22/1000 -> 0.0067701161 | BD21: =100*BC21/BC$9 -> 0.00094563849 | BE21: ='EA2045'!$G22/1000 -> 0.43284803 | BF21: =100*BE21/BE$9 -> 0.0023807476 | BG21: ='LAC2045'!$G22/1000 -> 0.34835896 | BH21: =100*BG21/BG$9 -> 0.0050441602 | BI21: ='NA2045'!$G22/1000 -> 0.69076041 | BJ21: =100*BI21/BI$9 -> 0.025524145 | BK21: =Ocea2045!$G22/1000 -> 0.054995838 | BL21: =100*BK21/BK$9 -> 0.047902801 | BM21: ='SEA2045'!$G22/1000 -> 4.2859999 | BN21: =100*BM21/BM$9 -> 0.060355622 | BO21: ='SA2045'!$G22/1000 -> 13.188045 | BP21: =100*BO21/BO$9 -> 0.071379218 | BQ21: ='SSA2045'!$G22/1000 -> 29.523678 | BR21: =100*BQ21/BQ$9 -> 0.2312116 | BS21: ='WA2045'!$G22/1000 -> 0.39719055 | BT21: =100*BS21/BS$9 -> 0.01528588 | BU21: =World2060!$G22/1000 -> 34.551795 | BV21: =100*BU21/BU$9 -> 0.033930474 | BW21: ='Dev''d2060'!$G22/1000 -> 0.088027449 | BX21: =100*BW21/BW$9 -> 0.00055132692 | BY21: ='CCA2060'!$G22/1000 -> 0.0024357935 | BZ21: =100*BY21/BY$9 -> 0.00028564313 | CA21: ='EA2060'!$G22/1000 -> 0.32993186 | CB21: =100*CA21/CA$9 -> 0.001674364 | CC21: ='LAC2060'!$G22/1000 -> 0.2674191 | CD21: =100*CC21/CC$9 -> 0.0030137559 | CE21: ='NA2060'!$G22/1000 -> 0.41321392 | CF21: =100*CE21/CE$9 -> 0.011032629 | CG21: =Ocea2060!$G22/1000 -> 0.026974811 | CH21: =100*CG21/CG$9 -> 0.018777295 | CI21: ='SEA2060'!$G22/1000 -> 3.4455772 | CJ21: =100*CI21/CI$9 -> 0.040349 | CK21: ='SA2060'!$G22/1000 -> 9.7619838 | CL21: =100*CK21/CK$9 -> 0.043527474 | CM21: ='SSA2060'!$G22/1000 -> 19.882278 | CN21: =100*CM21/CM$9 -> 0.11159057 | CO21: ='WA2060'!$G22/1000 -> 0.3339529 | CP21: =100*CO21/CO$9 -> 0.008879502
