Workbook
Name __LEX1955: '[1]summary-targets'!#REF!
Name __LEX1955: '[1]summary-targets'!#REF!
Name __LEX1955: '[1]summary-targets'!#REF!
Name __LEX1955: '[1]summary-targets'!#REF!
Name __LEX1955: '[1]summary-targets'!#REF!
Name __LEX1975: '[1]summary-targets'!#REF!
Name __LEX1975: '[1]summary-targets'!#REF!
Name __LEX1975: '[1]summary-targets'!#REF!
Name __LEX1975: '[1]summary-targets'!#REF!
Name __LEX1975: '[1]summary-targets'!#REF!
Name __LEX2025: '[1]summary-targets'!#REF!
Name __LEX2025: '[1]summary-targets'!#REF!
Name __LEX2025: '[1]summary-targets'!#REF!
Name __LEX2025: '[1]summary-targets'!#REF!
Name __LEX2025: '[1]summary-targets'!#REF!
Name _reg98: [2]whoreg!#REF!
Name _reg98: [2]whoreg!#REF!
Name _reg98: [2]whoreg!#REF!
Name _reg98: [2]whoreg!#REF!
Name _reg98: [2]whoreg!#REF!
Name _resul: '[3]slop-inter'!$A$45:$AG$48
Name _yellowF: #REF!
Name _yellowF: #REF!
Name _yellowF: #REF!
Name _yellowF: #REF!
Name _yellowF: #REF!
Name _yellowM: #REF!
Name _yellowM: #REF!
Name _yellowM: #REF!
Name _yellowM: #REF!
Name _yellowM: #REF!
Name data: #REF!
Name data: #REF!
Name data: #REF!
Name data: #REF!
Name data: #REF!
Name GBDageD95: [4]Deaths!$A$1:$T$643
Name home: '[3]slop-inter'!$D$1:$F$1
Name label: [3]lx!$D$1788:$E$1825
Name n: #REF!
Name PA: #REF!
Name PA: #REF!
Name PA: #REF!
Name PA: #REF!
Name PA: #REF!
Name pop: #REF!
Name pop: #REF!
Name pop: #REF!
Name pop: #REF!
Name pop: #REF!
Name ppp: [5]Setup!#REF!
Name ppp: [5]Setup!#REF!
Name ppp: [5]Setup!#REF!
Name ppp: [5]Setup!#REF!
Name ppp: [5]Setup!#REF!
Name PrintAr2: #REF!
Name PrintAr2: #REF!
Name PrintAr2: #REF!
Name PrintAr2: #REF!
Name PrintAr2: #REF!

Sheet Notes
B2: GLOBAL HEALTH ESTIMATES SUMMARY TABLES: PROJECTION OF DEATHS BY CAUSE, AGE AND SEX, BY UNITED NATIONS MILLENNIUM DEVELOPMENT GOALS (SDG) REGION October 2018 World Health Organization Geneva, Switzerland
B3: http://www.who.int/healthinfo/global_burden_disease/en/
B5: Global Health Estimates Summary Tables: Projection This workbook contains summary projections of mortality by cause, sex, age and region. Following the release of the WHO Global Health Estimates of deaths by cause, age, sex and country for years 2000-2016 (1), WHO projections of mortality and causes of death have been updated and extended for years 2017-2060 (2). These projections are an update of previous projections released in 2006 (3), 2008 (4) and 2013 (5). A set of relatively simple models were used to project future health trends for baseline, optimistic and pessimistic scenarios, based largely on projections of economic and social development, and using the historically observed relationships of these with cause-specific mortality rates. Projected death rates were converted to numbers of deaths using the median population projections of the World Population Prospects 2017 (7). For a more detailed summary of methods and data inputs, refer to the documentation available on the WHO website at <url> (8). All projection covariates have been revised and updated. These include country level projections of gross domestic product (GDP) per capita in purchasing parity adjusted 2011 dollars, average years of education for men and women aged 25 years and over, and smoking impact SI, the component of observed lung cancer mortality attributable to tobacco smoking. SI was projected using 25-year lagged projections of prevalence of tobacco smoking and average cigarettes per smoker per day. In the original projections, separate projection models were developed for HIV/AIDS, tuberculosis, lung cancer, diabetes mellitus and chronic respiratory diseases (3). These models have been revised and updated as described in the projections documentation (8). Additional special projection models have also been developed for malaria, maternal deaths, road injury, homicide, natural disasters and war and conflict (8). These projections are less firm than the base year assessments for 2016, and provide “business-as-usual” projections under specified assumptions that do not specifically take account of trends in major risk factors apart from tobacco smoking, and to a limited extent, overweight and obesity. This spreadsheet includes point estimates for projected deaths by region, cause, age and sex under a business-as-usual scenario for projected covariates. Explicit uncertainty ranges are not included here, uncertainty in projections is better conveyed through comparison of optimistic and pessimistic scenarios with varying input assumptions (under preparation and not yet released). The number of significant figures displayed in worksheet cells in this this Excel workbook do not provide information on uncertainty ranges of projected estimates. The base scenario does not necessarily represent the best predictions or potential range of future global and regional health trends; it is possible that more sophisticated causal models incorporating projections of important determinants may provide better predictions for specific diseases. The preparation of these statistics was undertaken by the WHO Department of Health Statistics and Informatics in collaboration with WHO technical programs. Documentation and regional-level summary tables are available on the WHO website (8). For other queries, please send an email to healthstat@who.int. References 1. Global Health Estimates 2016: Deaths by cause, age and sex, by country and by region, 2000-2016. Geneva: World Health Organization; 2018. Available at http://www.who.int/healthinfo/global_burden_disease/estimates/en/. 2. World Health Organization (2018). Projections of mortality and causes of death, 2017-2060. Available on the WHO website at http://www.who.int/healthinfo/global_burden_disease/projections/en/. 3. Mathers CD, Loncar D. Projections of global mortality and burden of disease from 2002 to 2030. PLoS Medicine, 2006, 3(11): e442. 4. World Health Organization. The global burden of disease: 2004 update. Geneva, World Health Organization, 2008. 5. World Health Organization (2013). Projections of mortality and causes of death, 2012-2030. Available on the WHO website at http://www.who.int/healthinfo/global_burden_disease/projections/en/. 6. Murray CJL, Lopez AD, eds. The global burden of disease: a comprehensive assessment of mortality and disability from diseases, injuries and risk factors in 1990 and projected to 2020. Cambridge, Harvard School of Public Health on behalf of the World Health Organization and the World Bank, 1996. 7. UN Population Division. World Population Prospects - the 2017 revision. New York, United Nations, 2017. 8. World Health Organization (2018). Updated projections of mortality and causes of death, 2016-2060. Available on the WHO website at http://www.who.int/healthinfo/global_burden_disease/projections/en/.

Sheet Country list
B2: List of Countries in Regional Categories
B4: SDG Region | C4: Countries included
B5: Developed regions | C5: Albania
C6: Australia
C7: Austria
C8: Belarus
C9: Belgium
C10: Bosnia and Herzegovina
C11: Bulgaria
C12: Canada
C13: Croatia
C14: Cyprus
C15: Czechia
C16: Denmark
C17: Estonia
... C50: United States of America
B52: Developing regions
B53: Central Asia | C53: Kazakhstan
C54: Kyrgyzstan
C55: Tajikistan
C56: Turkmenistan
C57: Uzbekistan
B59: Eastern Asia | C59: China
C60: Democratic People's Republic of Korea
C61: Mongolia
C62: Republic of Korea
B64: Latin America and the Caribbean | C64: Antigua and Barbuda
C65: Argentina
C66: Bahamas
C67: Barbados
C68: Belize
C69: Bolivia (Plurinational State of)
C70: Brazil
C71: Chile
C72: Colombia
C73: Costa Rica
C74: Cuba
C75: Dominican Republic
C76: Ecuador
... C94: Venezuela (Bolivarian Republic of)
B96: Northern Africa | C96: Algeria
C97: Egypt
C98: Libya
C99: Morocco
C100: Sudan
C101: Tunisia
B103: Oceania | C103: Fiji
C104: Micronesia (Federated States of)
C105: Kiribati
C106: Marshall Islands
C107: Papua New Guinea
C108: Samoa
C109: Solomon Islands
C110: Tonga
C111: Vanuatu
B113: South-eastern Asia | C113: Brunei Darussalam
C114: Cambodia
C115: Indonesia
C116: Lao People's Democratic Republic
C117: Malaysia
C118: Myanmar
C119: Philippines
C120: Singapore
C121: Thailand
C122: Timor-Leste
C123: Viet Nam
B125: Southern Asia | C125: Afghanistan
C126: Bangladesh
C127: Bhutan
C128: India
C129: Iran (Islamic Republic of)
C130: Maldives
C131: Nepal
C132: Pakistan
C133: Sri Lanka
B135: Sub-Saharan Africa | C135: Angola
C136: Benin
C137: Botswana
C138: Burkina Faso
C139: Burundi
C140: Cameroon
C141: Cabo Verde
C142: Central African Republic
C143: Chad
C144: Comoros
C145: Congo
C146: Côte d'Ivoire
C147: Democratic Republic of the Congo
... C182: Zimbabwe
B184: Western Asia | C184: Armenia
C185: Azerbaijan
C186: Bahrain
C187: Georgia
C188: Iraq
C189: Jordan
C190: Kuwait
C191: Lebanon
C192: Oman
C193: Qatar
C194: Saudi Arabia
...

Sheet Summary
B1: Summary: Deaths (thousands) by cause and by MDG region
F3: Year | G3: 2016 | AC3: 2030 | AY3: 2045 | BU3: 2060
F4: Region | G4: WORLD | I4: Developed regions | K4: Developing regions | AC4: WORLD | AE4: Developed regions | AG4: Developing regions | AY4: WORLD | BA4: Developed regions | BC4: Developing regions | BU4: WORLD | BW4: Developed regions | BY4: Developing regions
K5: Caucasus and Central Asia | M5: Eastern Asia | O5: Latin America and the Caribbean | Q5: North Africa | S5: Oceania | U5: South-eastern Asia | W5: South Asia | Y5: Sub-Saharan Africa | AA5: Western Asia | AG5: Caucasus and Central Asia | AI5: Eastern Asia | AK5: Latin America and the Caribbean | AM5: North Africa | AO5: Oceania | AQ5: South-eastern Asia | AS5: South Asia | AU5: Sub-Saharan Africa | AW5: Western Asia | BC5: Caucasus and Central Asia | BE5: Eastern Asia | BG5: Latin America and the Caribbean | BI5: North Africa | BK5: Oceania | BM5: South-eastern Asia | BO5: South Asia | BQ5: Sub-Saharan Africa | BS5: Western Asia | BY5: Caucasus and Central Asia | CA5: Eastern Asia | CC5: Latin America and the Caribbean | CE5: North Africa | CG5: Oceania | CI5: South-eastern Asia | CK5: South Asia | CM5: Sub-Saharan Africa | CO5: Western Asia
B7: Population (thousands) | G7: =World2016!$G7 -> 7462277.2 | I7: ='Dev''d2016'!$G7 -> 1265294.4 | K7: ='CCA2016'!$G7 -> 69787.759 | M7: ='EA2016'!$G7 -> 1514160 | O7: ='LAC2016'!$G7 -> 637226.69 | Q7: ='NA2016'!$G7 -> 228846.86 | S7: =Ocea2016!$G7 -> 10375.169 | U7: ='SEA2016'!$G7 -> 641775.78 | W7: ='SA2016'!$G7 -> 1846266.6 | Y7: ='SSA2016'!$G7 -> 994574.49 | AA7: ='WA2016'!G7 -> 253576.05 | AC7: =World2030!$G7 -> 8545864.6 | AE7: ='Dev''d2030'!$G7 -> 1300530.2 | AG7: ='CCA2030'!$G7 -> 81972.711 | AI7: ='EA2030'!$G7 -> 1557072.3 | AK7: ='LAC2030'!$G7 -> 716506.33 | AM7: ='NA2030'!$G7 -> 284467.67 | AO7: =Ocea2030!$G7 -> 13175.803 | AQ7: ='SEA2030'!$G7 -> 727991 | AS7: ='SA2030'!$G7 -> 2134449 | AU7: ='SSA2030'!$G7 -> 1417028 | AW7: ='WA2030'!$G7 -> 312254.94 | AY7: =World2045!$G7 -> 9498328.2 | BA7: ='Dev''d2045'!$G7 -> 1310964.9 | BC7: ='CCA2045'!$G7 -> 91799.572 | BE7: ='EA2045'!$G7 -> 1509308.2 | BG7: ='LAC2045'!$G7 -> 768282.69 | BI7: ='NA2045'!$G7 -> 341305.44 | BK7: =Ocea2045!$G7 -> 16148.142 | BM7: ='SEA2045'!$G7 -> 786163.36 | BO7: ='SA2045'!$G7 -> 2339299 | BQ7: ='SSA2045'!$G7 -> 1967858.8 | BS7: ='WA2045'!AY7 -> 0 | BU7: =World2060!$G7 -> 10216375 | BW7: ='Dev''d2060'!$G7 -> 1308362.3 | BY7: ='CCA2060'!$G7 -> 97965.054 | CA7: ='EA2060'!$G7 -> 1397665.2 | CC7: ='LAC2060'!$G7 -> 785313.22 | CE7: ='NA2060'!$G7 -> 389874.31 | CG7: =Ocea2060!$G7 -> 18756.607 | CI7: ='SEA2060'!$G7 -> 809854.07 | CK7: ='SA2060'!$G7 -> 60 | CM7: ='SSA2060'!$G7 -> 2571822.1 | CO7: ='WA2060'!$G7 -> 409338.63
A8: GHE 2012 code | B8: GHE 2012 cause category | G8: Deaths (000s) | H8: % total | I8: Deaths (000s) | J8: % total | K8: Deaths (000s) | L8: % total | M8: Deaths (000s) | N8: % total | O8: Deaths (000s) | P8: % total | Q8: Deaths (000s) | R8: % total | S8: Deaths (000s) | T8: % total | U8: Deaths (000s) | V8: % total | W8: Deaths (000s) | X8: % total | Y8: Deaths (000s) | Z8: % total | AA8: Deaths (000s) | AB8: % total | AC8: Deaths (000s) | AD8: % total | AE8: Deaths (000s) | AF8: % total | AG8: Deaths (000s) | AH8: % total | AI8: Deaths (000s) | AJ8: % total | AK8: Deaths (000s) | AL8: % total | AM8: Deaths (000s) | AN8: % total | AO8: Deaths (000s) | AP8: % total | AQ8: Deaths (000s) | AR8: % total | AS8: Deaths (000s) | AT8: % total | AU8: Deaths (000s) | AV8: % total | AW8: Deaths (000s) | AX8: % total | AY8: Deaths (000s) | AZ8: % total | BA8: Deaths (000s) | BB8: % total | BC8: Deaths (000s) | BD8: % total | BE8: Deaths (000s) | BF8: % total | BG8: Deaths (000s) | BH8: % total | BI8: Deaths (000s) | BJ8: % total | BK8: Deaths (000s) | BL8: % total | BM8: Deaths (000s) | BN8: % total | BO8: Deaths (000s) | BP8: % total | BQ8: Deaths (000s) | BR8: % total | BS8: Deaths (000s) | BT8: % total | BU8: Deaths (000s) | BV8: % total | BW8: Deaths (000s) | BX8: % total | BY8: Deaths (000s) | BZ8: % total | CA8: Deaths (000s) | CB8: % total | CC8: Deaths (000s) | CD8: % total | CE8: Deaths (000s) | CF8: % total | CG8: Deaths (000s) | CH8: % total | CI8: Deaths (000s) | CJ8: % total | CK8: Deaths (000s) | CL8: % total | CM8: Deaths (000s) | CN8: % total | CO8: Deaths (000s) | CP8: % total
A9: 0 | C9: All Causes | G9: =World2016!$G10/1000 -> 56873.405 | H9: =100*G9/G$9 -> 100 | I9: ='Dev''d2016'!$G10/1000 -> 12728.707 | J9: =100*I9/I$9 -> 100 | K9: ='CCA2016'!$G10/1000 -> 441.51219 | L9: =100*K9/K$9 -> 100 | M9: ='EA2016'!$G10/1000 -> 11066.84 | N9: =100*M9/M$9 -> 100 | O9: ='LAC2016'!$G10/1000 -> 3848.6758 | P9: =100*O9/O$9 -> 100 | Q9: ='NA2016'!$G10/1000 -> 1368.4332 | R9: =100*Q9/Q$9 -> 100 | S9: =Ocea2016!$G10/1000 -> 69.774565 | T9: =100*S9/S$9 -> 100 | U9: ='SEA2016'!$G10/1000 -> 4375.3505 | V9: =100*U9/U$9 -> 100 | W9: ='SA2016'!$G10/1000 -> 12778.95 | X9: =100*W9/W$9 -> 100 | Y9: ='SSA2016'!$G10/1000 -> 8829.2606 | Z9: =100*Y9/Y$9 -> 100 | AA9: ='WA2016'!$G10/1000 -> 1365.9009 | AB9: =100*AA9/AA$9 -> 100 | AC9: =World2030!$G10/1000 -> 68119.453 | AD9: =100*AC9/AC$9 -> 100 | AE9: ='Dev''d2030'!$G10/1000 -> 13973.464 | AF9: =100*AE9/AE$9 -> 100 | AG9: ='CCA2030'!$G10/1000 -> 533.23006 | AH9: =100*AG9/AG$9 -> 100 | AI9: ='EA2030'!$G10/1000 -> 13977.952 | AJ9: =100*AI9/AI$9 -> 100 | AK9: ='LAC2030'!$G10/1000 -> 5016.2963 | AL9: =100*AK9/AK$9 -> 100 | AM9: ='NA2030'!$G10/1000 -> 1844.1277 | AN9: =100*AM9/AM$9 -> 100 | AO9: =Ocea2030!$G10/1000 -> 89.83457 | AP9: =100*AO9/AO$9 -> 100 | AQ9: ='SEA2030'!$G10/1000 -> 5504.3077 | AR9: =100*AQ9/AQ$9 -> 100 | AS9: ='SA2030'!$G10/1000 -> 15438.489 | AT9: =100*AS9/AS$9 -> 100 | AU9: ='SSA2030'!$G10/1000 -> 10028.903 | AV9: =100*AU9/AU$9 -> 100 | AW9: ='WA2030'!$G10/1000 -> 1712.8491 | AX9: =100*AW9/AW$9 -> 100 | AY9: =World2045!$G10/1000 -> 85532.627 | AZ9: =100*AY9/AY$9 -> 100 | BA9: ='Dev''d2045'!$G10/1000 -> 15963.418 | BB9: =100*BA9/BA$9 -> 100 | BC9: ='CCA2045'!$G10/1000 -> 715.93069 | BD9: =100*BC9/BC$9 -> 100 | BE9: ='EA2045'!$G10/1000 -> 18181.181 | BF9: =100*BE9/BE$9 -> 100 | BG9: ='LAC2045'!$G10/1000 -> 6906.1835 | BH9: =100*BG9/BG$9 -> 100 | BI9: ='NA2045'!$G10/1000 -> 2706.3019 | BJ9: =100*BI9/BI$9 -> 100 | BK9: =Ocea2045!$G10/1000 -> 114.80714 | BL9: =100*BK9/BK$9 -> 100 | BM9: ='SEA2045'!$G10/1000 -> 7101.2439 | BN9: =100*BM9/BM$9 -> 100 | BO9: ='SA2045'!$G10/1000 -> 18476.03 | BP9: =100*BO9/BO$9 -> 100 | BQ9: ='SSA2045'!$G10/1000 -> 12769.116 | BR9: =100*BQ9/BQ$9 -> 100 | BS9: ='WA2045'!$G10/1000 -> 2598.4148 | BT9: =100*BS9/BS$9 -> 100 | BU9: =World2060!$G10/1000 -> 101831.16 | BV9: =100*BU9/BU$9 -> 100 | BW9: ='Dev''d2060'!$G10/1000 -> 15966.47 | BX9: =100*BW9/BW$9 -> 100 | BY9: ='CCA2060'!$G10/1000 -> 852.7401 | BZ9: =100*BY9/BY$9 -> 100 | CA9: ='EA2060'!$G10/1000 -> 19704.906 | CB9: =100*CA9/CA$9 -> 100 | CC9: ='LAC2060'!$G10/1000 -> 8873.2835 | CD9: =100*CC9/CC$9 -> 100 | CE9: ='NA2060'!$G10/1000 -> 3745.3802 | CF9: =100*CE9/CE$9 -> 100 | CG9: =Ocea2060!$G10/1000 -> 143.65654 | CH9: =100*CG9/CG$9 -> 100 | CI9: ='SEA2060'!$G10/1000 -> 8539.4364 | CJ9: =100*CI9/CI$9 -> 100 | CK9: ='SA2060'!$G10/1000 -> 22427.178 | CL9: =100*CK9/CK$9 -> 100 | CM9: ='SSA2060'!$G10/1000 -> 17817.168 | CN9: =100*CM9/CM$9 -> 100 | CO9: ='WA2060'!$G10/1000 -> 3760.9418 | CP9: =100*CO9/CO$9 -> 100
A10: 1 | B10: I. | C10: Communicable, maternal, perinatal and nutritional conditions | G10: =World2016!$G11/1000 -> 11481.463 | H10: =100*G10/G$9 -> 20.187755 | I10: ='Dev''d2016'!$G11/1000 -> 751.80075 | J10: =100*I10/I$9 -> 5.9063404 | K10: ='CCA2016'!$G11/1000 -> 45.674755 | L10: =100*K10/K$9 -> 10.345072 | M10: ='EA2016'!$G11/1000 -> 454.57869 | N10: =100*M10/M$9 -> 4.1075746 | O10: ='LAC2016'!$G11/1000 -> 524.45816 | P10: =100*O10/O$9 -> 13.626977 | Q10: ='NA2016'!$G11/1000 -> 224.6164 | R10: =100*Q10/Q$9 -> 16.41413 | S10: =Ocea2016!$G11/1000 -> 22.389379 | T10: =100*S10/S$9 -> 32.088167 | U10: ='SEA2016'!$G11/1000 -> 880.09136 | V10: =100*U10/U$9 -> 20.114762 | W10: ='SA2016'!$G11/1000 -> 3387.9229 | X10: =100*W10/W$9 -> 26.511747 | Y10: ='SSA2016'!$G11/1000 -> 5047.0289 | Z10: =100*Y10/Y$9 -> 57.162531 | AA10: ='WA2016'!$G11/1000 -> 142.90213 | AB10: =100*AA10/AA$9 -> 10.462116 | AC10: =World2030!$G11/1000 -> 10094.844 | AD10: =100*AC10/AC$9 -> 14.819326 | AE10: ='Dev''d2030'!$G11/1000 -> 812.2 | AF10: =100*AE10/AE$9 -> 5.8124457 | AG10: ='CCA2030'!$G11/1000 -> 27.243161 | AH10: =100*AG10/AG$9 -> 5.1090819 | AI10: ='EA2030'!$G11/1000 -> 440.44048 | AJ10: =100*AI10/AI$9 -> 3.1509658 | AK10: ='LAC2030'!$G11/1000 -> 570.64938 | AL10: =100*AK10/AK$9 -> 11.375911 | AM10: ='NA2030'!$G11/1000 -> 189.54119 | AN10: =100*AM10/AM$9 -> 10.278095 | AO10: =Ocea2030!$G11/1000 -> 18.68186 | AP10: =100*AO10/AO$9 -> 20.795848 | AQ10: ='SEA2030'!$G11/1000 -> 786.99897 | AR10: =100*AQ10/AQ$9 -> 14.297874 | AS10: ='SA2030'!$G11/1000 -> 2796.1093 | AT10: =100*AS10/AS$9 -> 18.111289 | AU10: ='SSA2030'!$G11/1000 -> 4330.1508 | AV10: =100*AU10/AU$9 -> 43.176714 | AW10: ='WA2030'!$G11/1000 -> 122.82883 | AX10: =100*AW10/AW$9 -> 7.1710245 | AY10: =World2045!$G11/1000 -> 9666.0585 | AZ10: =100*AY10/AY$9 -> 11.301019 | BA10: ='Dev''d2045'!$G11/1000 -> 878.43203 | BB10: =100*BA10/BA$9 -> 5.5027818 | BC10: ='CCA2045'!$G11/1000 -> 18.751374 | BD10: =100*BC10/BC$9 -> 2.6191605 | BE10: ='EA2045'!$G11/1000 -> 566.90321 | BF10: =100*BE10/BE$9 -> 3.1180769 | BG10: ='LAC2045'!$G11/1000 -> 695.65076 | BH10: =100*BG10/BG$9 -> 10.072868 | BI10: ='NA2045'!$G11/1000 -> 179.70862 | BJ10: =100*BI10/BI$9 -> 6.6403758 | BK10: =Ocea2045!$G11/1000 -> 15.132176 | BL10: =100*BK10/BK$9 -> 13.180518 | BM10: ='SEA2045'!$G11/1000 -> 809.12699 | BN10: =100*BM10/BM$9 -> 11.394159 | BO10: ='SA2045'!$G11/1000 -> 2581.7884 | BP10: =100*BO10/BO$9 -> 13.973718 | BQ10: ='SSA2045'!$G11/1000 -> 3789.0548 | BR10: =100*BQ10/BQ$9 -> 29.673587 | BS10: ='WA2045'!$G11/1000 -> 131.51024 | BT10: =100*BS10/BS$9 -> 5.0611722 | BU10: =World2060!$G11/1000 -> 9990.2208 | BV10: =100*BU10/BU$9 -> 9.8105735 | BW10: ='Dev''d2060'!$G11/1000 -> 876.76049 | BX10: =100*BW10/BW$9 -> 5.4912606 | BY10: ='CCA2060'!$G11/1000 -> 15.046494 | BZ10: =100*BY10/BY$9 -> 1.7644877 | CA10: ='EA2060'!$G11/1000 -> 628.96501 | CB10: =100*CA10/CA$9 -> 3.1919208 | CC10: ='LAC2060'!$G11/1000 -> 858.58647 | CD10: =100*CC10/CC$9 -> 9.6760852 | CE10: ='NA2060'!$G11/1000 -> 180.69921 | CF10: =100*CE10/CE$9 -> 4.8245892 | CG10: =Ocea2060!$G11/1000 -> 13.748348 | CH10: =100*CG10/CG$9 -> 9.5702907 | CI10: ='SEA2060'!$G11/1000 -> 856.93706 | CJ10: =100*CI10/CI$9 -> 10.035054 | CK10: ='SA2060'!$G11/1000 -> 2716.2577 | CL10: =100*CK10/CK$9 -> 12.111456 | CM10: ='SSA2060'!$G11/1000 -> 3687.9618 | CN10: =100*CM10/CM$9 -> 20.698923 | CO10: ='WA2060'!$G11/1000 -> 155.25823 | CP10: =100*CO10/CO$9 -> 4.1281742
A11: 2 | C11: A. | D11: Infectious and parasitic diseases | G11: =World2016!$G12/1000 -> 5491.3375 | H11: =100*G11/G$9 -> 9.6553698 | I11: ='Dev''d2016'!$G12/1000 -> 244.60284 | J11: =100*I11/I$9 -> 1.9216629 | K11: ='CCA2016'!$G12/1000 -> 12.93999 | L11: =100*K11/K$9 -> 2.9308341 | M11: ='EA2016'!$G12/1000 -> 152.6864 | N11: =100*M11/M$9 -> 1.3796748 | O11: ='LAC2016'!$G12/1000 -> 160.88074 | P11: =100*O11/O$9 -> 4.1801582 | Q11: ='NA2016'!$G12/1000 -> 67.469257 | R11: =100*Q11/Q$9 -> 4.9304019 | S11: =Ocea2016!$G12/1000 -> 11.986346 | T11: =100*S11/S$9 -> 17.178676 | U11: ='SEA2016'!$G12/1000 -> 465.79422 | V11: =100*U11/U$9 -> 10.645872 | W11: ='SA2016'!$G12/1000 -> 1564.6208 | X11: =100*W11/W$9 -> 12.243735 | Y11: ='SSA2016'!$G12/1000 -> 2776.2836 | Z11: =100*Y11/Y$9 -> 31.444123 | AA11: ='WA2016'!$G12/1000 -> 34.073367 | AB11: =100*AA11/AA$9 -> 2.494571 | AC11: =World2030!$G12/1000 -> 4578.7775 | AD11: =100*AC11/AC$9 -> 6.7216886 | AE11: ='Dev''d2030'!$G12/1000 -> 269.26815 | AF11: =100*AE11/AE$9 -> 1.9269964 | AG11: ='CCA2030'!$G12/1000 -> 7.4041695 | AH11: =100*AG11/AG$9 -> 1.3885507 | AI11: ='EA2030'!$G12/1000 -> 110.40489 | AJ11: =100*AI11/AI$9 -> 0.78985025 | AK11: ='LAC2030'!$G12/1000 -> 150.8777 | AL11: =100*AK11/AK$9 -> 3.0077511 | AM11: ='NA2030'!$G12/1000 -> 55.218274 | AN11: =100*AM11/AM$9 -> 2.9942761 | AO11: =Ocea2030!$G12/1000 -> 8.5097197 | AP11: =100*AO11/AO$9 -> 9.472656 | AQ11: ='SEA2030'!$G12/1000 -> 372.14534 | AR11: =100*AQ11/AQ$9 -> 6.7609837 | AS11: ='SA2030'!$G12/1000 -> 1223.1428 | AT11: =100*AS11/AS$9 -> 7.9226848 | AU11: ='SSA2030'!$G12/1000 -> 2357.1064 | AV11: =100*AU11/AU$9 -> 23.503133 | AW11: ='WA2030'!$G12/1000 -> 24.700051 | AX11: =100*AW11/AW$9 -> 1.4420448 | AY11: =World2045!$G12/1000 -> 4100.7739 | AZ11: =100*AY11/AY$9 -> 4.7943972 | BA11: ='Dev''d2045'!$G12/1000 -> 274.62461 | BB11: =100*BA11/BA$9 -> 1.7203372 | BC11: ='CCA2045'!$G12/1000 -> 4.2438425 | BD11: =100*BC11/BC$9 -> 0.59277282 | BE11: ='EA2045'!$G12/1000 -> 93.295415 | BF11: =100*BE11/BE$9 -> 0.51314276 | BG11: ='LAC2045'!$G12/1000 -> 145.80764 | BH11: =100*BG11/BG$9 -> 2.1112623 | BI11: ='NA2045'!$G12/1000 -> 46.921539 | BJ11: =100*BI11/BI$9 -> 1.7337881 | BK11: =Ocea2045!$G12/1000 -> 6.2277844 | BL11: =100*BK11/BK$9 -> 5.4245617 | BM11: ='SEA2045'!$G12/1000 -> 317.94139 | BN11: =100*BM11/BM$9 -> 4.4772634 | BO11: ='SA2045'!$G12/1000 -> 1056.7456 | BP11: =100*BO11/BO$9 -> 5.719549 | BQ11: ='SSA2045'!$G12/1000 -> 2133.3885 | BR11: =100*BQ11/BQ$9 -> 16.707409 | BS11: ='WA2045'!$G12/1000 -> 21.577651 | BT11: =100*BS11/BS$9 -> 0.83041597 | BU11: =World2060!$G12/1000 -> 3968.4132 | BV11: =100*BU11/BU$9 -> 3.8970519 | BW11: ='Dev''d2060'!$G12/1000 -> 260.42928 | BX11: =100*BW11/BW$9 -> 1.6311012 | BY11: ='CCA2060'!$G12/1000 -> 2.9139682 | BZ11: =100*BY11/BY$9 -> 0.34171821 | CA11: ='EA2060'!$G12/1000 -> 76.457867 | CB11: =100*CA11/CA$9 -> 0.38801437 | CC11: ='LAC2060'!$G12/1000 -> 153.99302 | CD11: =100*CC11/CC$9 -> 1.7354683 | CE11: ='NA2060'!$G12/1000 -> 43.089984 | CF11: =100*CE11/CE$9 -> 1.1504836 | CG11: =Ocea2060!$G12/1000 -> 5.4009877 | CH11: =100*CG11/CG$9 -> 3.7596533 | CI11: ='SEA2060'!$G12/1000 -> 291.19981 | CJ11: =100*CI11/CI$9 -> 3.4100589 | CK11: ='SA2060'!$G12/1000 -> 1051.7303 | CL11: =100*CK11/CK$9 -> 4.6895349 | CM11: ='SSA2060'!$G12/1000 -> 2060.8624 | CN11: =100*CM11/CM$9 -> 11.566723 | CO11: ='WA2060'!$G12/1000 -> 22.33556 | CP11: =100*CO11/CO$9 -> 0.59388209
A12: 3 | D12: 1. | E12: Tuberculosis | G12: =World2016!$G13/1000 -> 1292.9006 | H12: =100*G12/G$9 -> 2.2732957 | I12: ='Dev''d2016'!$G13/1000 -> 25.715656 | J12: =100*I12/I$9 -> 0.20202882 | K12: ='CCA2016'!$G13/1000 -> 3.6945542 | L12: =100*K12/K$9 -> 0.83679552 | M12: ='EA2016'!$G13/1000 -> 65.125946 | N12: =100*M12/M$9 -> 0.58847827 | O12: ='LAC2016'!$G13/1000 -> 18.047304 | P12: =100*O12/O$9 -> 0.46892244 | Q12: ='NA2016'!$G13/1000 -> 13.617763 | R12: =100*Q12/Q$9 -> 0.99513542 | S12: =Ocea2016!$G13/1000 -> 3.5632693 | T12: =100*S12/S$9 -> 5.1068313 | U12: ='SEA2016'!$G13/1000 -> 193.29023 | V12: =100*U12/U$9 -> 4.4177085 | W12: ='SA2016'!$G13/1000 -> 551.5288 | X12: =100*W12/W$9 -> 4.3159163 | Y12: ='SSA2016'!$G13/1000 -> 412.73524 | Z12: =100*Y12/Y$9 -> 4.6746297 | AA12: ='WA2016'!$G13/1000 -> 5.5818631 | AB12: =100*AA12/AA$9 -> 0.40865799 | AC12: =World2030!$G13/1000 -> 1137.0415 | AD12: =100*AC12/AC$9 -> 1.6691877 | AE12: ='Dev''d2030'!$G13/1000 -> 10.693717 | AF12: =100*AE12/AE$9 -> 0.076528748 | AG12: ='CCA2030'!$G13/1000 -> 1.4571445 | AH12: =100*AG12/AG$9 -> 0.27326751 | AI12: ='EA2030'!$G13/1000 -> 38.240665 | AJ12: =100*AI12/AI$9 -> 0.27357846 | AK12: ='LAC2030'!$G13/1000 -> 13.69396 | AL12: =100*AK12/AK$9 -> 0.27298945 | AM12: ='NA2030'!$G13/1000 -> 14.180169 | AN12: =100*AM12/AM$9 -> 0.76893639 | AO12: =Ocea2030!$G13/1000 -> 2.1295893 | AP12: =100*AO12/AO$9 -> 2.3705677 | AQ12: ='SEA2030'!$G13/1000 -> 145.19868 | AR12: =100*AQ12/AQ$9 -> 2.6379099 | AS12: ='SA2030'!$G13/1000 -> 396.89803 | AT12: =100*AS12/AS$9 -> 2.5708347 | AU12: ='SSA2030'!$G13/1000 -> 510.94256 | AV12: =100*AU12/AU$9 -> 5.0947004 | AW12: ='WA2030'!$G13/1000 -> 3.6070091 | AX12: =100*AW12/AW$9 -> 0.21058534 | AY12: =World2045!$G13/1000 -> 1050.0536 | AZ12: =100*AY12/AY$9 -> 1.2276644 | BA12: ='Dev''d2045'!$G13/1000 -> 4.9966198 | BB12: =100*BA12/BA$9 -> 0.031300439 | BC12: ='CCA2045'!$G13/1000 -> 0.68249729 | BD12: =100*BC12/BC$9 -> 0.095330079 | BE12: ='EA2045'!$G13/1000 -> 22.568846 | BF12: =100*BE12/BE$9 -> 0.124133 | BG12: ='LAC2045'!$G13/1000 -> 9.7389345 | BH12: =100*BG12/BG$9 -> 0.14101761 | BI12: ='NA2045'!$G13/1000 -> 13.666188 | BJ12: =100*BI12/BI$9 -> 0.50497647 | BK12: =Ocea2045!$G13/1000 -> 1.2562676 | BL12: =100*BK12/BK$9 -> 1.0942416 | BM12: ='SEA2045'!$G13/1000 -> 110.7922 | BN12: =100*BM12/BM$9 -> 1.5601802 | BO12: ='SA2045'!$G13/1000 -> 281.3976 | BP12: =100*BO12/BO$9 -> 1.5230415 | BQ12: ='SSA2045'!$G13/1000 -> 601.87807 | BR12: =100*BQ12/BQ$9 -> 4.7135452 | BS12: ='WA2045'!$G13/1000 -> 3.0763504 | BT12: =100*BS12/BS$9 -> 0.11839335 | BU12: =World2060!$G13/1000 -> 926.96353 | BV12: =100*BU12/BU$9 -> 0.91029458 | BW12: ='Dev''d2060'!$G13/1000 -> 2.8162529 | BX12: =100*BW12/BW$9 -> 0.017638544 | BY12: ='CCA2060'!$G13/1000 -> 0.39092187 | BZ12: =100*BY12/BY$9 -> 0.045843026 | CA12: ='EA2060'!$G13/1000 -> 11.295941 | CB12: =100*CA12/CA$9 -> 0.057325524 | CC12: ='LAC2060'!$G13/1000 -> 6.1464095 | CD12: =100*CC12/CC$9 -> 0.069268715 | CE12: ='NA2060'!$G13/1000 -> 12.133899 | CF12: =100*CE12/CE$9 -> 0.32396976 | CG12: =Ocea2060!$G13/1000 -> 0.79071686 | CH12: =100*CG12/CG$9 -> 0.55042178 | CI12: ='SEA2060'!$G13/1000 -> 77.095702 | CJ12: =100*CI12/CI$9 -> 0.90281956 | CK12: ='SA2060'!$G13/1000 -> 203.65794 | CL12: =100*CK12/CK$9 -> 0.90808545 | CM12: ='SSA2060'!$G13/1000 -> 609.9181 | CN12: =100*CM12/CM$9 -> 3.4232046 | CO12: ='WA2060'!$G13/1000 -> 2.7176459 | CP12: =100*CO12/CO$9 -> 0.072259718
A13: 4 | D13: 2. | E13: STDs excluding HIV | G13: =World2016!$G14/1000 -> 102.36054 | H13: =100*G13/G$9 -> 0.17997962 | I13: ='Dev''d2016'!$G14/1000 -> 0.81789094 | J13: =100*I13/I$9 -> 0.006425562 | K13: ='CCA2016'!$G14/1000 -> 0.10659682 | L13: =100*K13/K$9 -> 0.024143574 | M13: ='EA2016'!$G14/1000 -> 0.75494951 | N13: =100*M13/M$9 -> 0.0068217263 | O13: ='LAC2016'!$G14/1000 -> 2.4657696 | P13: =100*O13/O$9 -> 0.064067999 | Q13: ='NA2016'!$G14/1000 -> 6.7490569 | R13: =100*Q13/Q$9 -> 0.49319593 | S13: =Ocea2016!$G14/1000 -> 0.54244462 | T13: =100*S13/S$9 -> 0.77742459 | U13: ='SEA2016'!$G14/1000 -> 5.242838 | V13: =100*U13/U$9 -> 0.1198267 | W13: ='SA2016'!$G14/1000 -> 17.200078 | X13: =100*W13/W$9 -> 0.13459695 | Y13: ='SSA2016'!$G14/1000 -> 64.593156 | Z13: =100*Y13/Y$9 -> 0.73158058 | AA13: ='WA2016'!$G14/1000 -> 3.8877586 | AB13: =100*AA13/AA$9 -> 0.28462963 | AC13: =World2030!$G14/1000 -> 68.622331 | AD13: =100*AC13/AC$9 -> 0.10073823 | AE13: ='Dev''d2030'!$G14/1000 -> 0.62847986 | AF13: =100*AE13/AE$9 -> 0.0044976669 | AG13: ='CCA2030'!$G14/1000 -> 0.054143386 | AH13: =100*AG13/AG$9 -> 0.010153851 | AI13: ='EA2030'!$G14/1000 -> 0.65958916 | AJ13: =100*AI13/AI$9 -> 0.0047187826 | AK13: ='LAC2030'!$G14/1000 -> 1.2245439 | AL13: =100*AK13/AK$9 -> 0.024411316 | AM13: ='NA2030'!$G14/1000 -> 5.3564785 | AN13: =100*AM13/AM$9 -> 0.29046137 | AO13: =Ocea2030!$G14/1000 -> 0.39842093 | AP13: =100*AO13/AO$9 -> 0.44350513 | AQ13: ='SEA2030'!$G14/1000 -> 2.8872798 | AR13: =100*AQ13/AQ$9 -> 0.052454913 | AS13: ='SA2030'!$G14/1000 -> 10.466945 | AT13: =100*AS13/AS$9 -> 0.067797733 | AU13: ='SSA2030'!$G14/1000 -> 44.550351 | AV13: =100*AU13/AU$9 -> 0.44421958 | AW13: ='WA2030'!$G14/1000 -> 2.3960991 | AX13: =100*AW13/AW$9 -> 0.13988968 | AY13: =World2045!$G14/1000 -> 33.012726 | AZ13: =100*AY13/AY$9 -> 0.038596647 | BA13: ='Dev''d2045'!$G14/1000 -> 0.5807897 | BB13: =100*BA13/BA$9 -> 0.0036382541 | BC13: ='CCA2045'!$G14/1000 -> 0.029421978 | BD13: =100*BC13/BC$9 -> 0.0041096126 | BE13: ='EA2045'!$G14/1000 -> 0.6315404 | BF13: =100*BE13/BE$9 -> 0.0034735939 | BG13: ='LAC2045'!$G14/1000 -> 0.7272061 | BH13: =100*BG13/BG$9 -> 0.010529783 | BI13: ='NA2045'!$G14/1000 -> 3.1709406 | BJ13: =100*BI13/BI$9 -> 0.11716877 | BK13: =Ocea2045!$G14/1000 -> 0.19089332 | BL13: =100*BK13/BK$9 -> 0.16627303 | BM13: ='SEA2045'!$G14/1000 -> 1.6401573 | BN13: =100*BM13/BM$9 -> 0.02309676 | BO13: ='SA2045'!$G14/1000 -> 5.7982341 | BP13: =100*BO13/BO$9 -> 0.031382468 | BQ13: ='SSA2045'!$G14/1000 -> 19.107286 | BR13: =100*BQ13/BQ$9 -> 0.14963671 | BS13: ='WA2045'!$G14/1000 -> 1.1362562 | BT13: =100*BS13/BS$9 -> 0.043728822 | BU13: =World2060!$G14/1000 -> 18.227393 | BV13: =100*BU13/BU$9 -> 0.017899622 | BW13: ='Dev''d2060'!$G14/1000 -> 0.52887748 | BX13: =100*BW13/BW$9 -> 0.0033124258 | BY13: ='CCA2060'!$G14/1000 -> 0.02394697 | BZ13: =100*BY13/BY$9 -> 0.0028082379 | CA13: ='EA2060'!$G14/1000 -> 0.55848064 | CB13: =100*CA13/CA$9 -> 0.0028342212 | CC13: ='LAC2060'!$G14/1000 -> 0.60613191 | CD13: =100*CC13/CC$9 -> 0.0068309765 | CE13: ='NA2060'!$G14/1000 -> 1.8193232 | CF13: =100*CE13/CE$9 -> 0.048575128 | CG13: =Ocea2060!$G14/1000 -> 0.091789473 | CH13: =100*CG13/CG$9 -> 0.06389509 | CI13: ='SEA2060'!$G14/1000 -> 1.2641603 | CJ13: =100*CI13/CI$9 -> 0.014803791 | CK13: ='SA2060'!$G14/1000 -> 3.6443441 | CL13: =100*CK13/CK$9 -> 0.016249678 | CM13: ='SSA2060'!$G14/1000 -> 9.1651091 | CN13: =100*CM13/CM$9 -> 0.051439765 | CO13: ='WA2060'!$G14/1000 -> 0.52522993 | CP13: =100*CO13/CO$9 -> 0.013965383
A14: 5 | E14: a. | F14: Syphilis | G14: =World2016!$G15/1000 -> 95.557801 | H14: =100*G14/G$9 -> 0.16801843 | I14: ='Dev''d2016'!$G15/1000 -> 0.30526942 | J14: =100*I14/I$9 -> 0.0023982752 | K14: ='CCA2016'!$G15/1000 -> 0.091389436 | L14: =100*K14/K$9 -> 0.020699188 | M14: ='EA2016'!$G15/1000 -> 0.35195609 | N14: =100*M14/M$9 -> 0.0031802764 | O14: ='LAC2016'!$G15/1000 -> 2.0206571 | P14: =100*O14/O$9 -> 0.052502658 | Q14: ='NA2016'!$G15/1000 -> 6.7142388 | R14: =100*Q14/Q$9 -> 0.49065155 | S14: =Ocea2016!$G15/1000 -> 0.52979813 | T14: =100*S14/S$9 -> 0.75929979 | U14: ='SEA2016'!$G15/1000 -> 4.6706363 | V14: =100*U14/U$9 -> 0.10674885 | W14: ='SA2016'!$G15/1000 -> 15.078612 | X14: =100*W14/W$9 -> 0.1179957 | Y14: ='SSA2016'!$G15/1000 -> 61.967385 | Z14: =100*Y14/Y$9 -> 0.70184116 | AA14: ='WA2016'!$G15/1000 -> 3.8278582 | AB14: =100*AA14/AA$9 -> 0.28024422 | AC14: =World2030!$G15/1000 -> 62.193551 | AD14: =100*AC14/AC$9 -> 0.091300721 | AE14: ='Dev''d2030'!$G15/1000 -> 0.20766755 | AF14: =100*AE14/AE$9 -> 0.0014861566 | AG14: ='CCA2030'!$G15/1000 -> 0.040026746 | AH14: =100*AG14/AG$9 -> 0.0075064684 | AI14: ='EA2030'!$G15/1000 -> 0.26424603 | AJ14: =100*AI14/AI$9 -> 0.0018904489 | AK14: ='LAC2030'!$G15/1000 -> 0.87870052 | AL14: =100*AK14/AK$9 -> 0.017516918 | AM14: ='NA2030'!$G15/1000 -> 5.324396 | AN14: =100*AM14/AM$9 -> 0.28872166 | AO14: =Ocea2030!$G15/1000 -> 0.38672749 | AP14: =100*AO14/AO$9 -> 0.43048849 | AQ14: ='SEA2030'!$G15/1000 -> 2.3492688 | AR14: =100*AQ14/AQ$9 -> 0.04268055 | AS14: ='SA2030'!$G15/1000 -> 8.588807 | AT14: =100*AS14/AS$9 -> 0.055632434 | AU14: ='SSA2030'!$G15/1000 -> 41.808139 | AV14: =100*AU14/AU$9 -> 0.41687649 | AW14: ='WA2030'!$G15/1000 -> 2.3455726 | AX14: =100*AW14/AW$9 -> 0.13693983 | AY14: =World2045!$G15/1000 -> 27.107158 | AZ14: =100*AY14/AY$9 -> 0.031692185 | BA14: ='Dev''d2045'!$G15/1000 -> 0.18108934 | BB14: =100*BA14/BA$9 -> 0.0011344021 | BC14: ='CCA2045'!$G15/1000 -> 0.016608533 | BD14: =100*BC14/BC$9 -> 0.002319852 | BE14: ='EA2045'!$G15/1000 -> 0.24642995 | BF14: =100*BE14/BE$9 -> 0.0013554122 | BG14: ='LAC2045'!$G15/1000 -> 0.38239077 | BH14: =100*BG14/BG$9 -> 0.0055369332 | BI14: ='NA2045'!$G15/1000 -> 3.140772 | BJ14: =100*BI14/BI$9 -> 0.11605402 | BK14: =Ocea2045!$G15/1000 -> 0.18191005 | BL14: =100*BK14/BK$9 -> 0.15844837 | BM14: ='SEA2045'!$G15/1000 -> 1.1055268 | BN14: =100*BM14/BM$9 -> 0.015568072 | BO14: ='SA2045'!$G15/1000 -> 4.189162 | BP14: =100*BO14/BO$9 -> 0.022673497 | BQ14: ='SSA2045'!$G15/1000 -> 16.570645 | BR14: =100*BQ14/BQ$9 -> 0.12977128 | BS14: ='WA2045'!$G15/1000 -> 1.0926238 | BT14: =100*BS14/BS$9 -> 0.042049632 | BU14: =World2060!$G15/1000 -> 12.612664 | BV14: =100*BU14/BU$9 -> 0.012385859 | BW14: ='Dev''d2060'!$G15/1000 -> 0.15896035 | BX14: =100*BW14/BW$9 -> 0.00099558857 | BY14: ='CCA2060'!$G15/1000 -> 0.011208988 | BZ14: =100*BY14/BY$9 -> 0.001314467 | CA14: ='EA2060'!$G15/1000 -> 0.21992386 | CB14: =100*CA14/CA$9 -> 0.0011160868 | CC14: ='LAC2060'!$G15/1000 -> 0.25389639 | CD14: =100*CC14/CC$9 -> 0.0028613578 | CE14: ='NA2060'!$G15/1000 -> 1.7887489 | CF14: =100*CE14/CE$9 -> 0.047758807 | CG14: =Ocea2060!$G15/1000 -> 0.084909344 | CH14: =100*CG14/CG$9 -> 0.059105799 | CI14: ='SEA2060'!$G15/1000 -> 0.67657495 | CJ14: =100*CI14/CI$9 -> 0.0079229462 | CK14: ='SA2060'!$G15/1000 -> 2.1603189 | CL14: =100*CK14/CK$9 -> 0.0096325936 | CM14: ='SSA2060'!$G15/1000 -> 6.7745061 | CN14: =100*CM14/CM$9 -> 0.038022352 | CO14: ='WA2060'!$G15/1000 -> 0.48361586 | CP14: =100*CO14/CO$9 -> 0.012858903
A15: 6 | E15: b. | F15: Chlamydia | G15: =World2016!$G16/1000 -> 1.3237512 | H15: =100*G15/G$9 -> 0.0023275399 | I15: ='Dev''d2016'!$G16/1000 -> 0.10404501 | J15: =100*I15/I$9 -> 0.00081740444 | K15: ='CCA2016'!$G16/1000 -> 0.0028637648 | L15: =100*K15/K$9 -> 0.00064862644 | M15: ='EA2016'!$G16/1000 -> 0.074701128 | N15: =100*M15/M$9 -> 0.00067499964 | O15: ='LAC2016'!$G16/1000 -> 0.084770095 | P15: =100*O15/O$9 -> 0.0022025782 | Q15: ='NA2016'!$G16/1000 -> 0.0065521534 | R15: =100*Q15/Q$9 -> 0.00047880696 | S15: =Ocea2016!$G16/1000 -> 0.0024202391 | T15: =100*S15/S$9 -> 0.0034686552 | U15: ='SEA2016'!$G16/1000 -> 0.11056687 | V15: =100*U15/U$9 -> 0.0025270403 | W15: ='SA2016'!$G16/1000 -> 0.40517196 | X15: =100*W15/W$9 -> 0.0031706201 | Y15: ='SSA2016'!$G16/1000 -> 0.52114519 | Z15: =100*Y15/Y$9 -> 0.0059024783 | AA15: ='WA2016'!$G16/1000 -> 0.011514751 | AB15: =100*AA15/AA$9 -> 0.00084301517 | AC15: =World2030!$G16/1000 -> 1.2433476 | AD15: =100*AC15/AC$9 -> 0.001825246 | AE15: ='Dev''d2030'!$G16/1000 -> 0.084201451 | AF15: =100*AE15/AE$9 -> 0.00060258109 | AG15: ='CCA2030'!$G16/1000 -> 0.0025849784 | AH15: =100*AG15/AG$9 -> 0.00048477731 | AI15: ='EA2030'!$G16/1000 -> 0.074626909 | AJ15: =100*AI15/AI$9 -> 0.00053389016 | AK15: ='LAC2030'!$G16/1000 -> 0.064151257 | AL15: =100*AK15/AK$9 -> 0.001278857 | AM15: ='NA2030'!$G16/1000 -> 0.0060416282 | AN15: =100*AM15/AM$9 -> 0.00032761442 | AO15: =Ocea2030!$G16/1000 -> 0.0022178667 | AP15: =100*AO15/AO$9 -> 0.0024688344 | AQ15: ='SEA2030'!$G16/1000 -> 0.10442566 | AR15: =100*AQ15/AQ$9 -> 0.0018971626 | AS15: ='SA2030'!$G16/1000 -> 0.3539656 | AT15: =100*AS15/AS$9 -> 0.0022927478 | AU15: ='SSA2030'!$G16/1000 -> 0.5414539 | AV15: =100*AU15/AU$9 -> 0.0053989345 | AW15: ='WA2030'!$G16/1000 -> 0.0096783148 | AX15: =100*AW15/AW$9 -> 0.00056504188 | AY15: =World2045!$G16/1000 -> 1.1461863 | AZ15: =100*AY15/AY$9 -> 0.0013400574 | BA15: ='Dev''d2045'!$G16/1000 -> 0.081697421 | BB15: =100*BA15/BA$9 -> 0.00051177902 | BC15: ='CCA2045'!$G16/1000 -> 0.0023594376 | BD15: =100*BC15/BC$9 -> 0.00032956229 | BE15: ='EA2045'!$G16/1000 -> 0.073353376 | BF15: =100*BE15/BE$9 -> 0.0004034577 | BG15: ='LAC2045'!$G16/1000 -> 0.06497228 | BH15: =100*BG15/BG$9 -> 0.00094078417 | BI15: ='NA2045'!$G16/1000 -> 0.0057613766 | BJ15: =100*BI15/BI$9 -> 0.00021288743 | BK15: =Ocea2045!$G16/1000 -> 0.0016927327 | BL15: =100*BK15/BK$9 -> 0.0014744141 | BM15: ='SEA2045'!$G16/1000 -> 0.10696234 | BN15: =100*BM15/BM$9 -> 0.001506248 | BO15: ='SA2045'!$G16/1000 -> 0.30335693 | BP15: =100*BO15/BO$9 -> 0.0016418946 | BQ15: ='SSA2045'!$G16/1000 -> 0.49760024 | BR15: =100*BQ15/BQ$9 -> 0.0038969043 | BS15: ='WA2045'!$G16/1000 -> 0.0084301489 | BT15: =100*BS15/BS$9 -> 0.00032443431 | BU15: =World2060!$G16/1000 -> 1.0970673 | BV15: =100*BU15/BU$9 -> 0.0010773395 | BW15: ='Dev''d2060'!$G16/1000 -> 0.076465125 | BX15: =100*BW15/BW$9 -> 0.00047891064 | BY15: ='CCA2060'!$G16/1000 -> 0.002333356 | BZ15: =100*BY15/BY$9 -> 0.00027363039 | CA15: ='EA2060'!$G16/1000 -> 0.0653385 | CB15: =100*CA15/CA$9 -> 0.00033158493 | CC15: ='LAC2060'!$G16/1000 -> 0.067838938 | CD15: =100*CC15/CC$9 -> 0.00076453027 | CE15: ='NA2060'!$G16/1000 -> 0.0059646289 | CF15: =100*CE15/CE$9 -> 0.00015925296 | CG15: =Ocea2060!$G16/1000 -> 0.0012866363 | CH15: =100*CG15/CG$9 -> 0.0008956337 | CI15: ='SEA2060'!$G16/1000 -> 0.12023801 | CJ15: =100*CI15/CI$9 -> 0.0014080322 | CK15: ='SA2060'!$G16/1000 -> 0.28258603 | CL15: =100*CK15/CK$9 -> 0.001260016 | CM15: ='SSA2060'!$G16/1000 -> 0.46690139 | CN15: =100*CM15/CM$9 -> 0.0026205141 | CO15: ='WA2060'!$G16/1000 -> 0.0081147284 | CP15: =100*CO15/CO$9 -> 0.0002157632
A16: 7 | E16: c. | F16: Gonorrhoea | G16: =World2016!$G17/1000 -> 3.680321 | H16: =100*G16/G$9 -> 0.0064710757 | I16: ='Dev''d2016'!$G17/1000 -> 0.29935156 | J16: =100*I16/I$9 -> 0.0023517829 | K16: ='CCA2016'!$G17/1000 -> 0.0082717551 | L16: =100*K16/K$9 -> 0.0018735055 | M16: ='EA2016'!$G17/1000 -> 0.22996224 | N16: =100*M16/M$9 -> 0.0020779396 | O16: ='LAC2016'!$G17/1000 -> 0.24747134 | P16: =100*O16/O$9 -> 0.0064300387 | Q16: ='NA2016'!$G17/1000 -> 0.018789984 | R16: =100*Q16/Q$9 -> 0.001373102 | S16: =Ocea2016!$G17/1000 -> 0.0065876615 | T16: =100*S16/S$9 -> 0.0094413508 | U16: ='SEA2016'!$G17/1000 -> 0.31375763 | V16: =100*U16/U$9 -> 0.0071710284 | W16: ='SA2016'!$G17/1000 -> 1.1606849 | X16: =100*W16/W$9 -> 0.0090827871 | Y16: ='SSA2016'!$G17/1000 -> 1.3634302 | Z16: =100*Y16/Y$9 -> 0.015442179 | AA16: ='WA2016'!$G17/1000 -> 0.032013793 | AB16: =100*AA16/AA$9 -> 0.002343786 | AC16: =World2030!$G17/1000 -> 3.5310496 | AD16: =100*AC16/AC$9 -> 0.0051836142 | AE16: ='Dev''d2030'!$G17/1000 -> 0.25280739 | AF16: =100*AE16/AE$9 -> 0.0018091963 | AG16: ='CCA2030'!$G17/1000 -> 0.007896031 | AH16: =100*AG16/AG$9 -> 0.0014807925 | AI16: ='EA2030'!$G17/1000 -> 0.23136239 | AJ16: =100*AI16/AI$9 -> 0.0016551952 | AK16: ='LAC2030'!$G17/1000 -> 0.19914492 | AL16: =100*AK16/AK$9 -> 0.0039699592 | AM16: ='NA2030'!$G17/1000 -> 0.017533831 | AN16: =100*AM16/AM$9 -> 0.00095079271 | AO16: =Ocea2030!$G17/1000 -> 0.0061201239 | AP16: =100*AO16/AO$9 -> 0.0068126602 | AQ16: ='SEA2030'!$G17/1000 -> 0.29960191 | AR16: =100*AQ16/AQ$9 -> 0.0054430444 | AS16: ='SA2030'!$G17/1000 -> 1.0497843 | AT16: =100*AS16/AS$9 -> 0.0067997867 | AU16: ='SSA2030'!$G17/1000 -> 1.4393792 | AV16: =100*AU16/AU$9 -> 0.014352309 | AW16: ='WA2030'!$G17/1000 -> 0.027419551 | AX16: =100*AW16/AW$9 -> 0.0016008153 | AY16: =World2045!$G17/1000 -> 3.3178774 | AZ16: =100*AY16/AY$9 -> 0.0038790781 | BA16: ='Dev''d2045'!$G17/1000 -> 0.24296864 | BB16: =100*BA16/BA$9 -> 0.001522034 | BC16: ='CCA2045'!$G17/1000 -> 0.0074099128 | BD16: =100*BC16/BC$9 -> 0.0010350042 | BE16: ='EA2045'!$G17/1000 -> 0.23313881 | BF16: =100*BE16/BE$9 -> 0.0012823084 | BG16: ='LAC2045'!$G17/1000 -> 0.20505031 | BH16: =100*BG16/BG$9 -> 0.0029690829 | BI16: ='NA2045'!$G17/1000 -> 0.017004529 | BJ16: =100*BI16/BI$9 -> 0.00062833082 | BK16: =Ocea2045!$G17/1000 -> 0.0047380048 | BL16: =100*BK16/BK$9 -> 0.004126925 | BM16: ='SEA2045'!$G17/1000 -> 0.30786822 | BN16: =100*BM16/BM$9 -> 0.0043354126 | BO16: ='SA2045'!$G17/1000 -> 0.92309995 | BP16: =100*BO16/BO$9 -> 0.004996203 | BQ16: ='SSA2045'!$G17/1000 -> 1.3521946 | BR16: =100*BQ16/BQ$9 -> 0.010589571 | BS16: ='WA2045'!$G17/1000 -> 0.024404439 | BT16: =100*BS16/BS$9 -> 0.00093920492 | BU16: =World2060!$G17/1000 -> 3.2295705 | BV16: =100*BU16/BU$9 -> 0.0031714953 | BW16: ='Dev''d2060'!$G17/1000 -> 0.22637306 | BX16: =100*BW16/BW$9 -> 0.0014178028 | BY16: ='CCA2060'!$G17/1000 -> 0.0075694522 | BZ16: =100*BY16/BY$9 -> 0.00088766228 | CA16: ='EA2060'!$G17/1000 -> 0.2073339 | CB16: =100*CA16/CA$9 -> 0.0010521943 | CC16: ='LAC2060'!$G17/1000 -> 0.21407639 | CD16: =100*CC16/CC$9 -> 0.002412595 | CE16: ='NA2060'!$G17/1000 -> 0.017707366 | CF16: =100*CE16/CE$9 -> 0.00047277886 | CG16: =Ocea2060!$G17/1000 -> 0.0036716969 | CH16: =100*CG16/CG$9 -> 0.0025558857 | CI16: ='SEA2060'!$G17/1000 -> 0.34654216 | CJ16: =100*CI16/CI$9 -> 0.0040581385 | CK16: ='SA2060'!$G17/1000 -> 0.87442189 | CL16: =100*CK16/CK$9 -> 0.0038989387 | CM16: ='SSA2060'!$G17/1000 -> 1.3078234 | CN16: =100*CM16/CM$9 -> 0.0073402428 | CO16: ='WA2060'!$G17/1000 -> 0.024051227 | CP16: =100*CO16/CO$9 -> 0.00063950012
A17: 8 | E17: d. | F17: Trichomoniasis | G17: =World2016!$G18/1000 -> 0 | H17: =100*G17/G$9 -> 0 | I17: ='Dev''d2016'!$G18/1000 -> 0 | J17: =100*I17/I$9 -> 0 | K17: ='CCA2016'!$G18/1000 -> 0 | L17: =100*K17/K$9 -> 0 | M17: ='EA2016'!$G18/1000 -> 0 | N17: =100*M17/M$9 -> 0 | O17: ='LAC2016'!$G18/1000 -> 0 | P17: =100*O17/O$9 -> 0 | Q17: ='NA2016'!$G18/1000 -> 0 | R17: =100*Q17/Q$9 -> 0 | S17: =Ocea2016!$G18/1000 -> 0 | T17: =100*S17/S$9 -> 0 | U17: ='SEA2016'!$G18/1000 -> 0 | V17: =100*U17/U$9 -> 0 | W17: ='SA2016'!$G18/1000 -> 0 | X17: =100*W17/W$9 -> 0 | Y17: ='SSA2016'!$G18/1000 -> 0 | Z17: =100*Y17/Y$9 -> 0 | AA17: ='WA2016'!$G18/1000 -> 0 | AB17: =100*AA17/AA$9 -> 0 | AC17: =World2030!$G18/1000 -> 0 | AD17: =100*AC17/AC$9 -> 0 | AE17: ='Dev''d2030'!$G18/1000 -> 0 | AF17: =100*AE17/AE$9 -> 0 | AG17: ='CCA2030'!$G18/1000 -> 0 | AH17: =100*AG17/AG$9 -> 0 | AI17: ='EA2030'!$G18/1000 -> 0 | AJ17: =100*AI17/AI$9 -> 0 | AK17: ='LAC2030'!$G18/1000 -> 0 | AL17: =100*AK17/AK$9 -> 0 | AM17: ='NA2030'!$G18/1000 -> 0 | AN17: =100*AM17/AM$9 -> 0 | AO17: =Ocea2030!$G18/1000 -> 0 | AP17: =100*AO17/AO$9 -> 0 | AQ17: ='SEA2030'!$G18/1000 -> 0 | AR17: =100*AQ17/AQ$9 -> 0 | AS17: ='SA2030'!$G18/1000 -> 0 | AT17: =100*AS17/AS$9 -> 0 | AU17: ='SSA2030'!$G18/1000 -> 0 | AV17: =100*AU17/AU$9 -> 0 | AW17: ='WA2030'!$G18/1000 -> 0 | AX17: =100*AW17/AW$9 -> 0 | AY17: =World2045!$G18/1000 -> 0 | AZ17: =100*AY17/AY$9 -> 0 | BA17: ='Dev''d2045'!$G18/1000 -> 0 | BB17: =100*BA17/BA$9 -> 0 | BC17: ='CCA2045'!$G18/1000 -> 0 | BD17: =100*BC17/BC$9 -> 0 | BE17: ='EA2045'!$G18/1000 -> 0 | BF17: =100*BE17/BE$9 -> 0 | BG17: ='LAC2045'!$G18/1000 -> 0 | BH17: =100*BG17/BG$9 -> 0 | BI17: ='NA2045'!$G18/1000 -> 0 | BJ17: =100*BI17/BI$9 -> 0 | BK17: =Ocea2045!$G18/1000 -> 0 | BL17: =100*BK17/BK$9 -> 0 | BM17: ='SEA2045'!$G18/1000 -> 0 | BN17: =100*BM17/BM$9 -> 0 | BO17: ='SA2045'!$G18/1000 -> 0 | BP17: =100*BO17/BO$9 -> 0 | BQ17: ='SSA2045'!$G18/1000 -> 0 | BR17: =100*BQ17/BQ$9 -> 0 | BS17: ='WA2045'!$G18/1000 -> 0 | BT17: =100*BS17/BS$9 -> 0 | BU17: =World2060!$G18/1000 -> 0 | BV17: =100*BU17/BU$9 -> 0 | BW17: ='Dev''d2060'!$G18/1000 -> 0 | BX17: =100*BW17/BW$9 -> 0 | BY17: ='CCA2060'!$G18/1000 -> 0 | BZ17: =100*BY17/BY$9 -> 0 | CA17: ='EA2060'!$G18/1000 -> 0 | CB17: =100*CA17/CA$9 -> 0 | CC17: ='LAC2060'!$G18/1000 -> 0 | CD17: =100*CC17/CC$9 -> 0 | CE17: ='NA2060'!$G18/1000 -> 0 | CF17: =100*CE17/CE$9 -> 0 | CG17: =Ocea2060!$G18/1000 -> 0 | CH17: =100*CG17/CG$9 -> 0 | CI17: ='SEA2060'!$G18/1000 -> 0 | CJ17: =100*CI17/CI$9 -> 0 | CK17: ='SA2060'!$G18/1000 -> 0 | CL17: =100*CK17/CK$9 -> 0 | CM17: ='SSA2060'!$G18/1000 -> 0 | CN17: =100*CM17/CM$9 -> 0 | CO17: ='WA2060'!$G18/1000 -> 0 | CP17: =100*CO17/CO$9 -> 0
A18: 9 | E18: e. | F18: Other STDs | G18: =World2016!$G19/1000 -> 1.7986658 | H18: =100*G18/G$9 -> 0.003162578 | I18: ='Dev''d2016'!$G19/1000 -> 0.10922497 | J18: =100*I18/I$9 -> 0.00085809947 | K18: ='CCA2016'!$G19/1000 -> 0.0040718672 | L18: =100*K18/K$9 -> 0.00092225477 | M18: ='EA2016'!$G19/1000 -> 0.098330031 | N18: =100*M18/M$9 -> 0.00088851049 | O18: ='LAC2016'!$G19/1000 -> 0.11287107 | P18: =100*O18/O$9 -> 0.0029327247 | Q18: ='NA2016'!$G19/1000 -> 0.0094759903 | R18: =100*Q18/Q$9 -> 0.00069247007 | S18: =Ocea2016!$G19/1000 -> 0.0036385964 | T18: =100*S18/S$9 -> 0.005214789 | U18: ='SEA2016'!$G19/1000 -> 0.14787725 | V18: =100*U18/U$9 -> 0.0033797806 | W18: ='SA2016'!$G19/1000 -> 0.55560847 | X18: =100*W18/W$9 -> 0.0043478412 | Y18: ='SSA2016'!$G19/1000 -> 0.74119574 | Z18: =100*Y18/Y$9 -> 0.0083947657 | AA18: ='WA2016'!$G19/1000 -> 0.016371812 | AB18: =100*AA18/AA$9 -> 0.0011986091 | AC18: =World2030!$G19/1000 -> 1.6543819 | AD18: =100*AC18/AC$9 -> 0.0024286483 | AE18: ='Dev''d2030'!$G19/1000 -> 0.083803458 | AF18: =100*AE18/AE$9 -> 0.00059973289 | AG18: ='CCA2030'!$G19/1000 -> 0.0036356312 | AH18: =100*AG18/AG$9 -> 0.00068181287 | AI18: ='EA2030'!$G19/1000 -> 0.089353827 | AJ18: =100*AI18/AI$9 -> 0.00063924836 | AK18: ='LAC2030'!$G19/1000 -> 0.082547257 | AL18: =100*AK18/AK$9 -> 0.0016455818 | AM18: ='NA2030'!$G19/1000 -> 0.0085070824 | AN18: =100*AM18/AM$9 -> 0.00046130659 | AO18: =Ocea2030!$G19/1000 -> 0.0033554476 | AP18: =100*AO18/AO$9 -> 0.0037351407 | AQ18: ='SEA2030'!$G19/1000 -> 0.13398341 | AR18: =100*AQ18/AQ$9 -> 0.0024341555 | AS18: ='SA2030'!$G19/1000 -> 0.4743884 | AT18: =100*AS18/AS$9 -> 0.0030727645 | AU18: ='SSA2030'!$G19/1000 -> 0.76137882 | AV18: =100*AU18/AU$9 -> 0.0075918455 | AW18: ='WA2030'!$G19/1000 -> 0.0134286 | AX18: =100*AW18/AW$9 -> 0.00078399198 | AY18: =World2045!$G19/1000 -> 1.4415034 | AZ18: =100*AY18/AY$9 -> 0.0016853257 | BA18: ='Dev''d2045'!$G19/1000 -> 0.075034293 | BB18: =100*BA18/BA$9 -> 0.00047003903 | BC18: ='CCA2045'!$G19/1000 -> 0.003044095 | BD18: =100*BC18/BC$9 -> 0.00042519409 | BE18: ='EA2045'!$G19/1000 -> 0.078618242 | BF18: =100*BE18/BE$9 -> 0.00043241548 | BG18: ='LAC2045'!$G19/1000 -> 0.074792745 | BH18: =100*BG18/BG$9 -> 0.0010829823 | BI18: ='NA2045'!$G19/1000 -> 0.0074027104 | BJ18: =100*BI18/BI$9 -> 0.00027353602 | BK18: =Ocea2045!$G19/1000 -> 0.0025525359 | BL18: =100*BK18/BK$9 -> 0.002223325 | BM18: ='SEA2045'!$G19/1000 -> 0.11979991 | BN18: =100*BM18/BM$9 -> 0.0016870271 | BO18: ='SA2045'!$G19/1000 -> 0.38261515 | BP18: =100*BO18/BO$9 -> 0.0020708732 | BQ18: ='SSA2045'!$G19/1000 -> 0.68684593 | BR18: =100*BQ18/BQ$9 -> 0.0053789621 | BS18: ='WA2045'!$G19/1000 -> 0.010797746 | BT18: =100*BS18/BS$9 -> 0.00041555129 | BU18: =World2060!$G19/1000 -> 1.2880916 | BV18: =100*BU18/BU$9 -> 0.0012649288 | BW18: ='Dev''d2060'!$G19/1000 -> 0.067078953 | BX18: =100*BW18/BW$9 -> 0.00042012388 | BY18: ='CCA2060'!$G19/1000 -> 0.0028351747 | BZ18: =100*BY18/BY$9 -> 0.00033247817 | CA18: ='EA2060'!$G19/1000 -> 0.065884361 | CB18: =100*CA18/CA$9 -> 0.00033435511 | CC18: ='LAC2060'!$G19/1000 -> 0.070320195 | CD18: =100*CC18/CC$9 -> 0.0007924935 | CE18: ='NA2060'!$G19/1000 -> 0.0069023424 | CF18: =100*CE18/CE$9 -> 0.0001842895 | CG18: =Ocea2060!$G19/1000 -> 0.0019217954 | CH18: =100*CG18/CG$9 -> 0.001337771 | CI18: ='SEA2060'!$G19/1000 -> 0.12080523 | CJ18: =100*CI18/CI$9 -> 0.0014146745 | CK18: ='SA2060'!$G19/1000 -> 0.32701733 | CL18: =100*CK18/CK$9 -> 0.0014581297 | CM18: ='SSA2060'!$G19/1000 -> 0.61587815 | CN18: =100*CM18/CM$9 -> 0.0034566558 | CO18: ='WA2060'!$G19/1000 -> 0.0094481214 | CP18: =100*CO18/CO$9 -> 0.0002512169
A19: 10 | D19: 3. | E19: HIV/AIDS | G19: =World2016!$G20/1000 -> 1011.9922 | H19: =100*G19/G$9 -> 1.7793769 | I19: ='Dev''d2016'!$G20/1000 -> 61.455053 | J19: =100*I19/I$9 -> 0.48280673 | K19: ='CCA2016'!$G20/1000 -> 2.7039431 | L19: =100*K19/K$9 -> 0.61242774 | M19: ='EA2016'!$G20/1000 -> 18.823413 | N19: =100*M19/M$9 -> 0.17008843 | O19: ='LAC2016'!$G20/1000 -> 47.578144 | P19: =100*O19/O$9 -> 1.2362212 | Q19: ='NA2016'!$G20/1000 -> 4.2256199 | R19: =100*Q19/Q$9 -> 0.30879256 | S19: =Ocea2016!$G20/1000 -> 1.1294317 | T19: =100*S19/S$9 -> 1.6186868 | U19: ='SEA2016'!$G20/1000 -> 78.520875 | V19: =100*U19/U$9 -> 1.7946191 | W19: ='SA2016'!$G20/1000 -> 74.9044 | X19: =100*W19/W$9 -> 0.58615456 | Y19: ='SSA2016'!$G20/1000 -> 720.88035 | Z19: =100*Y19/Y$9 -> 8.164674 | AA19: ='WA2016'!$G20/1000 -> 1.7709936 | AB19: =100*AA19/AA$9 -> 0.12965755 | AC19: =World2030!$G20/1000 -> 741.29949 | AD19: =100*AC19/AC$9 -> 1.0882347 | AE19: ='Dev''d2030'!$G20/1000 -> 49.84316 | AF19: =100*AE19/AE$9 -> 0.35669867 | AG19: ='CCA2030'!$G20/1000 -> 2.8503957 | AH19: =100*AG19/AG$9 -> 0.5345527 | AI19: ='EA2030'!$G20/1000 -> 8.1084526 | AJ19: =100*AI19/AI$9 -> 0.058008875 | AK19: ='LAC2030'!$G20/1000 -> 36.042096 | AL19: =100*AK19/AK$9 -> 0.71850015 | AM19: ='NA2030'!$G20/1000 -> 3.6896285 | AN19: =100*AM19/AM$9 -> 0.20007446 | AO19: =Ocea2030!$G20/1000 -> 0.7790641 | AP19: =100*AO19/AO$9 -> 0.86722083 | AQ19: ='SEA2030'!$G20/1000 -> 61.59896 | AR19: =100*AQ19/AQ$9 -> 1.1191046 | AS19: ='SA2030'!$G20/1000 -> 44.695727 | AT19: =100*AS19/AS$9 -> 0.28950844 | AU19: ='SSA2030'!$G20/1000 -> 532.21798 | AV19: =100*AU19/AU$9 -> 5.3068414 | AW19: ='WA2030'!$G20/1000 -> 1.4740298 | AX19: =100*AW19/AW$9 -> 0.086057189 | AY19: =World2045!$G20/1000 -> 522.15852 | AZ19: =100*AY19/AY$9 -> 0.61047876 | BA19: ='Dev''d2045'!$G20/1000 -> 36.016774 | BB19: =100*BA19/BA$9 -> 0.2256207 | BC19: ='CCA2045'!$G20/1000 -> 1.7880883 | BD19: =100*BC19/BC$9 -> 0.24975718 | BE19: ='EA2045'!$G20/1000 -> 3.0231094 | BF19: =100*BE19/BE$9 -> 0.016627684 | BG19: ='LAC2045'!$G20/1000 -> 15.362534 | BH19: =100*BG19/BG$9 -> 0.22244608 | BI19: ='NA2045'!$G20/1000 -> 1.8270631 | BJ19: =100*BI19/BI$9 -> 0.06751143 | BK19: =Ocea2045!$G20/1000 -> 0.3737464 | BL19: =100*BK19/BK$9 -> 0.32554281 | BM19: ='SEA2045'!$G20/1000 -> 30.326498 | BN19: =100*BM19/BM$9 -> 0.42705895 | BO19: ='SA2045'!$G20/1000 -> 17.027854 | BP19: =100*BO19/BO$9 -> 0.092161868 | BQ19: ='SSA2045'!$G20/1000 -> 415.48788 | BR19: =100*BQ19/BQ$9 -> 3.2538499 | BS19: ='WA2045'!$G20/1000 -> 0.92497673 | BT19: =100*BS19/BS$9 -> 0.035597732 | BU19: =World2060!$G20/1000 -> 363.35619 | BV19: =100*BU19/BU$9 -> 0.3568222 | BW19: ='Dev''d2060'!$G20/1000 -> 29.428887 | BX19: =100*BW19/BW$9 -> 0.1843168 | BY19: ='CCA2060'!$G20/1000 -> 1.1330145 | BZ19: =100*BY19/BY$9 -> 0.13286751 | CA19: ='EA2060'!$G20/1000 -> 1.1522618 | CB19: =100*CA19/CA$9 -> 0.0058475883 | CC19: ='LAC2060'!$G20/1000 -> 6.1857398 | CD19: =100*CC19/CC$9 -> 0.06971196 | CE19: ='NA2060'!$G20/1000 -> 0.76664897 | CF19: =100*CE19/CE$9 -> 0.020469189 | CG19: =Ocea2060!$G20/1000 -> 0.15967166 | CH19: =100*CG19/CG$9 -> 0.1111482 | CI19: ='SEA2060'!$G20/1000 -> 14.750341 | CJ19: =100*CI19/CI$9 -> 0.17273203 | CK19: ='SA2060'!$G20/1000 -> 7.0086747 | CL19: =100*CK19/CK$9 -> 0.03125081 | CM19: ='SSA2060'!$G20/1000 -> 302.23033 | CN19: =100*CM19/CM$9 -> 1.6962872 | CO19: ='WA2060'!$G20/1000 -> 0.54062238 | CP19: =100*CO19/CO$9 -> 0.014374654
A20: 11 | D20: 4. | E20: Diarrhoeal diseases | G20: =World2016!$G21/1000 -> 1382.7068 | H20: =100*G20/G$9 -> 2.431201 | I20: ='Dev''d2016'!$G21/1000 -> 31.863399 | J20: =100*I20/I$9 -> 0.25032707 | K20: ='CCA2016'!$G21/1000 -> 2.6337652 | L20: =100*K20/K$9 -> 0.59653284 | M20: ='EA2016'!$G21/1000 -> 11.131491 | N20: =100*M20/M$9 -> 0.10058419 | O20: ='LAC2016'!$G21/1000 -> 23.454308 | P20: =100*O20/O$9 -> 0.60941242 | Q20: ='NA2016'!$G21/1000 -> 17.826326 | R20: =100*Q20/Q$9 -> 1.3026815 | S20: =Ocea2016!$G21/1000 -> 2.378874 | T20: =100*S20/S$9 -> 3.4093713 | U20: ='SEA2016'!$G21/1000 -> 89.667118 | V20: =100*U20/U$9 -> 2.0493699 | W20: ='SA2016'!$G21/1000 -> 524.69809 | X20: =100*W20/W$9 -> 4.1059561 | Y20: ='SSA2016'!$G21/1000 -> 668.5472 | Z20: =100*Y20/Y$9 -> 7.57195 | AA20: ='WA2016'!$G21/1000 -> 10.50621 | AB20: =100*AA20/AA$9 -> 0.76917806 | AC20: =World2030!$G21/1000 -> 1236.1806 | AD20: =100*AC20/AC$9 -> 1.8147248 | AE20: ='Dev''d2030'!$G21/1000 -> 54.976452 | AF20: =100*AE20/AE$9 -> 0.39343467 | AG20: ='CCA2030'!$G21/1000 -> 0.92536441 | AH20: =100*AG20/AG$9 -> 0.17353943 | AI20: ='EA2030'!$G21/1000 -> 9.6041498 | AJ20: =100*AI20/AI$9 -> 0.068709279 | AK20: ='LAC2030'!$G21/1000 -> 20.338691 | AL20: =100*AK20/AK$9 -> 0.40545234 | AM20: ='NA2030'!$G21/1000 -> 12.689909 | AN20: =100*AM20/AM$9 -> 0.68812532 | AO20: =Ocea2030!$G21/1000 -> 2.2978606 | AP20: =100*AO20/AO$9 -> 2.5578801 | AQ20: ='SEA2030'!$G21/1000 -> 83.561577 | AR20: =100*AQ20/AQ$9 -> 1.5181124 | AS20: ='SA2030'!$G21/1000 -> 462.65909 | AT20: =100*AS20/AS$9 -> 2.99679 | AU20: ='SSA2030'!$G21/1000 -> 581.59871 | AV20: =100*AU20/AU$9 -> 5.7992256 | AW20: ='WA2030'!$G21/1000 -> 7.5287801 | AX20: =100*AW20/AW$9 -> 0.43954719 | AY20: =World2045!$G21/1000 -> 1274.2686 | AZ20: =100*AY20/AY$9 -> 1.4898041 | BA20: ='Dev''d2045'!$G21/1000 -> 65.415521 | BB20: =100*BA20/BA$9 -> 0.40978394 | BC20: ='CCA2045'!$G21/1000 -> 0.41882133 | BD20: =100*BC20/BC$9 -> 0.058500263 | BE20: ='EA2045'!$G21/1000 -> 12.202621 | BF20: =100*BE20/BE$9 -> 0.067116769 | BG20: ='LAC2045'!$G21/1000 -> 24.769646 | BH20: =100*BG20/BG$9 -> 0.35865897 | BI20: ='NA2045'!$G21/1000 -> 12.066435 | BJ20: =100*BI20/BI$9 -> 0.44586435 | BK20: =Ocea2045!$G21/1000 -> 2.444131 | BL20: =100*BK20/BK$9 -> 2.1289015 | BM20: ='SEA2045'!$G21/1000 -> 106.18623 | BN20: =100*BM20/BM$9 -> 1.4953187 | BO20: ='SA2045'!$G21/1000 -> 487.67584 | BP20: =100*BO20/BO$9 -> 2.6395056 | BQ20: ='SSA2045'!$G21/1000 -> 556.51664 | BR20: =100*BQ20/BQ$9 -> 4.3583019 | BS20: ='WA2045'!$G21/1000 -> 6.5726954 | BT20: =100*BS20/BS$9 -> 0.2529502 | BU20: =World2060!$G21/1000 -> 1491.6887 | BV20: =100*BU20/BU$9 -> 1.4648647 | BW20: ='Dev''d2060'!$G21/1000 -> 64.338681 | BX20: =100*BW20/BW$9 -> 0.40296121 | BY20: ='CCA2060'!$G21/1000 -> 0.31163393 | BZ20: =100*BY20/BY$9 -> 0.036545007 | CA20: ='EA2060'!$G21/1000 -> 12.970825 | CB20: =100*CA20/CA$9 -> 0.065825358 | CC20: ='LAC2060'!$G21/1000 -> 30.692356 | CD20: =100*CC20/CC$9 -> 0.34589627 | CE20: ='NA2060'!$G21/1000 -> 13.45614 | CF20: =100*CE20/CE$9 -> 0.35927299 | CG20: =Ocea2060!$G21/1000 -> 2.8876642 | CH20: =100*CG20/CG$9 -> 2.0101168 | CI20: ='SEA2060'!$G21/1000 -> 129.51629 | CJ20: =100*CI20/CI$9 -> 1.5166842 | CK20: ='SA2060'!$G21/1000 -> 569.20524 | CL20: =100*CK20/CK$9 -> 2.5380155 | CM20: ='SSA2060'!$G21/1000 -> 660.69271 | CN20: =100*CM20/CM$9 -> 3.7081803 | CO20: ='WA2060'!$G21/1000 -> 7.6171297 | CP20: =100*CO20/CO$9 -> 0.20253251
A21: 12 | D21: 5. | E21: Childhood-cluster diseases | G21: =World2016!$G22/1000 -> 156.11592 | H21: =100*G21/G$9 -> 0.27449722 | I21: ='Dev''d2016'!$G22/1000 -> 0.19474198 | J21: =100*I21/I$9 -> 0.0015299432 | K21: ='CCA2016'!$G22/1000 -> 0.076602251 | L21: =100*K21/K$9 -> 0.017349974 | M21: ='EA2016'!$G22/1000 -> 1.4019799 | N21: =100*M21/M$9 -> 0.012668295 | O21: ='LAC2016'!$G22/1000 -> 0.88102097 | P21: =100*O21/O$9 -> 0.022891535 | Q21: ='NA2016'!$G22/1000 -> 2.2907588 | R21: =100*Q21/Q$9 -> 0.16740012 | S21: =Ocea2016!$G22/1000 -> 0.21832305 | T21: =100*S21/S$9 -> 0.31289776 | U21: ='SEA2016'!$G22/1000 -> 10.680455 | V21: =100*U21/U$9 -> 0.24410514 | W21: ='SA2016'!$G22/1000 -> 52.089019 | X21: =100*W21/W$9 -> 0.40761579 | Y21: ='SSA2016'!$G22/1000 -> 87.214664 | Z21: =100*Y21/Y$9 -> 0.98779125 | AA21: ='WA2016'!$G22/1000 -> 1.0683512 | AB21: =100*AA21/AA$9 -> 0.078215865 | AC21: =World2030!$G22/1000 -> 83.373713 | AD21: =100*AC21/AC$9 -> 0.1223934 | AE21: ='Dev''d2030'!$G22/1000 -> 0.17708427 | AF21: =100*AE21/AE$9 -> 0.0012672897 | AG21: ='CCA2030'!$G22/1000 -> 0.021221408 | AH21: =100*AG21/AG$9 -> 0.0039797846 | AI21: ='EA2030'!$G22/1000 -> 0.59457172 | AJ21: =100*AI21/AI$9 -> 0.0042536398 | AK21: ='LAC2030'!$G22/1000 -> 0.6218712 | AL21: =100*AK21/AK$9 -> 0.012397019 | AM21: ='NA2030'!$G22/1000 -> 1.1576122 | AN21: =100*AM21/AM$9 -> 0.062772887 | AO21: =Ocea2030!$G22/1000 -> 0.11515282 | AP21: =100*AO21/AO$9 -> 0.1281832 | AQ21: ='SEA2030'!$G22/1000 -> 6.1591461 | AR21: =100*AQ21/AQ$9 -> 0.11189684 | AS21: ='SA2030'!$G22/1000 -> 23.255033 | AT21: =100*AS21/AS$9 -> 0.15063024 | AU21: ='SSA2030'!$G22/1000 -> 50.674099 | AV21: =100*AU21/AU$9 -> 0.50528058 | AW21: ='WA2030'!$G22/1000 -> 0.59792069 | AX21: =100*AW21/AW$9 -> 0.034907961 | AY21: =World2045!$G22/1000 -> 49.044165 | AZ21: =100*AY21/AY$9 -> 0.057339715 | BA21: ='Dev''d2045'!$G22/1000 -> 0.11551695 | BB21: =100*BA21/BA$9 -> 0.00072363544 | BC21: ='CCA2045'!$G22/1000 -> 0.0067701161 | BD21: =100*BC21/BC$9 -> 0.00094563849 | BE21: ='EA2045'!$G22/1000 -> 0.43284803 | BF21: =100*BE21/BE$9 -> 0.0023807476 | BG21: ='LAC2045'!$G22/1000 -> 0.34835896 | BH21: =100*BG21/BG$9 -> 0.0050441602 | BI21: ='NA2045'!$G22/1000 -> 0.69076041 | BJ21: =100*BI21/BI$9 -> 0.025524145 | BK21: =Ocea2045!$G22/1000 -> 0.054995838 | BL21: =100*BK21/BK$9 -> 0.047902801 | BM21: ='SEA2045'!$G22/1000 -> 4.2859999 | BN21: =100*BM21/BM$9 -> 0.060355622 | BO21: ='SA2045'!$G22/1000 -> 13.188045 | BP21: =100*BO21/BO$9 -> 0.071379218 | BQ21: ='SSA2045'!$G22/1000 -> 29.523678 | BR21: =100*BQ21/BQ$9 -> 0.2312116 | BS21: ='WA2045'!$G22/1000 -> 0.39719055 | BT21: =100*BS21/BS$9 -> 0.01528588 | BU21: =World2060!$G22/1000 -> 34.551795 | BV21: =100*BU21/BU$9 -> 0.033930474 | BW21: ='Dev''d2060'!$G22/1000 -> 0.088027449 | BX21: =100*BW21/BW$9 -> 0.00055132692 | BY21: ='CCA2060'!$G22/1000 -> 0.0024357935 | BZ21: =100*BY21/BY$9 -> 0.00028564313 | CA21: ='EA2060'!$G22/1000 -> 0.32993186 | CB21: =100*CA21/CA$9 -> 0.001674364 | CC21: ='LAC2060'!$G22/1000 -> 0.2674191 | CD21: =100*CC21/CC$9 -> 0.0030137559 | CE21: ='NA2060'!$G22/1000 -> 0.41321392 | CF21: =100*CE21/CE$9 -> 0.011032629 | CG21: =Ocea2060!$G22/1000 -> 0.026974811 | CH21: =100*CG21/CG$9 -> 0.018777295 | CI21: ='SEA2060'!$G22/1000 -> 3.4455772 | CJ21: =100*CI21/CI$9 -> 0.040349 | CK21: ='SA2060'!$G22/1000 -> 9.7619838 | CL21: =100*CK21/CK$9 -> 0.043527474 | CM21: ='SSA2060'!$G22/1000 -> 19.882278 | CN21: =100*CM21/CM$9 -> 0.11159057 | CO21: ='WA2060'!$G22/1000 -> 0.3339529 | CP21: =100*CO21/CO$9 -> 0.008879502
A22: 13 | E22: a. | F22: Whooping cough | G22: =World2016!$G23/1000 -> 9.9890006 | H22: =100*G22/G$9 -> 0.017563571 | I22: ='Dev''d2016'!$G23/1000 -> 0.056379455 | J22: =100*I22/I$9 -> 0.00044293152 | K22: ='CCA2016'!$G23/1000 -> 0.0045005022 | L22: =100*K22/K$9 -> 0.0010193382 | M22: ='EA2016'!$G23/1000 -> 0.027776501 | N22: =100*M22/M$9 -> 0.00025098856 | O22: ='LAC2016'!$G23/1000 -> 0.38537438 | P22: =100*O22/O$9 -> 0.010013168 | Q22: ='NA2016'!$G23/1000 -> 0.13606476 | R22: =100*Q22/Q$9 -> 0.0099431055 | S22: =Ocea2016!$G23/1000 -> 0.023430099 | T22: =100*S22/S$9 -> 0.033579714 | U22: ='SEA2016'!$G23/1000 -> 0.40241284 | V22: =100*U22/U$9 -> 0.009197271 | W22: ='SA2016'!$G23/1000 -> 1.6391443 | X22: =100*W22/W$9 -> 0.012826909 | Y22: ='SSA2016'!$G23/1000 -> 7.1145244 | Z22: =100*Y22/Y$9 -> 0.080578937 | AA22: ='WA2016'!$G23/1000 -> 0.19939339 | AB22: =100*AA22/AA$9 -> 0.01459794 | AC22: =World2030!$G23/1000 -> 6.8372248 | AD22: =100*AC22/AC$9 -> 0.010037111 | AE22: ='Dev''d2030'!$G23/1000 -> 0.086259349 | AF22: =100*AE22/AE$9 -> 0.00061730828 | AG22: ='CCA2030'!$G23/1000 -> 0.00283895 | AH22: =100*AG22/AG$9 -> 0.00053240622 | AI22: ='EA2030'!$G23/1000 -> 0.012358609 | AJ22: =100*AI22/AI$9 -> 8.8415019e-05 | AK22: ='LAC2030'!$G23/1000 -> 0.31933443 | AL22: =100*AK22/AK$9 -> 0.0063659404 | AM22: ='NA2030'!$G23/1000 -> 0.088325179 | AN22: =100*AM22/AM$9 -> 0.0047895371 | AO22: =Ocea2030!$G23/1000 -> 0.015058989 | AP22: =100*AO22/AO$9 -> 0.016763023 | AQ22: ='SEA2030'!$G23/1000 -> 0.20482751 | AR22: =100*AQ22/AQ$9 -> 0.0037212221 | AS22: ='SA2030'!$G23/1000 -> 0.78998953 | AT22: =100*AS22/AS$9 -> 0.0051170134 | AU22: ='SSA2030'!$G23/1000 -> 5.1948338 | AV22: =100*AU22/AU$9 -> 0.051798624 | AW22: ='WA2030'!$G23/1000 -> 0.12339854 | AX22: =100*AW22/AW$9 -> 0.0072042854 | AY22: =World2045!$G23/1000 -> 3.5075404 | AZ22: =100*AY22/AY$9 -> 0.0041008216 | BA22: ='Dev''d2045'!$G23/1000 -> 0.04334777 | BB22: =100*BA22/BA$9 -> 0.00027154442 | BC22: ='CCA2045'!$G23/1000 -> 0.001384466 | BD22: =100*BC22/BC$9 -> 0.00019337989 | BE22: ='EA2045'!$G23/1000 -> 0.0046339721 | BF22: =100*BE22/BE$9 -> 2.5487739e-05 | BG22: ='LAC2045'!$G23/1000 -> 0.096664344 | BH22: =100*BG22/BG$9 -> 0.0013996782 | BI22: ='NA2045'!$G23/1000 -> 0.047210872 | BJ22: =100*BI22/BI$9 -> 0.0017444791 | BK22: =Ocea2045!$G23/1000 -> 0.006721651 | BL22: =100*BK22/BK$9 -> 0.0058547323 | BM22: ='SEA2045'!$G23/1000 -> 0.092264564 | BN22: =100*BM22/BM$9 -> 0.0012992733 | BO22: ='SA2045'!$G23/1000 -> 0.34076346 | BP22: =100*BO22/BO$9 -> 0.0018443544 | BQ22: ='SSA2045'!$G23/1000 -> 2.8186309 | BR22: =100*BQ22/BQ$9 -> 0.022073813 | BS22: ='WA2045'!$G23/1000 -> 0.055918418 | BT22: =100*BS22/BS$9 -> 0.0021520205 | BU22: =World2060!$G23/1000 -> 1.7967315 | BV22: =100*BU22/BU$9 -> 0.0017644221 | BW22: ='Dev''d2060'!$G23/1000 -> 0.024563409 | BX22: =100*BW22/BW$9 -> 0.00015384371 | BY22: ='CCA2060'!$G23/1000 -> 0.00069570657 | BZ22: =100*BY22/BY$9 -> 8.1584831e-05 | CA22: ='EA2060'!$G23/1000 -> 0.0019564819 | CB22: =100*CA22/CA$9 -> 9.9289073e-06 | CC22: ='LAC2060'!$G23/1000 -> 0.03307818 | CD22: =100*CC22/CC$9 -> 0.00037278399 | CE22: ='NA2060'!$G23/1000 -> 0.025351669 | CF22: =100*CE22/CE$9 -> 0.00067687839 | CG22: =Ocea2060!$G23/1000 -> 0.0030053127 | CH22: =100*CG22/CG$9 -> 0.0020920125 | CI22: ='SEA2060'!$G23/1000 -> 0.045558104 | CJ22: =100*CI22/CI$9 -> 0.00053350247 | CK22: ='SA2060'!$G23/1000 -> 0.1540917 | CL22: =100*CK22/CK$9 -> 0.00068707577 | CM22: ='SSA2060'!$G23/1000 -> 1.4832319 | CN22: =100*CM22/CM$9 -> 0.0083247343 | CO22: ='WA2060'!$G23/1000 -> 0.02519907 | CP22: =100*CO22/CO$9 -> 0.00067002022
A23: 14 | E23: b. | F23: Diphtheria | G23: =World2016!$G24/1000 -> 1.4467969 | H23: =100*G23/G$9 -> 0.00254389 | I23: ='Dev''d2016'!$G24/1000 -> 0.015438787 | J23: =100*I23/I$9 -> 0.00012129109 | K23: ='CCA2016'!$G24/1000 -> 0.0033127774 | L23: =100*K23/K$9 -> 0.00075032525 | M23: ='EA2016'!$G24/1000 -> 0.010545094 | N23: =100*M23/M$9 -> 9.5285502e-05 | O23: ='LAC2016'!$G24/1000 -> 0.011954596 | P23: =100*O23/O$9 -> 0.00031061583 | Q23: ='NA2016'!$G24/1000 -> 0.024335792 | R23: =100*Q23/Q$9 -> 0.001778369 | S23: =Ocea2016!$G24/1000 -> 0.0016298118 | T23: =100*S23/S$9 -> 0.0023358251 | U23: ='SEA2016'!$G24/1000 -> 0.070575262 | V23: =100*U23/U$9 -> 0.0016130196 | W23: ='SA2016'!$G24/1000 -> 0.12853747 | X23: =100*W23/W$9 -> 0.0010058531 | Y23: ='SSA2016'!$G24/1000 -> 1.166734 | Z23: =100*Y23/Y$9 -> 0.013214402 | AA23: ='WA2016'!$G24/1000 -> 0.013733264 | AB23: =100*AA23/AA$9 -> 0.0010054363 | AC23: =World2030!$G24/1000 -> 0.87972882 | AD23: =100*AC23/AC$9 -> 0.0012914502 | AE23: ='Dev''d2030'!$G24/1000 -> 0.010436247 | AF23: =100*AE23/AE$9 -> 7.4686181e-05 | AG23: ='CCA2030'!$G24/1000 -> 0.0014357986 | AH23: =100*AG23/AG$9 -> 0.00026926438 | AI23: ='EA2030'!$G24/1000 -> 0.0065191566 | AJ23: =100*AI23/AI$9 -> 4.6638855e-05 | AK23: ='LAC2030'!$G24/1000 -> 0.0061004793 | AL23: =100*AK23/AK$9 -> 0.00012161322 | AM23: ='NA2030'!$G24/1000 -> 0.020488924 | AN23: =100*AM23/AM$9 -> 0.0011110361 | AO23: =Ocea2030!$G24/1000 -> 0.0013716292 | AP23: =100*AO23/AO$9 -> 0.001526839 | AQ23: ='SEA2030'!$G24/1000 -> 0.041933588 | AR23: =100*AQ23/AQ$9 -> 0.0007618322 | AS23: ='SA2030'!$G24/1000 -> 0.068469846 | AT23: =100*AS23/AS$9 -> 0.00044350096 | AU23: ='SSA2030'!$G24/1000 -> 0.7134689 | AV23: =100*AU23/AU$9 -> 0.0071141271 | AW23: ='WA2030'!$G24/1000 -> 0.0095042463 | AX23: =100*AW23/AW$9 -> 0.00055487937 | AY23: =World2045!$G24/1000 -> 0.46990516 | AZ23: =100*AY23/AY$9 -> 0.00054938703 | BA23: ='Dev''d2045'!$G24/1000 -> 0.0068220875 | BB23: =100*BA23/BA$9 -> 4.2735758e-05 | BC23: ='CCA2045'!$G24/1000 -> 0.00046690985 | BD23: =100*BC23/BC$9 -> 6.5217187e-05 | BE23: ='EA2045'!$G24/1000 -> 0.0031554586 | BF23: =100*BE23/BE$9 -> 1.735563e-05 | BG23: ='LAC2045'!$G24/1000 -> 0.0030099619 | BH23: =100*BG23/BG$9 -> 4.3583579e-05 | BI23: ='NA2045'!$G24/1000 -> 0.012334507 | BJ23: =100*BI23/BI$9 -> 0.0004557698 | BK23: =Ocea2045!$G24/1000 -> 0.00075654759 | BL23: =100*BK23/BK$9 -> 0.00065897258 | BM23: ='SEA2045'!$G24/1000 -> 0.020741333 | BN23: =100*BM23/BM$9 -> 0.00029208028 | BO23: ='SA2045'!$G24/1000 -> 0.037917087 | BP23: =100*BO23/BO$9 -> 0.00020522314 | BQ23: ='SSA2045'!$G24/1000 -> 0.37917647 | BR23: =100*BQ23/BQ$9 -> 0.0029694809 | BS23: ='WA2045'!$G24/1000 -> 0.0055247927 | BT23: =100*BS23/BS$9 -> 0.00021262166 | BU23: =World2060!$G24/1000 -> 0.26854351 | BV23: =100*BU23/BU$9 -> 0.00026371447 | BW23: ='Dev''d2060'!$G24/1000 -> 0.0049657242 | BX23: =100*BW23/BW$9 -> 3.1100952e-05 | BY23: ='CCA2060'!$G24/1000 -> 0.00017680138 | BZ23: =100*BY23/BY$9 -> 2.0733326e-05 | CA23: ='EA2060'!$G24/1000 -> 0.0014946098 | CB23: =100*CA23/CA$9 -> 7.5849629e-06 | CC23: ='LAC2060'!$G24/1000 -> 0.0019378751 | CD23: =100*CC23/CC$9 -> 2.1839436e-05 | CE23: ='NA2060'!$G24/1000 -> 0.0072220389 | CF23: =100*CE23/CE$9 -> 0.00019282525 | CG23: =Ocea2060!$G24/1000 -> 0.00043363932 | CH23: =100*CG23/CG$9 -> 0.0003018584 | CI23: ='SEA2060'!$G24/1000 -> 0.011417081 | CJ23: =100*CI23/CI$9 -> 0.00013369829 | CK23: ='SA2060'!$G24/1000 -> 0.021244321 | CL23: =100*CK23/CK$9 -> 9.4725792e-05 | CM23: ='SSA2060'!$G24/1000 -> 0.21651505 | CN23: =100*CM23/CM$9 -> 0.0012152047 | CO23: ='WA2060'!$G24/1000 -> 0.0031363628 | CP23: =100*CO23/CO$9 -> 8.3393017e-05
A24: 15 | E24: c. | F24: Measles | G24: =World2016!$G25/1000 -> 90.956355 | H24: =100*G24/G$9 -> 0.15992775 | I24: ='Dev''d2016'!$G25/1000 -> 0.050353443 | J24: =100*I24/I$9 -> 0.00039558962 | K24: ='CCA2016'!$G25/1000 -> 0.0017659882 | L24: =100*K24/K$9 -> 0.00039998629 | M24: ='EA2016'!$G25/1000 -> 0.86986658 | N24: =100*M24/M$9 -> 0.0078601173 | O24: ='LAC2016'!$G25/1000 -> 0.0006798384 | P24: =100*O24/O$9 -> 1.7664216e-05 | Q24: ='NA2016'!$G25/1000 -> 0.88945455 | R24: =100*Q24/Q$9 -> 0.064998024 | S24: =Ocea2016!$G25/1000 -> 0.13771055 | T24: =100*S24/S$9 -> 0.19736498 | U24: ='SEA2016'!$G25/1000 -> 5.8892261 | V24: =100*U24/U$9 -> 0.1346001 | W24: ='SA2016'!$G25/1000 -> 31.174398 | X24: =100*W24/W$9 -> 0.24395116 | Y24: ='SSA2016'!$G25/1000 -> 51.755329 | Z24: =100*Y24/Y$9 -> 0.58617965 | AA24: ='WA2016'!$G25/1000 -> 0.18757123 | AB24: =100*AA24/AA$9 -> 0.013732419 | AC24: =World2030!$G25/1000 -> 44.533384 | AD24: =100*AC24/AC$9 -> 0.065375429 | AE24: ='Dev''d2030'!$G25/1000 -> 0.025770048 | AF24: =100*AE24/AE$9 -> 0.00018442133 | AG24: ='CCA2030'!$G25/1000 -> 0.0006005849 | AH24: =100*AG24/AG$9 -> 0.00011263148 | AI24: ='EA2030'!$G25/1000 -> 0.21709927 | AJ24: =100*AI24/AI$9 -> 0.0015531551 | AK24: ='LAC2030'!$G25/1000 -> 0.00020535251 | AL24: =100*AK24/AK$9 -> 4.0937078e-06 | AM24: ='NA2030'!$G25/1000 -> 0.3632768 | AN24: =100*AM24/AM$9 -> 0.019699114 | AO24: =Ocea2030!$G25/1000 -> 0.065393347 | AP24: =100*AO24/AO$9 -> 0.072793076 | AQ24: ='SEA2030'!$G25/1000 -> 2.7630615 | AR24: =100*AQ24/AQ$9 -> 0.050198167 | AS24: ='SA2030'!$G25/1000 -> 13.586852 | AT24: =100*AS24/AS$9 -> 0.088006361 | AU24: ='SSA2030'!$G25/1000 -> 27.434519 | AV24: =100*AU24/AU$9 -> 0.27355454 | AW24: ='WA2030'!$G25/1000 -> 0.076605582 | AX24: =100*AW24/AW$9 -> 0.0044724069 | AY24: =World2045!$G25/1000 -> 21.705694 | AZ24: =100*AY24/AY$9 -> 0.025377093 | BA24: ='Dev''d2045'!$G25/1000 -> 0.0094796524 | BB24: =100*BA24/BA$9 -> 5.9383602e-05 | BC24: ='CCA2045'!$G25/1000 -> 0.00022255972 | BD24: =100*BC24/BC$9 -> 3.1086769e-05 | BE24: ='EA2045'!$G25/1000 -> 0.08932072 | BF24: =100*BE24/BE$9 -> 0.00049128117 | BG24: ='LAC2045'!$G25/1000 -> 6.4992493e-05 | BH24: =100*BG24/BG$9 -> 9.4107683e-07 | BI24: ='NA2045'!$G25/1000 -> 0.20510153 | BJ24: =100*BI24/BI$9 -> 0.007578664 | BK24: =Ocea2045!$G25/1000 -> 0.029946482 | BL24: =100*BK24/BK$9 -> 0.026084162 | BM24: ='SEA2045'!$G25/1000 -> 1.2365903 | BN24: =100*BM24/BM$9 -> 0.017413715 | BO24: ='SA2045'!$G25/1000 -> 6.6980123 | BP24: =100*BO24/BO$9 -> 0.036252444 | BQ24: ='SSA2045'!$G25/1000 -> 13.400335 | BR24: =100*BQ24/BQ$9 -> 0.10494332 | BS24: ='WA2045'!$G25/1000 -> 0.036620254 | BT24: =100*BS24/BS$9 -> 0.0014093306 | BU24: =World2060!$G25/1000 -> 12.09542 | BV24: =100*BU24/BU$9 -> 0.011877916 | BW24: ='Dev''d2060'!$G25/1000 -> 0.0045666044 | BX24: =100*BW24/BW$9 -> 2.8601215e-05 | BY24: ='CCA2060'!$G25/1000 -> 9.649292e-05 | BZ24: =100*BY24/BY$9 -> 1.1315631e-05 | CA24: ='EA2060'!$G25/1000 -> 0.037034089 | CB24: =100*CA24/CA$9 -> 0.00018794349 | CC24: ='LAC2060'!$G25/1000 -> 2.4091049e-05 | CD24: =100*CC24/CC$9 -> 2.7150095e-07 | CE24: ='NA2060'!$G25/1000 -> 0.10794723 | CF24: =100*CE24/CE$9 -> 0.0028821434 | CG24: =Ocea2060!$G25/1000 -> 0.013463874 | CH24: =100*CG24/CG$9 -> 0.0093722666 | CI24: ='SEA2060'!$G25/1000 -> 0.56553695 | CJ24: =100*CI24/CI$9 -> 0.0066226496 | CK24: ='SA2060'!$G25/1000 -> 4.3746592 | CL24: =100*CK24/CK$9 -> 0.019506062 | CM24: ='SSA2060'!$G25/1000 -> 6.9750368 | CN24: =100*CM24/CM$9 -> 0.039147843 | CO24: ='WA2060'!$G25/1000 -> 0.017054238 | CP24: =100*CO24/CO$9 -> 0.00045345657
A25: 16 | E25: d. | F25: Tetanus | G25: =World2016!$G26/1000 -> 53.723763 | H25: =100*G25/G$9 -> 0.094462014 | I25: ='Dev''d2016'!$G26/1000 -> 0.0725703 | J25: =100*I25/I$9 -> 0.00057013098 | K25: ='CCA2016'!$G26/1000 -> 0.067022984 | L25: =100*K25/K$9 -> 0.015180325 | M25: ='EA2016'!$G26/1000 -> 0.49379173 | N25: =100*M25/M$9 -> 0.0044619037 | O25: ='LAC2016'!$G26/1000 -> 0.48301216 | P25: =100*O25/O$9 -> 0.012550087 | Q25: ='NA2016'!$G26/1000 -> 1.2409037 | R25: =100*Q25/Q$9 -> 0.090680619 | S25: =Ocea2016!$G26/1000 -> 0.055552586 | T25: =100*S25/S$9 -> 0.079617245 | U25: ='SEA2016'!$G26/1000 -> 4.318241 | V25: =100*U25/U$9 -> 0.098694746 | W25: ='SA2016'!$G26/1000 -> 19.146939 | X25: =100*W25/W$9 -> 0.14983186 | Y25: ='SSA2016'!$G26/1000 -> 27.178076 | Z25: =100*Y25/Y$9 -> 0.30781826 | AA25: ='WA2016'!$G26/1000 -> 0.66765331 | AB25: =100*AA25/AA$9 -> 0.04888007 | AC25: =World2030!$G26/1000 -> 31.123375 | AD25: =100*AC25/AC$9 -> 0.045689409 | AE25: ='Dev''d2030'!$G26/1000 -> 0.054618627 | AF25: =100*AE25/AE$9 -> 0.00039087393 | AG25: ='CCA2030'!$G26/1000 -> 0.016346075 | AH25: =100*AG25/AG$9 -> 0.0030654826 | AI25: ='EA2030'!$G26/1000 -> 0.35859468 | AJ25: =100*AI25/AI$9 -> 0.0025654308 | AK25: ='LAC2030'!$G26/1000 -> 0.29623094 | AL25: =100*AK25/AK$9 -> 0.0059053717 | AM25: ='NA2030'!$G26/1000 -> 0.68552128 | AN25: =100*AM25/AM$9 -> 0.037173201 | AO25: =Ocea2030!$G26/1000 -> 0.033328856 | AP25: =100*AO25/AO$9 -> 0.037100257 | AQ25: ='SEA2030'!$G26/1000 -> 3.1493234 | AR25: =100*AQ25/AQ$9 -> 0.057215615 | AS25: ='SA2030'!$G26/1000 -> 8.8097218 | AT25: =100*AS25/AS$9 -> 0.05706337 | AU25: ='SSA2030'!$G26/1000 -> 17.331277 | AV25: =100*AU25/AU$9 -> 0.17281329 | AW25: ='WA2030'!$G26/1000 -> 0.38841233 | AX25: =100*AW25/AW$9 -> 0.022676389 | AY25: =World2045!$G26/1000 -> 23.361025 | AZ25: =100*AY25/AY$9 -> 0.027312414 | BA25: ='Dev''d2045'!$G26/1000 -> 0.055867436 | BB25: =100*BA25/BA$9 -> 0.00034997165 | BC25: ='CCA2045'!$G26/1000 -> 0.0046961805 | BD25: =100*BC25/BC$9 -> 0.00065595464 | BE25: ='EA2045'!$G26/1000 -> 0.33573788 | BF25: =100*BE25/BE$9 -> 0.001846623 | BG25: ='LAC2045'!$G26/1000 -> 0.24861966 | BH25: =100*BG25/BG$9 -> 0.0035999574 | BI25: ='NA2045'!$G26/1000 -> 0.42611351 | BJ25: =100*BI25/BI$9 -> 0.015745232 | BK25: =Ocea2045!$G26/1000 -> 0.017571157 | BL25: =100*BK25/BK$9 -> 0.015304933 | BM25: ='SEA2045'!$G26/1000 -> 2.9364038 | BN25: =100*BM25/BM$9 -> 0.041350555 | BO25: ='SA2045'!$G26/1000 -> 6.1113529 | BP25: =100*BO25/BO$9 -> 0.033077198 | BQ25: ='SSA2045'!$G26/1000 -> 12.925536 | BR25: =100*BQ25/BQ$9 -> 0.10122498 | BS25: ='WA2045'!$G26/1000 -> 0.29912709 | BT25: =100*BS25/BS$9 -> 0.011511907 | BU25: =World2060!$G26/1000 -> 20.391101 | BV25: =100*BU25/BU$9 -> 0.020024421 | BW25: ='Dev''d2060'!$G26/1000 -> 0.05393171 | BX25: =100*BW25/BW$9 -> 0.00033778105 | BY25: ='CCA2060'!$G26/1000 -> 0.0014667926 | BZ25: =100*BY25/BY$9 -> 0.00017200934 | CA25: ='EA2060'!$G26/1000 -> 0.28944668 | CB25: =100*CA25/CA$9 -> 0.0014689066 | CC25: ='LAC2060'!$G26/1000 -> 0.23237896 | CD25: =100*CC25/CC$9 -> 0.0026188609 | CE25: ='NA2060'!$G26/1000 -> 0.27269299 | CF25: =100*CE25/CE$9 -> 0.0072807824 | CG25: =Ocea2060!$G26/1000 -> 0.010071986 | CH25: =100*CG25/CG$9 -> 0.0070111572 | CI25: ='SEA2060'!$G26/1000 -> 2.823065 | CJ25: =100*CI25/CI$9 -> 0.03305915 | CK25: ='SA2060'!$G26/1000 -> 5.2119888 | CL25: =100*CK25/CK$9 -> 0.023239611 | CM25: ='SSA2060'!$G26/1000 -> 11.207494 | CN25: =100*CM25/CM$9 -> 0.062902784 | CO25: ='WA2060'!$G26/1000 -> 0.28856323 | CP25: =100*CO25/CO$9 -> 0.0076726322
A26: 17 | D26: 6. | E26: Meningitis | G26: =World2016!$G27/1000 -> 278.81226 | H26: =100*G26/G$9 -> 0.49023312 | I26: ='Dev''d2016'!$G27/1000 -> 4.3885486 | J26: =100*I26/I$9 -> 0.034477568 | K26: ='CCA2016'!$G27/1000 -> 0.66101188 | L26: =100*K26/K$9 -> 0.14971543 | M26: ='EA2016'!$G27/1000 -> 6.9940114 | N26: =100*M26/M$9 -> 0.063197911 | O26: ='LAC2016'!$G27/1000 -> 5.8469471 | P26: =100*O26/O$9 -> 0.15192101 | Q26: ='NA2016'!$G27/1000 -> 3.6768214 | R26: =100*Q26/Q$9 -> 0.26868841 | S26: =Ocea2016!$G27/1000 -> 0.38694296 | T26: =100*S26/S$9 -> 0.55456162 | U26: ='SEA2016'!$G27/1000 -> 10.521405 | V26: =100*U26/U$9 -> 0.24046999 | W26: ='SA2016'!$G27/1000 -> 52.040335 | X26: =100*W26/W$9 -> 0.40723482 | Y26: ='SSA2016'!$G27/1000 -> 191.4845 | Z26: =100*Y26/Y$9 -> 2.168749 | AA26: ='WA2016'!$G27/1000 -> 2.8117405 | AB26: =100*AA26/AA$9 -> 0.20585245 | AC26: =World2030!$G27/1000 -> 232.91431 | AD26: =100*AC26/AC$9 -> 0.3419204 | AE26: ='Dev''d2030'!$G27/1000 -> 3.2360258 | AF26: =100*AE26/AE$9 -> 0.023158366 | AG26: ='CCA2030'!$G27/1000 -> 0.36669285 | AH26: =100*AG26/AG$9 -> 0.068768224 | AI26: ='EA2030'!$G27/1000 -> 6.2869538 | AJ26: =100*AI26/AI$9 -> 0.044977647 | AK26: ='LAC2030'!$G27/1000 -> 3.8099456 | AL26: =100*AK26/AK$9 -> 0.075951367 | AM26: ='NA2030'!$G27/1000 -> 2.626177 | AN26: =100*AM26/AM$9 -> 0.14240755 | AO26: =Ocea2030!$G27/1000 -> 0.28573921 | AP26: =100*AO26/AO$9 -> 0.31807267 | AQ26: ='SEA2030'!$G27/1000 -> 7.4032246 | AR26: =100*AQ26/AQ$9 -> 0.13449874 | AS26: ='SA2030'!$G27/1000 -> 35.139143 | AT26: =100*AS26/AS$9 -> 0.2276074 | AU26: ='SSA2030'!$G27/1000 -> 171.68556 | AV26: =100*AU26/AU$9 -> 1.7119077 | AW26: ='WA2030'!$G27/1000 -> 2.0748452 | AX26: =100*AW26/AW$9 -> 0.12113415 | AY26: =World2045!$G27/1000 -> 190.09773 | AZ26: =100*AY26/AY$9 -> 0.22225172 | BA26: ='Dev''d2045'!$G27/1000 -> 2.6170527 | BB26: =100*BA26/BA$9 -> 0.016394063 | BC26: ='CCA2045'!$G27/1000 -> 0.25353436 | BD26: =100*BC26/BC$9 -> 0.035413256 | BE26: ='EA2045'!$G27/1000 -> 6.1408681 | BF26: =100*BE26/BE$9 -> 0.033775958 | BG26: ='LAC2045'!$G27/1000 -> 2.9033558 | BH26: =100*BG26/BG$9 -> 0.042039946 | BI26: ='NA2045'!$G27/1000 -> 2.2480856 | BJ26: =100*BI26/BI$9 -> 0.083068545 | BK26: =Ocea2045!$G27/1000 -> 0.18118343 | BL26: =100*BK26/BK$9 -> 0.15781547 | BM26: ='SEA2045'!$G27/1000 -> 5.6838262 | BN26: =100*BM26/BM$9 -> 0.080039868 | BO26: ='SA2045'!$G27/1000 -> 26.083705 | BP26: =100*BO26/BO$9 -> 0.14117592 | BQ26: ='SSA2045'!$G27/1000 -> 142.02078 | BR26: =100*BQ26/BQ$9 -> 1.1122209 | BS26: ='WA2045'!$G27/1000 -> 1.9653413 | BT26: =100*BS26/BS$9 -> 0.075636166 | BU26: =World2060!$G27/1000 -> 177.80444 | BV26: =100*BU26/BU$9 -> 0.1746071 | BW26: ='Dev''d2060'!$G27/1000 -> 2.1200372 | BX26: =100*BW26/BW$9 -> 0.013278058 | BY26: ='CCA2060'!$G27/1000 -> 0.207935 | BZ26: =100*BY26/BY$9 -> 0.024384335 | CA26: ='EA2060'!$G27/1000 -> 5.6718555 | CB26: =100*CA26/CA$9 -> 0.028783976 | CC26: ='LAC2060'!$G27/1000 -> 2.4933338 | CD26: =100*CC26/CC$9 -> 0.028099336 | CE26: ='NA2060'!$G27/1000 -> 2.1816203 | CF26: =100*CE26/CE$9 -> 0.058248301 | CG26: =Ocea2060!$G27/1000 -> 0.13046522 | CH26: =100*CG26/CG$9 -> 0.090817464 | CI26: ='SEA2060'!$G27/1000 -> 4.8592003 | CJ26: =100*CI26/CI$9 -> 0.056903057 | CK26: ='SA2060'!$G27/1000 -> 23.228212 | CL26: =100*CK26/CK$9 -> 0.10357171 | CM26: ='SSA2060'!$G27/1000 -> 134.7085 | CN26: =100*CM26/CM$9 -> 0.75606015 | CO26: ='WA2060'!$G27/1000 -> 2.2032729 | CP26: =100*CO26/CO$9 -> 0.05858301
A27: 18 | D27: 7. | E27: Encephalitis | G27: =World2016!$G28/1000 -> 104.48244 | H27: =100*G27/G$9 -> 0.18371054 | I27: ='Dev''d2016'!$G28/1000 -> 28.09237 | J27: =100*I27/I$9 -> 0.2207009 | K27: ='CCA2016'!$G28/1000 -> 0.9530572 | L27: =100*K27/K$9 -> 0.21586204 | M27: ='EA2016'!$G28/1000 -> 4.2247975 | N27: =100*M27/M$9 -> 0.038175284 | O27: ='LAC2016'!$G28/1000 -> 11.780403 | P27: =100*O27/O$9 -> 0.30608977 | Q27: ='NA2016'!$G28/1000 -> 1.6108463 | R27: =100*Q27/Q$9 -> 0.11771465 | S27: =Ocea2016!$G28/1000 -> 0.14950437 | T27: =100*S27/S$9 -> 0.21426771 | U27: ='SEA2016'!$G28/1000 -> 7.2257316 | V27: =100*U27/U$9 -> 0.16514635 | W27: ='SA2016'!$G28/1000 -> 39.477692 | X27: =100*W27/W$9 -> 0.3089275 | Y27: ='SSA2016'!$G28/1000 -> 9.6389157 | Z27: =100*Y27/Y$9 -> 0.10917013 | AA27: ='WA2016'!$G28/1000 -> 1.3291211 | AB27: =100*AA27/AA$9 -> 0.09730729 | AC27: =World2030!$G28/1000 -> 105.34775 | AD27: =100*AC27/AC$9 -> 0.15465149 | AE27: ='Dev''d2030'!$G28/1000 -> 35.928626 | AF27: =100*AE27/AE$9 -> 0.2571204 | AG27: ='CCA2030'!$G28/1000 -> 0.61597389 | AH27: =100*AG27/AG$9 -> 0.11551747 | AI27: ='EA2030'!$G28/1000 -> 4.0951677 | AJ27: =100*AI27/AI$9 -> 0.029297338 | AK27: ='LAC2030'!$G28/1000 -> 13.809821 | AL27: =100*AK27/AK$9 -> 0.27529915 | AM27: ='NA2030'!$G28/1000 -> 1.278011 | AN27: =100*AM27/AM$9 -> 0.069301653 | AO27: =Ocea2030!$G28/1000 -> 0.12420762 | AP27: =100*AO27/AO$9 -> 0.13826261 | AQ27: ='SEA2030'!$G28/1000 -> 6.7289283 | AR27: =100*AQ27/AQ$9 -> 0.1222484 | AS27: ='SA2030'!$G28/1000 -> 33.907024 | AT27: =100*AS27/AS$9 -> 0.21962657 | AU27: ='SSA2030'!$G28/1000 -> 7.7734842 | AV27: =100*AU27/AU$9 -> 0.077510813 | AW27: ='WA2030'!$G28/1000 -> 1.086503 | AX27: =100*AW27/AW$9 -> 0.063432502 | AY27: =World2045!$G28/1000 -> 104.26513 | AZ27: =100*AY27/AY$9 -> 0.121901 | BA27: ='Dev''d2045'!$G28/1000 -> 38.612313 | BB27: =100*BA27/BA$9 -> 0.24187999 | BC27: ='CCA2045'!$G28/1000 -> 0.39240907 | BD27: =100*BC27/BC$9 -> 0.054811042 | BE27: ='EA2045'!$G28/1000 -> 4.337568 | BF27: =100*BE27/BE$9 -> 0.02385746 | BG27: ='LAC2045'!$G28/1000 -> 16.183996 | BH27: =100*BG27/BG$9 -> 0.23434066 | BI27: ='NA2045'!$G28/1000 -> 1.0106092 | BJ27: =100*BI27/BI$9 -> 0.037342812 | BK27: =Ocea2045!$G28/1000 -> 0.091788796 | BL27: =100*BK27/BK$9 -> 0.079950422 | BM27: ='SEA2045'!$G28/1000 -> 6.5504801 | BN27: =100*BM27/BM$9 -> 0.092244122 | BO27: ='SA2045'!$G28/1000 -> 30.13954 | BP27: =100*BO27/BO$9 -> 0.1631278 | BQ27: ='SSA2045'!$G28/1000 -> 5.8530125 | BR27: =100*BQ27/BQ$9 -> 0.045837256 | BS27: ='WA2045'!$G28/1000 -> 1.0934137 | BT27: =100*BS27/BS$9 -> 0.042080029 | BU27: =World2060!$G28/1000 -> 105.1503 | BV27: =100*BU27/BU$9 -> 0.10325946 | BW27: ='Dev''d2060'!$G28/1000 -> 36.873431 | BX27: =100*BW27/BW$9 -> 0.23094291 | BY27: ='CCA2060'!$G28/1000 -> 0.29023149 | BZ27: =100*BY27/BY$9 -> 0.034035164 | CA27: ='EA2060'!$G28/1000 -> 4.0168025 | CB27: =100*CA27/CA$9 -> 0.020384784 | CC27: ='LAC2060'!$G28/1000 -> 18.395843 | CD27: =100*CC27/CC$9 -> 0.20731721 | CE27: ='NA2060'!$G28/1000 -> 0.864528 | CF27: =100*CE27/CE$9 -> 0.023082516 | CG27: =Ocea2060!$G28/1000 -> 0.076879033 | CH27: =100*CG27/CG$9 -> 0.053515862 | CI27: ='SEA2060'!$G28/1000 -> 6.9026988 | CJ27: =100*CI27/CI$9 -> 0.08083319 | CK27: ='SA2060'!$G28/1000 -> 31.583119 | CL27: =100*CK27/CK$9 -> 0.1408252 | CM27: ='SSA2060'!$G28/1000 -> 5.0229871 | CN27: =100*CM27/CM$9 -> 0.028191838 | CO27: ='WA2060'!$G28/1000 -> 1.1237824 | CP27: =100*CO27/CO$9 -> 0.029880346
A28: 19 | D28: 8. | E28: Acute hepatitis B | G28: =World2016!$G29/1000 -> 110.83004 | H28: =100*G28/G$9 -> 0.19487146 | I28: ='Dev''d2016'!$G29/1000 -> 3.4066315 | J28: =100*I28/I$9 -> 0.026763375 | K28: ='CCA2016'!$G29/1000 -> 0.44857966 | L28: =100*K28/K$9 -> 0.10160074 | M28: ='EA2016'!$G29/1000 -> 9.5906206 | N28: =100*M28/M$9 -> 0.08666088 | O28: ='LAC2016'!$G29/1000 -> 1.9503712 | P28: =100*O28/O$9 -> 0.050676422 | Q28: ='NA2016'!$G29/1000 -> 1.2791559 | R28: =100*Q28/Q$9 -> 0.093475946 | S28: =Ocea2016!$G29/1000 -> 0.072422261 | T28: =100*S28/S$9 -> 0.10379464 | U28: ='SEA2016'!$G29/1000 -> 8.9989908 | V28: =100*U28/U$9 -> 0.20567474 | W28: ='SA2016'!$G29/1000 -> 59.640126 | X28: =100*W28/W$9 -> 0.46670598 | Y28: ='SSA2016'!$G29/1000 -> 24.275445 | Z28: =100*Y28/Y$9 -> 0.27494312 | AA28: ='WA2016'!$G29/1000 -> 1.1676937 | AB28: =100*AA28/AA$9 -> 0.085488909 | AC28: =World2030!$G29/1000 -> 114.08323 | AD28: =100*AC28/AC$9 -> 0.16747527 | AE28: ='Dev''d2030'!$G29/1000 -> 2.87991 | AF28: =100*AE28/AE$9 -> 0.02060985 | AG28: ='CCA2030'!$G29/1000 -> 0.33700271 | AH28: =100*AG28/AG$9 -> 0.063200246 | AI28: ='EA2030'!$G29/1000 -> 9.696163 | AJ28: =100*AI28/AI$9 -> 0.069367553 | AK28: ='LAC2030'!$G29/1000 -> 1.6685682 | AL28: =100*AK28/AK$9 -> 0.033262951 | AM28: ='NA2030'!$G29/1000 -> 1.3650575 | AN28: =100*AM28/AM$9 -> 0.074021853 | AO28: =Ocea2030!$G29/1000 -> 0.071200737 | AP28: =100*AO28/AO$9 -> 0.079257615 | AQ28: ='SEA2030'!$G29/1000 -> 9.0395728 | AR28: =100*AQ28/AQ$9 -> 0.16422724 | AS28: ='SA2030'!$G29/1000 -> 60.772412 | AT28: =100*AS28/AS$9 -> 0.39364223 | AU28: ='SSA2030'!$G29/1000 -> 27.01196 | AV28: =100*AU28/AU$9 -> 0.26934113 | AW28: ='WA2030'!$G29/1000 -> 1.2413871 | AX28: =100*AW28/AW$9 -> 0.072474985 | AY28: =World2045!$G29/1000 -> 108.00435 | AZ28: =100*AY28/AY$9 -> 0.1262727 | BA28: ='Dev''d2045'!$G29/1000 -> 2.4799432 | BB28: =100*BA28/BA$9 -> 0.015535165 | BC28: ='CCA2045'!$G29/1000 -> 0.26824691 | BD28: =100*BC28/BC$9 -> 0.037468279 | BE28: ='EA2045'!$G29/1000 -> 9.3916869 | BF28: =100*BE28/BE$9 -> 0.051656087 | BG28: ='LAC2045'!$G29/1000 -> 1.5664868 | BH28: =100*BG28/BG$9 -> 0.022682381 | BI28: ='NA2045'!$G29/1000 -> 1.3617098 | BJ28: =100*BI28/BI$9 -> 0.050316257 | BK28: =Ocea2045!$G29/1000 -> 0.059981795 | BL28: =100*BK28/BK$9 -> 0.052245699 | BM28: ='SEA2045'!$G29/1000 -> 8.5728243 | BN28: =100*BM28/BM$9 -> 0.12072285 | BO28: ='SA2045'!$G29/1000 -> 56.088371 | BP28: =100*BO28/BO$9 -> 0.30357372 | BQ28: ='SSA2045'!$G29/1000 -> 26.784334 | BR28: =100*BQ28/BQ$9 -> 0.20975871 | BS28: ='WA2045'!$G29/1000 -> 1.4307693 | BT28: =100*BS28/BS$9 -> 0.05506316 | BU28: =World2060!$G29/1000 -> 105.52487 | BV28: =100*BU28/BU$9 -> 0.10362729 | BW28: ='Dev''d2060'!$G29/1000 -> 2.0833767 | BX28: =100*BW28/BW$9 -> 0.013048449 | BY28: ='CCA2060'!$G29/1000 -> 0.23783232 | BZ28: =100*BY28/BY$9 -> 0.027890364 | CA28: ='EA2060'!$G29/1000 -> 8.0336093 | CB28: =100*CA28/CA$9 -> 0.040769589 | CC28: ='LAC2060'!$G29/1000 -> 1.455239 | CD28: =100*CC28/CC$9 -> 0.016400231 | CE28: ='NA2060'!$G29/1000 -> 1.3330561 | CF28: =100*CE28/CE$9 -> 0.035592011 | CG28: =Ocea2060!$G29/1000 -> 0.051222682 | CH28: =100*CG28/CG$9 -> 0.035656353 | CI28: ='SEA2060'!$G29/1000 -> 8.0360501 | CJ28: =100*CI28/CI$9 -> 0.094105158 | CK28: ='SA2060'!$G29/1000 -> 55.364106 | CL28: =100*CK28/CK$9 -> 0.24686168 | CM28: ='SSA2060'!$G29/1000 -> 27.399876 | CN28: =100*CM28/CM$9 -> 0.15378357 | CO28: ='WA2060'!$G29/1000 -> 1.530502 | CP28: =100*CO28/CO$9 -> 0.040694646
A29: 20 | D29: 9. | E29: Acute hepatitis C | G29: =World2016!$G30/1000 -> 2.552712 | H29: =100*G29/G$9 -> 0.0044884107 | I29: ='Dev''d2016'!$G30/1000 -> 0.012214777 | J29: =100*I29/I$9 -> 9.5962433e-05 | K29: ='CCA2016'!$G30/1000 -> 0.0051287002 | L29: =100*K29/K$9 -> 0.0011616214 | M29: ='EA2016'!$G30/1000 -> 0.14041993 | N29: =100*M29/M$9 -> 0.001268835 | O29: ='LAC2016'!$G30/1000 -> 0.019980819 | P29: =100*O29/O$9 -> 0.00051916088 | Q29: ='NA2016'!$G30/1000 -> 0.034952113 | R29: =100*Q29/Q$9 -> 0.0025541702 | S29: =Ocea2016!$G30/1000 -> 0.0018866199 | T29: =100*S29/S$9 -> 0.0027038791 | U29: ='SEA2016'!$G30/1000 -> 0.21284818 | V29: =100*U29/U$9 -> 0.0048647114 | W29: ='SA2016'!$G30/1000 -> 1.3464813 | X29: =100*W29/W$9 -> 0.010536713 | Y29: ='SSA2016'!$G30/1000 -> 0.74767089 | Z29: =100*Y29/Y$9 -> 0.0084681031 | AA29: ='WA2016'!$G30/1000 -> 0.031128636 | AB29: =100*AA29/AA$9 -> 0.0022789821 | AC29: =World2030!$G30/1000 -> 2.7198101 | AD29: =100*AC29/AC$9 -> 0.0039927069 | AE29: ='Dev''d2030'!$G30/1000 -> 0.0093584032 | AF29: =100*AE29/AE$9 -> 6.697268e-05 | AG29: ='CCA2030'!$G30/1000 -> 0.0044192933 | AH29: =100*AG29/AG$9 -> 0.00082877798 | AI29: ='EA2030'!$G30/1000 -> 0.14608808 | AJ29: =100*AI29/AI$9 -> 0.0010451322 | AK29: ='LAC2030'!$G30/1000 -> 0.018446082 | AL29: =100*AK29/AK$9 -> 0.00036772315 | AM29: ='NA2030'!$G30/1000 -> 0.035724836 | AN29: =100*AM29/AM$9 -> 0.0019372214 | AO29: =Ocea2030!$G30/1000 -> 0.0017372925 | AP29: =100*AO29/AO$9 -> 0.0019338797 | AQ29: ='SEA2030'!$G30/1000 -> 0.22547194 | AR29: =100*AQ29/AQ$9 -> 0.0040962816 | AS29: ='SA2030'!$G30/1000 -> 1.4628975 | AT29: =100*AS29/AS$9 -> 0.0094756524 | AU29: ='SSA2030'!$G30/1000 -> 0.78247881 | AV29: =100*AU29/AU$9 -> 0.0078022373 | AW29: ='WA2030'!$G30/1000 -> 0.033187806 | AX29: =100*AW29/AW$9 -> 0.0019375791 | AY29: =World2045!$G30/1000 -> 2.7857456 | AZ29: =100*AY29/AY$9 -> 0.0032569392 | BA29: ='Dev''d2045'!$G30/1000 -> 0.0064987615 | BB29: =100*BA29/BA$9 -> 4.0710339e-05 | BC29: ='CCA2045'!$G30/1000 -> 0.003615968 | BD29: =100*BC29/BC$9 -> 0.00050507236 | BE29: ='EA2045'!$G30/1000 -> 0.1384447 | BF29: =100*BE29/BE$9 -> 0.00076147253 | BG29: ='LAC2045'!$G30/1000 -> 0.016245927 | BH29: =100*BG29/BG$9 -> 0.00023523741 | BI29: ='NA2045'!$G30/1000 -> 0.037878701 | BJ29: =100*BI29/BI$9 -> 0.001399648 | BK29: =Ocea2045!$G30/1000 -> 0.0013922631 | BL29: =100*BK29/BK$9 -> 0.0012126973 | BM29: ='SEA2045'!$G30/1000 -> 0.22715879 | BN29: =100*BM29/BM$9 -> 0.0031988591 | BO29: ='SA2045'!$G30/1000 -> 1.5286436 | BP29: =100*BO29/BO$9 -> 0.0082736588 | BQ29: ='SSA2045'!$G30/1000 -> 0.78357824 | BR29: =100*BQ29/BQ$9 -> 0.0061365111 | BS29: ='WA2045'!$G30/1000 -> 0.04228863 | BT29: =100*BS29/BS$9 -> 0.0016274781 | BU29: =World2060!$G30/1000 -> 2.9694603 | BV29: =100*BU29/BU$9 -> 0.0029160625 | BW29: ='Dev''d2060'!$G30/1000 -> 0.0044199144 | BX29: =100*BW29/BW$9 -> 2.7682477e-05 | BY29: ='CCA2060'!$G30/1000 -> 0.0032001667 | BZ29: =100*BY29/BY$9 -> 0.00037528042 | CA29: ='EA2060'!$G30/1000 -> 0.1193129 | CB29: =100*CA29/CA$9 -> 0.00060549846 | CC29: ='LAC2060'!$G30/1000 -> 0.014737164 | CD29: =100*CC29/CC$9 -> 0.00016608467 | CE29: ='NA2060'!$G30/1000 -> 0.038625916 | CF29: =100*CE29/CE$9 -> 0.0010312949 | CG29: =Ocea2060!$G30/1000 -> 0.0012089449 | CH29: =100*CG29/CG$9 -> 0.00084155233 | CI29: ='SEA2060'!$G30/1000 -> 0.22377119 | CJ29: =100*CI29/CI$9 -> 0.0026204445 | CK29: ='SA2060'!$G30/1000 -> 1.6781083 | CL29: =100*CK29/CK$9 -> 0.0074824767 | CM29: ='SSA2060'!$G30/1000 -> 0.8364342 | CN29: =100*CM29/CM$9 -> 0.0046945408 | CO29: ='WA2060'!$G30/1000 -> 0.049641559 | CP29: =100*CO29/CO$9 -> 0.0013199236
A30: 21 | D30: 10. | E30: Parasitic and vector diseases | G30: =World2016!$G31/1000 -> 573.72124 | H30: =100*G30/G$9 -> 1.0087689 | I30: ='Dev''d2016'!$G31/1000 -> 0.070503241 | J30: =100*I30/I$9 -> 0.00055389162 | K30: ='CCA2016'!$G31/1000 -> 0.071205606 | L30: =100*K30/K$9 -> 0.016127665 | M30: ='EA2016'!$G31/1000 -> 2.4316061 | N30: =100*M30/M$9 -> 0.021972 | O30: ='LAC2016'!$G31/1000 -> 11.562916 | P30: =100*O30/O$9 -> 0.30043882 | Q30: ='NA2016'!$G31/1000 -> 9.9320908 | R30: =100*Q30/Q$9 -> 0.72580019 | S30: =Ocea2016!$G31/1000 -> 2.9886383 | T30: =100*S30/S$9 -> 4.2832776 | U30: ='SEA2016'!$G31/1000 -> 17.645741 | V30: =100*U30/U$9 -> 0.40329892 | W30: ='SA2016'!$G31/1000 -> 74.821137 | X30: =100*W30/W$9 -> 0.58550299 | Y30: ='SSA2016'!$G31/1000 -> 452.39771 | Z30: =100*Y30/Y$9 -> 5.1238459 | AA30: ='WA2016'!$G31/1000 -> 1.799689 | AB30: =100*AA30/AA$9 -> 0.13175839 | AC30: =World2030!$G31/1000 -> 405.74909 | AD30: =100*AC30/AC$9 -> 0.5956435 | AE30: ='Dev''d2030'!$G31/1000 -> 0.050663416 | AF30: =100*AE30/AE$9 -> 0.00036256877 | AG30: ='CCA2030'!$G31/1000 -> 0.053697756 | AH30: =100*AG30/AG$9 -> 0.010070279 | AI30: ='EA2030'!$G31/1000 -> 1.9117519 | AJ30: =100*AI30/AI$9 -> 0.01367691 | AK30: ='LAC2030'!$G31/1000 -> 13.86098 | AL30: =100*AK30/AK$9 -> 0.27631901 | AM30: ='NA2030'!$G31/1000 -> 7.7384779 | AN30: =100*AM30/AM$9 -> 0.4196281 | AO30: =Ocea2030!$G31/1000 -> 1.829703 | AP30: =100*AO30/AO$9 -> 2.0367471 | AQ30: ='SEA2030'!$G31/1000 -> 13.415179 | AR30: =100*AQ30/AQ$9 -> 0.24372145 | AS30: ='SA2030'!$G31/1000 -> 59.425389 | AT30: =100*AS30/AS$9 -> 0.38491714 | AU30: ='SSA2030'!$G31/1000 -> 306.17143 | AV30: =100*AU30/AU$9 -> 3.0528905 | AW30: ='WA2030'!$G31/1000 -> 1.291823 | AX30: =100*AW30/AW$9 -> 0.075419544 | AY30: =World2045!$G31/1000 -> 336.51062 | AZ30: =100*AY30/AY$9 -> 0.39342954 | BA30: ='Dev''d2045'!$G31/1000 -> 0.038385876 | BB30: =100*BA30/BA$9 -> 0.00024046152 | BC30: ='CCA2045'!$G31/1000 -> 0.046733572 | BD30: =100*BC30/BC$9 -> 0.0065276671 | BE30: ='EA2045'!$G31/1000 -> 1.5602684 | BF30: =100*BE30/BE$9 -> 0.0085817769 | BG30: ='LAC2045'!$G31/1000 -> 16.12736 | BH30: =100*BG30/BG$9 -> 0.23352058 | BI30: ='NA2045'!$G31/1000 -> 6.737523 | BJ30: =100*BI30/BI$9 -> 0.24895681 | BK30: =Ocea2045!$G31/1000 -> 1.1909369 | BL30: =100*BK30/BK$9 -> 1.0373369 | BM30: ='SEA2045'!$G31/1000 -> 9.7493454 | BN30: =100*BM30/BM$9 -> 0.13729067 | BO30: ='SA2045'!$G31/1000 -> 51.040904 | BP30: =100*BO30/BO$9 -> 0.27625472 | BQ30: ='SSA2045'!$G31/1000 -> 248.92889 | BR30: =100*BQ30/BQ$9 -> 1.9494606 | BS30: ='WA2045'!$G31/1000 -> 1.0902651 | BT30: =100*BS30/BS$9 -> 0.041958858 | BU30: =World2060!$G31/1000 -> 305.70097 | BV30: =100*BU30/BU$9 -> 0.30020375 | BW30: ='Dev''d2060'!$G31/1000 -> 0.030241444 | BX30: =100*BW30/BW$9 -> 0.00018940595 | BY30: ='CCA2060'!$G31/1000 -> 0.049190297 | BZ30: =100*BY30/BY$9 -> 0.0057684981 | CA30: ='EA2060'!$G31/1000 -> 1.1994405 | CB30: =100*CA30/CA$9 -> 0.0060870147 | CC30: ='LAC2060'!$G31/1000 -> 18.060683 | CD30: =100*CC30/CC$9 -> 0.20354002 | CE30: ='NA2060'!$G31/1000 -> 6.2788528 | CF30: =100*CE30/CE$9 -> 0.1676426 | CG30: =Ocea2060!$G31/1000 -> 0.83314093 | CH30: =100*CG30/CG$9 -> 0.57995337 | CI30: ='SEA2060'!$G31/1000 -> 7.9899781 | CJ30: =100*CI30/CI$9 -> 0.093565637 | CK30: ='SA2060'!$G31/1000 -> 50.007145 | CL30: =100*CK30/CK$9 -> 0.22297565 | CM30: ='SSA2060'!$G31/1000 -> 220.23482 | CN30: =100*CM30/CM$9 -> 1.2360821 | CO30: ='WA2060'!$G31/1000 -> 1.0174696 | CP30: =100*CO30/CO$9 -> 0.027053586
A31: 22 | E31: a. | F31: Malaria | G31: =World2016!$G32/1000 -> 446.44595 | H31: =100*G31/G$9 -> 0.78498193 | I31: ='Dev''d2016'!$G32/1000 -> 0.0012520164 | J31: =100*I31/I$9 -> 9.8361633e-06 | K31: ='CCA2016'!$G32/1000 -> 0.00033183461 | L31: =100*K31/K$9 -> 7.5158653e-05 | M31: ='EA2016'!$G32/1000 -> 0.0030819252 | N31: =100*M31/M$9 -> 2.7848286e-05 | O31: ='LAC2016'!$G32/1000 -> 0.42201875 | P31: =100*O31/O$9 -> 0.010965298 | Q31: ='NA2016'!$G32/1000 -> 3.5929999 | R31: =100*Q31/Q$9 -> 0.26256305 | S31: =Ocea2016!$G32/1000 -> 2.9255915 | T31: =100*S31/S$9 -> 4.1929198 | U31: ='SEA2016'!$G32/1000 -> 2.7223347 | V31: =100*U31/U$9 -> 0.062219808 | W31: ='SA2016'!$G32/1000 -> 25.470944 | X31: =100*W31/W$9 -> 0.19931953 | Y31: ='SSA2016'!$G32/1000 -> 410.25539 | Z31: =100*Y31/Y$9 -> 4.646543 | AA31: ='WA2016'!$G32/1000 -> 1.0519999 | AB31: =100*AA31/AA$9 -> 0.077018757 | AC31: =World2030!$G32/1000 -> 293.07038 | AD31: =100*AC31/AC$9 -> 0.43023009 | AE31: ='Dev''d2030'!$G32/1000 -> 0.00052767932 | AF31: =100*AE31/AE$9 -> 3.7762957e-06 | AG31: ='CCA2030'!$G32/1000 -> 0.000166195 | AH31: =100*AG31/AG$9 -> 3.1167597e-05 | AI31: ='EA2030'!$G32/1000 -> 0.0011048084 | AJ31: =100*AI31/AI$9 -> 7.9039367e-06 | AK31: ='LAC2030'!$G32/1000 -> 0.23742101 | AL31: =100*AK31/AK$9 -> 0.0047329941 | AM31: ='NA2030'!$G32/1000 -> 2.3732461 | AN31: =100*AM31/AM$9 -> 0.12869207 | AO31: =Ocea2030!$G32/1000 -> 1.7744426 | AP31: =100*AO31/AO$9 -> 1.9752336 | AQ31: ='SEA2030'!$G32/1000 -> 1.8377679 | AR31: =100*AQ31/AQ$9 -> 0.033387812 | AS31: ='SA2030'!$G32/1000 -> 14.088018 | AT31: =100*AS31/AS$9 -> 0.091252569 | AU31: ='SSA2030'!$G32/1000 -> 272.02268 | AV31: =100*AU31/AU$9 -> 2.7123872 | AW31: ='WA2030'!$G32/1000 -> 0.73500768 | AX31: =100*AW31/AW$9 -> 0.042911409 | AY31: =World2045!$G32/1000 -> 229.9197 | AZ31: =100*AY31/AY$9 -> 0.26880935 | BA31: ='Dev''d2045'!$G32/1000 -> 0.00023438098 | BB31: =100*BA31/BA$9 -> 1.4682381e-06 | BC31: ='CCA2045'!$G32/1000 -> 9.6187133e-05 | BD31: =100*BC31/BC$9 -> 1.3435258e-05 | BE31: ='EA2045'!$G32/1000 -> 0.00049678856 | BF31: =100*BE31/BE$9 -> 2.7324328e-06 | BG31: ='LAC2045'!$G32/1000 -> 0.14108355 | BH31: =100*BG31/BG$9 -> 0.0020428584 | BI31: ='NA2045'!$G32/1000 -> 2.0050019 | BJ31: =100*BI31/BI$9 -> 0.074086409 | BK31: =Ocea2045!$G32/1000 -> 1.1445721 | BL31: =100*BK31/BK$9 -> 0.99695195 | BM31: ='SEA2045'!$G32/1000 -> 1.5577456 | BN31: =100*BM31/BM$9 -> 0.021936236 | BO31: ='SA2045'!$G32/1000 -> 9.0238033 | BP31: =100*BO31/BO$9 -> 0.048840598 | BQ31: ='SSA2045'!$G32/1000 -> 215.51337 | BR31: =100*BQ31/BQ$9 -> 1.6877704 | BS31: ='WA2045'!$G32/1000 -> 0.53329246 | BT31: =100*BS31/BS$9 -> 0.020523762 | BU31: =World2060!$G32/1000 -> 196.29909 | BV31: =100*BU31/BU$9 -> 0.19276918 | BW31: ='Dev''d2060'!$G32/1000 -> 0.00010265067 | BX31: =100*BW31/BW$9 -> 6.42914e-07 | BY31: ='CCA2060'!$G32/1000 -> 5.2291906e-05 | BZ31: =100*BY31/BY$9 -> 6.1322208e-06 | CA31: ='EA2060'!$G32/1000 -> 0.00022686695 | CB31: =100*CA31/CA$9 -> 1.1513221e-06 | CC31: ='LAC2060'!$G32/1000 -> 0.098904789 | CD31: =100*CC31/CC$9 -> 0.0011146357 | CE31: ='NA2060'!$G32/1000 -> 1.8290789 | CF31: =100*CE31/CE$9 -> 0.048835601 | CG31: =Ocea2060!$G32/1000 -> 0.79132349 | CH31: =100*CG31/CG$9 -> 0.55084406 | CI31: ='SEA2060'!$G32/1000 -> 1.5109191 | CJ31: =100*CI31/CI$9 -> 0.017693429 | CK31: ='SA2060'!$G32/1000 -> 7.0433391 | CL31: =100*CK31/CK$9 -> 0.031405375 | CM31: ='SSA2060'!$G32/1000 -> 184.60858 | CN31: =100*CM31/CM$9 -> 1.0361275 | CO31: ='WA2060'!$G32/1000 -> 0.41656532 | CP31: =100*CO31/CO$9 -> 0.011076091
A32: 23 | E32: b. | F32: Trypanosomiasis | G32: =World2016!$G33/1000 -> 3.0772969 | H32: =100*G32/G$9 -> 0.0054107837 | I32: ='Dev''d2016'!$G33/1000 -> 0.0003776997 | J32: =100*I32/I$9 -> 2.9673062e-06 | K32: ='CCA2016'!$G33/1000 -> 0 | L32: =100*K32/K$9 -> 0 | M32: ='EA2016'!$G33/1000 -> 0 | N32: =100*M32/M$9 -> 0 | O32: ='LAC2016'!$G33/1000 -> 0.0011544245 | P32: =100*O32/O$9 -> 2.999537e-05 | Q32: ='NA2016'!$G33/1000 -> 0 | R32: =100*Q32/Q$9 -> 0 | S32: =Ocea2016!$G33/1000 -> 0 | T32: =100*S32/S$9 -> 0 | U32: ='SEA2016'!$G33/1000 -> 0 | V32: =100*U32/U$9 -> 0 | W32: ='SA2016'!$G33/1000 -> 0 | X32: =100*W32/W$9 -> 0 | Y32: ='SSA2016'!$G33/1000 -> 3.0757648 | Z32: =100*Y32/Y$9 -> 0.03483604 | AA32: ='WA2016'!$G33/1000 -> 0 | AB32: =100*AA32/AA$9 -> 0 | AC32: =World2030!$G33/1000 -> 2.3630956 | AD32: =100*AC32/AC$9 -> 0.0034690467 | AE32: ='Dev''d2030'!$G33/1000 -> 0.00014770618 | AF32: =100*AE32/AE$9 -> 1.0570477e-06 | AG32: ='CCA2030'!$G33/1000 -> 0 | AH32: =100*AG32/AG$9 -> 0 | AI32: ='EA2030'!$G33/1000 -> 0 | AJ32: =100*AI32/AI$9 -> 0 | AK32: ='LAC2030'!$G33/1000 -> 0.00054515831 | AL32: =100*AK32/AK$9 -> 1.0867746e-05 | AM32: ='NA2030'!$G33/1000 -> 0 | AN32: =100*AM32/AM$9 -> 0 | AO32: =Ocea2030!$G33/1000 -> 0 | AP32: =100*AO32/AO$9 -> 0 | AQ32: ='SEA2030'!$G33/1000 -> 0 | AR32: =100*AQ32/AQ$9 -> 0 | AS32: ='SA2030'!$G33/1000 -> 0 | AT32: =100*AS32/AS$9 -> 0 | AU32: ='SSA2030'!$G33/1000 -> 2.3624027 | AV32: =100*AU32/AU$9 -> 0.023555944 | AW32: ='WA2030'!$G33/1000 -> 0 | AX32: =100*AW32/AW$9 -> 0 | AY32: =World2045!$G33/1000 -> 1.9473115 | AZ32: =100*AY32/AY$9 -> 0.0022766885 | BA32: ='Dev''d2045'!$G33/1000 -> 0.0001037512 | BB32: =100*BA32/BA$9 -> 6.4993104e-07 | BC32: ='CCA2045'!$G33/1000 -> 0 | BD32: =100*BC32/BC$9 -> 0 | BE32: ='EA2045'!$G33/1000 -> 0 | BF32: =100*BE32/BE$9 -> 0 | BG32: ='LAC2045'!$G33/1000 -> 0.00038499502 | BH32: =100*BG32/BG$9 -> 5.5746423e-06 | BI32: ='NA2045'!$G33/1000 -> 0 | BJ32: =100*BI32/BI$9 -> 0 | BK32: =Ocea2045!$G33/1000 -> 0 | BL32: =100*BK32/BK$9 -> 0 | BM32: ='SEA2045'!$G33/1000 -> 0 | BN32: =100*BM32/BM$9 -> 0 | BO32: ='SA2045'!$G33/1000 -> 0 | BP32: =100*BO32/BO$9 -> 0 | BQ32: ='SSA2045'!$G33/1000 -> 1.9468227 | BR32: =100*BQ32/BQ$9 -> 0.015246339 | BS32: ='WA2045'!$G33/1000 -> 0 | BT32: =100*BS32/BS$9 -> 0 | BU32: =World2060!$G33/1000 -> 1.601334 | BV32: =100*BU32/BU$9 -> 0.0015725383 | BW32: ='Dev''d2060'!$G33/1000 -> 8.5190974e-05 | BX32: =100*BW32/BW$9 -> 5.3356173e-07 | BY32: ='CCA2060'!$G33/1000 -> 0 | BZ32: =100*BY32/BY$9 -> 0 | CA32: ='EA2060'!$G33/1000 -> 0 | CB32: =100*CA32/CA$9 -> 0 | CC32: ='LAC2060'!$G33/1000 -> 0.00024724521 | CD32: =100*CC32/CC$9 -> 2.7864005e-06 | CE32: ='NA2060'!$G33/1000 -> 0 | CF32: =100*CE32/CE$9 -> 0 | CG32: =Ocea2060!$G33/1000 -> 0 | CH32: =100*CG32/CG$9 -> 0 | CI32: ='SEA2060'!$G33/1000 -> 0 | CJ32: =100*CI32/CI$9 -> 0 | CK32: ='SA2060'!$G33/1000 -> 0 | CL32: =100*CK32/CK$9 -> 0 | CM32: ='SSA2060'!$G33/1000 -> 1.6010015 | CN32: =100*CM32/CM$9 -> 0.0089857242 | CO32: ='WA2060'!$G33/1000 -> 0 | CP32: =100*CO32/CO$9 -> 0
A33: 24 | E33: c. | F33: Chagas disease | G33: =World2016!$G34/1000 -> 7.727879 | H33: =100*G33/G$9 -> 0.013587861 | I33: ='Dev''d2016'!$G34/1000 -> 0.011369487 | J33: =100*I33/I$9 -> 8.9321616e-05 | K33: ='CCA2016'!$G34/1000 -> 0 | L33: =100*K33/K$9 -> 0 | M33: ='EA2016'!$G34/1000 -> 0 | N33: =100*M33/M$9 -> 0 | O33: ='LAC2016'!$G34/1000 -> 7.7142079 | P33: =100*O33/O$9 -> 0.20043798 | Q33: ='NA2016'!$G34/1000 -> 0 | R33: =100*Q33/Q$9 -> 0 | S33: =Ocea2016!$G34/1000 -> 0 | T33: =100*S33/S$9 -> 0 | U33: ='SEA2016'!$G34/1000 -> 0.0023016101 | V33: =100*U33/U$9 -> 5.2604016e-05 | W33: ='SA2016'!$G34/1000 -> 0 | X33: =100*W33/W$9 -> 0 | Y33: ='SSA2016'!$G34/1000 -> 0 | Z33: =100*Y33/Y$9 -> 0 | AA33: ='WA2016'!$G34/1000 -> 0 | AB33: =100*AA33/AA$9 -> 0 | AC33: =World2030!$G34/1000 -> 8.6456332 | AD33: =100*AC33/AC$9 -> 0.012691871 | AE33: ='Dev''d2030'!$G34/1000 -> 0.0069195985 | AF33: =100*AE33/AE$9 -> 4.9519565e-05 | AG33: ='CCA2030'!$G34/1000 -> 0 | AH33: =100*AG33/AG$9 -> 0 | AI33: ='EA2030'!$G34/1000 -> 0 | AJ33: =100*AI33/AI$9 -> 0 | AK33: ='LAC2030'!$G34/1000 -> 8.6367035 | AL33: =100*AK33/AK$9 -> 0.17217291 | AM33: ='NA2030'!$G34/1000 -> 0 | AN33: =100*AM33/AM$9 -> 0 | AO33: =Ocea2030!$G34/1000 -> 0 | AP33: =100*AO33/AO$9 -> 0 | AQ33: ='SEA2030'!$G34/1000 -> 0.0020101418 | AR33: =100*AQ33/AQ$9 -> 3.651943e-05 | AS33: ='SA2030'!$G34/1000 -> 0 | AT33: =100*AS33/AS$9 -> 0 | AU33: ='SSA2030'!$G34/1000 -> 0 | AV33: =100*AU33/AU$9 -> 0 | AW33: ='WA2030'!$G34/1000 -> 0 | AX33: =100*AW33/AW$9 -> 0 | AY33: =World2045!$G34/1000 -> 10.851749 | AZ33: =100*AY33/AY$9 -> 0.012687263 | BA33: ='Dev''d2045'!$G34/1000 -> 0.0059523705 | BB33: =100*BA33/BA$9 -> 3.728757e-05 | BC33: ='CCA2045'!$G34/1000 -> 0 | BD33: =100*BC33/BC$9 -> 0 | BE33: ='EA2045'!$G34/1000 -> 0 | BF33: =100*BE33/BE$9 -> 0 | BG33: ='LAC2045'!$G34/1000 -> 10.842487 | BH33: =100*BG33/BG$9 -> 0.15699681 | BI33: ='NA2045'!$G34/1000 -> 0 | BJ33: =100*BI33/BI$9 -> 0 | BK33: =Ocea2045!$G34/1000 -> 0 | BL33: =100*BK33/BK$9 -> 0 | BM33: ='SEA2045'!$G34/1000 -> 0.0033095307 | BN33: =100*BM33/BM$9 -> 4.6604943e-05 | BO33: ='SA2045'!$G34/1000 -> 0 | BP33: =100*BO33/BO$9 -> 0 | BQ33: ='SSA2045'!$G34/1000 -> 0 | BR33: =100*BQ33/BQ$9 -> 0 | BS33: ='WA2045'!$G34/1000 -> 0 | BT33: =100*BS33/BS$9 -> 0 | BU33: =World2060!$G34/1000 -> 12.484912 | BV33: =100*BU33/BU$9 -> 0.012260404 | BW33: ='Dev''d2060'!$G34/1000 -> 0.0056054879 | BX33: =100*BW33/BW$9 -> 3.5107872e-05 | BY33: ='CCA2060'!$G34/1000 -> 0 | BZ33: =100*BY33/BY$9 -> 0 | CA33: ='EA2060'!$G34/1000 -> 0 | CB33: =100*CA33/CA$9 -> 0 | CC33: ='LAC2060'!$G34/1000 -> 12.474378 | CD33: =100*CC33/CC$9 -> 0.14058356 | CE33: ='NA2060'!$G34/1000 -> 0 | CF33: =100*CE33/CE$9 -> 0 | CG33: =Ocea2060!$G34/1000 -> 0 | CH33: =100*CG33/CG$9 -> 0 | CI33: ='SEA2060'!$G34/1000 -> 0.0049290266 | CJ33: =100*CI33/CI$9 -> 5.7720749e-05 | CK33: ='SA2060'!$G34/1000 -> 0 | CL33: =100*CK33/CK$9 -> 0 | CM33: ='SSA2060'!$G34/1000 -> 0 | CN33: =100*CM33/CM$9 -> 0 | CO33: ='WA2060'!$G34/1000 -> 0 | CP33: =100*CO33/CO$9 -> 0
A34: 25 | E34: d. | F34: Schistosomiasis | G34: =World2016!$G35/1000 -> 24.072074 | H34: =100*G34/G$9 -> 0.042325714 | I34: ='Dev''d2016'!$G35/1000 -> 0.0037597359 | J34: =100*I34/I$9 -> 2.9537454e-05 | K34: ='CCA2016'!$G35/1000 -> 0 | L34: =100*K34/K$9 -> 0 | M34: ='EA2016'!$G35/1000 -> 0.11480116 | N34: =100*M34/M$9 -> 0.0010373437 | O34: ='LAC2016'!$G35/1000 -> 0.58382004 | P34: =100*O34/O$9 -> 0.015169374 | Q34: ='NA2016'!$G35/1000 -> 1.5493997 | R34: =100*Q34/Q$9 -> 0.11322436 | S34: =Ocea2016!$G35/1000 -> 0 | T34: =100*S34/S$9 -> 0 | U34: ='SEA2016'!$G35/1000 -> 0.27679184 | V34: =100*U34/U$9 -> 0.0063261638 | W34: ='SA2016'!$G35/1000 -> 0 | X34: =100*W34/W$9 -> 0 | Y34: ='SSA2016'!$G35/1000 -> 21.293998 | Z34: =100*Y34/Y$9 -> 0.24117532 | AA34: ='WA2016'!$G35/1000 -> 0.24950429 | AB34: =100*AA34/AA$9 -> 0.018266647 | AC34: =World2030!$G35/1000 -> 18.585463 | AD34: =100*AC34/AC$9 -> 0.027283635 | AE34: ='Dev''d2030'!$G35/1000 -> 0.0019989987 | AF34: =100*AE34/AE$9 -> 1.4305677e-05 | AG34: ='CCA2030'!$G35/1000 -> 0 | AH34: =100*AG34/AG$9 -> 0 | AI34: ='EA2030'!$G35/1000 -> 0.13185395 | AJ34: =100*AI34/AI$9 -> 0.00094329949 | AK34: ='LAC2030'!$G35/1000 -> 0.58602877 | AL34: =100*AK34/AK$9 -> 0.011682499 | AM34: ='NA2030'!$G35/1000 -> 0.99254504 | AN34: =100*AM34/AM$9 -> 0.053821927 | AO34: =Ocea2030!$G35/1000 -> 0 | AP34: =100*AO34/AO$9 -> 0 | AQ34: ='SEA2030'!$G35/1000 -> 0.21857223 | AR34: =100*AQ34/AQ$9 -> 0.0039709305 | AS34: ='SA2030'!$G35/1000 -> 0 | AT34: =100*AS34/AS$9 -> 0 | AU34: ='SSA2030'!$G35/1000 -> 16.449219 | AV34: =100*AU34/AU$9 -> 0.16401813 | AW34: ='WA2030'!$G35/1000 -> 0.20524494 | AX34: =100*AW34/AW$9 -> 0.011982663 | AY34: =World2045!$G35/1000 -> 19.653197 | AZ34: =100*AY34/AY$9 -> 0.022977427 | BA34: ='Dev''d2045'!$G35/1000 -> 0.001522952 | BB34: =100*BA34/BA$9 -> 9.5402628e-06 | BC34: ='CCA2045'!$G35/1000 -> 0 | BD34: =100*BC34/BC$9 -> 0 | BE34: ='EA2045'!$G35/1000 -> 0.12910819 | BF34: =100*BE34/BE$9 -> 0.00071011991 | BG34: ='LAC2045'!$G35/1000 -> 0.66725743 | BH34: =100*BG34/BG$9 -> 0.0096617392 | BI34: ='NA2045'!$G35/1000 -> 1.0232484 | BJ34: =100*BI34/BI$9 -> 0.03780984 | BK34: =Ocea2045!$G35/1000 -> 0 | BL34: =100*BK34/BK$9 -> 0 | BM34: ='SEA2045'!$G35/1000 -> 0.20663757 | BN34: =100*BM34/BM$9 -> 0.0029098786 | BO34: ='SA2045'!$G35/1000 -> 0 | BP34: =100*BO34/BO$9 -> 0 | BQ34: ='SSA2045'!$G35/1000 -> 17.37792 | BR34: =100*BQ34/BQ$9 -> 0.13609336 | BS34: ='WA2045'!$G35/1000 -> 0.24750215 | BT34: =100*BS34/BS$9 -> 0.0095251211 | BU34: =World2060!$G35/1000 -> 21.857393 | BV34: =100*BU34/BU$9 -> 0.021464347 | BW34: ='Dev''d2060'!$G35/1000 -> 0.0013426448 | BX34: =100*BW34/BW$9 -> 8.4091524e-06 | BY34: ='CCA2060'!$G35/1000 -> 0 | BZ34: =100*BY34/BY$9 -> 0 | CA34: ='EA2060'!$G35/1000 -> 0.11070798 | CB34: =100*CA34/CA$9 -> 0.00056182953 | CC34: ='LAC2060'!$G35/1000 -> 0.70895204 | CD34: =100*CC34/CC$9 -> 0.0079897372 | CE34: ='NA2060'!$G35/1000 -> 1.0842132 | CF34: =100*CE34/CE$9 -> 0.028948014 | CG34: =Ocea2060!$G35/1000 -> 0 | CH34: =100*CG34/CG$9 -> 0 | CI34: ='SEA2060'!$G35/1000 -> 0.20102043 | CJ34: =100*CI34/CI$9 -> 0.0023540246 | CK34: ='SA2060'!$G35/1000 -> 0 | CL34: =100*CK34/CK$9 -> 0 | CM34: ='SSA2060'!$G35/1000 -> 19.457706 | CN34: =100*CM34/CM$9 -> 0.10920763 | CO34: ='WA2060'!$G35/1000 -> 0.29345074 | CP34: =100*CO34/CO$9 -> 0.0078025866
A35: 26 | E35: e. | F35: Leishmaniasis | G35: =World2016!$G36/1000 -> 14.453969 | H35: =100*G35/G$9 -> 0.025414285 | I35: ='Dev''d2016'!$G36/1000 -> 0.023834993 | J35: =100*I35/I$9 -> 0.00018725385 | K35: ='CCA2016'!$G36/1000 -> 0.023797877 | L35: =100*K35/K$9 -> 0.0053900839 | M35: ='EA2016'!$G36/1000 -> 0.08170696 | N35: =100*M35/M$9 -> 0.00073830437 | O35: ='LAC2016'!$G36/1000 -> 0.57691694 | P35: =100*O35/O$9 -> 0.014990011 | Q35: ='NA2016'!$G36/1000 -> 3.2807515 | R35: =100*Q35/Q$9 -> 0.2397451 | S35: =Ocea2016!$G36/1000 -> 0 | T35: =100*S35/S$9 -> 0 | U35: ='SEA2016'!$G36/1000 -> 0.00050173001 | V35: =100*U35/U$9 -> 1.1467196e-05 | W35: ='SA2016'!$G36/1000 -> 6.2283238 | X35: =100*W35/W$9 -> 0.048738931 | Y35: ='SSA2016'!$G36/1000 -> 4.0690278 | Z35: =100*Y35/Y$9 -> 0.046085714 | AA35: ='WA2016'!$G36/1000 -> 0.16910765 | AB35: =100*AA35/AA$9 -> 0.012380668 | AC35: =World2030!$G36/1000 -> 12.934417 | AD35: =100*AC35/AC$9 -> 0.018987846 | AE35: ='Dev''d2030'!$G36/1000 -> 0.019189087 | AF35: =100*AE35/AE$9 -> 0.0001373252 | AG35: ='CCA2030'!$G36/1000 -> 0.028474305 | AH35: =100*AG35/AG$9 -> 0.0053399661 | AI35: ='EA2030'!$G36/1000 -> 0.081800565 | AJ35: =100*AI35/AI$9 -> 0.00058521139 | AK35: ='LAC2030'!$G36/1000 -> 0.41378767 | AL35: =100*AK35/AK$9 -> 0.0082488683 | AM35: ='NA2030'!$G36/1000 -> 3.2275125 | AN35: =100*AM35/AM$9 -> 0.17501568 | AO35: =Ocea2030!$G36/1000 -> 0 | AP35: =100*AO35/AO$9 -> 0 | AQ35: ='SEA2030'!$G36/1000 -> 0.00049480393 | AR35: =100*AQ35/AQ$9 -> 8.9893944e-06 | AS35: ='SA2030'!$G36/1000 -> 4.2948872 | AT35: =100*AS35/AS$9 -> 0.02781935 | AU35: ='SSA2030'!$G36/1000 -> 4.7322603 | AV35: =100*AU35/AU$9 -> 0.047186221 | AW35: ='WA2030'!$G36/1000 -> 0.13601015 | AX35: =100*AW35/AW$9 -> 0.00794058 | AY35: =World2045!$G36/1000 -> 11.748078 | AZ35: =100*AY35/AY$9 -> 0.0137352 | BA35: ='Dev''d2045'!$G36/1000 -> 0.01719816 | BB35: =100*BA35/BA$9 -> 0.00010773483 | BC35: ='CCA2045'!$G36/1000 -> 0.034978356 | BD35: =100*BC35/BC$9 -> 0.0048857182 | BE35: ='EA2045'!$G36/1000 -> 0.076515498 | BF35: =100*BE35/BE$9 -> 0.00042084998 | BG35: ='LAC2045'!$G36/1000 -> 0.34044932 | BH35: =100*BG35/BG$9 -> 0.0049296304 | BI35: ='NA2045'!$G36/1000 -> 2.8840486 | BJ35: =100*BI35/BI$9 -> 0.10656788 | BK35: =Ocea2045!$G36/1000 -> 0 | BL35: =100*BK35/BK$9 -> 0 | BM35: ='SEA2045'!$G36/1000 -> 0.00044517974 | BN35: =100*BM35/BM$9 -> 6.2690389e-06 | BO35: ='SA2045'!$G36/1000 -> 3.1828007 | BP35: =100*BO35/BO$9 -> 0.017226648 | BQ35: ='SSA2045'!$G36/1000 -> 5.0717208 | BR35: =100*BQ35/BQ$9 -> 0.039718652 | BS35: ='WA2045'!$G36/1000 -> 0.13992094 | BT35: =100*BS35/BS$9 -> 0.0053848577 | BU35: =World2060!$G36/1000 -> 11.998386 | BV35: =100*BU35/BU$9 -> 0.011782627 | BW35: ='Dev''d2060'!$G36/1000 -> 0.013523838 | BX35: =100*BW35/BW$9 -> 8.4701492e-05 | BY35: ='CCA2060'!$G36/1000 -> 0.042910307 | BZ35: =100*BY35/BY$9 -> 0.0050320499 | CA35: ='EA2060'!$G36/1000 -> 0.063056007 | CB35: =100*CA35/CA$9 -> 0.00032000156 | CC35: ='LAC2060'!$G36/1000 -> 0.30834992 | CD35: =100*CC35/CC$9 -> 0.0034750374 | CE35: ='NA2060'!$G36/1000 -> 2.7382601 | CF35: =100*CE35/CE$9 -> 0.073110338 | CG35: =Ocea2060!$G36/1000 -> 0 | CH35: =100*CG35/CG$9 -> 0 | CI35: ='SEA2060'!$G36/1000 -> 0.00035499715 | CJ35: =100*CI35/CI$9 -> 4.1571496e-06 | CK35: ='SA2060'!$G36/1000 -> 2.7460595 | CL35: =100*CK35/CK$9 -> 0.012244338 | CM35: ='SSA2060'!$G36/1000 -> 5.9311083 | CN35: =100*CM35/CM$9 -> 0.033288727 | CO35: ='WA2060'!$G36/1000 -> 0.15476256 | CP35: =100*CO35/CO$9 -> 0.0041149949
A36: 27 | E36: f. | F36: Lymphatic filariasis | G36: =World2016!$G37/1000 -> 0.00038413689 | H36: =100*G36/G$9 -> 6.7542446e-07 | I36: ='Dev''d2016'!$G37/1000 -> 0 | J36: =100*I36/I$9 -> 0 | K36: ='CCA2016'!$G37/1000 -> 0 | L36: =100*K36/K$9 -> 0 | M36: ='EA2016'!$G37/1000 -> 0 | N36: =100*M36/M$9 -> 0 | O36: ='LAC2016'!$G37/1000 -> 0.00038413689 | P36: =100*O36/O$9 -> 9.9810145e-06 | Q36: ='NA2016'!$G37/1000 -> 0 | R36: =100*Q36/Q$9 -> 0 | S36: =Ocea2016!$G37/1000 -> 0 | T36: =100*S36/S$9 -> 0 | U36: ='SEA2016'!$G37/1000 -> 0 | V36: =100*U36/U$9 -> 0 | W36: ='SA2016'!$G37/1000 -> 0 | X36: =100*W36/W$9 -> 0 | Y36: ='SSA2016'!$G37/1000 -> 0 | Z36: =100*Y36/Y$9 -> 0 | AA36: ='WA2016'!$G37/1000 -> 0 | AB36: =100*AA36/AA$9 -> 0 | AC36: =World2030!$G37/1000 -> 0.00033724138 | AD36: =100*AC36/AC$9 -> 4.9507353e-07 | AE36: ='Dev''d2030'!$G37/1000 -> 0 | AF36: =100*AE36/AE$9 -> 0 | AG36: ='CCA2030'!$G37/1000 -> 0 | AH36: =100*AG36/AG$9 -> 0 | AI36: ='EA2030'!$G37/1000 -> 0 | AJ36: =100*AI36/AI$9 -> 0 | AK36: ='LAC2030'!$G37/1000 -> 0.00033724138 | AL36: =100*AK36/AK$9 -> 6.7229159e-06 | AM36: ='NA2030'!$G37/1000 -> 0 | AN36: =100*AM36/AM$9 -> 0 | AO36: =Ocea2030!$G37/1000 -> 0 | AP36: =100*AO36/AO$9 -> 0 | AQ36: ='SEA2030'!$G37/1000 -> 0 | AR36: =100*AQ36/AQ$9 -> 0 | AS36: ='SA2030'!$G37/1000 -> 0 | AT36: =100*AS36/AS$9 -> 0 | AU36: ='SSA2030'!$G37/1000 -> 0 | AV36: =100*AU36/AU$9 -> 0 | AW36: ='WA2030'!$G37/1000 -> 0 | AX36: =100*AW36/AW$9 -> 0 | AY36: =World2045!$G37/1000 -> 0.00029665497 | AZ36: =100*AY36/AY$9 -> 3.4683253e-07 | BA36: ='Dev''d2045'!$G37/1000 -> 0 | BB36: =100*BA36/BA$9 -> 0 | BC36: ='CCA2045'!$G37/1000 -> 0 | BD36: =100*BC36/BC$9 -> 0 | BE36: ='EA2045'!$G37/1000 -> 0 | BF36: =100*BE36/BE$9 -> 0 | BG36: ='LAC2045'!$G37/1000 -> 0.00029665497 | BH36: =100*BG36/BG$9 -> 4.295498e-06 | BI36: ='NA2045'!$G37/1000 -> 0 | BJ36: =100*BI36/BI$9 -> 0 | BK36: =Ocea2045!$G37/1000 -> 0 | BL36: =100*BK36/BK$9 -> 0 | BM36: ='SEA2045'!$G37/1000 -> 0 | BN36: =100*BM36/BM$9 -> 0 | BO36: ='SA2045'!$G37/1000 -> 0 | BP36: =100*BO36/BO$9 -> 0 | BQ36: ='SSA2045'!$G37/1000 -> 0 | BR36: =100*BQ36/BQ$9 -> 0 | BS36: ='WA2045'!$G37/1000 -> 0 | BT36: =100*BS36/BS$9 -> 0 | BU36: =World2060!$G37/1000 -> 0.00019816527 | BV36: =100*BU36/BU$9 -> 1.946018e-07 | BW36: ='Dev''d2060'!$G37/1000 -> 0 | BX36: =100*BW36/BW$9 -> 0 | BY36: ='CCA2060'!$G37/1000 -> 0 | BZ36: =100*BY36/BY$9 -> 0 | CA36: ='EA2060'!$G37/1000 -> 0 | CB36: =100*CA36/CA$9 -> 0 | CC36: ='LAC2060'!$G37/1000 -> 0.00019816527 | CD36: =100*CC36/CC$9 -> 2.23328e-06 | CE36: ='NA2060'!$G37/1000 -> 0 | CF36: =100*CE36/CE$9 -> 0 | CG36: =Ocea2060!$G37/1000 -> 0 | CH36: =100*CG36/CG$9 -> 0 | CI36: ='SEA2060'!$G37/1000 -> 0 | CJ36: =100*CI36/CI$9 -> 0 | CK36: ='SA2060'!$G37/1000 -> 0 | CL36: =100*CK36/CK$9 -> 0 | CM36: ='SSA2060'!$G37/1000 -> 0 | CN36: =100*CM36/CM$9 -> 0 | CO36: ='WA2060'!$G37/1000 -> 0 | CP36: =100*CO36/CO$9 -> 0
A37: 28 | E37: g. | F37: Onchocerciasis | G37: =World2016!$G38/1000 -> 0.0014504721 | H37: =100*G37/G$9 -> 2.5503521e-06 | I37: ='Dev''d2016'!$G38/1000 -> 0 | J37: =100*I37/I$9 -> 0 | K37: ='CCA2016'!$G38/1000 -> 0 | L37: =100*K37/K$9 -> 0 | M37: ='EA2016'!$G38/1000 -> 0 | N37: =100*M37/M$9 -> 0 | O37: ='LAC2016'!$G38/1000 -> 0.0014504721 | P37: =100*O37/O$9 -> 3.7687563e-05 | Q37: ='NA2016'!$G38/1000 -> 0 | R37: =100*Q37/Q$9 -> 0 | S37: =Ocea2016!$G38/1000 -> 0 | T37: =100*S37/S$9 -> 0 | U37: ='SEA2016'!$G38/1000 -> 0 | V37: =100*U37/U$9 -> 0 | W37: ='SA2016'!$G38/1000 -> 0 | X37: =100*W37/W$9 -> 0 | Y37: ='SSA2016'!$G38/1000 -> 0 | Z37: =100*Y37/Y$9 -> 0 | AA37: ='WA2016'!$G38/1000 -> 0 | AB37: =100*AA37/AA$9 -> 0 | AC37: =World2030!$G38/1000 -> 0.0010513241 | AD37: =100*AC37/AC$9 -> 1.5433537e-06 | AE37: ='Dev''d2030'!$G38/1000 -> 0 | AF37: =100*AE37/AE$9 -> 0 | AG37: ='CCA2030'!$G38/1000 -> 0 | AH37: =100*AG37/AG$9 -> 0 | AI37: ='EA2030'!$G38/1000 -> 0 | AJ37: =100*AI37/AI$9 -> 0 | AK37: ='LAC2030'!$G38/1000 -> 0.0010513241 | AL37: =100*AK37/AK$9 -> 2.0958174e-05 | AM37: ='NA2030'!$G38/1000 -> 0 | AN37: =100*AM37/AM$9 -> 0 | AO37: =Ocea2030!$G38/1000 -> 0 | AP37: =100*AO37/AO$9 -> 0 | AQ37: ='SEA2030'!$G38/1000 -> 0 | AR37: =100*AQ37/AQ$9 -> 0 | AS37: ='SA2030'!$G38/1000 -> 0 | AT37: =100*AS37/AS$9 -> 0 | AU37: ='SSA2030'!$G38/1000 -> 0 | AV37: =100*AU37/AU$9 -> 0 | AW37: ='WA2030'!$G38/1000 -> 0 | AX37: =100*AW37/AW$9 -> 0 | AY37: =World2045!$G38/1000 -> 0.0011008324 | AZ37: =100*AY37/AY$9 -> 1.2870322e-06 | BA37: ='Dev''d2045'!$G38/1000 -> 0 | BB37: =100*BA37/BA$9 -> 0 | BC37: ='CCA2045'!$G38/1000 -> 0 | BD37: =100*BC37/BC$9 -> 0 | BE37: ='EA2045'!$G38/1000 -> 0 | BF37: =100*BE37/BE$9 -> 0 | BG37: ='LAC2045'!$G38/1000 -> 0.0011008324 | BH37: =100*BG37/BG$9 -> 1.5939809e-05 | BI37: ='NA2045'!$G38/1000 -> 0 | BJ37: =100*BI37/BI$9 -> 0 | BK37: =Ocea2045!$G38/1000 -> 0 | BL37: =100*BK37/BK$9 -> 0 | BM37: ='SEA2045'!$G38/1000 -> 0 | BN37: =100*BM37/BM$9 -> 0 | BO37: ='SA2045'!$G38/1000 -> 0 | BP37: =100*BO37/BO$9 -> 0 | BQ37: ='SSA2045'!$G38/1000 -> 0 | BR37: =100*BQ37/BQ$9 -> 0 | BS37: ='WA2045'!$G38/1000 -> 0 | BT37: =100*BS37/BS$9 -> 0 | BU37: =World2060!$G38/1000 -> 0.001319242 | BV37: =100*BU37/BU$9 -> 1.295519e-06 | BW37: ='Dev''d2060'!$G38/1000 -> 0 | BX37: =100*BW37/BW$9 -> 0 | BY37: ='CCA2060'!$G38/1000 -> 0 | BZ37: =100*BY37/BY$9 -> 0 | CA37: ='EA2060'!$G38/1000 -> 0 | CB37: =100*CA37/CA$9 -> 0 | CC37: ='LAC2060'!$G38/1000 -> 0.001319242 | CD37: =100*CC37/CC$9 -> 1.4867574e-05 | CE37: ='NA2060'!$G38/1000 -> 0 | CF37: =100*CE37/CE$9 -> 0 | CG37: =Ocea2060!$G38/1000 -> 0 | CH37: =100*CG37/CG$9 -> 0 | CI37: ='SEA2060'!$G38/1000 -> 0 | CJ37: =100*CI37/CI$9 -> 0 | CK37: ='SA2060'!$G38/1000 -> 0 | CL37: =100*CK37/CK$9 -> 0 | CM37: ='SSA2060'!$G38/1000 -> 0 | CN37: =100*CM37/CM$9 -> 0 | CO37: ='WA2060'!$G38/1000 -> 0 | CP37: =100*CO37/CO$9 -> 0
A38: 29 | E38: h. | F38: Leprosy | G38: =World2016!$G39/1000 -> 13.221084 | H38: =100*G38/G$9 -> 0.023246515 | I38: ='Dev''d2016'!$G39/1000 -> 0.00033168427 | J38: =100*I38/I$9 -> 2.6057971e-06 | K38: ='CCA2016'!$G39/1000 -> 0 | L38: =100*K38/K$9 -> 0 | M38: ='EA2016'!$G39/1000 -> 1.109122 | N38: =100*M38/M$9 -> 0.01002203 | O38: ='LAC2016'!$G39/1000 -> 0.052561046 | P38: =100*O38/O$9 -> 0.0013656917 | Q38: ='NA2016'!$G39/1000 -> 0.087265077 | R38: =100*Q38/Q$9 -> 0.0063770067 | S38: =Ocea2016!$G39/1000 -> 0.019437921 | T38: =100*S38/S$9 -> 0.027858175 | U38: ='SEA2016'!$G39/1000 -> 1.6676461 | V38: =100*U38/U$9 -> 0.038114571 | W38: ='SA2016'!$G39/1000 -> 7.9146968 | X38: =100*W38/W$9 -> 0.061935421 | Y38: ='SSA2016'!$G39/1000 -> 2.3395343 | Z38: =100*Y38/Y$9 -> 0.026497511 | AA38: ='WA2016'!$G39/1000 -> 0.030489575 | AB38: =100*AA38/AA$9 -> 0.0022321953 | AC38: =World2030!$G39/1000 -> 12.517026 | AD38: =100*AC38/AC$9 -> 0.018375112 | AE38: ='Dev''d2030'!$G39/1000 -> 0.00028512731 | AF38: =100*AE38/AE$9 -> 2.0404912e-06 | AG38: ='CCA2030'!$G39/1000 -> 0 | AH38: =100*AG38/AG$9 -> 0 | AI38: ='EA2030'!$G39/1000 -> 1.0445513 | AJ38: =100*AI38/AI$9 -> 0.0074728496 | AK38: ='LAC2030'!$G39/1000 -> 0.052406602 | AL38: =100*AK38/AK$9 -> 0.001044727 | AM38: ='NA2030'!$G39/1000 -> 0.091987422 | AN38: =100*AM38/AM$9 -> 0.0049881266 | AO38: =Ocea2030!$G39/1000 -> 0.020295573 | AP38: =100*AO38/AO$9 -> 0.022592164 | AQ38: ='SEA2030'!$G39/1000 -> 1.6908093 | AR38: =100*AQ38/AQ$9 -> 0.030717928 | AS38: ='SA2030'!$G39/1000 -> 7.0527167 | AT38: =100*AS38/AS$9 -> 0.045682689 | AU38: ='SSA2030'!$G39/1000 -> 2.5325175 | AV38: =100*AU38/AU$9 -> 0.025252189 | AW38: ='WA2030'!$G39/1000 -> 0.03145624 | AX38: =100*AW38/AW$9 -> 0.0018364864 | AY38: =World2045!$G39/1000 -> 13.433167 | AZ38: =100*AY38/AY$9 -> 0.015705313 | BA38: ='Dev''d2045'!$G39/1000 -> 0.0002048293 | BB38: =100*BA38/BA$9 -> 1.2831168e-06 | BC38: ='CCA2045'!$G39/1000 -> 0 | BD38: =100*BC38/BC$9 -> 0 | BE38: ='EA2045'!$G39/1000 -> 0.91242363 | BF38: =100*BE38/BE$9 -> 0.0050185058 | BG38: ='LAC2045'!$G39/1000 -> 0.052533973 | BH38: =100*BG38/BG$9 -> 0.00076068025 | BI38: ='NA2045'!$G39/1000 -> 0.10185081 | BJ38: =100*BI38/BI$9 -> 0.0037634683 | BK38: =Ocea2045!$G39/1000 -> 0.021373341 | BL38: =100*BK38/BK$9 -> 0.018616734 | BM38: ='SEA2045'!$G39/1000 -> 1.7345059 | BN38: =100*BM38/BM$9 -> 0.024425382 | BO38: ='SA2045'!$G39/1000 -> 7.5255256 | BP38: =100*BO38/BO$9 -> 0.040731292 | BQ38: ='SSA2045'!$G39/1000 -> 3.0447382 | BR38: =100*BQ38/BQ$9 -> 0.023844549 | BS38: ='WA2045'!$G39/1000 -> 0.040010244 | BT38: =100*BS38/BS$9 -> 0.0015397944 | BU38: =World2060!$G39/1000 -> 14.668835 | BV38: =100*BU38/BU$9 -> 0.014405055 | BW38: ='Dev''d2060'!$G39/1000 -> 0.00016859477 | BX38: =100*BW38/BW$9 -> 1.0559301e-06 | BY38: ='CCA2060'!$G39/1000 -> 0 | BZ38: =100*BY38/BY$9 -> 0 | CA38: ='EA2060'!$G39/1000 -> 0.72138632 | CB38: =100*CA38/CA$9 -> 0.0036609477 | CC38: ='LAC2060'!$G39/1000 -> 0.052714696 | CD38: =100*CC38/CC$9 -> 0.0005940833 | CE38: ='NA2060'!$G39/1000 -> 0.11473534 | CF38: =100*CE38/CE$9 -> 0.0030633829 | CG38: =Ocea2060!$G39/1000 -> 0.022582743 | CH38: =100*CG38/CG$9 -> 0.015719955 | CI38: ='SEA2060'!$G39/1000 -> 1.6868804 | CJ38: =100*CI38/CI$9 -> 0.019754001 | CK38: ='SA2060'!$G39/1000 -> 8.1796232 | CL38: =100*CK38/CK$9 -> 0.036471924 | CM38: ='SSA2060'!$G39/1000 -> 3.839957 | CN38: =100*CM38/CM$9 -> 0.021552006 | CO38: ='WA2060'!$G39/1000 -> 0.050786506 | CP38: =100*CO38/CO$9 -> 0.0013503667
A39: 30 | E39: i. | F39: Dengue | G39: =World2016!$G40/1000 -> 40.392498 | H39: =100*G39/G$9 -> 0.07102177 | I39: ='Dev''d2016'!$G40/1000 -> 0.0027622081 | J39: =100*I39/I$9 -> 2.1700618e-05 | K39: ='CCA2016'!$G40/1000 -> 0 | L39: =100*K39/K$9 -> 0 | M39: ='EA2016'!$G40/1000 -> 0.023591155 | N39: =100*M39/M$9 -> 0.00021316976 | O39: ='LAC2016'!$G40/1000 -> 2.0464439 | P39: =100*O39/O$9 -> 0.053172677 | Q39: ='NA2016'!$G40/1000 -> 0.006782227 | R39: =100*Q39/Q$9 -> 0.00049561988 | S39: =Ocea2016!$G40/1000 -> 0.0064911508 | T39: =100*S39/S$9 -> 0.009303033 | U39: ='SEA2016'!$G40/1000 -> 10.268609 | V39: =100*U39/U$9 -> 0.23469227 | W39: ='SA2016'!$G40/1000 -> 27.613817 | X39: =100*W39/W$9 -> 0.21608831 | Y39: ='SSA2016'!$G40/1000 -> 0.42128578 | Z39: =100*Y39/Y$9 -> 0.0047714729 | AA39: ='WA2016'!$G40/1000 -> 0.002715104 | AB39: =100*AA39/AA$9 -> 0.00019877753 | AC39: =World2030!$G40/1000 -> 41.807633 | AD39: =100*AC39/AC$9 -> 0.061374001 | AE39: ='Dev''d2030'!$G40/1000 -> 0.0034344913 | AF39: =100*AE39/AE$9 -> 2.4578668e-05 | AG39: ='CCA2030'!$G40/1000 -> 0 | AH39: =100*AG39/AG$9 -> 0 | AI39: ='EA2030'!$G40/1000 -> 0.02608144 | AJ39: =100*AI39/AI$9 -> 0.00018658986 | AK39: ='LAC2030'!$G40/1000 -> 3.8307864 | AL39: =100*AK39/AK$9 -> 0.076366829 | AM39: ='NA2030'!$G40/1000 -> 0.0051512731 | AN39: =100*AM39/AM$9 -> 0.00027933387 | AO39: =Ocea2030!$G40/1000 -> 0.0058276492 | AP39: =100*AO39/AO$9 -> 0.0064870898 | AQ39: ='SEA2030'!$G40/1000 -> 7.9083994 | AR39: =100*AQ39/AQ$9 -> 0.14367655 | AS39: ='SA2030'!$G40/1000 -> 29.667207 | AT39: =100*AS39/AS$9 -> 0.19216393 | AU39: ='SSA2030'!$G40/1000 -> 0.35732898 | AV39: =100*AU39/AU$9 -> 0.0035629917 | AW39: ='WA2030'!$G40/1000 -> 0.0034163505 | AX39: =100*AW39/AW$9 -> 0.00019945426 | AY39: =World2045!$G40/1000 -> 37.669209 | AZ39: =100*AY39/AY$9 -> 0.044040749 | BA39: ='Dev''d2045'!$G40/1000 -> 0.0034243742 | BB39: =100*BA39/BA$9 -> 2.1451385e-05 | BC39: ='CCA2045'!$G40/1000 -> 0 | BD39: =100*BC39/BC$9 -> 0 | BE39: ='EA2045'!$G40/1000 -> 0.02905698 | BF39: =100*BE39/BE$9 -> 0.00015981899 | BG39: ='LAC2045'!$G40/1000 -> 4.0200325 | BH39: =100*BG39/BG$9 -> 0.058209176 | BI39: ='NA2045'!$G40/1000 -> 0.003279897 | BJ39: =100*BI39/BI$9 -> 0.00012119479 | BK39: =Ocea2045!$G40/1000 -> 0.0055595022 | BL39: =100*BK39/BK$9 -> 0.0048424706 | BM39: ='SEA2045'!$G40/1000 -> 4.929 | BN39: =100*BM39/BM$9 -> 0.069410374 | BO39: ='SA2045'!$G40/1000 -> 28.446285 | BP39: =100*BO39/BO$9 -> 0.15396319 | BQ39: ='SSA2045'!$G40/1000 -> 0.22718295 | BR39: =100*BQ39/BQ$9 -> 0.0017791595 | BS39: ='WA2045'!$G40/1000 -> 0.0053879645 | BT39: =100*BS39/BS$9 -> 0.00020735583 | BU39: =World2060!$G40/1000 -> 38.082562 | BV39: =100*BU39/BU$9 -> 0.037397749 | BW39: ='Dev''d2060'!$G40/1000 -> 0.0036039326 | BX39: =100*BW39/BW$9 -> 2.2571881e-05 | BY39: ='CCA2060'!$G40/1000 -> 0 | BZ39: =100*BY39/BY$9 -> 0 | CA39: ='EA2060'!$G40/1000 -> 0.027387628 | CB39: =100*CA39/CA$9 -> 0.00013898888 | CC39: ='LAC2060'!$G40/1000 -> 4.3740072 | CD39: =100*CC39/CC$9 -> 0.049294122 | CE39: ='NA2060'!$G40/1000 -> 0.0022445849 | CF39: =100*CE39/CE$9 -> 5.9929428e-05 | CG39: =Ocea2060!$G40/1000 -> 0.005687066 | CH39: =100*CG39/CG$9 -> 0.0039587938 | CI39: ='SEA2060'!$G40/1000 -> 3.4919606 | CJ39: =100*CI39/CI$9 -> 0.040892167 | CK39: ='SA2060'!$G40/1000 -> 29.981427 | CL39: =100*CK39/CK$9 -> 0.13368346 | CM39: ='SSA2060'!$G40/1000 -> 0.19043201 | CN39: =100*CM39/CM$9 -> 0.0010688119 | CO39: ='WA2060'!$G40/1000 -> 0.0058116002 | CP39: =100*CO39/CO$9 -> 0.00015452513
A40: 31 | E40: j. | F40: Trachoma | G40: =World2016!$G41/1000 -> 0.0014091835 | H40: =100*G40/G$9 -> 2.4777547e-06 | I40: ='Dev''d2016'!$G41/1000 -> 0.0010909112 | J40: =100*I40/I$9 -> 8.5704798e-06 | K40: ='CCA2016'!$G41/1000 -> 0 | L40: =100*K40/K$9 -> 0 | M40: ='EA2016'!$G41/1000 -> 0 | N40: =100*M40/M$9 -> 0 | O40: ='LAC2016'!$G41/1000 -> 0 | P40: =100*O40/O$9 -> 0 | Q40: ='NA2016'!$G41/1000 -> 0 | R40: =100*Q40/Q$9 -> 0 | S40: =Ocea2016!$G41/1000 -> 0 | T40: =100*S40/S$9 -> 0 | U40: ='SEA2016'!$G41/1000 -> 0.00031827223 | V40: =100*U40/U$9 -> 7.2742111e-06 | W40: ='SA2016'!$G41/1000 -> 0 | X40: =100*W40/W$9 -> 0 | Y40: ='SSA2016'!$G41/1000 -> 0 | Z40: =100*Y40/Y$9 -> 0 | AA40: ='WA2016'!$G41/1000 -> 0 | AB40: =100*AA40/AA$9 -> 0 | AC40: =World2030!$G41/1000 -> 0.0011613339 | AD40: =100*AC40/AC$9 -> 1.7048491e-06 | AE40: ='Dev''d2030'!$G41/1000 -> 0.0007742099 | AF40: =100*AE40/AE$9 -> 5.5405725e-06 | AG40: ='CCA2030'!$G41/1000 -> 0 | AH40: =100*AG40/AG$9 -> 0 | AI40: ='EA2030'!$G41/1000 -> 0 | AJ40: =100*AI40/AI$9 -> 0 | AK40: ='LAC2030'!$G41/1000 -> 0 | AL40: =100*AK40/AK$9 -> 0 | AM40: ='NA2030'!$G41/1000 -> 0 | AN40: =100*AM40/AM$9 -> 0 | AO40: =Ocea2030!$G41/1000 -> 0 | AP40: =100*AO40/AO$9 -> 0 | AQ40: ='SEA2030'!$G41/1000 -> 0.00038712397 | AR40: =100*AQ40/AQ$9 -> 7.0331093e-06 | AS40: ='SA2030'!$G41/1000 -> 0 | AT40: =100*AS40/AS$9 -> 0 | AU40: ='SSA2030'!$G41/1000 -> 0 | AV40: =100*AU40/AU$9 -> 0 | AW40: ='WA2030'!$G41/1000 -> 0 | AX40: =100*AW40/AW$9 -> 0 | AY40: =World2045!$G41/1000 -> 0.0014155711 | AZ40: =100*AY40/AY$9 -> 1.6550072e-06 | BA40: ='Dev''d2045'!$G41/1000 -> 0.0008431458 | BB40: =100*BA40/BA$9 -> 5.2817375e-06 | BC40: ='CCA2045'!$G41/1000 -> 0 | BD40: =100*BC40/BC$9 -> 0 | BE40: ='EA2045'!$G41/1000 -> 0 | BF40: =100*BE40/BE$9 -> 0 | BG40: ='LAC2045'!$G41/1000 -> 0 | BH40: =100*BG40/BG$9 -> 0 | BI40: ='NA2045'!$G41/1000 -> 0 | BJ40: =100*BI40/BI$9 -> 0 | BK40: =Ocea2045!$G41/1000 -> 0 | BL40: =100*BK40/BK$9 -> 0 | BM40: ='SEA2045'!$G41/1000 -> 0.00057242531 | BN40: =100*BM40/BM$9 -> 8.060916e-06 | BO40: ='SA2045'!$G41/1000 -> 0 | BP40: =100*BO40/BO$9 -> 0 | BQ40: ='SSA2045'!$G41/1000 -> 0 | BR40: =100*BQ40/BQ$9 -> 0 | BS40: ='WA2045'!$G41/1000 -> 0 | BT40: =100*BS40/BS$9 -> 0 | BU40: =World2060!$G41/1000 -> 0.0016359039 | BV40: =100*BU40/BU$9 -> 1.6064865e-06 | BW40: ='Dev''d2060'!$G41/1000 -> 0.00091382287 | BX40: =100*BW40/BW$9 -> 5.7233869e-06 | BY40: ='CCA2060'!$G41/1000 -> 0 | BZ40: =100*BY40/BY$9 -> 0 | CA40: ='EA2060'!$G41/1000 -> 0 | CB40: =100*CA40/CA$9 -> 0 | CC40: ='LAC2060'!$G41/1000 -> 0 | CD40: =100*CC40/CC$9 -> 0 | CE40: ='NA2060'!$G41/1000 -> 0 | CF40: =100*CE40/CE$9 -> 0 | CG40: =Ocea2060!$G41/1000 -> 0 | CH40: =100*CG40/CG$9 -> 0 | CI40: ='SEA2060'!$G41/1000 -> 0.00072208101 | CJ40: =100*CI40/CI$9 -> 8.4558392e-06 | CK40: ='SA2060'!$G41/1000 -> 0 | CL40: =100*CK40/CK$9 -> 0 | CM40: ='SSA2060'!$G41/1000 -> 0 | CN40: =100*CM40/CM$9 -> 0 | CO40: ='WA2060'!$G41/1000 -> 0 | CP40: =100*CO40/CO$9 -> 0
A41: 32 | E41: k. | F41: Rabies | G41: =World2016!$G42/1000 -> 24.327245 | H41: =100*G41/G$9 -> 0.042774379 | I41: ='Dev''d2016'!$G42/1000 -> 0.025724506 | J41: =100*I41/I$9 -> 0.00020209834 | K41: ='CCA2016'!$G42/1000 -> 0.047075894 | L41: =100*K41/K$9 -> 0.010662422 | M41: ='EA2016'!$G42/1000 -> 1.0993028 | N41: =100*M41/M$9 -> 0.0099333038 | O41: ='LAC2016'!$G42/1000 -> 0.16395867 | P41: =100*O41/O$9 -> 0.0042601321 | Q41: ='NA2016'!$G42/1000 -> 1.4148923 | R41: =100*Q41/Q$9 -> 0.10339506 | S41: =Ocea2016!$G42/1000 -> 0.037117696 | T41: =100*S41/S$9 -> 0.0531966 | U41: ='SEA2016'!$G42/1000 -> 2.7072374 | V41: =100*U41/U$9 -> 0.061874754 | W41: ='SA2016'!$G42/1000 -> 7.5933552 | X41: =100*W41/W$9 -> 0.059420805 | Y41: ='SSA2016'!$G42/1000 -> 10.942708 | Z41: =100*Y41/Y$9 -> 0.12393686 | AA41: ='WA2016'!$G42/1000 -> 0.29587249 | AB41: =100*AA41/AA$9 -> 0.021661344 | AC41: =World2030!$G42/1000 -> 15.8229 | AD41: =100*AC41/AC$9 -> 0.023228166 | AE41: ='Dev''d2030'!$G42/1000 -> 0.017386518 | AF41: =100*AE41/AE$9 -> 0.00012442525 | AG41: ='CCA2030'!$G42/1000 -> 0.025057257 | AH41: =100*AG41/AG$9 -> 0.0046991456 | AI41: ='EA2030'!$G42/1000 -> 0.62635981 | AJ41: =100*AI41/AI$9 -> 0.0044810558 | AK41: ='LAC2030'!$G42/1000 -> 0.10191242 | AL41: =100*AK41/AK$9 -> 0.0020316269 | AM41: ='NA2030'!$G42/1000 -> 1.0480357 | AN41: =100*AM41/AM$9 -> 0.056830973 | AO41: =Ocea2030!$G42/1000 -> 0.029137159 | AP41: =100*AO41/AO$9 -> 0.032434239 | AQ41: ='SEA2030'!$G42/1000 -> 1.7567378 | AR41: =100*AQ41/AQ$9 -> 0.031915691 | AS41: ='SA2030'!$G42/1000 -> 4.3225618 | AT41: =100*AS41/AS$9 -> 0.027998607 | AU41: ='SSA2030'!$G42/1000 -> 7.7150237 | AV41: =100*AU41/AU$9 -> 0.076927893 | AW41: ='WA2030'!$G42/1000 -> 0.18068763 | AX41: =100*AW41/AW$9 -> 0.010548952 | AY41: =World2045!$G42/1000 -> 11.285396 | AZ41: =100*AY41/AY$9 -> 0.013194258 | BA41: ='Dev''d2045'!$G42/1000 -> 0.008901912 | BB41: =100*BA41/BA$9 -> 5.576445e-05 | BC41: ='CCA2045'!$G42/1000 -> 0.011659029 | BD41: =100*BC41/BC$9 -> 0.0016285136 | BE41: ='EA2045'!$G42/1000 -> 0.4126673 | BF41: =100*BE41/BE$9 -> 0.0022697497 | BG41: ='LAC2045'!$G42/1000 -> 0.061733121 | BH41: =100*BG41/BG$9 -> 0.00089388186 | BI41: ='NA2045'!$G42/1000 -> 0.72009352 | BJ41: =100*BI41/BI$9 -> 0.026608026 | BK41: =Ocea2045!$G42/1000 -> 0.01943199 | BL41: =100*BK41/BK$9 -> 0.016925767 | BM41: ='SEA2045'!$G42/1000 -> 1.3171295 | BN41: =100*BM41/BM$9 -> 0.01854787 | BO41: ='SA2045'!$G42/1000 -> 2.8624893 | BP41: =100*BO41/BO$9 -> 0.015492989 | BQ41: ='SSA2045'!$G42/1000 -> 5.7471387 | BR41: =100*BQ41/BQ$9 -> 0.045008116 | BS41: ='WA2045'!$G42/1000 -> 0.12415139 | BT41: =100*BS41/BS$9 -> 0.0047779666 | BU41: =World2060!$G42/1000 -> 8.7052996 | BV41: =100*BU41/BU$9 -> 0.0085487581 | BW41: ='Dev''d2060'!$G42/1000 -> 0.0048952809 | BX41: =100*BW41/BW$9 -> 3.0659757e-05 | BY41: ='CCA2060'!$G42/1000 -> 0.0062276975 | BZ41: =100*BY41/BY$9 -> 0.00073031602 | CA41: ='EA2060'!$G42/1000 -> 0.27667573 | CB41: =100*CA41/CA$9 -> 0.0014040956 | CC41: ='LAC2060'!$G42/1000 -> 0.04161239 | CD41: =100*CC41/CC$9 -> 0.0004689627 | CE41: ='NA2060'!$G42/1000 -> 0.51032061 | CF41: =100*CE41/CE$9 -> 0.013625335 | CG41: =Ocea2060!$G42/1000 -> 0.013547626 | CH41: =100*CG41/CG$9 -> 0.009430567 | CI41: ='SEA2060'!$G42/1000 -> 1.0931915 | CJ41: =100*CI41/CI$9 -> 0.012801682 | CK41: ='SA2060'!$G42/1000 -> 2.0566964 | CL41: =100*CK41/CK$9 -> 0.009170554 | CM41: ='SSA2060'!$G42/1000 -> 4.6060394 | CN41: =100*CM41/CM$9 -> 0.025851693 | CO41: ='WA2060'!$G42/1000 -> 0.096092882 | CP41: =100*CO41/CO$9 -> 0.0025550218
A42: 33 | D42: 11. | E42: Intestinal nematode infections | G42: =World2016!$G43/1000 -> 6.250325 | H42: =100*G42/G$9 -> 0.010989891 | I42: ='Dev''d2016'!$G43/1000 -> 0.00088804535 | J42: =100*I42/I$9 -> 6.9767131e-06 | K42: ='CCA2016'!$G43/1000 -> 0.0016626956 | L42: =100*K42/K$9 -> 0.00037659111 | M42: ='EA2016'!$G43/1000 -> 0.038505958 | N42: =100*M42/M$9 -> 0.00034793997 | O42: ='LAC2016'!$G43/1000 -> 0.098055977 | P42: =100*O42/O$9 -> 0.0025477848 | Q42: ='NA2016'!$G43/1000 -> 0.064419913 | R42: =100*Q42/Q$9 -> 0.0047075672 | S42: =Ocea2016!$G43/1000 -> 0.028975186 | T42: =100*S42/S$9 -> 0.041526861 | U42: ='SEA2016'!$G43/1000 -> 0.46486414 | V42: =100*U42/U$9 -> 0.010624615 | W42: ='SA2016'!$G43/1000 -> 0.71840028 | X42: =100*W42/W$9 -> 0.0056217472 | Y42: ='SSA2016'!$G43/1000 -> 4.8228327 | Z42: =100*Y42/Y$9 -> 0.054623291 | AA42: ='WA2016'!$G43/1000 -> 0.011720107 | AB42: =100*AA42/AA$9 -> 0.00085804964 | AC42: =World2030!$G43/1000 -> 4.0728643 | AD42: =100*AC42/AC$9 -> 0.0059790033 | AE42: ='Dev''d2030'!$G43/1000 -> 0.001159393 | AF42: =100*AE42/AE$9 -> 8.2971054e-06 | AG42: ='CCA2030'!$G43/1000 -> 0.00077479291 | AH42: =100*AG42/AG$9 -> 0.00014530181 | AI42: ='EA2030'!$G43/1000 -> 0.02954671 | AJ42: =100*AI42/AI$9 -> 0.00021138083 | AK42: ='LAC2030'!$G43/1000 -> 0.049569034 | AL42: =100*AK42/AK$9 -> 0.00098816001 | AM42: ='NA2030'!$G43/1000 -> 0.052811789 | AN42: =100*AM42/AM$9 -> 0.0028637816 | AO42: =Ocea2030!$G43/1000 -> 0.023947531 | AP42: =100*AO42/AO$9 -> 0.026657367 | AQ42: ='SEA2030'!$G43/1000 -> 0.24293392 | AR42: =100*AQ42/AQ$9 -> 0.0044135237 | AS42: ='SA2030'!$G43/1000 -> 0.54910053 | AT42: =100*AS42/AS$9 -> 0.0035566987 | AU42: ='SSA2030'!$G43/1000 -> 3.1154976 | AV42: =100*AU42/AU$9 -> 0.031065188 | AW42: ='WA2030'!$G43/1000 -> 0.0075230216 | AX42: =100*AW42/AW$9 -> 0.00043921099 | AY42: =World2045!$G43/1000 -> 2.1354959 | AZ42: =100*AY42/AY$9 -> 0.0024967033 | BA42: ='Dev''d2045'!$G43/1000 -> 0.0015126491 | BB42: =100*BA42/BA$9 -> 9.4757222e-06 | BC42: ='CCA2045'!$G43/1000 -> 0.00040337634 | BD42: =100*BC42/BC$9 -> 5.6342932e-05 | BE42: ='EA2045'!$G43/1000 -> 0.028963258 | BF42: =100*BE42/BE$9 -> 0.0001593035 | BG42: ='LAC2045'!$G43/1000 -> 0.033832764 | BH42: =100*BG42/BG$9 -> 0.00048989089 | BI42: ='NA2045'!$G43/1000 -> 0.032397805 | BJ42: =100*BI42/BI$9 -> 0.0011971246 | BK42: =Ocea2045!$G43/1000 -> 0.013678691 | BL42: =100*BK42/BK$9 -> 0.011914494 | BM42: ='SEA2045'!$G43/1000 -> 0.14382947 | BN42: =100*BM42/BM$9 -> 0.0020254124 | BO42: ='SA2045'!$G43/1000 -> 0.50532332 | BP42: =100*BO42/BO$9 -> 0.0027350212 | BQ42: ='SSA2045'!$G43/1000 -> 1.3706897 | BR42: =100*BQ42/BQ$9 -> 0.010734413 | BS42: ='WA2045'!$G43/1000 -> 0.0048649125 | BT42: =100*BS42/BS$9 -> 0.00018722617 | BU42: =World2060!$G43/1000 -> 1.4095091 | BV42: =100*BU42/BU$9 -> 0.0013841629 | BW42: ='Dev''d2060'!$G43/1000 -> 0.0015765325 | BX42: =100*BW42/BW$9 -> 9.8740202e-06 | BY42: ='CCA2060'!$G43/1000 -> 0.00031783752 | BZ42: =100*BY42/BY$9 -> 3.7272496e-05 | CA42: ='EA2060'!$G43/1000 -> 0.025891771 | CB42: =100*CA42/CA$9 -> 0.00013139758 | CC42: ='LAC2060'!$G43/1000 -> 0.030842986 | CD42: =100*CC42/CC$9 -> 0.00034759383 | CE42: ='NA2060'!$G43/1000 -> 0.019967957 | CF42: =100*CE42/CE$9 -> 0.00053313563 | CG42: =Ocea2060!$G43/1000 -> 0.0090150647 | CH42: =100*CG42/CG$9 -> 0.0062754295 | CI42: ='SEA2060'!$G43/1000 -> 0.11307494 | CJ42: =100*CI42/CI$9 -> 0.00132415 | CK42: ='SA2060'!$G43/1000 -> 0.52736389 | CL42: =100*CK42/CK$9 -> 0.0023514501 | CM42: ='SSA2060'!$G43/1000 -> 0.6775288 | CN42: =100*CM42/CM$9 -> 0.003802674 | CO42: ='WA2060'!$G43/1000 -> 0.0039293361 | CP42: =100*CO42/CO$9 -> 0.00010447745
A43: 34 | E43: a. | F43: Ascariasis | G43: =World2016!$G44/1000 -> 6.2482824 | H43: =100*G43/G$9 -> 0.010986299 | I43: ='Dev''d2016'!$G44/1000 -> 0.00047619814 | J43: =100*I43/I$9 -> 3.7411353e-06 | K43: ='CCA2016'!$G44/1000 -> 0.0016626956 | L43: =100*K43/K$9 -> 0.00037659111 | M43: ='EA2016'!$G44/1000 -> 0.038505958 | N43: =100*M43/M$9 -> 0.00034793997 | O43: ='LAC2016'!$G44/1000 -> 0.097603574 | P43: =100*O43/O$9 -> 0.0025360301 | Q43: ='NA2016'!$G44/1000 -> 0.064419913 | R43: =100*Q43/Q$9 -> 0.0047075672 | S43: =Ocea2016!$G44/1000 -> 0.028975186 | T43: =100*S43/S$9 -> 0.041526861 | U43: ='SEA2016'!$G44/1000 -> 0.4636858 | V43: =100*U43/U$9 -> 0.010597684 | W43: ='SA2016'!$G44/1000 -> 0.71840028 | X43: =100*W43/W$9 -> 0.0056217472 | Y43: ='SSA2016'!$G44/1000 -> 4.8228327 | Z43: =100*Y43/Y$9 -> 0.054623291 | AA43: ='WA2016'!$G44/1000 -> 0.011720107 | AB43: =100*AA43/AA$9 -> 0.00085804964 | AC43: =World2030!$G44/1000 -> 4.071197 | AD43: =100*AC43/AC$9 -> 0.0059765557 | AE43: ='Dev''d2030'!$G44/1000 -> 0.00038729922 | AF43: =100*AE43/AE$9 -> 2.7716765e-06 | AG43: ='CCA2030'!$G44/1000 -> 0.00077479291 | AH43: =100*AG43/AG$9 -> 0.00014530181 | AI43: ='EA2030'!$G44/1000 -> 0.02954671 | AJ43: =100*AI43/AI$9 -> 0.00021138083 | AK43: ='LAC2030'!$G44/1000 -> 0.049439097 | AL43: =100*AK43/AK$9 -> 0.00098556973 | AM43: ='NA2030'!$G44/1000 -> 0.052811789 | AN43: =100*AM43/AM$9 -> 0.0028637816 | AO43: =Ocea2030!$G44/1000 -> 0.023947531 | AP43: =100*AO43/AO$9 -> 0.026657367 | AQ43: ='SEA2030'!$G44/1000 -> 0.2421687 | AR43: =100*AQ43/AQ$9 -> 0.0043996215 | AS43: ='SA2030'!$G44/1000 -> 0.54910053 | AT43: =100*AS43/AS$9 -> 0.0035566987 | AU43: ='SSA2030'!$G44/1000 -> 3.1154976 | AV43: =100*AU43/AU$9 -> 0.031065188 | AW43: ='WA2030'!$G44/1000 -> 0.0075230216 | AX43: =100*AW43/AW$9 -> 0.00043921099 | AY43: =World2045!$G44/1000 -> 2.1338811 | AZ43: =100*AY43/AY$9 -> 0.0024948154 | BA43: ='Dev''d2045'!$G44/1000 -> 0.00060583933 | BB43: =100*BA43/BA$9 -> 3.7951731e-06 | BC43: ='CCA2045'!$G44/1000 -> 0.00040337634 | BD43: =100*BC43/BC$9 -> 5.6342932e-05 | BE43: ='EA2045'!$G44/1000 -> 0.028963258 | BF43: =100*BE43/BE$9 -> 0.0001593035 | BG43: ='LAC2045'!$G44/1000 -> 0.033763122 | BH43: =100*BG43/BG$9 -> 0.0004888825 | BI43: ='NA2045'!$G44/1000 -> 0.032397805 | BJ43: =100*BI43/BI$9 -> 0.0011971246 | BK43: =Ocea2045!$G44/1000 -> 0.013678691 | BL43: =100*BK43/BK$9 -> 0.011914494 | BM43: ='SEA2045'!$G44/1000 -> 0.14319113 | BN43: =100*BM43/BM$9 -> 0.0020164232 | BO43: ='SA2045'!$G44/1000 -> 0.50532332 | BP43: =100*BO43/BO$9 -> 0.0027350212 | BQ43: ='SSA2045'!$G44/1000 -> 1.3706897 | BR43: =100*BQ43/BQ$9 -> 0.010734413 | BS43: ='WA2045'!$G44/1000 -> 0.0048649125 | BT43: =100*BS43/BS$9 -> 0.00018722617 | BU43: =World2060!$G44/1000 -> 1.4080004 | BV43: =100*BU43/BU$9 -> 0.0013826813 | BW43: ='Dev''d2060'!$G44/1000 -> 0.00061520554 | BX43: =100*BW43/BW$9 -> 3.8531092e-06 | BY43: ='CCA2060'!$G44/1000 -> 0.00031783752 | BZ43: =100*BY43/BY$9 -> 3.7272496e-05 | CA43: ='EA2060'!$G44/1000 -> 0.025891771 | CB43: =100*CA43/CA$9 -> 0.00013139758 | CC43: ='LAC2060'!$G44/1000 -> 0.030805147 | CD43: =100*CC43/CC$9 -> 0.00034716739 | CE43: ='NA2060'!$G44/1000 -> 0.019967957 | CF43: =100*CE43/CE$9 -> 0.00053313563 | CG43: =Ocea2060!$G44/1000 -> 0.0090150647 | CH43: =100*CG43/CG$9 -> 0.0062754295 | CI43: ='SEA2060'!$G44/1000 -> 0.11256537 | CJ43: =100*CI43/CI$9 -> 0.0013181826 | CK43: ='SA2060'!$G44/1000 -> 0.52736389 | CL43: =100*CK43/CK$9 -> 0.0023514501 | CM43: ='SSA2060'!$G44/1000 -> 0.6775288 | CN43: =100*CM43/CM$9 -> 0.003802674 | CO43: ='WA2060'!$G44/1000 -> 0.0039293361 | CP43: =100*CO43/CO$9 -> 0.00010447745
A44: 35 | E44: b. | F44: Trichuriasis | G44: =World2016!$G45/1000 -> 0.00080712211 | H44: =100*G44/G$9 -> 1.4191556e-06 | I44: ='Dev''d2016'!$G45/1000 -> 0 | J44: =100*I44/I$9 -> 0 | K44: ='CCA2016'!$G45/1000 -> 0 | L44: =100*K44/K$9 -> 0 | M44: ='EA2016'!$G45/1000 -> 0 | N44: =100*M44/M$9 -> 0 | O44: ='LAC2016'!$G45/1000 -> 0 | P44: =100*O44/O$9 -> 0 | Q44: ='NA2016'!$G45/1000 -> 0 | R44: =100*Q44/Q$9 -> 0 | S44: =Ocea2016!$G45/1000 -> 0 | T44: =100*S44/S$9 -> 0 | U44: ='SEA2016'!$G45/1000 -> 0.00080712211 | V44: =100*U44/U$9 -> 1.8447028e-05 | W44: ='SA2016'!$G45/1000 -> 0 | X44: =100*W44/W$9 -> 0 | Y44: ='SSA2016'!$G45/1000 -> 0 | Z44: =100*Y44/Y$9 -> 0 | AA44: ='WA2016'!$G45/1000 -> 0 | AB44: =100*AA44/AA$9 -> 0 | AC44: =World2030!$G45/1000 -> 0.0004984116 | AD44: =100*AC44/AC$9 -> 7.3167293e-07 | AE44: ='Dev''d2030'!$G45/1000 -> 0 | AF44: =100*AE44/AE$9 -> 0 | AG44: ='CCA2030'!$G45/1000 -> 0 | AH44: =100*AG44/AG$9 -> 0 | AI44: ='EA2030'!$G45/1000 -> 0 | AJ44: =100*AI44/AI$9 -> 0 | AK44: ='LAC2030'!$G45/1000 -> 0 | AL44: =100*AK44/AK$9 -> 0 | AM44: ='NA2030'!$G45/1000 -> 0 | AN44: =100*AM44/AM$9 -> 0 | AO44: =Ocea2030!$G45/1000 -> 0 | AP44: =100*AO44/AO$9 -> 0 | AQ44: ='SEA2030'!$G45/1000 -> 0.0004984116 | AR44: =100*AQ44/AQ$9 -> 9.0549371e-06 | AS44: ='SA2030'!$G45/1000 -> 0 | AT44: =100*AS44/AS$9 -> 0 | AU44: ='SSA2030'!$G45/1000 -> 0 | AV44: =100*AU44/AU$9 -> 0 | AW44: ='WA2030'!$G45/1000 -> 0 | AX44: =100*AW44/AW$9 -> 0 | AY44: =World2045!$G45/1000 -> 0.00040019551 | AZ44: =100*AY44/AY$9 -> 4.6788638e-07 | BA44: ='Dev''d2045'!$G45/1000 -> 0 | BB44: =100*BA44/BA$9 -> 0 | BC44: ='CCA2045'!$G45/1000 -> 0 | BD44: =100*BC44/BC$9 -> 0 | BE44: ='EA2045'!$G45/1000 -> 0 | BF44: =100*BE44/BE$9 -> 0 | BG44: ='LAC2045'!$G45/1000 -> 0 | BH44: =100*BG44/BG$9 -> 0 | BI44: ='NA2045'!$G45/1000 -> 0 | BJ44: =100*BI44/BI$9 -> 0 | BK44: =Ocea2045!$G45/1000 -> 0 | BL44: =100*BK44/BK$9 -> 0 | BM44: ='SEA2045'!$G45/1000 -> 0.00040019551 | BN44: =100*BM44/BM$9 -> 5.6355691e-06 | BO44: ='SA2045'!$G45/1000 -> 0 | BP44: =100*BO44/BO$9 -> 0 | BQ44: ='SSA2045'!$G45/1000 -> 0 | BR44: =100*BQ44/BQ$9 -> 0 | BS44: ='WA2045'!$G45/1000 -> 0 | BT44: =100*BS44/BS$9 -> 0 | BU44: =World2060!$G45/1000 -> 0.00030275374 | BV44: =100*BU44/BU$9 -> 2.9730953e-07 | BW44: ='Dev''d2060'!$G45/1000 -> 0 | BX44: =100*BW44/BW$9 -> 0 | BY44: ='CCA2060'!$G45/1000 -> 0 | BZ44: =100*BY44/BY$9 -> 0 | CA44: ='EA2060'!$G45/1000 -> 0 | CB44: =100*CA44/CA$9 -> 0 | CC44: ='LAC2060'!$G45/1000 -> 0 | CD44: =100*CC44/CC$9 -> 0 | CE44: ='NA2060'!$G45/1000 -> 0 | CF44: =100*CE44/CE$9 -> 0 | CG44: =Ocea2060!$G45/1000 -> 0 | CH44: =100*CG44/CG$9 -> 0 | CI44: ='SEA2060'!$G45/1000 -> 0.00030275374 | CJ44: =100*CI44/CI$9 -> 3.5453597e-06 | CK44: ='SA2060'!$G45/1000 -> 0 | CL44: =100*CK44/CK$9 -> 0 | CM44: ='SSA2060'!$G45/1000 -> 0 | CN44: =100*CM44/CM$9 -> 0 | CO44: ='WA2060'!$G45/1000 -> 0 | CP44: =100*CO44/CO$9 -> 0
A45: 36 | E45: c. | F45: Hookworm disease | G45: =World2016!$G46/1000 -> 0.00123546 | H45: =100*G45/G$9 -> 2.1722984e-06 | I45: ='Dev''d2016'!$G46/1000 -> 0.0004118472 | J45: =100*I45/I$9 -> 3.2355777e-06 | K45: ='CCA2016'!$G46/1000 -> 0 | L45: =100*K45/K$9 -> 0 | M45: ='EA2016'!$G46/1000 -> 0 | N45: =100*M45/M$9 -> 0 | O45: ='LAC2016'!$G46/1000 -> 0.00045240217 | P45: =100*O45/O$9 -> 1.1754749e-05 | Q45: ='NA2016'!$G46/1000 -> 0 | R45: =100*Q45/Q$9 -> 0 | S45: =Ocea2016!$G46/1000 -> 0 | T45: =100*S45/S$9 -> 0 | U45: ='SEA2016'!$G46/1000 -> 0.00037121066 | V45: =100*U45/U$9 -> 8.4841355e-06 | W45: ='SA2016'!$G46/1000 -> 0 | X45: =100*W45/W$9 -> 0 | Y45: ='SSA2016'!$G46/1000 -> 0 | Z45: =100*Y45/Y$9 -> 0 | AA45: ='WA2016'!$G46/1000 -> 0 | AB45: =100*AA45/AA$9 -> 0 | AC45: =World2030!$G46/1000 -> 0.0011688412 | AD45: =100*AC45/AC$9 -> 1.7158699e-06 | AE45: ='Dev''d2030'!$G46/1000 -> 0.0007720938 | AF45: =100*AE45/AE$9 -> 5.5254288e-06 | AG45: ='CCA2030'!$G46/1000 -> 0 | AH45: =100*AG45/AG$9 -> 0 | AI45: ='EA2030'!$G46/1000 -> 0 | AJ45: =100*AI45/AI$9 -> 0 | AK45: ='LAC2030'!$G46/1000 -> 0.00012993622 | AL45: =100*AK45/AK$9 -> 2.590282e-06 | AM45: ='NA2030'!$G46/1000 -> 0 | AN45: =100*AM45/AM$9 -> 0 | AO45: =Ocea2030!$G46/1000 -> 0 | AP45: =100*AO45/AO$9 -> 0 | AQ45: ='SEA2030'!$G46/1000 -> 0.00026681113 | AR45: =100*AQ45/AQ$9 -> 4.847315e-06 | AS45: ='SA2030'!$G46/1000 -> 0 | AT45: =100*AS45/AS$9 -> 0 | AU45: ='SSA2030'!$G46/1000 -> 0 | AV45: =100*AU45/AU$9 -> 0 | AW45: ='WA2030'!$G46/1000 -> 0 | AX45: =100*AW45/AW$9 -> 0 | AY45: =World2045!$G46/1000 -> 0.0012145977 | AZ45: =100*AY45/AY$9 -> 1.4200403e-06 | BA45: ='Dev''d2045'!$G46/1000 -> 0.00090680978 | BB45: =100*BA45/BA$9 -> 5.6805491e-06 | BC45: ='CCA2045'!$G46/1000 -> 0 | BD45: =100*BC45/BC$9 -> 0 | BE45: ='EA2045'!$G46/1000 -> 0 | BF45: =100*BE45/BE$9 -> 0 | BG45: ='LAC2045'!$G46/1000 -> 6.9641374e-05 | BH45: =100*BG45/BG$9 -> 1.0083916e-06 | BI45: ='NA2045'!$G46/1000 -> 0 | BJ45: =100*BI45/BI$9 -> 0 | BK45: =Ocea2045!$G46/1000 -> 0 | BL45: =100*BK45/BK$9 -> 0 | BM45: ='SEA2045'!$G46/1000 -> 0.00023814659 | BN45: =100*BM45/BM$9 -> 3.3535898e-06 | BO45: ='SA2045'!$G46/1000 -> 0 | BP45: =100*BO45/BO$9 -> 0 | BQ45: ='SSA2045'!$G46/1000 -> 0 | BR45: =100*BQ45/BQ$9 -> 0 | BS45: ='WA2045'!$G46/1000 -> 0 | BT45: =100*BS45/BS$9 -> 0 | BU45: =World2060!$G46/1000 -> 0.0012059868 | BV45: =100*BU45/BU$9 -> 1.1843003e-06 | BW45: ='Dev''d2060'!$G46/1000 -> 0.00096132696 | BX45: =100*BW45/BW$9 -> 6.020911e-06 | BY45: ='CCA2060'!$G46/1000 -> 0 | BZ45: =100*BY45/BY$9 -> 0 | CA45: ='EA2060'!$G46/1000 -> 0 | CB45: =100*CA45/CA$9 -> 0 | CC45: ='LAC2060'!$G46/1000 -> 3.7839469e-05 | CD45: =100*CC45/CC$9 -> 4.2644269e-07 | CE45: ='NA2060'!$G46/1000 -> 0 | CF45: =100*CE45/CE$9 -> 0 | CG45: =Ocea2060!$G46/1000 -> 0 | CH45: =100*CG45/CG$9 -> 0 | CI45: ='SEA2060'!$G46/1000 -> 0.00020682035 | CJ45: =100*CI45/CI$9 -> 2.4219438e-06 | CK45: ='SA2060'!$G46/1000 -> 0 | CL45: =100*CK45/CK$9 -> 0 | CM45: ='SSA2060'!$G46/1000 -> 0 | CN45: =100*CM45/CM$9 -> 0 | CO45: ='WA2060'!$G46/1000 -> 0 | CP45: =100*CO45/CO$9 -> 0
A46: 37 | D46: 12. | E46: Other infectious diseases | G46: =World2016!$G47/1000 -> 468.61244 | H46: =100*G46/G$9 -> 0.82395707 | I46: ='Dev''d2016'!$G47/1000 -> 88.584941 | J46: =100*I46/I$9 -> 0.69594612 | K46: ='CCA2016'!$G47/1000 -> 1.5838827 | L46: =100*K46/K$9 -> 0.35874043 | M46: ='EA2016'!$G47/1000 -> 32.02866 | N46: =100*M46/M$9 -> 0.28941107 | O46: ='LAC2016'!$G47/1000 -> 37.195516 | P46: =100*O46/O$9 -> 0.96644971 | Q46: ='NA2016'!$G47/1000 -> 6.161446 | R46: =100*Q46/Q$9 -> 0.45025552 | S46: =Ocea2016!$G47/1000 -> 0.52563399 | T46: =100*S46/S$9 -> 0.7533318 | U46: ='SEA2016'!$G47/1000 -> 43.323126 | V46: =100*U46/U$9 -> 0.99016357 | W46: ='SA2016'!$G47/1000 -> 116.15627 | X46: =100*W46/W$9 -> 0.90896564 | Y46: ='SSA2016'!$G47/1000 -> 138.94587 | Z46: =100*Y46/Y$9 -> 1.5736976 | AA46: ='WA2016'!$G47/1000 -> 4.1070973 | AB46: =100*AA46/AA$9 -> 0.3006878 | AC46: =World2030!$G47/1000 -> 447.37278 | AD46: =100*AC46/AC$9 -> 0.65674747 | AE46: ='Dev''d2030'!$G47/1000 -> 110.84351 | AF46: =100*AE46/AE$9 -> 0.79324293 | AG46: ='CCA2030'!$G47/1000 -> 0.71733876 | AH46: =100*AG46/AG$9 -> 0.13452707 | AI46: ='EA2030'!$G47/1000 -> 31.031788 | AJ46: =100*AI46/AI$9 -> 0.22200526 | AK46: ='LAC2030'!$G47/1000 -> 45.739213 | AL46: =100*AK46/AK$9 -> 0.91181244 | AM46: ='NA2030'!$G47/1000 -> 5.0482167 | AN46: =100*AM46/AM$9 -> 0.27374551 | AO46: =Ocea2030!$G47/1000 -> 0.45309671 | AP46: =100*AO46/AO$9 -> 0.50436787 | AQ46: ='SEA2030'!$G47/1000 -> 35.684396 | AR46: =100*AQ46/AQ$9 -> 0.64829944 | AS46: ='SA2030'!$G47/1000 -> 93.912001 | AT46: =100*AS46/AS$9 -> 0.60829789 | AU46: ='SSA2030'!$G47/1000 -> 120.58227 | AV46: =100*AU46/AU$9 -> 1.2023476 | AW46: ='WA2030'!$G47/1000 -> 3.3609433 | AX46: =100*AW46/AW$9 -> 0.19621946 | AY46: =World2045!$G47/1000 -> 428.43727 | AZ46: =100*AY46/AY$9 -> 0.50090507 | BA46: ='Dev''d2045'!$G47/1000 -> 123.74368 | BB46: =100*BA46/BA$9 -> 0.77517036 | BC46: ='CCA2045'!$G47/1000 -> 0.35330016 | BD46: =100*BC46/BC$9 -> 0.049348375 | BE46: ='EA2045'!$G47/1000 -> 32.838651 | BF46: =100*BE46/BE$9 -> 0.18061891 | BG46: ='LAC2045'!$G47/1000 -> 58.029687 | BH46: =100*BG46/BG$9 -> 0.84025696 | BI46: ='NA2045'!$G47/1000 -> 4.0719478 | BJ46: =100*BI46/BI$9 -> 0.1504617 | BK46: =Ocea2045!$G47/1000 -> 0.3687884 | BL46: =100*BK46/BK$9 -> 0.32122426 | BM46: ='SEA2045'!$G47/1000 -> 33.78284 | BN46: =100*BM46/BM$9 -> 0.4757313 | BO46: ='SA2045'!$G47/1000 -> 86.271514 | BP46: =100*BO46/BO$9 -> 0.46693751 | BQ46: ='SSA2045'!$G47/1000 -> 85.133618 | BR46: =100*BQ46/BQ$9 -> 0.66671503 | BS46: ='WA2045'!$G47/1000 -> 3.8432391 | BT46: =100*BS46/BS$9 -> 0.14790707 | BU46: =World2060!$G47/1000 -> 435.06609 | BV46: =100*BU46/BU$9 -> 0.4272426 | BW46: ='Dev''d2060'!$G47/1000 -> 122.11547 | BX46: =100*BW46/BW$9 -> 0.76482448 | BY46: ='CCA2060'!$G47/1000 -> 0.26330797 | BZ46: =100*BY46/BY$9 -> 0.030877869 | CA46: ='EA2060'!$G47/1000 -> 31.083513 | CB46: =100*CA46/CA$9 -> 0.15774505 | CC46: ='LAC2060'!$G47/1000 -> 69.644286 | CD46: =100*CC46/CC$9 -> 0.78487615 | CE46: ='NA2060'!$G47/1000 -> 3.7841081 | CF46: =100*CE46/CE$9 -> 0.10103402 | CG46: =Ocea2060!$G47/1000 -> 0.34223882 | CH46: =100*CG46/CG$9 -> 0.23823407 | CI46: ='SEA2060'!$G47/1000 -> 37.002978 | CJ46: =100*CI46/CI$9 -> 0.43331873 | CK46: ='SA2060'!$G47/1000 -> 96.064084 | CL46: =100*CK46/CK$9 -> 0.42833783 | CM46: ='SSA2060'!$G47/1000 -> 70.093723 | CN46: =100*CM46/CM$9 -> 0.39340553 | CO46: ='WA2060'!$G47/1000 -> 4.6723812 | CP46: =100*CO46/CO$9 -> 0.12423434
A47: 38 | C47: B. | D47: Respiratory infections | G47: =World2016!$G48/1000 -> 2964.4805 | H47: =100*G47/G$9 -> 5.2124197 | I47: ='Dev''d2016'!$G48/1000 -> 443.21482 | J47: =100*I47/I$9 -> 3.4820098 | K47: ='CCA2016'!$G48/1000 -> 13.79736 | L47: =100*K47/K$9 -> 3.1250235 | M47: ='EA2016'!$G48/1000 -> 209.89399 | N47: =100*M47/M$9 -> 1.8966028 | O47: ='LAC2016'!$G48/1000 -> 239.23174 | P47: =100*O47/O$9 -> 6.2159494 | Q47: ='NA2016'!$G48/1000 -> 61.44437 | R47: =100*Q47/Q$9 -> 4.4901257 | S47: =Ocea2016!$G48/1000 -> 4.6015537 | T47: =100*S47/S$9 -> 6.5948869 | U47: ='SEA2016'!$G48/1000 -> 239.04079 | V47: =100*U47/U$9 -> 5.4633518 | W47: ='SA2016'!$G48/1000 -> 776.17025 | X47: =100*W47/W$9 -> 6.0738184 | Y47: ='SSA2016'!$G48/1000 -> 934.54226 | Z47: =100*Y47/Y$9 -> 10.584604 | AA47: ='WA2016'!$G48/1000 -> 42.543419 | AB47: =100*AA47/AA$9 -> 3.1146784 | AC47: =World2030!$G48/1000 -> 3226.3448 | AD47: =100*AC47/AC$9 -> 4.7363046 | AE47: ='Dev''d2030'!$G48/1000 -> 491.37692 | AF47: =100*AE47/AE$9 -> 3.5165005 | AG47: ='CCA2030'!$G48/1000 -> 10.092309 | AH47: =100*AG47/AG$9 -> 1.8926744 | AI47: ='EA2030'!$G48/1000 -> 271.99397 | AJ47: =100*AI47/AI$9 -> 1.9458786 | AK47: ='LAC2030'!$G48/1000 -> 334.95083 | AL47: =100*AK47/AK$9 -> 6.6772538 | AM47: ='NA2030'!$G48/1000 -> 60.306866 | AN47: =100*AM47/AM$9 -> 3.270211 | AO47: =Ocea2030!$G48/1000 -> 4.9358385 | AP47: =100*AO47/AO$9 -> 5.4943642 | AQ47: ='SEA2030'!$G48/1000 -> 289.18609 | AR47: =100*AQ47/AQ$9 -> 5.253814 | AS47: ='SA2030'!$G48/1000 -> 842.03255 | AT47: =100*AS47/AS$9 -> 5.4541126 | AU47: ='SSA2030'!$G48/1000 -> 874.07108 | AV47: =100*AU47/AU$9 -> 8.7155204 | AW47: ='WA2030'!$G48/1000 -> 47.398339 | AX47: =100*AW47/AW$9 -> 2.7672221 | AY47: =World2045!$G48/1000 -> 3847.7498 | AZ47: =100*AY47/AY$9 -> 4.4985755 | BA47: ='Dev''d2045'!$G48/1000 -> 555.17727 | BB47: =100*BA47/BA$9 -> 3.4778096 | BC47: ='CCA2045'!$G48/1000 -> 9.2695634 | BD47: =100*BC47/BC$9 -> 1.2947571 | BE47: ='EA2045'!$G48/1000 -> 414.6461 | BF47: =100*BE47/BE$9 -> 2.2806335 | BG47: ='LAC2045'!$G48/1000 -> 472.33162 | BH47: =100*BG47/BG$9 -> 6.8392567 | BI47: ='NA2045'!$G48/1000 -> 73.452495 | BJ47: =100*BI47/BI$9 -> 2.7141279 | BK47: =Ocea2045!$G48/1000 -> 4.9485587 | BL47: =100*BK47/BK$9 -> 4.310323 | BM47: ='SEA2045'!$G48/1000 -> 384.63358 | BN47: =100*BM47/BM$9 -> 5.4164254 | BO47: ='SA2045'!$G48/1000 -> 995.69996 | BP47: =100*BO47/BO$9 -> 5.3891446 | BQ47: ='SSA2045'!$G48/1000 -> 866.46787 | BR47: =100*BQ47/BQ$9 -> 6.7856526 | BS47: ='WA2045'!$G48/1000 -> 71.12277 | BT47: =100*BS47/BS$9 -> 2.73716 | BU47: =World2060!$G48/1000 -> 4626.5181 | BV47: =100*BU47/BU$9 -> 4.5433226 | BW47: ='Dev''d2060'!$G48/1000 -> 572.50362 | BX47: =100*BW47/BW$9 -> 3.5856618 | BY47: ='CCA2060'!$G48/1000 -> 9.6171652 | BZ47: =100*BY47/BY$9 -> 1.1277956 | CA47: ='EA2060'!$G48/1000 -> 490.2123 | CB47: =100*CA47/CA$9 -> 2.4877677 | CC47: ='LAC2060'!$G48/1000 -> 618.70664 | CD47: =100*CC47/CC$9 -> 6.9726909 | CE47: ='NA2060'!$G48/1000 -> 91.82477 | CF47: =100*CE47/CE$9 -> 2.4516809 | CG47: =Ocea2060!$G48/1000 -> 5.361098 | CH47: =100*CG47/CG$9 -> 3.7318859 | CI47: ='SEA2060'!$G48/1000 -> 463.03513 | CJ47: =100*CI47/CI$9 -> 5.4223148 | CK47: ='SA2060'!$G48/1000 -> 1231.5428 | CL47: =100*CK47/CK$9 -> 5.4912963 | CM47: ='SSA2060'!$G48/1000 -> 1040.4962 | CN47: =100*CM47/CM$9 -> 5.8398516 | CO47: ='WA2060'!$G48/1000 -> 103.2185 | CP47: =100*CO47/CO$9 -> 2.7444855
A48: 39 | D48: 1. | E48: Lower respiratory infections | G48: =World2016!$G49/1000 -> 2957.1359 | H48: =100*G48/G$9 -> 5.1995057 | I48: ='Dev''d2016'!$G49/1000 -> 440.28978 | J48: =100*I48/I$9 -> 3.4590299 | K48: ='CCA2016'!$G49/1000 -> 13.780582 | L48: =100*K48/K$9 -> 3.1212234 | M48: ='EA2016'!$G49/1000 -> 209.60063 | N48: =100*M48/M$9 -> 1.8939519 | O48: ='LAC2016'!$G49/1000 -> 238.61926 | P48: =100*O48/O$9 -> 6.2000354 | Q48: ='NA2016'!$G49/1000 -> 61.376035 | R48: =100*Q48/Q$9 -> 4.485132 | S48: =Ocea2016!$G49/1000 -> 4.5966292 | T48: =100*S48/S$9 -> 6.5878293 | U48: ='SEA2016'!$G49/1000 -> 238.56631 | V48: =100*U48/U$9 -> 5.4525074 | W48: ='SA2016'!$G49/1000 -> 775.0859 | X48: =100*W48/W$9 -> 6.065333 | Y48: ='SSA2016'!$G49/1000 -> 932.73148 | Z48: =100*Y48/Y$9 -> 10.564095 | AA48: ='WA2016'!$G49/1000 -> 42.489306 | AB48: =100*AA48/AA$9 -> 3.1107167 | AC48: =World2030!$G49/1000 -> 3221.2583 | AD48: =100*AC48/AC$9 -> 4.7288376 | AE48: ='Dev''d2030'!$G49/1000 -> 490.13514 | AF48: =100*AE48/AE$9 -> 3.5076137 | AG48: ='CCA2030'!$G49/1000 -> 10.081094 | AH48: =100*AG48/AG$9 -> 1.8905711 | AI48: ='EA2030'!$G49/1000 -> 271.66277 | AJ48: =100*AI48/AI$9 -> 1.9435092 | AK48: ='LAC2030'!$G49/1000 -> 334.37832 | AL48: =100*AK48/AK$9 -> 6.6658408 | AM48: ='NA2030'!$G49/1000 -> 60.243409 | AN48: =100*AM48/AM$9 -> 3.26677 | AO48: =Ocea2030!$G49/1000 -> 4.931116 | AP48: =100*AO48/AO$9 -> 5.4891074 | AQ48: ='SEA2030'!$G49/1000 -> 288.74592 | AR48: =100*AQ48/AQ$9 -> 5.2458173 | AS48: ='SA2030'!$G49/1000 -> 841.11345 | AT48: =100*AS48/AS$9 -> 5.4481593 | AU48: ='SSA2030'!$G49/1000 -> 872.61731 | AV48: =100*AU48/AU$9 -> 8.7010246 | AW48: ='WA2030'!$G49/1000 -> 47.349749 | AX48: =100*AW48/AW$9 -> 2.7643853 | AY48: =World2045!$G49/1000 -> 3842.4553 | AZ48: =100*AY48/AY$9 -> 4.4923855 | BA48: ='Dev''d2045'!$G49/1000 -> 553.7051 | BB48: =100*BA48/BA$9 -> 3.4685875 | BC48: ='CCA2045'!$G49/1000 -> 9.2600505 | BD48: =100*BC48/BC$9 -> 1.2934284 | BE48: ='EA2045'!$G49/1000 -> 414.2478 | BF48: =100*BE48/BE$9 -> 2.2784427 | BG48: ='LAC2045'!$G49/1000 -> 471.58306 | BH48: =100*BG48/BG$9 -> 6.8284178 | BI48: ='NA2045'!$G49/1000 -> 73.390052 | BJ48: =100*BI48/BI$9 -> 2.7118206 | BK48: =Ocea2045!$G49/1000 -> 4.9444091 | BL48: =100*BK48/BK$9 -> 4.3067086 | BM48: ='SEA2045'!$G49/1000 -> 384.17308 | BN48: =100*BM48/BM$9 -> 5.4099406 | BO48: ='SA2045'!$G49/1000 -> 994.77115 | BP48: =100*BO48/BO$9 -> 5.3841175 | BQ48: ='SSA2045'!$G49/1000 -> 865.30827 | BR48: =100*BQ48/BQ$9 -> 6.7765713 | BS48: ='WA2045'!$G49/1000 -> 71.072319 | BT48: =100*BS48/BS$9 -> 2.7352184 | BU48: =World2060!$G49/1000 -> 4620.9047 | BV48: =100*BU48/BU$9 -> 4.5378101 | BW48: ='Dev''d2060'!$G49/1000 -> 570.97006 | BX48: =100*BW48/BW$9 -> 3.5760569 | BY48: ='CCA2060'!$G49/1000 -> 9.6082181 | BZ48: =100*BY48/BY$9 -> 1.1267464 | CA48: ='EA2060'!$G49/1000 -> 489.83194 | CB48: =100*CA48/CA$9 -> 2.4858374 | CC48: ='LAC2060'!$G49/1000 -> 617.75495 | CD48: =100*CC48/CC$9 -> 6.9619657 | CE48: ='NA2060'!$G49/1000 -> 91.759315 | CF48: =100*CE48/CE$9 -> 2.4499332 | CG48: =Ocea2060!$G49/1000 -> 5.3571908 | CH48: =100*CG48/CG$9 -> 3.7291661 | CI48: ='SEA2060'!$G49/1000 -> 462.55898 | CJ48: =100*CI48/CI$9 -> 5.416739 | CK48: ='SA2060'!$G49/1000 -> 1230.517 | CL48: =100*CK48/CK$9 -> 5.4867227 | CM48: ='SSA2060'!$G49/1000 -> 1039.3865 | CN48: =100*CM48/CM$9 -> 5.8336238 | CO48: ='WA2060'!$G49/1000 -> 103.16044 | CP48: =100*CO48/CO$9 -> 2.7429417
A49: 40 | D49: 2. | E49: Upper respiratory infections | G49: =World2016!$G50/1000 -> 5.8993995 | H49: =100*G49/G$9 -> 0.010372862 | I49: ='Dev''d2016'!$G50/1000 -> 2.7668329 | J49: =100*I49/I$9 -> 0.021736952 | K49: ='CCA2016'!$G50/1000 -> 0.015439674 | L49: =100*K49/K$9 -> 0.0034969985 | M49: ='EA2016'!$G50/1000 -> 0.26246204 | N49: =100*M49/M$9 -> 0.0023716078 | O49: ='LAC2016'!$G50/1000 -> 0.4608822 | P49: =100*O49/O$9 -> 0.011975085 | Q49: ='NA2016'!$G50/1000 -> 0.059726563 | R49: =100*Q49/Q$9 -> 0.0043645947 | S49: =Ocea2016!$G50/1000 -> 0.0043881323 | T49: =100*S49/S$9 -> 0.0062890142 | U49: ='SEA2016'!$G50/1000 -> 0.20298595 | V49: =100*U49/U$9 -> 0.0046393072 | W49: ='SA2016'!$G50/1000 -> 0.64911314 | X49: =100*W49/W$9 -> 0.0050795498 | Y49: ='SSA2016'!$G50/1000 -> 1.4315584 | Z49: =100*Y49/Y$9 -> 0.016213797 | AA49: ='WA2016'!$G50/1000 -> 0.046010544 | AB49: =100*AA49/AA$9 -> 0.0033685127 | AC49: =World2030!$G50/1000 -> 3.8549523 | AD49: =100*AC49/AC$9 -> 0.0056591064 | AE49: ='Dev''d2030'!$G50/1000 -> 1.1336483 | AF49: =100*AE49/AE$9 -> 0.0081128653 | AG49: ='CCA2030'!$G50/1000 -> 0.010488398 | AH49: =100*AG49/AG$9 -> 0.0019669555 | AI49: ='EA2030'!$G50/1000 -> 0.29929746 | AJ49: =100*AI49/AI$9 -> 0.0021412111 | AK49: ='LAC2030'!$G50/1000 -> 0.45958801 | AL49: =100*AK49/AK$9 -> 0.0091618992 | AM49: ='NA2030'!$G50/1000 -> 0.054404672 | AN49: =100*AM49/AM$9 -> 0.0029501576 | AO49: =Ocea2030!$G50/1000 -> 0.0042120849 | AP49: =100*AO49/AO$9 -> 0.0046887128 | AQ49: ='SEA2030'!$G50/1000 -> 0.17739065 | AR49: =100*AQ49/AQ$9 -> 0.0032227604 | AS49: ='SA2030'!$G50/1000 -> 0.55360829 | AT49: =100*AS49/AS$9 -> 0.0035858969 | AU49: ='SSA2030'!$G50/1000 -> 1.1219634 | AV49: =100*AU49/AU$9 -> 0.011187299 | AW49: ='WA2030'!$G50/1000 -> 0.040351085 | AX49: =100*AW49/AW$9 -> 0.0023557875 | AY49: =World2045!$G50/1000 -> 4.0259664 | AZ49: =100*AY49/AY$9 -> 0.0047069365 | BA49: ='Dev''d2045'!$G50/1000 -> 1.3598144 | BB49: =100*BA49/BA$9 -> 0.0085183164 | BC49: ='CCA2045'!$G50/1000 -> 0.0087450187 | BD49: =100*BC49/BC$9 -> 0.0012214896 | BE49: ='EA2045'!$G50/1000 -> 0.36340553 | BF49: =100*BE49/BE$9 -> 0.0019988004 | BG49: ='LAC2045'!$G50/1000 -> 0.63412795 | BH49: =100*BG49/BG$9 -> 0.0091820317 | BI49: ='NA2045'!$G50/1000 -> 0.051361484 | BJ49: =100*BI49/BI$9 -> 0.0018978475 | BK49: =Ocea2045!$G50/1000 -> 0.0037046155 | BL49: =100*BK49/BK$9 -> 0.0032268161 | BM49: ='SEA2045'!$G50/1000 -> 0.17517103 | BN49: =100*BM49/BM$9 -> 0.0024667655 | BO49: ='SA2045'!$G50/1000 -> 0.54343432 | BP49: =100*BO49/BO$9 -> 0.0029412939 | BQ49: ='SSA2045'!$G50/1000 -> 0.84708438 | BR49: =100*BQ49/BQ$9 -> 0.0066338528 | BS49: ='WA2045'!$G50/1000 -> 0.039117671 | BT49: =100*BS49/BS$9 -> 0.0015054437 | BU49: =World2060!$G50/1000 -> 4.2190094 | BV49: =100*BU49/BU$9 -> 0.0041431418 | BW49: ='Dev''d2060'!$G50/1000 -> 1.4283804 | BX49: =100*BW49/BW$9 -> 0.008946125 | BY49: ='CCA2060'!$G50/1000 -> 0.0083789194 | BZ49: =100*BY49/BY$9 -> 0.00098258771 | CA49: ='EA2060'!$G50/1000 -> 0.34783235 | CB49: =100*CA49/CA$9 -> 0.0017652068 | CC49: ='LAC2060'!$G50/1000 -> 0.83630332 | CD49: =100*CC49/CC$9 -> 0.0094249589 | CE49: ='NA2060'!$G50/1000 -> 0.051534253 | CF49: =100*CE49/CE$9 -> 0.0013759418 | CG49: =Ocea2060!$G50/1000 -> 0.0034903762 | CH49: =100*CG49/CG$9 -> 0.0024296675 | CI49: ='SEA2060'!$G50/1000 -> 0.17766894 | CJ49: =100*CI49/CI$9 -> 0.0020805698 | CK49: ='SA2060'!$G50/1000 -> 0.5777987 | CL49: =100*CK49/CK$9 -> 0.0025763327 | CM49: ='SSA2060'!$G50/1000 -> 0.74711154 | CN49: =100*CM49/CM$9 -> 0.0041932116 | CO49: ='WA2060'!$G50/1000 -> 0.040510603 | CP49: =100*CO49/CO$9 -> 0.0010771399
A50: 41 | D50: 3. | E50: Otitis media | G50: =World2016!$G51/1000 -> 1.4452338 | H50: =100*G50/G$9 -> 0.0025411418 | I50: ='Dev''d2016'!$G51/1000 -> 0.15821075 | J50: =100*I50/I$9 -> 0.0012429444 | K50: ='CCA2016'!$G51/1000 -> 0.0013382151 | L50: =100*K50/K$9 -> 0.0003030981 | M50: ='EA2016'!$G51/1000 -> 0.030903594 | N50: =100*M50/M$9 -> 0.00027924498 | O50: ='LAC2016'!$G51/1000 -> 0.15159351 | P50: =100*O50/O$9 -> 0.0039388487 | Q50: ='NA2016'!$G51/1000 -> 0.0086089924 | R50: =100*Q50/Q$9 -> 0.00062911309 | S50: =Ocea2016!$G51/1000 -> 0.0005363099 | T50: =100*S50/S$9 -> 0.00076863238 | U50: ='SEA2016'!$G51/1000 -> 0.27149802 | V50: =100*U50/U$9 -> 0.0062051719 | W50: ='SA2016'!$G51/1000 -> 0.43521737 | X50: =100*W50/W$9 -> 0.0034057365 | Y50: ='SSA2016'!$G51/1000 -> 0.37922484 | Z50: =100*Y50/Y$9 -> 0.0042950917 | AA50: ='WA2016'!$G51/1000 -> 0.0081022312 | AB50: =100*AA50/AA$9 -> 0.00059317857 | AC50: =World2030!$G51/1000 -> 1.2315766 | AD50: =100*AC50/AC$9 -> 0.001807966 | AE50: ='Dev''d2030'!$G51/1000 -> 0.10813117 | AF50: =100*AE50/AE$9 -> 0.00077383222 | AG50: ='CCA2030'!$G51/1000 -> 0.00072660215 | AH50: =100*AG50/AG$9 -> 0.00013626429 | AI50: ='EA2030'!$G51/1000 -> 0.031903161 | AJ50: =100*AI50/AI$9 -> 0.00022823917 | AK50: ='LAC2030'!$G51/1000 -> 0.11292085 | AL50: =100*AK50/AK$9 -> 0.0022510801 | AM50: ='NA2030'!$G51/1000 -> 0.0090525037 | AN50: =100*AM50/AM$9 -> 0.0004908827 | AO50: =Ocea2030!$G51/1000 -> 0.00051032788 | AP50: =100*AO50/AO$9 -> 0.00056807516 | AQ50: ='SEA2030'!$G51/1000 -> 0.26277112 | AR50: =100*AQ50/AQ$9 -> 0.0047739177 | AS50: ='SA2030'!$G51/1000 -> 0.36551532 | AT50: =100*AS50/AS$9 -> 0.002367559 | AU50: ='SSA2030'!$G51/1000 -> 0.33180683 | AV50: =100*AU50/AU$9 -> 0.0033085057 | AW50: ='WA2030'!$G51/1000 -> 0.0082386948 | AX50: =100*AW50/AW$9 -> 0.00048099361 | AY50: =World2045!$G51/1000 -> 1.2685205 | AZ50: =100*AY50/AY$9 -> 0.0014830838 | BA50: ='Dev''d2045'!$G51/1000 -> 0.11235521 | BB50: =100*BA50/BA$9 -> 0.00070382932 | BC50: ='CCA2045'!$G51/1000 -> 0.00076784874 | BD50: =100*BC50/BC$9 -> 0.00010725183 | BE50: ='EA2045'!$G51/1000 -> 0.034901663 | BF50: =100*BE50/BE$9 -> 0.00019196587 | BG50: ='LAC2045'!$G51/1000 -> 0.11443018 | BH50: =100*BG50/BG$9 -> 0.0016569236 | BI50: ='NA2045'!$G51/1000 -> 0.01108117 | BJ50: =100*BI50/BI$9 -> 0.00040945801 | BK50: =Ocea2045!$G51/1000 -> 0.00044492678 | BL50: =100*BK50/BK$9 -> 0.00038754277 | BM50: ='SEA2045'!$G51/1000 -> 0.28532775 | BN50: =100*BM50/BM$9 -> 0.0040179967 | BO50: ='SA2045'!$G51/1000 -> 0.38535626 | BP50: =100*BO50/BO$9 -> 0.0020857093 | BQ50: ='SSA2045'!$G51/1000 -> 0.31252082 | BR50: =100*BQ50/BQ$9 -> 0.0024474742 | BS50: ='WA2045'!$G51/1000 -> 0.011334701 | BT50: =100*BS50/BS$9 -> 0.00043621601 | BU50: =World2060!$G51/1000 -> 1.3943979 | BV50: =100*BU50/BU$9 -> 0.0013693234 | BW50: ='Dev''d2060'!$G51/1000 -> 0.10517916 | BX50: =100*BW50/BW$9 -> 0.00065875021 | BY50: ='CCA2060'!$G51/1000 -> 0.00056820058 | BZ50: =100*BY50/BY$9 -> 6.6632328e-05 | CA50: ='EA2060'!$G51/1000 -> 0.032519418 | CB50: =100*CA50/CA$9 -> 0.00016503209 | CC50: ='LAC2060'!$G51/1000 -> 0.115383 | CD50: =100*CC50/CC$9 -> 0.0013003416 | CE50: ='NA2060'!$G51/1000 -> 0.013919754 | CF50: =100*CE50/CE$9 -> 0.00037165128 | CG50: =Ocea2060!$G51/1000 -> 0.00041673689 | CH50: =100*CG50/CG$9 -> 0.00029009253 | CI50: ='SEA2060'!$G51/1000 -> 0.29847214 | CJ50: =100*CI50/CI$9 -> 0.0034952206 | CK50: ='SA2060'!$G51/1000 -> 0.44788923 | CL50: =100*CK50/CK$9 -> 0.0019970825 | CM50: ='SSA2060'!$G51/1000 -> 0.36250133 | CN50: =100*CM50/CM$9 -> 0.002034562 | CO50: ='WA2060'!$G51/1000 -> 0.01754894 | CP50: =100*CO50/CO$9 -> 0.00046661026
A51: 42 | C51: C. | D51: Maternal conditions | G51: =World2016!$G52/1000 -> 298.18997 | H51: =100*G51/G$9 -> 0.52430476 | I51: ='Dev''d2016'!$G52/1000 -> 1.6805372 | J51: =100*I51/I$9 -> 0.013202733 | K51: ='CCA2016'!$G52/1000 -> 0.46284719 | L51: =100*K51/K$9 -> 0.10483226 | M51: ='EA2016'!$G52/1000 -> 4.8147491 | N51: =100*M51/M$9 -> 0.043506088 | O51: ='LAC2016'!$G52/1000 -> 7.518711 | P51: =100*O51/O$9 -> 0.19535839 | Q51: ='NA2016'!$G52/1000 -> 6.0841597 | R51: =100*Q51/Q$9 -> 0.44460772 | S51: =Ocea2016!$G52/1000 -> 0.35073857 | T51: =100*S51/S$9 -> 0.50267397 | U51: ='SEA2016'!$G52/1000 -> 15.671263 | V51: =100*U51/U$9 -> 0.35817161 | W51: ='SA2016'!$G52/1000 -> 59.380212 | X51: =100*W51/W$9 -> 0.46467206 | Y51: ='SSA2016'!$G52/1000 -> 197.44616 | Z51: =100*Y51/Y$9 -> 2.2362706 | AA51: ='WA2016'!$G52/1000 -> 4.7805951 | AB51: =100*AA51/AA$9 -> 0.34999576 | AC51: =World2030!$G52/1000 -> 226.92059 | AD51: =100*AC51/AC$9 -> 0.33312157 | AE51: ='Dev''d2030'!$G52/1000 -> 1.3132536 | AF51: =100*AE51/AE$9 -> 0.0093981963 | AG51: ='CCA2030'!$G52/1000 -> 0.32140765 | AH51: =100*AG51/AG$9 -> 0.060275606 | AI51: ='EA2030'!$G52/1000 -> 2.6069151 | AJ51: =100*AI51/AI$9 -> 0.018650194 | AK51: ='LAC2030'!$G52/1000 -> 5.8951905 | AL51: =100*AK51/AK$9 -> 0.11752078 | AM51: ='NA2030'!$G52/1000 -> 5.4479542 | AN51: =100*AM51/AM$9 -> 0.29542175 | AO51: =Ocea2030!$G52/1000 -> 0.27981047 | AP51: =100*AO51/AO$9 -> 0.31147304 | AQ51: ='SEA2030'!$G52/1000 -> 9.5295548 | AR51: =100*AQ51/AQ$9 -> 0.17312904 | AS51: ='SA2030'!$G52/1000 -> 34.466166 | AT51: =100*AS51/AS$9 -> 0.22324832 | AU51: ='SSA2030'!$G52/1000 -> 162.76483 | AV51: =100*AU51/AU$9 -> 1.6229575 | AW51: ='WA2030'!$G52/1000 -> 4.2955032 | AX51: =100*AW51/AW$9 -> 0.25078118 | AY51: =World2045!$G52/1000 -> 172.20139 | AZ51: =100*AY51/AY$9 -> 0.20132831 | BA51: ='Dev''d2045'!$G52/1000 -> 1.0542066 | BB51: =100*BA51/BA$9 -> 0.0066038902 | BC51: ='CCA2045'!$G52/1000 -> 0.23846347 | BD51: =100*BC51/BC$9 -> 0.033308179 | BE51: ='EA2045'!$G52/1000 -> 1.6131292 | BF51: =100*BE51/BE$9 -> 0.0088725215 | BG51: ='LAC2045'!$G52/1000 -> 4.2920344 | BH51: =100*BG51/BG$9 -> 0.062147703 | BI51: ='NA2045'!$G52/1000 -> 4.6196959 | BJ51: =100*BI51/BI$9 -> 0.17070143 | BK51: =Ocea2045!$G52/1000 -> 0.22974152 | BL51: =100*BK51/BK$9 -> 0.20011082 | BM51: ='SEA2045'!$G52/1000 -> 6.2036201 | BN51: =100*BM51/BM$9 -> 0.087359627 | BO51: ='SA2045'!$G52/1000 -> 20.29391 | BP51: =100*BO51/BO$9 -> 0.10983913 | BQ51: ='SSA2045'!$G52/1000 -> 130.28328 | BR51: =100*BQ51/BQ$9 -> 1.0202999 | BS51: ='WA2045'!$G52/1000 -> 3.373317 | BT51: =100*BS51/BS$9 -> 0.12982212 | BU51: =World2060!$G52/1000 -> 136.79297 | BV51: =100*BU51/BU$9 -> 0.13433311 | BW51: ='Dev''d2060'!$G52/1000 -> 0.85759444 | BX51: =100*BW51/BW$9 -> 0.0053712212 | BY51: ='CCA2060'!$G52/1000 -> 0.17263765 | BZ51: =100*BY51/BY$9 -> 0.020245049 | CA51: ='EA2060'!$G52/1000 -> 1.1665706 | CB51: =100*CA51/CA$9 -> 0.0059202038 | CC51: ='LAC2060'!$G52/1000 -> 3.2295235 | CD51: =100*CC51/CC$9 -> 0.036396037 | CE51: ='NA2060'!$G52/1000 -> 3.8409962 | CF51: =100*CE51/CE$9 -> 0.1025529 | CG51: =Ocea2060!$G52/1000 -> 0.19646104 | CH51: =100*CG51/CG$9 -> 0.13675747 | CI51: ='SEA2060'!$G52/1000 -> 4.7428809 | CJ51: =100*CI51/CI$9 -> 0.055540913 | CK51: ='SA2060'!$G52/1000 -> 13.586433 | CL51: =100*CK51/CK$9 -> 0.060580216 | CM51: ='SSA2060'!$G52/1000 -> 106.44842 | CN51: =100*CM51/CM$9 -> 0.5974486 | CO51: ='WA2060'!$G52/1000 -> 2.5514538 | CP51: =100*CO51/CO$9 -> 0.067840823
A52: 49 | C52: D. | D52: Neonatal conditions | G52: =World2016!$G53/1000 -> 2274.7983 | H52: =100*G52/G$9 -> 3.9997576 | I52: ='Dev''d2016'!$G53/1000 -> 34.969642 | J52: =100*I52/I$9 -> 0.27473052 | K52: ='CCA2016'!$G53/1000 -> 17.983234 | L52: =100*K52/K$9 -> 4.0731003 | M52: ='EA2016'!$G53/1000 -> 70.298574 | N52: =100*M52/M$9 -> 0.63521815 | O52: ='LAC2016'!$G53/1000 -> 79.081258 | P52: =100*O52/O$9 -> 2.0547654 | Q52: ='NA2016'!$G53/1000 -> 86.306944 | R52: =100*Q52/Q$9 -> 6.3069899 | S52: =Ocea2016!$G53/1000 -> 4.9992691 | T52: =100*S52/S$9 -> 7.1648875 | U52: ='SEA2016'!$G53/1000 -> 128.90449 | V52: =100*U52/U$9 -> 2.9461524 | W52: ='SA2016'!$G53/1000 -> 887.24878 | X52: =100*W52/W$9 -> 6.9430489 | Y52: ='SSA2016'!$G53/1000 -> 905.44356 | Z52: =100*Y52/Y$9 -> 10.255033 | AA52: ='WA2016'!$G53/1000 -> 59.562547 | AB52: =100*AA52/AA$9 -> 4.3606786 | AC52: =World2030!$G53/1000 -> 1624.9025 | AD52: =100*AC52/AC$9 -> 2.3853722 | AE52: ='Dev''d2030'!$G53/1000 -> 20.027451 | AF52: =100*AE52/AE$9 -> 0.14332488 | AG52: ='CCA2030'!$G53/1000 -> 9.0954505 | AH52: =100*AG52/AG$9 -> 1.7057273 | AI52: ='EA2030'!$G53/1000 -> 32.35346 | AJ52: =100*AI52/AI$9 -> 0.23146067 | AK52: ='LAC2030'!$G53/1000 -> 40.335145 | AL52: =100*AK52/AK$9 -> 0.80408218 | AM52: ='NA2030'!$G53/1000 -> 65.558495 | AN52: =100*AM52/AM$9 -> 3.5549868 | AO52: =Ocea2030!$G53/1000 -> 4.504655 | AP52: =100*AO52/AO$9 -> 5.0143892 | AQ52: ='SEA2030'!$G53/1000 -> 81.001873 | AR52: =100*AQ52/AQ$9 -> 1.4716087 | AS52: ='SA2030'!$G53/1000 -> 582.10105 | AT52: =100*AS52/AS$9 -> 3.7704536 | AU52: ='SSA2030'!$G53/1000 -> 745.6093 | AV52: =100*AU52/AU$9 -> 7.4346048 | AW52: ='WA2030'!$G53/1000 -> 44.315619 | AX52: =100*AW52/AW$9 -> 2.5872459 | AY52: =World2045!$G53/1000 -> 1057.877 | AZ52: =100*AY52/AY$9 -> 1.2368111 | BA52: ='Dev''d2045'!$G53/1000 -> 10.659708 | BB52: =100*BA52/BA$9 -> 0.066775851 | BC52: ='CCA2045'!$G53/1000 -> 4.6999004 | BD52: =100*BC52/BC$9 -> 0.65647423 | BE52: ='EA2045'!$G53/1000 -> 19.537391 | BF52: =100*BE52/BE$9 -> 0.10745941 | BG52: ='LAC2045'!$G53/1000 -> 18.794933 | BH52: =100*BG52/BG$9 -> 0.27214645 | BI52: ='NA2045'!$G53/1000 -> 51.33866 | BJ52: =100*BI52/BI$9 -> 1.8970042 | BK52: =Ocea2045!$G53/1000 -> 3.2920433 | BL52: =100*BK52/BK$9 -> 2.8674551 | BM52: ='SEA2045'!$G53/1000 -> 50.190657 | BN52: =100*BM52/BM$9 -> 0.70678684 | BO52: ='SA2045'!$G53/1000 -> 361.24083 | BP52: =100*BO52/BO$9 -> 1.9551864 | BQ52: ='SSA2045'!$G53/1000 -> 505.76963 | BR52: =100*BQ52/BQ$9 -> 3.960882 | BS52: ='WA2045'!$G53/1000 -> 32.353282 | BT52: =100*BS52/BS$9 -> 1.2451162 | BU52: =World2060!$G53/1000 -> 648.3984 | BV52: =100*BU52/BU$9 -> 0.63673869 | BW52: ='Dev''d2060'!$G53/1000 -> 5.6313468 | BX52: =100*BW52/BW$9 -> 0.03526983 | BY52: ='CCA2060'!$G53/1000 -> 2.0264547 | BZ52: =100*BY52/BY$9 -> 0.23764037 | CA52: ='EA2060'!$G53/1000 -> 11.600417 | CB52: =100*CA52/CA$9 -> 0.058870706 | CC52: ='LAC2060'!$G53/1000 -> 8.7135763 | CD52: =100*CC52/CC$9 -> 0.098200134 | CE52: ='NA2060'!$G53/1000 -> 37.769388 | CF52: =100*CE52/CE$9 -> 1.008426 | CG52: =Ocea2060!$G53/1000 -> 2.306275 | CH52: =100*CG52/CG$9 -> 1.605409 | CI52: ='SEA2060'!$G53/1000 -> 31.627139 | CJ52: =100*CI52/CI$9 -> 0.37036564 | CK52: ='SA2060'!$G53/1000 -> 223.39712 | CL52: =100*CK52/CK$9 -> 0.9961 | CM52: ='SSA2060'!$G53/1000 -> 302.78495 | CN52: =100*CM52/CM$9 -> 1.6994 | CO52: ='WA2060'!$G53/1000 -> 22.54173 | CP52: =100*CO52/CO$9 -> 0.59936396
A53: 50 | D53: 1. | E53: Preterm birth complications | G53: =World2016!$G54/1000 -> 1013.3304 | H53: =100*G53/G$9 -> 1.7817297 | I53: ='Dev''d2016'!$G54/1000 -> 19.052666 | J53: =100*I53/I$9 -> 0.14968265 | K53: ='CCA2016'!$G54/1000 -> 7.6771064 | L53: =100*K53/K$9 -> 1.7388209 | M53: ='EA2016'!$G54/1000 -> 30.66098 | N53: =100*M53/M$9 -> 0.27705272 | O53: ='LAC2016'!$G54/1000 -> 37.180463 | P53: =100*O53/O$9 -> 0.96605858 | Q53: ='NA2016'!$G54/1000 -> 41.144593 | R53: =100*Q53/Q$9 -> 3.0066936 | S53: =Ocea2016!$G54/1000 -> 1.985931 | T53: =100*S53/S$9 -> 2.8462104 | U53: ='SEA2016'!$G54/1000 -> 58.460482 | V53: =100*U53/U$9 -> 1.3361326 | W53: ='SA2016'!$G54/1000 -> 442.35426 | X53: =100*W53/W$9 -> 3.4615853 | Y53: ='SSA2016'!$G54/1000 -> 345.92048 | Z53: =100*Y53/Y$9 -> 3.9178873 | AA53: ='WA2016'!$G54/1000 -> 28.893391 | AB53: =100*AA53/AA$9 -> 2.1153359 | AC53: =World2030!$G54/1000 -> 755.75281 | AD53: =100*AC53/AC$9 -> 1.1094523 | AE53: ='Dev''d2030'!$G54/1000 -> 11.561902 | AF53: =100*AE53/AE$9 -> 0.082741846 | AG53: ='CCA2030'!$G54/1000 -> 3.8708303 | AH53: =100*AG53/AG$9 -> 0.72592125 | AI53: ='EA2030'!$G54/1000 -> 14.790508 | AJ53: =100*AI53/AI$9 -> 0.10581313 | AK53: ='LAC2030'!$G54/1000 -> 19.455703 | AL53: =100*AK53/AK$9 -> 0.38784996 | AM53: ='NA2030'!$G54/1000 -> 32.489479 | AN53: =100*AM53/AM$9 -> 1.7617803 | AO53: =Ocea2030!$G54/1000 -> 1.770585 | AP53: =100*AO53/AO$9 -> 1.9709394 | AQ53: ='SEA2030'!$G54/1000 -> 38.137165 | AR53: =100*AQ53/AQ$9 -> 0.69286034 | AS53: ='SA2030'!$G54/1000 -> 318.73012 | AT53: =100*AS53/AS$9 -> 2.0645163 | AU53: ='SSA2030'!$G54/1000 -> 292.88714 | AV53: =100*AU53/AU$9 -> 2.9204304 | AW53: ='WA2030'!$G54/1000 -> 22.059383 | AX53: =100*AW53/AW$9 -> 1.2878766 | AY53: =World2045!$G54/1000 -> 499.10739 | AZ53: =100*AY53/AY$9 -> 0.58352866 | BA53: ='Dev''d2045'!$G54/1000 -> 6.7556583 | BB53: =100*BA53/BA$9 -> 0.042319624 | BC53: ='CCA2045'!$G54/1000 -> 2.0842912 | BD53: =100*BC53/BC$9 -> 0.29113031 | BE53: ='EA2045'!$G54/1000 -> 9.3358108 | BF53: =100*BE53/BE$9 -> 0.051348758 | BG53: ='LAC2045'!$G54/1000 -> 9.5336382 | BH53: =100*BG53/BG$9 -> 0.13804496 | BI53: ='NA2045'!$G54/1000 -> 26.423156 | BJ53: =100*BI53/BI$9 -> 0.97635656 | BK53: =Ocea2045!$G54/1000 -> 1.3267994 | BL53: =100*BK53/BK$9 -> 1.1556767 | BM53: ='SEA2045'!$G54/1000 -> 24.539416 | BN53: =100*BM53/BM$9 -> 0.34556504 | BO53: ='SA2045'!$G54/1000 -> 199.9791 | BP53: =100*BO53/BO$9 -> 1.0823705 | BQ53: ='SSA2045'!$G54/1000 -> 202.78765 | BR53: =100*BQ53/BQ$9 -> 1.5881103 | BS53: ='WA2045'!$G54/1000 -> 16.341879 | BT53: =100*BS53/BS$9 -> 0.62891725 | BU53: =World2060!$G54/1000 -> 310.23584 | BV53: =100*BU53/BU$9 -> 0.30465708 | BW53: ='Dev''d2060'!$G54/1000 -> 3.784155 | BX53: =100*BW53/BW$9 -> 0.023700636 | BY53: ='CCA2060'!$G54/1000 -> 0.91500583 | BZ53: =100*BY53/BY$9 -> 0.10730184 | CA53: ='EA2060'!$G54/1000 -> 5.6941183 | CB53: =100*CA53/CA$9 -> 0.028896957 | CC53: ='LAC2060'!$G54/1000 -> 4.5180769 | CD53: =100*CC53/CC$9 -> 0.050917757 | CE53: ='NA2060'!$G54/1000 -> 19.930013 | CF53: =100*CE53/CE$9 -> 0.53212256 | CG53: =Ocea2060!$G54/1000 -> 0.94306271 | CH53: =100*CG53/CG$9 -> 0.65647045 | CI53: ='SEA2060'!$G54/1000 -> 15.826551 | CJ53: =100*CI53/CI$9 -> 0.18533484 | CK53: ='SA2060'!$G54/1000 -> 125.04985 | CL53: =100*CK53/CK$9 -> 0.55758176 | CM53: ='SSA2060'!$G54/1000 -> 122.1035 | CN53: =100*CM53/CM$9 -> 0.68531377 | CO53: ='WA2060'!$G54/1000 -> 11.471504 | CP53: =100*CO53/CO$9 -> 0.3050168
A54: 51 | D54: 2. | E54: Birth asphyxia and birth trauma | G54: =World2016!$G55/1000 -> 678.6383 | H54: =100*G54/G$9 -> 1.1932437 | I54: ='Dev''d2016'!$G55/1000 -> 4.8132016 | J54: =100*I54/I$9 -> 0.037813752 | K54: ='CCA2016'!$G55/1000 -> 5.6920142 | L54: =100*K54/K$9 -> 1.2892089 | M54: ='EA2016'!$G55/1000 -> 25.169216 | N54: =100*M54/M$9 -> 0.22742912 | O54: ='LAC2016'!$G55/1000 -> 16.975727 | P54: =100*O54/O$9 -> 0.44107968 | Q54: ='NA2016'!$G55/1000 -> 22.2779 | R54: =100*Q54/Q$9 -> 1.6279859 | S54: =Ocea2016!$G55/1000 -> 1.6838557 | T54: =100*S54/S$9 -> 2.4132801 | U54: ='SEA2016'!$G55/1000 -> 38.492978 | V54: =100*U54/U$9 -> 0.87976903 | W54: ='SA2016'!$G55/1000 -> 218.71454 | X54: =100*W54/W$9 -> 1.711522 | Y54: ='SSA2016'!$G55/1000 -> 329.42338 | Z54: =100*Y54/Y$9 -> 3.7310415 | AA54: ='WA2016'!$G55/1000 -> 15.395492 | AB54: =100*AA54/AA$9 -> 1.127131 | AC54: =World2030!$G55/1000 -> 479.56731 | AD54: =100*AC54/AC$9 -> 0.70400935 | AE54: ='Dev''d2030'!$G55/1000 -> 2.8647199 | AF54: =100*AE54/AE$9 -> 0.020501144 | AG54: ='CCA2030'!$G55/1000 -> 2.9503448 | AH54: =100*AG54/AG$9 -> 0.55329678 | AI54: ='EA2030'!$G55/1000 -> 11.571049 | AJ54: =100*AI54/AI$9 -> 0.082780718 | AK54: ='LAC2030'!$G55/1000 -> 8.9049387 | AL54: =100*AK54/AK$9 -> 0.17752019 | AM54: ='NA2030'!$G55/1000 -> 15.859134 | AN54: =100*AM54/AM$9 -> 0.85998027 | AO54: =Ocea2030!$G55/1000 -> 1.5171207 | AP54: =100*AO54/AO$9 -> 1.6887938 | AQ54: ='SEA2030'!$G55/1000 -> 23.889019 | AR54: =100*AQ54/AQ$9 -> 0.43400588 | AS54: ='SA2030'!$G55/1000 -> 129.49124 | AT54: =100*AS54/AS$9 -> 0.83875596 | AU54: ='SSA2030'!$G55/1000 -> 270.54318 | AV54: =100*AU54/AU$9 -> 2.6976348 | AW54: ='WA2030'!$G55/1000 -> 11.976569 | AX54: =100*AW54/AW$9 -> 0.69921914 | AY54: =World2045!$G55/1000 -> 325.42415 | AZ54: =100*AY54/AY$9 -> 0.38046786 | BA54: ='Dev''d2045'!$G55/1000 -> 1.6963566 | BB54: =100*BA54/BA$9 -> 0.010626525 | BC54: ='CCA2045'!$G55/1000 -> 1.5941266 | BD54: =100*BC54/BC$9 -> 0.22266493 | BE54: ='EA2045'!$G55/1000 -> 7.3599287 | BF54: =100*BE54/BE$9 -> 0.040481026 | BG54: ='LAC2045'!$G55/1000 -> 4.4060126 | BH54: =100*BG54/BG$9 -> 0.063798082 | BI54: ='NA2045'!$G55/1000 -> 12.619969 | BJ54: =100*BI54/BI$9 -> 0.46631785 | BK54: =Ocea2045!$G55/1000 -> 1.1401019 | BL54: =100*BK54/BK$9 -> 0.9930583 | BM54: ='SEA2045'!$G55/1000 -> 15.131639 | BN54: =100*BM54/BM$9 -> 0.21308434 | BO54: ='SA2045'!$G55/1000 -> 82.752159 | BP54: =100*BO54/BO$9 -> 0.44788929 | BQ54: ='SSA2045'!$G55/1000 -> 189.45896 | BR54: =100*BQ54/BQ$9 -> 1.483728 | BS54: ='WA2045'!$G55/1000 -> 9.2649 | BT54: =100*BS54/BS$9 -> 0.35655971 | BU54: =World2060!$G55/1000 -> 202.87395 | BV54: =100*BU54/BU$9 -> 0.1992258 | BW54: ='Dev''d2060'!$G55/1000 -> 0.95330999 | BX54: =100*BW54/BW$9 -> 0.0059706997 | BY54: ='CCA2060'!$G55/1000 -> 0.70342794 | BZ54: =100*BY54/BY$9 -> 0.082490309 | CA54: ='EA2060'!$G55/1000 -> 4.5048173 | CB54: =100*CA54/CA$9 -> 0.022861399 | CC54: ='LAC2060'!$G55/1000 -> 2.1022992 | CD54: =100*CC54/CC$9 -> 0.02369246 | CE54: ='NA2060'!$G55/1000 -> 9.3423815 | CF54: =100*CE54/CE$9 -> 0.24943746 | CG54: =Ocea2060!$G55/1000 -> 0.81345543 | CH54: =100*CG54/CG$9 -> 0.5662502 | CI54: ='SEA2060'!$G55/1000 -> 9.6365893 | CJ54: =100*CI54/CI$9 -> 0.11284807 | CK54: ='SA2060'!$G55/1000 -> 51.860386 | CL54: =100*CK54/CK$9 -> 0.23123902 | CM54: ='SSA2060'!$G55/1000 -> 116.25985 | CN54: =100*CM54/CM$9 -> 0.65251591 | CO54: ='WA2060'!$G55/1000 -> 6.6974265 | CP54: =100*CO54/CO$9 -> 0.17807844
A55: 52 | D55: 3. | E55: Neonatal sepsis and infections | G55: =World2016!$G56/1000 -> 395.58302 | H55: =100*G55/G$9 -> 0.6955501 | I55: ='Dev''d2016'!$G56/1000 -> 2.0456604 | J55: =100*I55/I$9 -> 0.016071235 | K55: ='CCA2016'!$G56/1000 -> 2.7418004 | L55: =100*K55/K$9 -> 0.62100221 | M55: ='EA2016'!$G56/1000 -> 3.1833839 | N55: =100*M55/M$9 -> 0.028765068 | O55: ='LAC2016'!$G56/1000 -> 13.499287 | P55: =100*O55/O$9 -> 0.35075146 | Q55: ='NA2016'!$G56/1000 -> 14.022149 | R55: =100*Q55/Q$9 -> 1.0246864 | S55: =Ocea2016!$G56/1000 -> 0.91258608 | T55: =100*S55/S$9 -> 1.3079065 | U55: ='SEA2016'!$G56/1000 -> 19.412612 | V55: =100*U55/U$9 -> 0.4436813 | W55: ='SA2016'!$G56/1000 -> 157.8456 | X55: =100*W55/W$9 -> 1.2352001 | Y55: ='SSA2016'!$G56/1000 -> 173.37916 | Z55: =100*Y55/Y$9 -> 1.9636883 | AA55: ='WA2016'!$G56/1000 -> 8.5407829 | AB55: =100*AA55/AA$9 -> 0.62528571 | AC55: =World2030!$G56/1000 -> 291.99709 | AD55: =100*AC55/AC$9 -> 0.42865449 | AE55: ='Dev''d2030'!$G56/1000 -> 1.1640861 | AF55: =100*AE55/AE$9 -> 0.0083306909 | AG55: ='CCA2030'!$G56/1000 -> 1.5400674 | AH55: =100*AG55/AG$9 -> 0.28881856 | AI55: ='EA2030'!$G56/1000 -> 1.9725474 | AJ55: =100*AI55/AI$9 -> 0.014111849 | AK55: ='LAC2030'!$G56/1000 -> 7.4516715 | AL55: =100*AK55/AK$9 -> 0.14854927 | AM55: ='NA2030'!$G56/1000 -> 11.353479 | AN55: =100*AM55/AM$9 -> 0.61565581 | AO55: =Ocea2030!$G56/1000 -> 0.88123008 | AP55: =100*AO55/AO$9 -> 0.98094763 | AQ55: ='SEA2030'!$G56/1000 -> 12.626763 | AR55: =100*AQ55/AQ$9 -> 0.22939784 | AS55: ='SA2030'!$G56/1000 -> 100.55357 | AT55: =100*AS55/AS$9 -> 0.65131746 | AU55: ='SSA2030'!$G56/1000 -> 147.978 | AV55: =100*AU55/AU$9 -> 1.4755154 | AW55: ='WA2030'!$G56/1000 -> 6.4756691 | AX55: =100*AW55/AW$9 -> 0.37806419 | AY55: =World2045!$G56/1000 -> 195.34502 | AZ55: =100*AY55/AY$9 -> 0.22838655 | BA55: ='Dev''d2045'!$G56/1000 -> 0.68226178 | BB55: =100*BA55/BA$9 -> 0.004273908 | BC55: ='CCA2045'!$G56/1000 -> 0.83180509 | BD55: =100*BC55/BC$9 -> 0.11618514 | BE55: ='EA2045'!$G56/1000 -> 1.2199548 | BF55: =100*BE55/BE$9 -> 0.0067099864 | BG55: ='LAC2045'!$G56/1000 -> 3.669423 | BH55: =100*BG55/BG$9 -> 0.053132428 | BI55: ='NA2045'!$G56/1000 -> 9.0996204 | BJ55: =100*BI55/BI$9 -> 0.33623818 | BK55: =Ocea2045!$G56/1000 -> 0.66332179 | BL55: =100*BK55/BK$9 -> 0.57777049 | BM55: ='SEA2045'!$G56/1000 -> 7.95758 | BN55: =100*BM55/BM$9 -> 0.11205896 | BO55: ='SA2045'!$G56/1000 -> 64.725788 | BP55: =100*BO55/BO$9 -> 0.35032303 | BQ55: ='SSA2045'!$G56/1000 -> 101.55781 | BR55: =100*BQ55/BQ$9 -> 0.79533934 | BS55: ='WA2045'!$G56/1000 -> 4.9374582 | BT55: =100*BS55/BS$9 -> 0.19001809 | BU55: =World2060!$G56/1000 -> 120.36791 | BV55: =100*BU55/BU$9 -> 0.11820342 | BW55: ='Dev''d2060'!$G56/1000 -> 0.37809105 | BX55: =100*BW55/BW$9 -> 0.0023680315 | BY55: ='CCA2060'!$G56/1000 -> 0.36711366 | BZ55: =100*BY55/BY$9 -> 0.043051061 | CA55: ='EA2060'!$G56/1000 -> 0.73519619 | CB55: =100*CA55/CA$9 -> 0.0037310311 | CC55: ='LAC2060'!$G56/1000 -> 1.7457023 | CD55: =100*CC55/CC$9 -> 0.01967369 | CE55: ='NA2060'!$G56/1000 -> 6.8562452 | CF55: =100*CE55/CE$9 -> 0.18305872 | CG55: =Ocea2060!$G56/1000 -> 0.47377352 | CH55: =100*CG55/CG$9 -> 0.32979601 | CI55: ='SEA2060'!$G56/1000 -> 5.0434941 | CJ55: =100*CI55/CI$9 -> 0.059061205 | CK55: ='SA2060'!$G56/1000 -> 40.663755 | CL55: =100*CK55/CK$9 -> 0.18131464 | CM55: ='SSA2060'!$G56/1000 -> 60.576483 | CN55: =100*CM55/CM$9 -> 0.33998941 | CO55: ='WA2060'!$G56/1000 -> 3.5280556 | CP55: =100*CO55/CO$9 -> 0.093807768
A56: 53 | D56: 4. | E56: Other neonatal conditions | G56: =World2016!$G57/1000 -> 187.2466 | H56: =100*G56/G$9 -> 0.32923404 | I56: ='Dev''d2016'!$G57/1000 -> 9.0581145 | J56: =100*I56/I$9 -> 0.071162881 | K56: ='CCA2016'!$G57/1000 -> 1.8723133 | L56: =100*K56/K$9 -> 0.42406832 | M56: ='EA2016'!$G57/1000 -> 11.284995 | N56: =100*M56/M$9 -> 0.10197125 | O56: ='LAC2016'!$G57/1000 -> 11.425783 | P56: =100*O56/O$9 -> 0.2968757 | Q56: ='NA2016'!$G57/1000 -> 8.862303 | R56: =100*Q56/Q$9 -> 0.64762409 | S56: =Ocea2016!$G57/1000 -> 0.41689634 | T56: =100*S56/S$9 -> 0.59749041 | U56: ='SEA2016'!$G57/1000 -> 12.53842 | V56: =100*U56/U$9 -> 0.28656949 | W56: ='SA2016'!$G57/1000 -> 68.334363 | X56: =100*W56/W$9 -> 0.5347416 | Y56: ='SSA2016'!$G57/1000 -> 56.720536 | Z56: =100*Y56/Y$9 -> 0.64241547 | AA56: ='WA2016'!$G57/1000 -> 6.732881 | AB56: =100*AA56/AA$9 -> 0.49292604 | AC56: =World2030!$G57/1000 -> 97.585296 | AD56: =100*AC56/AC$9 -> 0.14325614 | AE56: ='Dev''d2030'!$G57/1000 -> 4.4367429 | AF56: =100*AE56/AE$9 -> 0.031751203 | AG56: ='CCA2030'!$G57/1000 -> 0.73420805 | AH56: =100*AG56/AG$9 -> 0.13769067 | AI56: ='EA2030'!$G57/1000 -> 4.0193559 | AJ56: =100*AI56/AI$9 -> 0.028754971 | AK56: ='LAC2030'!$G57/1000 -> 4.5228313 | AL56: =100*AK56/AK$9 -> 0.090162763 | AM56: ='NA2030'!$G57/1000 -> 5.8564032 | AN56: =100*AM56/AM$9 -> 0.31757038 | AO56: =Ocea2030!$G57/1000 -> 0.33571938 | AP56: =100*AO56/AO$9 -> 0.37370846 | AQ56: ='SEA2030'!$G57/1000 -> 6.3489273 | AR56: =100*AQ56/AQ$9 -> 0.1153447 | AS56: ='SA2030'!$G57/1000 -> 33.32612 | AT56: =100*AS56/AS$9 -> 0.21586387 | AU56: ='SSA2030'!$G57/1000 -> 34.200991 | AV56: =100*AU56/AU$9 -> 0.34102425 | AW56: ='WA2030'!$G57/1000 -> 3.8039976 | AX56: =100*AW56/AW$9 -> 0.22208597 | AY56: =World2045!$G57/1000 -> 38.000467 | AZ56: =100*AY56/AY$9 -> 0.044428037 | BA56: ='Dev''d2045'!$G57/1000 -> 1.525431 | BB56: =100*BA56/BA$9 -> 0.0095557923 | BC56: ='CCA2045'!$G57/1000 -> 0.18967755 | BD56: =100*BC56/BC$9 -> 0.026493843 | BE56: ='EA2045'!$G57/1000 -> 1.6216964 | BF56: =100*BE56/BE$9 -> 0.0089196428 | BG56: ='LAC2045'!$G57/1000 -> 1.1858596 | BH56: =100*BG56/BG$9 -> 0.017170983 | BI56: ='NA2045'!$G57/1000 -> 3.1959146 | BJ56: =100*BI56/BI$9 -> 0.11809158 | BK56: =Ocea2045!$G57/1000 -> 0.16182034 | BL56: =100*BK56/BK$9 -> 0.14094971 | BM56: ='SEA2045'!$G57/1000 -> 2.5620217 | BN56: =100*BM56/BM$9 -> 0.036078492 | BO56: ='SA2045'!$G57/1000 -> 13.783781 | BP56: =100*BO56/BO$9 -> 0.074603589 | BQ56: ='SSA2045'!$G57/1000 -> 11.965218 | BR56: =100*BQ56/BQ$9 -> 0.093704358 | BS56: ='WA2045'!$G57/1000 -> 1.8090459 | BT56: =100*BS56/BS$9 -> 0.069621137 | BU56: =World2060!$G57/1000 -> 14.920697 | BV56: =100*BU56/BU$9 -> 0.014652389 | BW56: ='Dev''d2060'!$G57/1000 -> 0.51579072 | BX56: =100*BW56/BW$9 -> 0.0032304618 | BY56: ='CCA2060'!$G57/1000 -> 0.040907198 | BZ56: =100*BY56/BY$9 -> 0.0047971473 | CA56: ='EA2060'!$G57/1000 -> 0.66628597 | CB56: =100*CA56/CA$9 -> 0.0033813202 | CC56: ='LAC2060'!$G57/1000 -> 0.34749797 | CD56: =100*CC56/CC$9 -> 0.0039162275 | CE56: ='NA2060'!$G57/1000 -> 1.6407477 | CF56: =100*CE56/CE$9 -> 0.043807241 | CG56: =Ocea2060!$G57/1000 -> 0.075983246 | CH56: =100*CG56/CG$9 -> 0.0528923 | CI56: ='SEA2060'!$G57/1000 -> 1.1205042 | CJ56: =100*CI56/CI$9 -> 0.013121524 | CK56: ='SA2060'!$G57/1000 -> 5.8231249 | CL56: =100*CK56/CK$9 -> 0.025964591 | CM56: ='SSA2060'!$G57/1000 -> 3.8451123 | CN56: =100*CM56/CM$9 -> 0.02158094 | CO56: ='WA2060'!$G57/1000 -> 0.84474293 | CP56: =100*CO56/CO$9 -> 0.022460941
A57: 54 | C57: E. | D57: Nutritional deficiencies | G57: =World2016!$G58/1000 -> 452.65707 | H57: =100*G57/G$9 -> 0.79590289 | I57: ='Dev''d2016'!$G58/1000 -> 27.332902 | J57: =100*I57/I$9 -> 0.21473432 | K57: ='CCA2016'!$G58/1000 -> 0.49132296 | L57: =100*K57/K$9 -> 0.11128186 | M57: ='EA2016'!$G58/1000 -> 16.884973 | N57: =100*M57/M$9 -> 0.15257267 | O57: ='LAC2016'!$G58/1000 -> 37.745712 | P57: =100*O57/O$9 -> 0.98074545 | Q57: ='NA2016'!$G58/1000 -> 3.3116726 | R57: =100*Q57/Q$9 -> 0.2420047 | S57: =Ocea2016!$G58/1000 -> 0.45147114 | T57: =100*S57/S$9 -> 0.64704256 | U57: ='SEA2016'!$G58/1000 -> 30.680597 | V57: =100*U57/U$9 -> 0.70121461 | W57: ='SA2016'!$G58/1000 -> 100.5029 | X57: =100*W57/W$9 -> 0.78647222 | Y57: ='SSA2016'!$G58/1000 -> 233.31332 | Z57: =100*Y57/Y$9 -> 2.6425012 | AA57: ='WA2016'!$G58/1000 -> 1.9422026 | AB57: =100*AA57/AA$9 -> 0.14219206 | AC57: =World2030!$G58/1000 -> 437.89856 | AD57: =100*AC57/AC$9 -> 0.64283922 | AE57: ='Dev''d2030'!$G58/1000 -> 30.214211 | AF57: =100*AE57/AE$9 -> 0.21622564 | AG57: ='CCA2030'!$G58/1000 -> 0.3298243 | AH57: =100*AG57/AG$9 -> 0.061854034 | AI57: ='EA2030'!$G58/1000 -> 23.081247 | AJ57: =100*AI57/AI$9 -> 0.1651261 | AK57: ='LAC2030'!$G58/1000 -> 38.590509 | AL57: =100*AK57/AK$9 -> 0.76930282 | AM57: ='NA2030'!$G58/1000 -> 3.0096007 | AN57: =100*AM57/AM$9 -> 0.16319915 | AO57: =Ocea2030!$G58/1000 -> 0.45183658 | AP57: =100*AO57/AO$9 -> 0.50296515 | AQ57: ='SEA2030'!$G58/1000 -> 35.136116 | AR57: =100*AQ57/AQ$9 -> 0.63833853 | AS57: ='SA2030'!$G58/1000 -> 114.36674 | AT57: =100*AS57/AS$9 -> 0.74078977 | AU57: ='SSA2030'!$G58/1000 -> 190.59915 | AV57: =100*AU57/AU$9 -> 1.9004985 | AW57: ='WA2030'!$G58/1000 -> 2.1193166 | AX57: =100*AW57/AW$9 -> 0.12373049 | AY57: =World2045!$G58/1000 -> 487.45647 | AZ57: =100*AY57/AY$9 -> 0.56990705 | BA57: ='Dev''d2045'!$G58/1000 -> 36.91625 | BB57: =100*BA57/BA$9 -> 0.23125531 | BC57: ='CCA2045'!$G58/1000 -> 0.29960426 | BD57: =100*BC57/BC$9 -> 0.041848221 | BE57: ='EA2045'!$G58/1000 -> 37.811157 | BF57: =100*BE57/BE$9 -> 0.20796865 | BG57: ='LAC2045'!$G58/1000 -> 54.424526 | BH57: =100*BG57/BG$9 -> 0.78805503 | BI57: ='NA2045'!$G58/1000 -> 3.3762268 | BJ57: =100*BI57/BI$9 -> 0.12475426 | BK57: =Ocea2045!$G58/1000 -> 0.43404761 | BL57: =100*BK57/BK$9 -> 0.37806672 | BM57: ='SEA2045'!$G58/1000 -> 50.157747 | BN57: =100*BM57/BM$9 -> 0.7063234 | BO57: ='SA2045'!$G58/1000 -> 147.80811 | BP57: =100*BO57/BO$9 -> 0.79999931 | BQ57: ='SSA2045'!$G58/1000 -> 153.14558 | BR57: =100*BQ57/BQ$9 -> 1.1993436 | BS57: ='WA2045'!$G58/1000 -> 3.0832225 | BT57: =100*BS57/BS$9 -> 0.11865783 | BU57: =World2060!$G58/1000 -> 610.09808 | BV57: =100*BU57/BU$9 -> 0.5991271 | BW57: ='Dev''d2060'!$G58/1000 -> 37.338651 | BX57: =100*BW57/BW$9 -> 0.23385664 | BY57: ='CCA2060'!$G58/1000 -> 0.31626852 | BZ57: =100*BY57/BY$9 -> 0.037088501 | CA57: ='EA2060'!$G58/1000 -> 49.527864 | CB57: =100*CA57/CA$9 -> 0.25134788 | CC57: ='LAC2060'!$G58/1000 -> 73.943706 | CD57: =100*CC57/CC$9 -> 0.83332969 | CE57: ='NA2060'!$G58/1000 -> 4.1740723 | CF57: =100*CE57/CE$9 -> 0.11144589 | CG57: =Ocea2060!$G58/1000 -> 0.4835267 | CH57: =100*CG57/CG$9 -> 0.33658524 | CI57: ='SEA2060'!$G58/1000 -> 66.33209 | CJ57: =100*CI57/CI$9 -> 0.77677363 | CK57: ='SA2060'!$G58/1000 -> 196.00106 | CL57: =100*CK57/CK$9 -> 0.87394438 | CM57: ='SSA2060'!$G58/1000 -> 177.36986 | CN57: =100*CM57/CM$9 -> 0.99549974 | CO57: ='WA2060'!$G58/1000 -> 4.610985 | CP57: =100*CO57/CO$9 -> 0.12260187
A58: 55 | D58: 1. | E58: Protein-energy malnutrition | G58: =World2016!$G59/1000 -> 342.31958 | H58: =100*G58/G$9 -> 0.60189747 | I58: ='Dev''d2016'!$G59/1000 -> 14.664858 | J58: =100*I58/I$9 -> 0.1152109 | K58: ='CCA2016'!$G59/1000 -> 0.2548512 | L58: =100*K58/K$9 -> 0.057722347 | M58: ='EA2016'!$G59/1000 -> 12.947633 | N58: =100*M58/M$9 -> 0.11699486 | O58: ='LAC2016'!$G59/1000 -> 28.296271 | P58: =100*O58/O$9 -> 0.73522096 | Q58: ='NA2016'!$G59/1000 -> 2.8565078 | R58: =100*Q58/Q$9 -> 0.20874295 | S58: =Ocea2016!$G59/1000 -> 0.34830062 | T58: =100*S58/S$9 -> 0.49917992 | U58: ='SEA2016'!$G59/1000 -> 24.986666 | V58: =100*U58/U$9 -> 0.57107804 | W58: ='SA2016'!$G59/1000 -> 41.989829 | X58: =100*W58/W$9 -> 0.3285859 | Y58: ='SSA2016'!$G59/1000 -> 214.4169 | Z58: =100*Y58/Y$9 -> 2.4284809 | AA58: ='WA2016'!$G59/1000 -> 1.5577627 | AB58: =100*AA58/AA$9 -> 0.11404654 | AC58: =World2030!$G59/1000 -> 290.86116 | AD58: =100*AC58/AC$9 -> 0.42698693 | AE58: ='Dev''d2030'!$G59/1000 -> 15.38 | AF58: =100*AE58/AE$9 -> 0.11006577 | AG58: ='CCA2030'!$G59/1000 -> 0.13230435 | AH58: =100*AG58/AG$9 -> 0.024811869 | AI58: ='EA2030'!$G59/1000 -> 17.300499 | AJ58: =100*AI58/AI$9 -> 0.12376991 | AK58: ='LAC2030'!$G59/1000 -> 27.269032 | AL58: =100*AK58/AK$9 -> 0.54360887 | AM58: ='NA2030'!$G59/1000 -> 2.5118104 | AN58: =100*AM58/AM$9 -> 0.13620588 | AO58: =Ocea2030!$G59/1000 -> 0.35086755 | AP58: =100*AO58/AO$9 -> 0.39057075 | AQ58: ='SEA2030'!$G59/1000 -> 28.640233 | AR58: =100*AQ58/AQ$9 -> 0.52032399 | AS58: ='SA2030'!$G59/1000 -> 33.25132 | AT58: =100*AS58/AS$9 -> 0.21537937 | AU58: ='SSA2030'!$G59/1000 -> 164.38155 | AV58: =100*AU58/AU$9 -> 1.639078 | AW58: ='WA2030'!$G59/1000 -> 1.6435492 | AX58: =100*AW58/AW$9 -> 0.095954113 | AY58: =World2045!$G59/1000 -> 272.91501 | AZ58: =100*AY58/AY$9 -> 0.31907709 | BA58: ='Dev''d2045'!$G59/1000 -> 18.50281 | BB58: =100*BA58/BA$9 -> 0.11590757 | BC58: ='CCA2045'!$G59/1000 -> 0.079036832 | BD58: =100*BC58/BC$9 -> 0.011039732 | BE58: ='EA2045'!$G59/1000 -> 27.684114 | BF58: =100*BE58/BE$9 -> 0.15226796 | BG58: ='LAC2045'!$G59/1000 -> 37.88178 | BH58: =100*BG58/BG$9 -> 0.54851975 | BI58: ='NA2045'!$G59/1000 -> 2.6675782 | BJ58: =100*BI58/BI$9 -> 0.098569128 | BK58: =Ocea2045!$G59/1000 -> 0.33165785 | BL58: =100*BK58/BK$9 -> 0.28888259 | BM58: ='SEA2045'!$G59/1000 -> 41.388293 | BN58: =100*BM58/BM$9 -> 0.58283159 | BO58: ='SA2045'!$G59/1000 -> 30.287773 | BP58: =100*BO58/BO$9 -> 0.1639301 | BQ58: ='SSA2045'!$G59/1000 -> 111.84471 | BR58: =100*BQ58/BQ$9 -> 0.87590013 | BS58: ='WA2045'!$G59/1000 -> 2.2472634 | BT58: =100*BS58/BS$9 -> 0.086485937 | BU58: =World2060!$G59/1000 -> 310.41253 | BV58: =100*BU58/BU$9 -> 0.3048306 | BW58: ='Dev''d2060'!$G59/1000 -> 18.137808 | BX58: =100*BW58/BW$9 -> 0.11359936 | BY58: ='CCA2060'!$G59/1000 -> 0.065235364 | BZ58: =100*BY58/BY$9 -> 0.0076500875 | CA58: ='EA2060'!$G59/1000 -> 35.622449 | CB58: =100*CA58/CA$9 -> 0.18077959 | CC58: ='LAC2060'!$G59/1000 -> 50.938784 | CD58: =100*CC58/CC$9 -> 0.57406915 | CE58: ='NA2060'!$G59/1000 -> 3.1607076 | CF58: =100*CE58/CE$9 -> 0.084389498 | CG58: =Ocea2060!$G59/1000 -> 0.37389469 | CH58: =100*CG58/CG$9 -> 0.26026988 | CI58: ='SEA2060'!$G59/1000 -> 54.72829 | CJ58: =100*CI58/CI$9 -> 0.64088878 | CK58: ='SA2060'!$G59/1000 -> 34.273448 | CL58: =100*CK58/CK$9 -> 0.15282105 | CM58: ='SSA2060'!$G59/1000 -> 109.90563 | CN58: =100*CM58/CM$9 -> 0.61685242 | CO58: ='WA2060'!$G59/1000 -> 3.2062866 | CP58: =100*CO58/CO$9 -> 0.085252226
A59: 56 | D59: 2. | E59: Iodine deficiency | G59: =World2016!$G60/1000 -> 2.6572301 | H59: =100*G59/G$9 -> 0.004672184 | I59: ='Dev''d2016'!$G60/1000 -> 0.045543222 | J59: =100*I59/I$9 -> 0.00035779929 | K59: ='CCA2016'!$G60/1000 -> 0.015028378 | L59: =100*K59/K$9 -> 0.0034038422 | M59: ='EA2016'!$G60/1000 -> 0.14395178 | N59: =100*M59/M$9 -> 0.0013007488 | O59: ='LAC2016'!$G60/1000 -> 0.051967873 | P59: =100*O59/O$9 -> 0.0013502793 | Q59: ='NA2016'!$G60/1000 -> 0.097301306 | R59: =100*Q59/Q$9 -> 0.0071104169 | S59: =Ocea2016!$G60/1000 -> 0.0010610762 | T59: =100*S59/S$9 -> 0.0015207207 | U59: ='SEA2016'!$G60/1000 -> 0.13211425 | V59: =100*U59/U$9 -> 0.0030195125 | W59: ='SA2016'!$G60/1000 -> 0.93958395 | X59: =100*W59/W$9 -> 0.007352591 | Y59: ='SSA2016'!$G60/1000 -> 1.1945448 | Z59: =100*Y59/Y$9 -> 0.013529387 | AA59: ='WA2016'!$G60/1000 -> 0.036133451 | AB59: =100*AA59/AA$9 -> 0.0026453934 | AC59: =World2030!$G60/1000 -> 2.5115384 | AD59: =100*AC59/AC$9 -> 0.0036869621 | AE59: ='Dev''d2030'!$G60/1000 -> 0.037472631 | AF59: =100*AE59/AE$9 -> 0.00026816995 | AG59: ='CCA2030'!$G60/1000 -> 0.0094062602 | AH59: =100*AG59/AG$9 -> 0.0017640154 | AI59: ='EA2030'!$G60/1000 -> 0.1612074 | AJ59: =100*AI59/AI$9 -> 0.0011532977 | AK59: ='LAC2030'!$G60/1000 -> 0.037707021 | AL59: =100*AK59/AK$9 -> 0.00075169046 | AM59: ='NA2030'!$G60/1000 -> 0.087700738 | AN59: =100*AM59/AM$9 -> 0.0047556761 | AO59: =Ocea2030!$G60/1000 -> 0.0010303795 | AP59: =100*AO59/AO$9 -> 0.0011469744 | AQ59: ='SEA2030'!$G60/1000 -> 0.12648524 | AR59: =100*AQ59/AQ$9 -> 0.002297932 | AS59: ='SA2030'!$G60/1000 -> 0.93297058 | AT59: =100*AS59/AS$9 -> 0.0060431471 | AU59: ='SSA2030'!$G60/1000 -> 1.0851128 | AV59: =100*AU59/AU$9 -> 0.010819855 | AW59: ='WA2030'!$G60/1000 -> 0.032445403 | AX59: =100*AW59/AW$9 -> 0.0018942359 | AY59: =World2045!$G60/1000 -> 2.2382663 | AZ59: =100*AY59/AY$9 -> 0.0026168568 | BA59: ='Dev''d2045'!$G60/1000 -> 0.030654601 | BB59: =100*BA59/BA$9 -> 0.00019203031 | BC59: ='CCA2045'!$G60/1000 -> 0.0062998472 | BD59: =100*BC59/BC$9 -> 0.00087995212 | BE59: ='EA2045'!$G60/1000 -> 0.17998971 | BF59: =100*BE59/BE$9 -> 0.00098997808 | BG59: ='LAC2045'!$G60/1000 -> 0.034089967 | BH59: =100*BG59/BG$9 -> 0.00049361514 | BI59: ='NA2045'!$G60/1000 -> 0.07623052 | BJ59: =100*BI59/BI$9 -> 0.0028167781 | BK59: =Ocea2045!$G60/1000 -> 0.00086045212 | BL59: =100*BK59/BK$9 -> 0.00074947611 | BM59: ='SEA2045'!$G60/1000 -> 0.13499521 | BN59: =100*BM59/BM$9 -> 0.001901008 | BO59: ='SA2045'!$G60/1000 -> 0.82401095 | BP59: =100*BO59/BO$9 -> 0.0044598919 | BQ59: ='SSA2045'!$G60/1000 -> 0.91654006 | BR59: =100*BQ59/BQ$9 -> 0.0071777877 | BS59: ='WA2045'!$G60/1000 -> 0.034595003 | BT59: =100*BS59/BS$9 -> 0.0013313888 | BU59: =World2060!$G60/1000 -> 2.1878032 | BV59: =100*BU59/BU$9 -> 0.0021484614 | BW59: ='Dev''d2060'!$G60/1000 -> 0.025859708 | BX59: =100*BW59/BW$9 -> 0.00016196259 | BY59: ='CCA2060'!$G60/1000 -> 0.0051619787 | BZ59: =100*BY59/BY$9 -> 0.0006053402 | CA59: ='EA2060'!$G60/1000 -> 0.1625331 | CB59: =100*CA59/CA$9 -> 0.00082483568 | CC59: ='LAC2060'!$G60/1000 -> 0.035051226 | CD59: =100*CC59/CC$9 -> 0.00039501979 | CE59: ='NA2060'!$G60/1000 -> 0.074077905 | CF59: =100*CE59/CE$9 -> 0.0019778474 | CG59: =Ocea2060!$G60/1000 -> 0.00081929349 | CH59: =100*CG59/CG$9 -> 0.0005703141 | CI59: ='SEA2060'!$G60/1000 -> 0.13910607 | CJ59: =100*CI59/CI$9 -> 0.0016289842 | CK59: ='SA2060'!$G60/1000 -> 0.79785686 | CL59: =100*CK59/CK$9 -> 0.0035575447 | CM59: ='SSA2060'!$G60/1000 -> 0.9071566 | CN59: =100*CM59/CM$9 -> 0.0050914748 | CO59: ='WA2060'!$G60/1000 -> 0.040180433 | CP59: =100*CO59/CO$9 -> 0.0010683609
A60: 57 | D60: 3. | E60: Vitamin A deficiency | G60: =World2016!$G61/1000 -> 0.0084214639 | H60: =100*G60/G$9 -> 1.4807385e-05 | I60: ='Dev''d2016'!$G61/1000 -> 0.0016925632 | J60: =100*I60/I$9 -> 1.3297212e-05 | K60: ='CCA2016'!$G61/1000 -> 0 | L60: =100*K60/K$9 -> 0 | M60: ='EA2016'!$G61/1000 -> 0 | N60: =100*M60/M$9 -> 0 | O60: ='LAC2016'!$G61/1000 -> 0.0051449911 | P60: =100*O60/O$9 -> 0.00013368211 | Q60: ='NA2016'!$G61/1000 -> 0 | R60: =100*Q60/Q$9 -> 0 | S60: =Ocea2016!$G61/1000 -> 0 | T60: =100*S60/S$9 -> 0 | U60: ='SEA2016'!$G61/1000 -> 0.0015839096 | V60: =100*U60/U$9 -> 3.6200748e-05 | W60: ='SA2016'!$G61/1000 -> 0 | X60: =100*W60/W$9 -> 0 | Y60: ='SSA2016'!$G61/1000 -> 0 | Z60: =100*Y60/Y$9 -> 0 | AA60: ='WA2016'!$G61/1000 -> 0 | AB60: =100*AA60/AA$9 -> 0 | AC60: =World2030!$G61/1000 -> 0.0067494529 | AD60: =100*AC60/AC$9 -> 9.9082606e-06 | AE60: ='Dev''d2030'!$G61/1000 -> 0.0013279165 | AF60: =100*AE60/AE$9 -> 9.5031307e-06 | AG60: ='CCA2030'!$G61/1000 -> 0 | AH60: =100*AG60/AG$9 -> 0 | AI60: ='EA2030'!$G61/1000 -> 0 | AJ60: =100*AI60/AI$9 -> 0 | AK60: ='LAC2030'!$G61/1000 -> 0.0043673736 | AL60: =100*AK60/AK$9 -> 8.7063709e-05 | AM60: ='NA2030'!$G61/1000 -> 0 | AN60: =100*AM60/AM$9 -> 0 | AO60: =Ocea2030!$G61/1000 -> 0 | AP60: =100*AO60/AO$9 -> 0 | AQ60: ='SEA2030'!$G61/1000 -> 0.0010541628 | AR60: =100*AQ60/AQ$9 -> 1.9151596e-05 | AS60: ='SA2030'!$G61/1000 -> 0 | AT60: =100*AS60/AS$9 -> 0 | AU60: ='SSA2030'!$G61/1000 -> 0 | AV60: =100*AU60/AU$9 -> 0 | AW60: ='WA2030'!$G61/1000 -> 0 | AX60: =100*AW60/AW$9 -> 0 | AY60: =World2045!$G61/1000 -> 0.0080072821 | AZ60: =100*AY60/AY$9 -> 9.3616698e-06 | BA60: ='Dev''d2045'!$G61/1000 -> 0.0013102668 | BB60: =100*BA60/BA$9 -> 8.2079339e-06 | BC60: ='CCA2045'!$G61/1000 -> 0 | BD60: =100*BC60/BC$9 -> 0 | BE60: ='EA2045'!$G61/1000 -> 0 | BF60: =100*BE60/BE$9 -> 0 | BG60: ='LAC2045'!$G61/1000 -> 0.0056119415 | BH60: =100*BG60/BG$9 -> 8.1259665e-05 | BI60: ='NA2045'!$G61/1000 -> 0 | BJ60: =100*BI60/BI$9 -> 0 | BK60: =Ocea2045!$G61/1000 -> 0 | BL60: =100*BK60/BK$9 -> 0 | BM60: ='SEA2045'!$G61/1000 -> 0.0010850738 | BN60: =100*BM60/BM$9 -> 1.5280053e-05 | BO60: ='SA2045'!$G61/1000 -> 0 | BP60: =100*BO60/BO$9 -> 0 | BQ60: ='SSA2045'!$G61/1000 -> 0 | BR60: =100*BQ60/BQ$9 -> 0 | BS60: ='WA2045'!$G61/1000 -> 0 | BT60: =100*BS60/BS$9 -> 0 | BU60: =World2060!$G61/1000 -> 0.0093375385 | BV60: =100*BU60/BU$9 -> 9.1696279e-06 | BW60: ='Dev''d2060'!$G61/1000 -> 0.0012863485 | BX60: =100*BW60/BW$9 -> 8.0565616e-06 | BY60: ='CCA2060'!$G61/1000 -> 0 | BZ60: =100*BY60/BY$9 -> 0 | CA60: ='EA2060'!$G61/1000 -> 0 | CB60: =100*CA60/CA$9 -> 0 | CC60: ='LAC2060'!$G61/1000 -> 0.0068854022 | CD60: =100*CC60/CC$9 -> 7.7597004e-05 | CE60: ='NA2060'!$G61/1000 -> 0 | CF60: =100*CE60/CE$9 -> 0 | CG60: =Ocea2060!$G61/1000 -> 0 | CH60: =100*CG60/CG$9 -> 0 | CI60: ='SEA2060'!$G61/1000 -> 0.0011657878 | CJ60: =100*CI60/CI$9 -> 1.3651812e-05 | CK60: ='SA2060'!$G61/1000 -> 0 | CL60: =100*CK60/CK$9 -> 0 | CM60: ='SSA2060'!$G61/1000 -> 0 | CN60: =100*CM60/CM$9 -> 0 | CO60: ='WA2060'!$G61/1000 -> 0 | CP60: =100*CO60/CO$9 -> 0
A61: 58 | D61: 4. | E61: Iron-deficiency anaemia | G61: =World2016!$G62/1000 -> 23.917949 | H61: =100*G61/G$9 -> 0.042054717 | I61: ='Dev''d2016'!$G62/1000 -> 10.253671 | J61: =100*I61/I$9 -> 0.080555479 | K61: ='CCA2016'!$G62/1000 -> 0.11075107 | L61: =100*K61/K$9 -> 0.025084488 | M61: ='EA2016'!$G62/1000 -> 0.53860079 | N61: =100*M61/M$9 -> 0.0048667985 | O61: ='LAC2016'!$G62/1000 -> 6.8669043 | P61: =100*O61/O$9 -> 0.17842252 | Q61: ='NA2016'!$G62/1000 -> 0.095561705 | R61: =100*Q61/Q$9 -> 0.0069832934 | S61: =Ocea2016!$G62/1000 -> 0.097713776 | T61: =100*S61/S$9 -> 0.14004211 | U61: ='SEA2016'!$G62/1000 -> 3.4809895 | V61: =100*U61/U$9 -> 0.0795591 | W61: ='SA2016'!$G62/1000 -> 1.3892193 | X61: =100*W61/W$9 -> 0.010871153 | Y61: ='SSA2016'!$G62/1000 -> 1.0137096 | Z61: =100*Y61/Y$9 -> 0.011481251 | AA61: ='WA2016'!$G62/1000 -> 0.070828584 | AB61: =100*AA61/AA$9 -> 0.005185485 | AC61: =World2030!$G62/1000 -> 27.504498 | AD61: =100*AC61/AC$9 -> 0.040376863 | AE61: ='Dev''d2030'!$G62/1000 -> 12.091739 | AF61: =100*AE61/AE$9 -> 0.086533585 | AG61: ='CCA2030'!$G62/1000 -> 0.073919532 | AH61: =100*AG61/AG$9 -> 0.013862597 | AI61: ='EA2030'!$G62/1000 -> 0.86844449 | AJ61: =100*AI61/AI$9 -> 0.0062129596 | AK61: ='LAC2030'!$G62/1000 -> 8.2107253 | AL61: =100*AK61/AK$9 -> 0.16368103 | AM61: ='NA2030'!$G62/1000 -> 0.071304403 | AN61: =100*AM61/AM$9 -> 0.0038665655 | AO61: =Ocea2030!$G62/1000 -> 0.093819954 | AP61: =100*AO61/AO$9 -> 0.10443636 | AQ61: ='SEA2030'!$G62/1000 -> 3.6250372 | AR61: =100*AQ61/AQ$9 -> 0.065858186 | AS61: ='SA2030'!$G62/1000 -> 1.4297624 | AT61: =100*AS61/AS$9 -> 0.009261026 | AU61: ='SSA2030'!$G62/1000 -> 0.96613003 | AV61: =100*AU61/AU$9 -> 0.0096334568 | AW61: ='WA2030'!$G62/1000 -> 0.07361522 | AX61: =100*AW61/AW$9 -> 0.0042978228 | AY61: =World2045!$G62/1000 -> 33.882107 | AZ61: =100*AY61/AY$9 -> 0.03961308 | BA61: ='Dev''d2045'!$G62/1000 -> 14.841575 | BB61: =100*BA61/BA$9 -> 0.092972414 | BC61: ='CCA2045'!$G62/1000 -> 0.057433673 | BD61: =100*BC61/BC$9 -> 0.0080222393 | BE61: ='EA2045'!$G62/1000 -> 1.3411004 | BF61: =100*BE61/BE$9 -> 0.0073763105 | BG61: ='LAC2045'!$G62/1000 -> 11.298919 | BH61: =100*BG61/BG$9 -> 0.16360584 | BI61: ='NA2045'!$G62/1000 -> 0.049696901 | BJ61: =100*BI61/BI$9 -> 0.0018363399 | BK61: =Ocea2045!$G62/1000 -> 0.091807456 | BL61: =100*BK61/BK$9 -> 0.079966676 | BM61: ='SEA2045'!$G62/1000 -> 3.7020071 | BN61: =100*BM61/BM$9 -> 0.052131812 | BO61: ='SA2045'!$G62/1000 -> 1.5335238 | BP61: =100*BO61/BO$9 -> 0.0083000721 | BQ61: ='SSA2045'!$G62/1000 -> 0.82986156 | BR61: =100*BQ61/BQ$9 -> 0.0064989741 | BS61: ='WA2045'!$G62/1000 -> 0.13618266 | BT61: =100*BS61/BS$9 -> 0.0052409899 | BU61: =World2060!$G62/1000 -> 38.175616 | BV61: =100*BU61/BU$9 -> 0.03748913 | BW61: ='Dev''d2060'!$G62/1000 -> 15.037014 | BX61: =100*BW61/BW$9 -> 0.094178701 | BY61: ='CCA2060'!$G62/1000 -> 0.049784929 | BZ61: =100*BY61/BY$9 -> 0.0058382301 | CA61: ='EA2060'!$G62/1000 -> 1.5203772 | CB61: =100*CA61/CA$9 -> 0.007715729 | CC61: ='LAC2060'!$G62/1000 -> 14.743518 | CD61: =100*CC61/CC$9 -> 0.16615628 | CE61: ='NA2060'!$G62/1000 -> 0.037143043 | CF61: =100*CE61/CE$9 -> 0.00099170287 | CG61: =Ocea2060!$G62/1000 -> 0.093951321 | CH61: =100*CG61/CG$9 -> 0.065399963 | CI61: ='SEA2060'!$G62/1000 -> 3.9247651 | CJ61: =100*CI61/CI$9 -> 0.04596047 | CK61: ='SA2060'!$G62/1000 -> 1.7872949 | CL61: =100*CK61/CK$9 -> 0.007969326 | CM61: ='SSA2060'!$G62/1000 -> 0.73258716 | CN61: =100*CM61/CM$9 -> 0.0041116926 | CO61: ='WA2060'!$G62/1000 -> 0.24918077 | CP61: =100*CO61/CO$9 -> 0.0066254887
A62: 59 | D62: 5. | E62: Other nutritional deficiencies | G62: =World2016!$G63/1000 -> 83.753887 | H62: =100*G62/G$9 -> 0.14726371 | I62: ='Dev''d2016'!$G63/1000 -> 2.3671371 | J62: =100*I62/I$9 -> 0.018596839 | K62: ='CCA2016'!$G63/1000 -> 0.11069231 | L62: =100*K62/K$9 -> 0.02507118 | M62: ='EA2016'!$G63/1000 -> 3.2547871 | N62: =100*M62/M$9 -> 0.029410267 | O62: ='LAC2016'!$G63/1000 -> 2.5254244 | P62: =100*O62/O$9 -> 0.065618009 | Q62: ='NA2016'!$G63/1000 -> 0.26230182 | R62: =100*Q62/Q$9 -> 0.01916804 | S62: =Ocea2016!$G63/1000 -> 0.0043956728 | T62: =100*S62/S$9 -> 0.0062998212 | U62: ='SEA2016'!$G63/1000 -> 2.0792435 | V62: =100*U62/U$9 -> 0.04752176 | W62: ='SA2016'!$G63/1000 -> 56.184265 | X62: =100*W62/W$9 -> 0.43966259 | Y62: ='SSA2016'!$G63/1000 -> 16.688163 | Z62: =100*Y62/Y$9 -> 0.18900974 | AA62: ='WA2016'!$G63/1000 -> 0.27747789 | AB62: =100*AA62/AA$9 -> 0.020314643 | AC62: =World2030!$G63/1000 -> 117.01461 | AD62: =100*AC62/AC$9 -> 0.17177855 | AE62: ='Dev''d2030'!$G63/1000 -> 2.703671 | AF62: =100*AE62/AE$9 -> 0.019348609 | AG62: ='CCA2030'!$G63/1000 -> 0.11419416 | AH62: =100*AG62/AG$9 -> 0.021415552 | AI62: ='EA2030'!$G63/1000 -> 4.7510957 | AJ62: =100*AI62/AI$9 -> 0.033989928 | AK62: ='LAC2030'!$G63/1000 -> 3.0686776 | AL62: =100*AK62/AK$9 -> 0.06117417 | AM62: ='NA2030'!$G63/1000 -> 0.33878513 | AN62: =100*AM62/AM$9 -> 0.018371024 | AO62: =Ocea2030!$G63/1000 -> 0.0061186998 | AP62: =100*AO62/AO$9 -> 0.0068110749 | AQ62: ='SEA2030'!$G63/1000 -> 2.7433063 | AR62: =100*AQ62/AQ$9 -> 0.049839261 | AS62: ='SA2030'!$G63/1000 -> 78.752692 | AT62: =100*AS62/AS$9 -> 0.51010623 | AU62: ='SSA2030'!$G63/1000 -> 24.166364 | AV62: =100*AU62/AU$9 -> 0.24096717 | AW62: ='WA2030'!$G63/1000 -> 0.36970682 | AX62: =100*AW62/AW$9 -> 0.021584319 | AY62: =World2045!$G63/1000 -> 178.41308 | AZ62: =100*AY62/AY$9 -> 0.20859067 | BA62: ='Dev''d2045'!$G63/1000 -> 3.5399012 | BB62: =100*BA62/BA$9 -> 0.022175084 | BC62: ='CCA2045'!$G63/1000 -> 0.15683391 | BD62: =100*BC62/BC$9 -> 0.021906298 | BE62: ='EA2045'!$G63/1000 -> 8.6059521 | BF62: =100*BE62/BE$9 -> 0.047334394 | BG62: ='LAC2045'!$G63/1000 -> 5.2041246 | BH62: =100*BG62/BG$9 -> 0.075354566 | BI62: ='NA2045'!$G63/1000 -> 0.5827212 | BJ62: =100*BI62/BI$9 -> 0.02153201 | BK62: =Ocea2045!$G63/1000 -> 0.0097218589 | BL62: =100*BK62/BK$9 -> 0.0084679912 | BM62: ='SEA2045'!$G63/1000 -> 4.9313672 | BN62: =100*BM62/BM$9 -> 0.06944371 | BO62: ='SA2045'!$G63/1000 -> 115.1628 | BP62: =100*BO62/BO$9 -> 0.62330926 | BQ62: ='SSA2045'!$G63/1000 -> 39.554469 | BR62: =100*BQ62/BQ$9 -> 0.30976669 | BS62: ='WA2045'!$G63/1000 -> 0.66518156 | BT62: =100*BS62/BS$9 -> 0.025599514 | BU62: =World2060!$G63/1000 -> 259.31279 | BV62: =100*BU62/BU$9 -> 0.25464974 | BW62: ='Dev''d2060'!$G63/1000 -> 4.1366837 | BX62: =100*BW62/BW$9 -> 0.025908567 | BY62: ='CCA2060'!$G63/1000 -> 0.19608624 | BZ62: =100*BY62/BY$9 -> 0.022994843 | CA62: ='EA2060'!$G63/1000 -> 12.222504 | CB62: =100*CA62/CA$9 -> 0.062027718 | CC62: ='LAC2060'!$G63/1000 -> 8.2194683 | CD62: =100*CC62/CC$9 -> 0.092631643 | CE62: ='NA2060'!$G63/1000 -> 0.90214376 | CF62: =100*CE62/CE$9 -> 0.02408684 | CG62: =Ocea2060!$G63/1000 -> 0.014861401 | CH62: =100*CG62/CG$9 -> 0.010345092 | CI62: ='SEA2060'!$G63/1000 -> 7.5387622 | CJ62: =100*CI62/CI$9 -> 0.08828173 | CK62: ='SA2060'!$G63/1000 -> 159.14246 | CL62: =100*CK62/CK$9 -> 0.70959646 | CM62: ='SSA2060'!$G63/1000 -> 65.824485 | CN62: =100*CM62/CM$9 -> 0.36944416 | CO62: ='WA2060'!$G63/1000 -> 1.1153371 | CP62: =100*CO62/CO$9 -> 0.029655793
