Workbook
Name __LEX1955: '[1]summary-targets'!#REF!
Name __LEX1955: '[1]summary-targets'!#REF!
Name __LEX1955: '[1]summary-targets'!#REF!
Name __LEX1955: '[1]summary-targets'!#REF!
Name __LEX1955: '[1]summary-targets'!#REF!
Name __LEX1955: '[1]summary-targets'!#REF!
Name __LEX1975: '[1]summary-targets'!#REF!
Name __LEX1975: '[1]summary-targets'!#REF!
Name __LEX1975: '[1]summary-targets'!#REF!
Name __LEX1975: '[1]summary-targets'!#REF!
Name __LEX1975: '[1]summary-targets'!#REF!
Name __LEX1975: '[1]summary-targets'!#REF!
Name __LEX2025: '[1]summary-targets'!#REF!
Name __LEX2025: '[1]summary-targets'!#REF!
Name __LEX2025: '[1]summary-targets'!#REF!
Name __LEX2025: '[1]summary-targets'!#REF!
Name __LEX2025: '[1]summary-targets'!#REF!
Name __LEX2025: '[1]summary-targets'!#REF!
Name _reg98: [2]whoreg!#REF!
Name _reg98: [2]whoreg!#REF!
Name _reg98: [2]whoreg!#REF!
Name _reg98: [2]whoreg!#REF!
Name _reg98: [2]whoreg!#REF!
Name _reg98: [2]whoreg!#REF!
Name _reg98: [2]whoreg!#REF!
Name _resul: '[3]slop-inter'!$A$45:$AG$48
Name _yellowF: #REF!
Name _yellowF: #REF!
Name _yellowF: #REF!
Name _yellowF: #REF!
Name _yellowF: #REF!
Name _yellowF: #REF!
Name _yellowF: #REF!
Name _yellowM: #REF!
Name _yellowM: #REF!
Name _yellowM: #REF!
Name _yellowM: #REF!
Name _yellowM: #REF!
Name _yellowM: #REF!
Name _yellowM: #REF!
Name data: #REF!
Name data: #REF!
Name data: #REF!
Name data: #REF!
Name data: #REF!
Name data: #REF!
Name data: #REF!
Name GBDageD95: [4]Deaths!$A$1:$T$643
Name home: '[3]slop-inter'!$D$1:$F$1
Name label: [3]lx!$D$1788:$E$1825
Name PA: #REF!
Name PA: #REF!
Name PA: #REF!
Name PA: #REF!
Name PA: #REF!
Name PA: #REF!
Name PA: #REF!
Name pop: #REF!
Name pop: #REF!
Name pop: #REF!

Sheet Notes
B2: GLOBAL HEALTH ESTIMATES SUMMARY TABLES: PROJECTION OF DEATHS BY CAUSE, AGE AND SEX, BY WORLD BANK INCOME GROUP October 2018 World Health Organization Geneva, Switzerland
B3: http://www.who.int/healthinfo/global_burden_disease/en/
B5: Global Health Estimates Summary Tables: Projection This workbook contains summary projections of mortality by cause, sex, age and region. Following the release of the WHO Global Health Estimates of deaths by cause, age, sex and country for years 2000-2016 (1), WHO projections of mortality and causes of death have been updated and extended for years 2017-2060 (2). These projections are an update of previous projections released in 2006 (3), 2008 (4) and 2013 (5). A set of relatively simple models were used to project future health trends for baseline, optimistic and pessimistic scenarios, based largely on projections of economic and social development, and using the historically observed relationships of these with cause-specific mortality rates. Projected death rates were converted to numbers of deaths using the median population projections of the World Population Prospects 2017 (7). For a more detailed summary of methods and data inputs, refer to the documentation available on the WHO website at <url> (8). All projection covariates have been revised and updated. These include country level projections of gross domestic product (GDP) per capita in purchasing parity adjusted 2011 dollars, average years of education for men and women aged 25 years and over, and smoking impact SI, the component of observed lung cancer mortality attributable to tobacco smoking. SI was projected using 25-year lagged projections of prevalence of tobacco smoking and average cigarettes per smoker per day. In the original projections, separate projection models were developed for HIV/AIDS, tuberculosis, lung cancer, diabetes mellitus and chronic respiratory diseases (3). These models have been revised and updated as described in the projections documentation (8). Additional special projection models have also been developed for malaria, maternal deaths, road injury, homicide, natural disasters and war and conflict (8). These projections are less firm than the base year assessments for 2016, and provide “business-as-usual” projections under specified assumptions that do not specifically take account of trends in major risk factors apart from tobacco smoking, and to a limited extent, overweight and obesity. This spreadsheet includes point estimates for projected deaths by region, cause, age and sex under a business-as-usual scenario for projected covariates. Explicit uncertainty ranges are not included here, uncertainty in projections is better conveyed through comparison of optimistic and pessimistic scenarios with varying input assumptions (under preparation and not yet released). The number of significant figures displayed in worksheet cells in this this Excel workbook do not provide information on uncertainty ranges of projected estimates. The base scenario does not necessarily represent the best predictions or potential range of future global and regional health trends; it is possible that more sophisticated causal models incorporating projections of important determinants may provide better predictions for specific diseases. The preparation of these statistics was undertaken by the WHO Department of Health Statistics and Informatics in collaboration with WHO technical programs. Documentation and regional-level summary tables are available on the WHO website (8). For other queries, please send an email to healthstat@who.int. References 1. Global Health Estimates 2016: Deaths by cause, age and sex, by country and by region, 2000-2016. Geneva: World Health Organization; 2018. Available at http://www.who.int/healthinfo/global_burden_disease/estimates/en/. 2. World Health Organization (2018). Projections of mortality and causes of death, 2017-2060. Available on the WHO website at http://www.who.int/healthinfo/global_burden_disease/projections/en/. 3. Mathers CD, Loncar D. Projections of global mortality and burden of disease from 2002 to 2030. PLoS Medicine, 2006, 3(11): e442. 4. World Health Organization. The global burden of disease: 2004 update. Geneva, World Health Organization, 2008. 5. World Health Organization (2013). Projections of mortality and causes of death, 2012-2030. Available on the WHO website at http://www.who.int/healthinfo/global_burden_disease/projections/en/. 6. Murray CJL, Lopez AD, eds. The global burden of disease: a comprehensive assessment of mortality and disability from diseases, injuries and risk factors in 1990 and projected to 2020. Cambridge, Harvard School of Public Health on behalf of the World Health Organization and the World Bank, 1996. 7. UN Population Division. World Population Prospects - the 2017 revision. New York, United Nations, 2017. 8. World Health Organization (2018). Updated projections of mortality and causes of death, 2016-2060. Available on the WHO website at http://www.who.int/healthinfo/global_burden_disease/projections/en/.

Sheet Country list
B2: Important Notes for the Tables a. WHO Member States are classified according to the World Bank income group for the year 2016 (World Bank list of economies, July 2017). For a list of the countries included in each category, refer to the list below. b. Equatorial Guinea is classified by the World Bank as high income. It is kept here with upper middle income to avoid a regional grouping containing only one country and because its mortality profile is not dissimilar to neighbouring countries. c. Cook Islands, Nauru and Niue are classified into income groups using gross domestic product.
B4: List of Countries in Regional Categories
B6: World Bank income groups | C6: Countries included
B7: Low income | C7: Afghanistan
C8: Benin
C9: Burkina Faso
C10: Burundi
C11: Central African Republic
C12: Chad
C13: Comoros
C14: Democratic People's Republic of Korea
C15: Democratic Republic of the Congo
C16: Eritrea
C17: Ethiopia
C18: Gambia
C19: Guinea
... C37: Zimbabwe
B39: Lower middle income | C39: Angola
C40: Armenia
C41: Bangladesh
C42: Bhutan
C43: Bolivia (Plurinational State of)
C44: Cabo Verde
C45: Cambodia
C46: Cameroon
C47: Congo
C48: Côte d'Ivoire
C49: Djibouti
C50: Egypt
C51: El Salvador
... C89: Zambia
B91: Upper middle income | C91: Albania
C92: Algeria
C93: Argentina
C94: Azerbaijan
C95: Belarus
C96: Belize
C97: Bosnia and Herzegovina
C98: Botswana
C99: Brazil
...

Sheet Summary
B1: Summary: Deaths (thousands) by cause and by World Bank income group
F3: Year | G3: 2016 | Q3: 2030 | AA3: 2045 | AK3: 2060
F4: Region | G4: WORLD | I4: Low-income countries | K4: Lower-middle-income countries | M4: Upper-middle-income countries | O4: High-income countries | Q4: WORLD | S4: Low-income countries | U4: Lower-middle-income countries | W4: Upper-middle-income countries | Y4: High-income countries | AA4: WORLD | AC4: Low-income countries | AE4: Lower-middle-income countries | AG4: Upper-middle-income countries | AI4: High-income countries | AK4: WORLD | AM4: Low-income countries | AO4: Lower-middle-income countries | AQ4: Upper-middle-income countries | AS4: High-income countries
B6: Population (thousands) | G6: =World2016!$G7 -> 7462277.2 | I6: ='LI2016'!$G7 -> 659272.67 | K6: ='LMI2016'!$G7 -> 3012429.5 | M6: ='UMI2016'!$G7 -> 2614405 | O6: ='HI2016'!$G7 -> 1176151 | Q6: =World2030!$G7 -> 8545864.6 | S6: ='LI2030'!$G7 -> 935905.38 | U6: ='LMI2030'!$G7 -> 3594806.6 | W6: ='UMI2030'!$G7 -> 2775923.4 | Y6: ='HI2030'!$G7 -> 1239209.7 | AA6: =World2045!$G7 -> 9498328.2 | AC6: ='LI2045'!$G7 -> 1288244.5 | AE6: ='LMI2045'!$G7 -> 4126607.7 | AG6: ='UMI2045'!$G7 -> 2811596.8 | AI6: ='HI2045'!$G7 -> 1271859.5 | AK6: =World2060!$G7 -> 10216375 | AM6: ='LI2060'!$G7 -> 1665664 | AO6: ='LMI2060'!$G7 -> 4529016.4 | AQ6: ='UMI2060'!$G7 -> 2741520.2 | AS6: ='HI2060'!$G7 -> 1280155.3
A7: GHE 2012 code | B7: GHE 2012 cause category | G7: Deaths (000s) | H7: % total | I7: Deaths (000s) | J7: % total | K7: Deaths (000s) | L7: % total | M7: Deaths (000s) | N7: % total | O7: Deaths (000s) | P7: % total | Q7: Deaths (000s) | R7: % total | S7: Deaths (000s) | T7: % total | U7: Deaths (000s) | V7: % total | W7: Deaths (000s) | X7: % total | Y7: Deaths (000s) | Z7: % total | AA7: Deaths (000s) | AB7: % total | AC7: Deaths (000s) | AD7: % total | AE7: Deaths (000s) | AF7: % total | AG7: Deaths (000s) | AH7: % total | AI7: Deaths (000s) | AJ7: % total | AK7: Deaths (000s) | AL7: % total | AM7: Deaths (000s) | AN7: % total | AO7: Deaths (000s) | AP7: % total | AQ7: Deaths (000s) | AR7: % total | AS7: Deaths (000s) | AT7: % total
A8: 0 | C8: All Causes | G8: =World2016!$G10/1000 -> 56873.405 | H8: =100*G8/G$8 -> 100 | I8: ='LI2016'!$G10/1000 -> 5357.9859 | J8: =100*I8/I$8 -> 100 | K8: ='LMI2016'!$G10/1000 -> 22133.313 | L8: =100*K8/K$8 -> 100 | M8: ='UMI2016'!$G10/1000 -> 19105.984 | N8: =100*M8/M$8 -> 100 | O8: ='HI2016'!$G10/1000 -> 10276.121 | P8: =100*O8/O$8 -> 100 | Q8: =World2030!$G10/1000 -> 68119.453 | R8: =100*Q8/Q$8 -> 100 | S8: ='LI2030'!$G10/1000 -> 6210.9961 | T8: =100*S8/S$8 -> 100 | U8: ='LMI2030'!$G10/1000 -> 26500.107 | V8: =100*U8/U$8 -> 100 | W8: ='UMI2030'!$G10/1000 -> 23415.811 | X8: =100*W8/W$8 -> 100 | Y8: ='HI2030'!$G10/1000 -> 11992.538 | Z8: =100*Y8/Y$8 -> 100 | AA8: =World2045!$G10/1000 -> 85532.627 | AB8: =100*AA8/AA$8 -> 100 | AC8: ='LI2045'!$G10/1000 -> 8287.5133 | AD8: =100*AC8/AC$8 -> 100 | AE8: ='LMI2045'!$G10/1000 -> 32384.04 | AF8: =100*AE8/AE$8 -> 100 | AG8: ='UMI2045'!$G10/1000 -> 30291.784 | AH8: =100*AG8/AG$8 -> 100 | AI8: ='HI2045'!$G10/1000 -> 14569.289 | AJ8: =100*AI8/AI$8 -> 100 | AK8: =World2060!$G10/1000 -> 101831.16 | AL8: =100*AK8/AK$8 -> 100 | AM8: ='LI2060'!$G10/1000 -> 12133.431 | AN8: =100*AM8/AM$8 -> 100 | AO8: ='LMI2060'!$G10/1000 -> 39689.086 | AP8: =100*AO8/AO$8 -> 100 | AQ8: ='UMI2060'!$G10/1000 -> 34668.432 | AR8: =100*AQ8/AQ$8 -> 100 | AS8: ='HI2060'!$G10/1000 -> 15340.211 | AT8: =100*AS8/AS$8 -> 100
A9: 1 | B9: I. | C9: Communicable, maternal, perinatal and nutritional conditions | G9: =World2016!$G11/1000 -> 11481.463 | H9: =100*G9/G$8 -> 20.187755 | I9: ='LI2016'!$G11/1000 -> 2812.4235 | J9: =100*I9/I$8 -> 52.490313 | K9: ='LMI2016'!$G11/1000 -> 6557.1767 | L9: =100*K9/K$8 -> 29.625825 | M9: ='UMI2016'!$G11/1000 -> 1422.2202 | N9: =100*M9/M$8 -> 7.4438467 | O9: ='HI2016'!$G11/1000 -> 689.64301 | P9: =100*O9/O$8 -> 6.7111218 | Q9: =World2030!$G11/1000 -> 10094.844 | R9: =100*Q9/Q$8 -> 14.819326 | S9: ='LI2030'!$G11/1000 -> 2349.26 | T9: =100*S9/S$8 -> 37.824207 | U9: ='LMI2030'!$G11/1000 -> 5538.3203 | V9: =100*U9/U$8 -> 20.899237 | W9: ='UMI2030'!$G11/1000 -> 1376.2935 | X9: =100*W9/W$8 -> 5.8776247 | Y9: ='HI2030'!$G11/1000 -> 830.97018 | Z9: =100*Y9/Y$8 -> 6.9290601 | AA9: =World2045!$G11/1000 -> 9666.0585 | AB9: =100*AA9/AA$8 -> 11.301019 | AC9: ='LI2045'!$G11/1000 -> 2031.3178 | AD9: =100*AC9/AC$8 -> 24.510582 | AE9: ='LMI2045'!$G11/1000 -> 5075.8292 | AF9: =100*AE9/AE$8 -> 15.67386 | AG9: ='UMI2045'!$G11/1000 -> 1549.7771 | AH9: =100*AG9/AG$8 -> 5.1161631 | AI9: ='HI2045'!$G11/1000 -> 1009.1345 | AJ9: =100*AI9/AI$8 -> 6.92645 | AK9: =World2060!$G11/1000 -> 9990.2208 | AL9: =100*AK9/AK$8 -> 9.8105735 | AM9: ='LI2060'!$G11/1000 -> 1996.7413 | AN9: =100*AM9/AM$8 -> 16.456526 | AO9: ='LMI2060'!$G11/1000 -> 5180.1088 | AP9: =100*AO9/AO$8 -> 13.051721 | AQ9: ='UMI2060'!$G11/1000 -> 1741.8988 | AR9: =100*AQ9/AQ$8 -> 5.0244523 | AS9: ='HI2060'!$G11/1000 -> 1071.4719 | AT9: =100*AS9/AS$8 -> 6.9847274
A10: 2 | C10: A. | D10: Infectious and parasitic diseases | G10: =World2016!$G12/1000 -> 5491.3375 | H10: =100*G10/G$8 -> 9.6553698 | I10: ='LI2016'!$G12/1000 -> 1489.2345 | J10: =100*I10/I$8 -> 27.79467 | K10: ='LMI2016'!$G12/1000 -> 3249.3595 | L10: =100*K10/K$8 -> 14.680854 | M10: ='UMI2016'!$G12/1000 -> 567.23489 | N10: =100*M10/M$8 -> 2.968886 | O10: ='HI2016'!$G12/1000 -> 185.50866 | P10: =100*O10/O$8 -> 1.8052401 | Q10: =World2030!$G12/1000 -> 4578.7775 | R10: =100*Q10/Q$8 -> 6.7216886 | S10: ='LI2030'!$G12/1000 -> 1233.438 | T10: =100*S10/S$8 -> 19.85894 | U10: ='LMI2030'!$G12/1000 -> 2643.7122 | V10: =100*U10/U$8 -> 9.9762321 | W10: ='UMI2030'!$G12/1000 -> 464.80873 | X10: =100*W10/W$8 -> 1.9850209 | Y10: ='HI2030'!$G12/1000 -> 236.81856 | Z10: =100*Y10/Y$8 -> 1.9747159 | AA10: =World2045!$G12/1000 -> 4100.7739 | AB10: =100*AA10/AA$8 -> 4.7943972 | AC10: ='LI2045'!$G12/1000 -> 1112.3716 | AD10: =100*AC10/AC$8 -> 13.42226 | AE10: ='LMI2045'!$G12/1000 -> 2340.2418 | AF10: =100*AE10/AE$8 -> 7.2265282 | AG10: ='UMI2045'!$G12/1000 -> 378.26468 | AH10: =100*AG10/AG$8 -> 1.2487369 | AI10: ='HI2045'!$G12/1000 -> 269.89579 | AJ10: =100*AI10/AI$8 -> 1.8524981 | AK10: =World2060!$G12/1000 -> 3968.4132 | AL10: =100*AK10/AK$8 -> 3.8970519 | AM10: ='LI2060'!$G12/1000 -> 1094.8329 | AN10: =100*AM10/AM$8 -> 9.0232756 | AO10: ='LMI2060'!$G12/1000 -> 2275.4343 | AP10: =100*AO10/AO$8 -> 5.7331487 | AQ10: ='UMI2060'!$G12/1000 -> 331.94064 | AR10: =100*AQ10/AQ$8 -> 0.95747232 | AS10: ='HI2060'!$G12/1000 -> 266.2053 | AT10: =100*AS10/AS$8 -> 1.7353431
A11: 3 | D11: 1. | E11: Tuberculosis | G11: =World2016!$G13/1000 -> 1292.9006 | H11: =100*G11/G$8 -> 2.2732957 | I11: ='LI2016'!$G13/1000 -> 225.92788 | J11: =100*I11/I$8 -> 4.2166568 | K11: ='LMI2016'!$G13/1000 -> 932.35133 | L11: =100*K11/K$8 -> 4.2124346 | M11: ='UMI2016'!$G13/1000 -> 122.03288 | N11: =100*M11/M$8 -> 0.63871549 | O11: ='HI2016'!$G13/1000 -> 12.588541 | P11: =100*O11/O$8 -> 0.12250285 | Q11: =World2030!$G13/1000 -> 1137.0415 | R11: =100*Q11/Q$8 -> 1.6691877 | S11: ='LI2030'!$G13/1000 -> 259.50012 | T11: =100*S11/S$8 -> 4.1780758 | U11: ='LMI2030'!$G13/1000 -> 786.36124 | V11: =100*U11/U$8 -> 2.9673889 | W11: ='UMI2030'!$G13/1000 -> 82.226709 | X11: =100*W11/W$8 -> 0.35115892 | Y11: ='HI2030'!$G13/1000 -> 8.9534467 | Z11: =100*Y11/Y$8 -> 0.074658479 | AA11: =World2045!$G13/1000 -> 1050.0536 | AB11: =100*AA11/AA$8 -> 1.2276644 | AC11: ='LI2045'!$G13/1000 -> 297.30689 | AD11: =100*AC11/AC$8 -> 3.5874077 | AE11: ='LMI2045'!$G13/1000 -> 687.91991 | AF11: =100*AE11/AE$8 -> 2.124256 | AG11: ='UMI2045'!$G13/1000 -> 57.846444 | AH11: =100*AG11/AG$8 -> 0.19096414 | AI11: ='HI2045'!$G13/1000 -> 6.9803273 | AJ11: =100*AI11/AI$8 -> 0.047911243 | AK11: =World2060!$G13/1000 -> 926.96353 | AL11: =100*AK11/AK$8 -> 0.91029458 | AM11: ='LI2060'!$G13/1000 -> 301.06517 | AN11: =100*AM11/AM$8 -> 2.4812863 | AO11: ='LMI2060'!$G13/1000 -> 582.12656 | AP11: =100*AO11/AO$8 -> 1.466717 | AQ11: ='UMI2060'!$G13/1000 -> 38.778187 | AR11: =100*AQ11/AQ$8 -> 0.11185446 | AS11: ='HI2060'!$G13/1000 -> 4.9936171 | AT11: =100*AS11/AS$8 -> 0.032552467
A12: 4 | D12: 2. | E12: STDs excluding HIV | G12: =World2016!$G14/1000 -> 102.36054 | H12: =100*G12/G$8 -> 0.17997962 | I12: ='LI2016'!$G14/1000 -> 48.032044 | J12: =100*I12/I$8 -> 0.89645707 | K12: ='LMI2016'!$G14/1000 -> 50.216186 | L12: =100*K12/K$8 -> 0.22688057 | M12: ='UMI2016'!$G14/1000 -> 3.3693152 | N12: =100*M12/M$8 -> 0.017634868 | O12: ='HI2016'!$G14/1000 -> 0.7429937 | P12: =100*O12/O$8 -> 0.0072302933 | Q12: =World2030!$G14/1000 -> 68.622331 | R12: =100*Q12/Q$8 -> 0.10073823 | S12: ='LI2030'!$G14/1000 -> 33.039018 | T12: =100*S12/S$8 -> 0.53194395 | U12: ='LMI2030'!$G14/1000 -> 32.856768 | V12: =100*U12/U$8 -> 0.1239873 | W12: ='UMI2030'!$G14/1000 -> 2.1388822 | X12: =100*W12/W$8 -> 0.0091343504 | Y12: ='HI2030'!$G14/1000 -> 0.58766285 | Z12: =100*Y12/Y$8 -> 0.0049002374 | AA12: =World2045!$G14/1000 -> 33.012726 | AB12: =100*AA12/AA$8 -> 0.038596647 | AC12: ='LI2045'!$G14/1000 -> 14.038376 | AD12: =100*AC12/AC$8 -> 0.1693919 | AE12: ='LMI2045'!$G14/1000 -> 16.748594 | AF12: =100*AE12/AE$8 -> 0.051718666 | AG12: ='UMI2045'!$G14/1000 -> 1.6354018 | AH12: =100*AG12/AG$8 -> 0.0053988294 | AI12: ='HI2045'!$G14/1000 -> 0.59035393 | AJ12: =100*AI12/AI$8 -> 0.0040520435 | AK12: =World2060!$G14/1000 -> 18.227393 | AL12: =100*AK12/AK$8 -> 0.017899622 | AM12: ='LI2060'!$G14/1000 -> 6.6947283 | AN12: =100*AM12/AM$8 -> 0.055175888 | AO12: ='LMI2060'!$G14/1000 -> 9.5414752 | AP12: =100*AO12/AO$8 -> 0.024040551 | AQ12: ='UMI2060'!$G14/1000 -> 1.4292004 | AR12: =100*AQ12/AQ$8 -> 0.0041224835 | AS12: ='HI2060'!$G14/1000 -> 0.56198933 | AT12: =100*AS12/AS$8 -> 0.0036635045
A13: 5 | E13: a. | F13: Syphilis | G13: =World2016!$G15/1000 -> 95.557801 | H13: =100*G13/G$8 -> 0.16801843 | I13: ='LI2016'!$G15/1000 -> 46.477894 | J13: =100*I13/I$8 -> 0.86745084 | K13: ='LMI2016'!$G15/1000 -> 46.462044 | L13: =100*K13/K$8 -> 0.20991907 | M13: ='UMI2016'!$G15/1000 -> 2.3379204 | N13: =100*M13/M$8 -> 0.012236587 | O13: ='HI2016'!$G15/1000 -> 0.27994259 | P13: =100*O13/O$8 -> 0.0027242048 | Q13: =World2030!$G15/1000 -> 62.193551 | R13: =100*Q13/Q$8 -> 0.091300721 | S13: ='LI2030'!$G15/1000 -> 31.444901 | T13: =100*S13/S$8 -> 0.50627791 | U13: ='LMI2030'!$G15/1000 -> 29.307991 | V13: =100*U13/U$8 -> 0.11059574 | W13: ='UMI2030'!$G15/1000 -> 1.2405548 | X13: =100*W13/W$8 -> 0.0052979365 | Y13: ='HI2030'!$G15/1000 -> 0.20010462 | Z13: =100*Y13/Y$8 -> 0.0016685761 | AA13: =World2045!$G15/1000 -> 27.107158 | AB13: =100*AA13/AA$8 -> 0.031692185 | AC13: ='LI2045'!$G15/1000 -> 12.563047 | AD13: =100*AC13/AC$8 -> 0.15159007 | AE13: ='LMI2045'!$G15/1000 -> 13.572566 | AF13: =100*AE13/AE$8 -> 0.041911282 | AG13: ='UMI2045'!$G15/1000 -> 0.78565442 | AH13: =100*AG13/AG$8 -> 0.0025936221 | AI13: ='HI2045'!$G15/1000 -> 0.18589028 | AJ13: =100*AI13/AI$8 -> 0.001275905 | AK13: =World2060!$G15/1000 -> 12.612664 | AL13: =100*AK13/AK$8 -> 0.012385859 | AM13: ='LI2060'!$G15/1000 -> 5.2657877 | AN13: =100*AM13/AM$8 -> 0.043399 | AO13: ='LMI2060'!$G15/1000 -> 6.554074 | AP13: =100*AO13/AO$8 -> 0.016513542 | AQ13: ='UMI2060'!$G15/1000 -> 0.62322124 | AR13: =100*AQ13/AQ$8 -> 0.001797662 | AS13: ='HI2060'!$G15/1000 -> 0.16958065 | AT13: =100*AS13/AS$8 -> 0.0011054649
A14: 6 | E14: b. | F14: Chlamydia | G14: =World2016!$G16/1000 -> 1.3237512 | H14: =100*G14/G$8 -> 0.0023275399 | I14: ='LI2016'!$G16/1000 -> 0.30389811 | J14: =100*I14/I$8 -> 0.0056718721 | K14: ='LMI2016'!$G16/1000 -> 0.73140161 | L14: =100*K14/K$8 -> 0.0033045284 | M14: ='UMI2016'!$G16/1000 -> 0.19317952 | N14: =100*M14/M$8 -> 0.0010110943 | O14: ='HI2016'!$G16/1000 -> 0.095271928 | P14: =100*O14/O$8 -> 0.00092711955 | Q14: =World2030!$G16/1000 -> 1.2433476 | R14: =100*Q14/Q$8 -> 0.001825246 | S14: ='LI2030'!$G16/1000 -> 0.30743229 | T14: =100*S14/S$8 -> 0.0049498065 | U14: ='LMI2030'!$G16/1000 -> 0.68990439 | V14: =100*U14/U$8 -> 0.0026034023 | W14: ='UMI2030'!$G16/1000 -> 0.16806921 | X14: =100*W14/W$8 -> 0.00071775951 | Y14: ='HI2030'!$G16/1000 -> 0.077941682 | Z14: =100*Y14/Y$8 -> 0.00064991814 | AA14: =World2045!$G16/1000 -> 1.1461863 | AB14: =100*AA14/AA$8 -> 0.0013400574 | AC14: ='LI2045'!$G16/1000 -> 0.28281217 | AD14: =100*AC14/AC$8 -> 0.0034125093 | AE14: ='LMI2045'!$G16/1000 -> 0.61952969 | AF14: =100*AE14/AE$8 -> 0.001913071 | AG14: ='UMI2045'!$G16/1000 -> 0.16036359 | AH14: =100*AG14/AG$8 -> 0.00052939633 | AI14: ='HI2045'!$G16/1000 -> 0.083480837 | AJ14: =100*AI14/AI$8 -> 0.00057299185 | AK14: =World2060!$G16/1000 -> 1.0970673 | AL14: =100*AK14/AK$8 -> 0.0010773395 | AM14: ='LI2060'!$G16/1000 -> 0.27350273 | AN14: =100*AM14/AM$8 -> 0.0022541252 | AO14: ='LMI2060'!$G16/1000 -> 0.58726266 | AP14: =100*AO14/AO$8 -> 0.0014796578 | AQ14: ='UMI2060'!$G16/1000 -> 0.15420443 | AR14: =100*AQ14/AQ$8 -> 0.00044479783 | AS14: ='HI2060'!$G16/1000 -> 0.082097523 | AT14: =100*AS14/AS$8 -> 0.00053517857
A15: 7 | E15: c. | F15: Gonorrhoea | G15: =World2016!$G17/1000 -> 3.680321 | H15: =100*G15/G$8 -> 0.0064710757 | I15: ='LI2016'!$G17/1000 -> 0.81021272 | J15: =100*I15/I$8 -> 0.015121591 | K15: ='LMI2016'!$G17/1000 -> 2.0198032 | L15: =100*K15/K$8 -> 0.009125625 | M15: ='UMI2016'!$G17/1000 -> 0.57684423 | N15: =100*M15/M$8 -> 0.0030191809 | O15: ='HI2016'!$G17/1000 -> 0.27346092 | P15: =100*O15/O$8 -> 0.0026611298 | Q15: =World2030!$G17/1000 -> 3.5310496 | R15: =100*Q15/Q$8 -> 0.0051836142 | S15: ='LI2030'!$G17/1000 -> 0.84319958 | T15: =100*S15/S$8 -> 0.013575915 | U15: ='LMI2030'!$G17/1000 -> 1.9349375 | V15: =100*U15/U$8 -> 0.0073016213 | W15: ='UMI2030'!$G17/1000 -> 0.51646249 | X15: =100*W15/W$8 -> 0.0022056144 | Y15: ='HI2030'!$G17/1000 -> 0.23645005 | Z15: =100*Y15/Y$8 -> 0.0019716431 | AA15: =World2045!$G17/1000 -> 3.3178774 | AB15: =100*AA15/AA$8 -> 0.0038790781 | AC15: ='LI2045'!$G17/1000 -> 0.79405541 | AD15: =100*AC15/AC$8 -> 0.009581347 | AE15: ='LMI2045'!$G17/1000 -> 1.770581 | AF15: =100*AE15/AE$8 -> 0.0054674493 | AG15: ='UMI2045'!$G17/1000 -> 0.50552081 | AH15: =100*AG15/AG$8 -> 0.001668838 | AI15: ='HI2045'!$G17/1000 -> 0.24772019 | AJ15: =100*AI15/AI$8 -> 0.0017002902 | AK15: =World2060!$G17/1000 -> 3.2295705 | AL15: =100*AK15/AK$8 -> 0.0031714953 | AM15: ='LI2060'!$G17/1000 -> 0.79200337 | AN15: =100*AM15/AM$8 -> 0.0065274477 | AO15: ='LMI2060'!$G17/1000 -> 1.7080087 | AP15: =100*AO15/AO$8 -> 0.0043034719 | AQ15: ='UMI2060'!$G17/1000 -> 0.48874031 | AR15: =100*AQ15/AQ$8 -> 0.001409756 | AS15: ='HI2060'!$G17/1000 -> 0.24081814 | AT15: =100*AS15/AS$8 -> 0.0015698489
A16: 8 | E16: d. | F16: Trichomoniasis | G16: =World2016!$G18/1000 -> 0 | H16: =100*G16/G$8 -> 0 | I16: ='LI2016'!$G18/1000 -> 0 | J16: =100*I16/I$8 -> 0 | K16: ='LMI2016'!$G18/1000 -> 0 | L16: =100*K16/K$8 -> 0 | M16: ='UMI2016'!$G18/1000 -> 0 | N16: =100*M16/M$8 -> 0 | O16: ='HI2016'!$G18/1000 -> 0 | P16: =100*O16/O$8 -> 0 | Q16: =World2030!$G18/1000 -> 0 | R16: =100*Q16/Q$8 -> 0 | S16: ='LI2030'!$G18/1000 -> 0 | T16: =100*S16/S$8 -> 0 | U16: ='LMI2030'!$G18/1000 -> 0 | V16: =100*U16/U$8 -> 0 | W16: ='UMI2030'!$G18/1000 -> 0 | X16: =100*W16/W$8 -> 0 | Y16: ='HI2030'!$G18/1000 -> 0 | Z16: =100*Y16/Y$8 -> 0 | AA16: =World2045!$G18/1000 -> 0 | AB16: =100*AA16/AA$8 -> 0 | AC16: ='LI2045'!$G18/1000 -> 0 | AD16: =100*AC16/AC$8 -> 0 | AE16: ='LMI2045'!$G18/1000 -> 0 | AF16: =100*AE16/AE$8 -> 0 | AG16: ='UMI2045'!$G18/1000 -> 0 | AH16: =100*AG16/AG$8 -> 0 | AI16: ='HI2045'!$G18/1000 -> 0 | AJ16: =100*AI16/AI$8 -> 0 | AK16: =World2060!$G18/1000 -> 0 | AL16: =100*AK16/AK$8 -> 0 | AM16: ='LI2060'!$G18/1000 -> 0 | AN16: =100*AM16/AM$8 -> 0 | AO16: ='LMI2060'!$G18/1000 -> 0 | AP16: =100*AO16/AO$8 -> 0 | AQ16: ='UMI2060'!$G18/1000 -> 0 | AR16: =100*AQ16/AQ$8 -> 0 | AS16: ='HI2060'!$G18/1000 -> 0 | AT16: =100*AS16/AS$8 -> 0
A17: 9 | E17: e. | F17: Other STDs | G17: =World2016!$G19/1000 -> 1.7986658 | H17: =100*G17/G$8 -> 0.003162578 | I17: ='LI2016'!$G19/1000 -> 0.44003934 | J17: =100*I17/I$8 -> 0.0082127752 | K17: ='LMI2016'!$G19/1000 -> 1.0029372 | L17: =100*K17/K$8 -> 0.0045313467 | M17: ='UMI2016'!$G19/1000 -> 0.26137103 | N17: =100*M17/M$8 -> 0.0013680061 | O17: ='HI2016'!$G19/1000 -> 0.094318263 | P17: =100*O17/O$8 -> 0.00091783915 | Q17: =World2030!$G19/1000 -> 1.6543819 | R17: =100*Q17/Q$8 -> 0.0024286483 | S17: ='LI2030'!$G19/1000 -> 0.44348477 | T17: =100*S17/S$8 -> 0.0071403164 | U17: ='LMI2030'!$G19/1000 -> 0.92393495 | V17: =100*U17/U$8 -> 0.0034865329 | W17: ='UMI2030'!$G19/1000 -> 0.21379574 | X17: =100*W17/W$8 -> 0.00091304006 | Y17: ='HI2030'!$G19/1000 -> 0.073166478 | Z17: =100*Y17/Y$8 -> 0.00061010002 | AA17: =World2045!$G19/1000 -> 1.4415034 | AB17: =100*AA17/AA$8 -> 0.0016853257 | AC17: ='LI2045'!$G19/1000 -> 0.39846117 | AD17: =100*AC17/AC$8 -> 0.0048079702 | AE17: ='LMI2045'!$G19/1000 -> 0.78591667 | AF17: =100*AE17/AE$8 -> 0.0024268642 | AG17: ='UMI2045'!$G19/1000 -> 0.18386291 | AH17: =100*AG17/AG$8 -> 0.00060697285 | AI17: ='HI2045'!$G19/1000 -> 0.073262615 | AJ17: =100*AI17/AI$8 -> 0.0005028565 | AK17: =World2060!$G19/1000 -> 1.2880916 | AL17: =100*AK17/AK$8 -> 0.0012649288 | AM17: ='LI2060'!$G19/1000 -> 0.36343445 | AN17: =100*AM17/AM$8 -> 0.0029953147 | AO17: ='LMI2060'!$G19/1000 -> 0.6921298 | AP17: =100*AO17/AO$8 -> 0.0017438794 | AQ17: ='UMI2060'!$G19/1000 -> 0.16303437 | AR17: =100*AQ17/AQ$8 -> 0.00047026751 | AS17: ='HI2060'!$G19/1000 -> 0.069493028 | AT17: =100*AS17/AS$8 -> 0.00045301221
A18: 10 | D18: 3. | E18: HIV/AIDS | G18: =World2016!$G20/1000 -> 1011.9922 | H18: =100*G18/G$8 -> 1.7793769 | I18: ='LI2016'!$G20/1000 -> 292.09713 | J18: =100*I18/I$8 -> 5.4516219 | K18: ='LMI2016'!$G20/1000 -> 466.85466 | L18: =100*K18/K$8 -> 2.109285 | M18: ='UMI2016'!$G20/1000 -> 240.4475 | N18: =100*M18/M$8 -> 1.2584931 | O18: ='HI2016'!$G20/1000 -> 12.592932 | P18: =100*O18/O$8 -> 0.12254558 | Q18: =World2030!$G20/1000 -> 741.29949 | R18: =100*Q18/Q$8 -> 1.0882347 | S18: ='LI2030'!$G20/1000 -> 195.45223 | T18: =100*S18/S$8 -> 3.1468741 | U18: ='LMI2030'!$G20/1000 -> 350.73861 | V18: =100*U18/U$8 -> 1.3235366 | W18: ='UMI2030'!$G20/1000 -> 187.73348 | X18: =100*W18/W$8 -> 0.8017381 | Y18: ='HI2030'!$G20/1000 -> 7.3751751 | Z18: =100*Y18/Y$8 -> 0.061498033 | AA18: =World2045!$G20/1000 -> 522.15852 | AB18: =100*AA18/AA$8 -> 0.61047876 | AC18: ='LI2045'!$G20/1000 -> 162.87838 | AD18: =100*AC18/AC$8 -> 1.9653468 | AE18: ='LMI2045'!$G20/1000 -> 244.73901 | AF18: =100*AE18/AE$8 -> 0.75573957 | AG18: ='UMI2045'!$G20/1000 -> 108.56017 | AH18: =100*AG18/AG$8 -> 0.35838156 | AI18: ='HI2045'!$G20/1000 -> 5.9809649 | AJ18: =100*AI18/AI$8 -> 0.041051866 | AK18: =World2060!$G20/1000 -> 363.35619 | AL18: =100*AK18/AK$8 -> 0.3568222 | AM18: ='LI2060'!$G20/1000 -> 123.75571 | AN18: =100*AM18/AM$8 -> 1.0199564 | AO18: ='LMI2060'!$G20/1000 -> 172.312 | AP18: =100*AO18/AO$8 -> 0.43415463 | AQ18: ='UMI2060'!$G20/1000 -> 63.112281 | AR18: =100*AQ18/AQ$8 -> 0.18204539 | AS18: ='HI2060'!$G20/1000 -> 4.1761952 | AT18: =100*AS18/AS$8 -> 0.027223845
A19: 11 | D19: 4. | E19: Diarrhoeal diseases | G19: =World2016!$G21/1000 -> 1382.7068 | H19: =100*G19/G$8 -> 2.431201 | I19: ='LI2016'!$G21/1000 -> 383.3999 | J19: =100*I19/I$8 -> 7.1556721 | K19: ='LMI2016'!$G21/1000 -> 911.45097 | L19: =100*K19/K$8 -> 4.1180051 | M19: ='UMI2016'!$G21/1000 -> 55.001409 | N19: =100*M19/M$8 -> 0.2878753 | O19: ='HI2016'!$G21/1000 -> 32.854511 | P19: =100*O19/O$8 -> 0.31971705 | Q19: =World2030!$G21/1000 -> 1236.1806 | R19: =100*Q19/Q$8 -> 1.8147248 | S19: ='LI2030'!$G21/1000 -> 330.39911 | T19: =100*S19/S$8 -> 5.3195833 | U19: ='LMI2030'!$G21/1000 -> 799.80151 | V19: =100*U19/U$8 -> 3.0181067 | W19: ='UMI2030'!$G21/1000 -> 47.144844 | X19: =100*W19/W$8 -> 0.20133765 | Y19: ='HI2030'!$G21/1000 -> 58.835118 | Z19: =100*Y19/Y$8 -> 0.49059771 | AA19: =World2045!$G21/1000 -> 1274.2686 | AB19: =100*AA19/AA$8 -> 1.4898041 | AC19: ='LI2045'!$G21/1000 -> 311.61411 | AD19: =100*AC19/AC$8 -> 3.7600436 | AE19: ='LMI2045'!$G21/1000 -> 834.42441 | AF19: =100*AE19/AE$8 -> 2.5766532 | AG19: ='UMI2045'!$G21/1000 -> 55.692153 | AH19: =100*AG19/AG$8 -> 0.18385234 | AI19: ='HI2045'!$G21/1000 -> 72.537912 | AJ19: =100*AI19/AI$8 -> 0.49788231 | AK19: =World2060!$G21/1000 -> 1491.6887 | AL19: =100*AK19/AK$8 -> 1.4648647 | AM19: ='LI2060'!$G21/1000 -> 371.89634 | AN19: =100*AM19/AM$8 -> 3.065055 | AO19: ='LMI2060'!$G21/1000 -> 980.69365 | AP19: =100*AO19/AO$8 -> 2.4709404 | AQ19: ='UMI2060'!$G21/1000 -> 65.688811 | AR19: =100*AQ19/AQ$8 -> 0.18947731 | AS19: ='HI2060'!$G21/1000 -> 73.409864 | AT19: =100*AS19/AS$8 -> 0.47854533
A20: 12 | D20: 5. | E20: Childhood-cluster diseases | G20: =World2016!$G22/1000 -> 156.11592 | H20: =100*G20/G$8 -> 0.27449722 | I20: ='LI2016'!$G22/1000 -> 53.687899 | J20: =100*I20/I$8 -> 1.0020164 | K20: ='LMI2016'!$G22/1000 -> 98.683259 | L20: =100*K20/K$8 -> 0.4458585 | M20: ='UMI2016'!$G22/1000 -> 3.5523527 | N20: =100*M20/M$8 -> 0.01859288 | O20: ='HI2016'!$G22/1000 -> 0.19240546 | P20: =100*O20/O$8 -> 0.0018723549 | Q20: =World2030!$G22/1000 -> 83.373713 | R20: =100*Q20/Q$8 -> 0.1223934 | S20: ='LI2030'!$G22/1000 -> 33.569334 | T20: =100*S20/S$8 -> 0.54048229 | U20: ='LMI2030'!$G22/1000 -> 47.811718 | V20: =100*U20/U$8 -> 0.18042085 | W20: ='UMI2030'!$G22/1000 -> 1.7460818 | X20: =100*W20/W$8 -> 0.0074568497 | Y20: ='HI2030'!$G22/1000 -> 0.24657944 | Z20: =100*Y20/Y$8 -> 0.0020561072 | AA20: =World2045!$G22/1000 -> 49.044165 | AB20: =100*AA20/AA$8 -> 0.057339715 | AC20: ='LI2045'!$G22/1000 -> 20.006854 | AD20: =100*AC20/AC$8 -> 0.24140961 | AE20: ='LMI2045'!$G22/1000 -> 27.784436 | AF20: =100*AE20/AE$8 -> 0.085796695 | AG20: ='UMI2045'!$G22/1000 -> 1.0287823 | AH20: =100*AG20/AG$8 -> 0.003396242 | AI20: ='HI2045'!$G22/1000 -> 0.22409206 | AJ20: =100*AI20/AI$8 -> 0.0015381125 | AK20: =World2060!$G22/1000 -> 34.551795 | AL20: =100*AK20/AK$8 -> 0.033930474 | AM20: ='LI2060'!$G22/1000 -> 13.636575 | AN20: =100*AM20/AM$8 -> 0.11238845 | AO20: ='LMI2060'!$G22/1000 -> 19.937385 | AP20: =100*AO20/AO$8 -> 0.050233923 | AQ20: ='UMI2060'!$G22/1000 -> 0.71462416 | AR20: =100*AQ20/AQ$8 -> 0.0020613109 | AS20: ='HI2060'!$G22/1000 -> 0.26321142 | AT20: =100*AS20/AS$8 -> 0.0017158266
A21: 13 | E21: a. | F21: Whooping cough | G21: =World2016!$G23/1000 -> 9.9890006 | H21: =100*G21/G$8 -> 0.017563571 | I21: ='LI2016'!$G23/1000 -> 5.4785055 | J21: =100*I21/I$8 -> 0.10224934 | K21: ='LMI2016'!$G23/1000 -> 4.0634341 | L21: =100*K21/K$8 -> 0.018358906 | M21: ='UMI2016'!$G23/1000 -> 0.36875873 | N21: =100*M21/M$8 -> 0.0019300693 | O21: ='HI2016'!$G23/1000 -> 0.078302319 | P21: =100*O21/O$8 -> 0.00076198322 | Q21: =World2030!$G23/1000 -> 6.8372248 | R21: =100*Q21/Q$8 -> 0.010037111 | S21: ='LI2030'!$G23/1000 -> 3.8167847 | T21: =100*S21/S$8 -> 0.061452055 | U21: ='LMI2030'!$G23/1000 -> 2.6097244 | V21: =100*U21/U$8 -> 0.0098479767 | W21: ='UMI2030'!$G23/1000 -> 0.2692216 | X21: =100*W21/W$8 -> 0.0011497428 | Y21: ='HI2030'!$G23/1000 -> 0.14149412 | Z21: =100*Y21/Y$8 -> 0.0011798513 | AA21: =World2045!$G23/1000 -> 3.5075404 | AB21: =100*AA21/AA$8 -> 0.0041008216 | AC21: ='LI2045'!$G23/1000 -> 2.0046077 | AD21: =100*AC21/AC$8 -> 0.024188289 | AE21: ='LMI2045'!$G23/1000 -> 1.3573592 | AF21: =100*AE21/AE$8 -> 0.0041914448 | AG21: ='UMI2045'!$G23/1000 -> 0.085955924 | AH21: =100*AG21/AG$8 -> 0.00028375986 | AI21: ='HI2045'!$G23/1000 -> 0.05961764 | AJ21: =100*AI21/AI$8 -> 0.00040920076 | AK21: =World2060!$G23/1000 -> 1.7967315 | AL21: =100*AK21/AK$8 -> 0.0017644221 | AM21: ='LI2060'!$G23/1000 -> 1.0156375 | AN21: =100*AM21/AM$8 -> 0.0083705717 | AO21: ='LMI2060'!$G23/1000 -> 0.71901848 | AP21: =100*AO21/AO$8 -> 0.0018116277 | AQ21: ='UMI2060'!$G23/1000 -> 0.030820926 | AR21: =100*AQ21/AQ$8 -> 8.890199e-05 | AS21: ='HI2060'!$G23/1000 -> 0.031254551 | AT21: =100*AS21/AS$8 -> 0.00020374264
A22: 14 | E22: b. | F22: Diphtheria | G22: =World2016!$G24/1000 -> 1.4467969 | H22: =100*G22/G$8 -> 0.00254389 | I22: ='LI2016'!$G24/1000 -> 0.47714313 | J22: =100*I22/I$8 -> 0.0089052703 | K22: ='LMI2016'!$G24/1000 -> 0.92266985 | L22: =100*K22/K$8 -> 0.0041686929 | M22: ='UMI2016'!$G24/1000 -> 0.040712724 | N22: =100*M22/M$8 -> 0.00021308886 | O22: ='HI2016'!$G24/1000 -> 0.0062711631 | P22: =100*O22/O$8 -> 6.1026559e-05 | Q22: =World2030!$G24/1000 -> 0.87972882 | R22: =100*Q22/Q$8 -> 0.0012914502 | S22: ='LI2030'!$G24/1000 -> 0.31002761 | T22: =100*S22/S$8 -> 0.0049915925 | U22: ='LMI2030'!$G24/1000 -> 0.53854549 | V22: =100*U22/U$8 -> 0.0020322389 | W22: ='UMI2030'!$G24/1000 -> 0.026512221 | X22: =100*W22/W$8 -> 0.00011322359 | Y22: ='HI2030'!$G24/1000 -> 0.004643491 | Z22: =100*Y22/Y$8 -> 3.8719835e-05 | AA22: =World2045!$G24/1000 -> 0.46990516 | AB22: =100*AA22/AA$8 -> 0.00054938703 | AC22: ='LI2045'!$G24/1000 -> 0.18513325 | AD22: =100*AC22/AC$8 -> 0.0022338818 | AE22: ='LMI2045'!$G24/1000 -> 0.26661685 | AF22: =100*AE22/AE$8 -> 0.00082329706 | AG22: ='UMI2045'!$G24/1000 -> 0.014240703 | AH22: =100*AG22/AG$8 -> 4.7011768e-05 | AI22: ='HI2045'!$G24/1000 -> 0.0039143548 | AJ22: =100*AI22/AI$8 -> 2.6867164e-05 | AK22: =World2060!$G24/1000 -> 0.26854351 | AL22: =100*AK22/AK$8 -> 0.00026371447 | AM22: ='LI2060'!$G24/1000 -> 0.11710053 | AN22: =100*AM22/AM$8 -> 0.00096510652 | AO22: ='LMI2060'!$G24/1000 -> 0.13978696 | AP22: =100*AO22/AO$8 -> 0.00035220504 | AQ22: ='UMI2060'!$G24/1000 -> 0.0081358381 | AR22: =100*AQ22/AQ$8 -> 2.3467569e-05 | AS22: ='HI2060'!$G24/1000 -> 0.0035201716 | AT22: =100*AS22/AS$8 -> 2.2947348e-05
A23: 15 | E23: c. | F23: Measles | G23: =World2016!$G25/1000 -> 90.956355 | H23: =100*G23/G$8 -> 0.15992775 | I23: ='LI2016'!$G25/1000 -> 31.064971 | J23: =100*I23/I$8 -> 0.57978822 | K23: ='LMI2016'!$G25/1000 -> 57.911429 | L23: =100*K23/K$8 -> 0.26164826 | M23: ='UMI2016'!$G25/1000 -> 1.9660876 | N23: =100*M23/M$8 -> 0.010290428 | O23: ='HI2016'!$G25/1000 -> 0.013867678 | P23: =100*O23/O$8 -> 0.00013495051 | Q23: =World2030!$G25/1000 -> 44.533384 | R23: =100*Q23/Q$8 -> 0.065375429 | S23: ='LI2030'!$G25/1000 -> 18.726925 | T23: =100*S23/S$8 -> 0.30151243 | U23: ='LMI2030'!$G25/1000 -> 25.143757 | V23: =100*U23/U$8 -> 0.094881717 | W23: ='UMI2030'!$G25/1000 -> 0.65589663 | X23: =100*W23/W$8 -> 0.0028010844 | Y23: ='HI2030'!$G25/1000 -> 0.0068053077 | Z23: =100*Y23/Y$8 -> 5.6746183e-05 | AA23: =World2045!$G25/1000 -> 21.705694 | AB23: =100*AA23/AA$8 -> 0.025377093 | AC23: ='LI2045'!$G25/1000 -> 9.4907463 | AD23: =100*AC23/AC$8 -> 0.11451863 | AE23: ='LMI2045'!$G25/1000 -> 11.959161 | AF23: =100*AE23/AE$8 -> 0.03692918 | AG23: ='UMI2045'!$G25/1000 -> 0.25154418 | AH23: =100*AG23/AG$8 -> 0.00083040398 | AI23: ='HI2045'!$G25/1000 -> 0.0042428465 | AJ23: =100*AI23/AI$8 -> 2.912185e-05 | AK23: =World2060!$G25/1000 -> 12.09542 | AL23: =100*AK23/AK$8 -> 0.011877916 | AM23: ='LI2060'!$G25/1000 -> 5.2757952 | AN23: =100*AM23/AM$8 -> 0.043481478 | AO23: ='LMI2060'!$G25/1000 -> 6.718875 | AP23: =100*AO23/AO$8 -> 0.016928772 | AQ23: ='UMI2060'!$G25/1000 -> 0.097409217 | AR23: =100*AQ23/AQ$8 -> 0.00028097382 | AS23: ='HI2060'!$G25/1000 -> 0.0033402031 | AT23: =100*AS23/AS$8 -> 2.1774167e-05
A24: 16 | E24: d. | F24: Tetanus | G24: =World2016!$G26/1000 -> 53.723763 | H24: =100*G24/G$8 -> 0.094462014 | I24: ='LI2016'!$G26/1000 -> 16.667279 | J24: =100*I24/I$8 -> 0.31107359 | K24: ='LMI2016'!$G26/1000 -> 35.785726 | L24: =100*K24/K$8 -> 0.16168265 | M24: ='UMI2016'!$G26/1000 -> 1.1767936 | N24: =100*M24/M$8 -> 0.0061592933 | O24: ='HI2016'!$G26/1000 -> 0.093964302 | P24: =100*O24/O$8 -> 0.00091439465 | Q24: =World2030!$G26/1000 -> 31.123375 | R24: =100*Q24/Q$8 -> 0.045689409 | S24: ='LI2030'!$G26/1000 -> 10.715596 | T24: =100*S24/S$8 -> 0.1725262 | U24: ='LMI2030'!$G26/1000 -> 19.519692 | V24: =100*U24/U$8 -> 0.073658916 | W24: ='UMI2030'!$G26/1000 -> 0.79445137 | X24: =100*W24/W$8 -> 0.0033927989 | Y24: ='HI2030'!$G26/1000 -> 0.093636524 | Z24: =100*Y24/Y$8 -> 0.00078078987 | AA24: =World2045!$G26/1000 -> 23.361025 | AB24: =100*AA24/AA$8 -> 0.027312414 | AC24: ='LI2045'!$G26/1000 -> 8.3263666 | AD24: =100*AC24/AC$8 -> 0.10046882 | AE24: ='LMI2045'!$G26/1000 -> 14.2013 | AF24: =100*AE24/AE$8 -> 0.043852774 | AG24: ='UMI2045'!$G26/1000 -> 0.67704149 | AH24: =100*AG24/AG$8 -> 0.0022350664 | AI24: ='HI2045'!$G26/1000 -> 0.15631721 | AJ24: =100*AI24/AI$8 -> 0.0010729228 | AK24: =World2060!$G26/1000 -> 20.391101 | AL24: =100*AK24/AK$8 -> 0.020024421 | AM24: ='LI2060'!$G26/1000 -> 7.2280412 | AN24: =100*AM24/AM$8 -> 0.059571288 | AO24: ='LMI2060'!$G26/1000 -> 12.359705 | AP24: =100*AO24/AO$8 -> 0.031141318 | AQ24: ='UMI2060'!$G26/1000 -> 0.57825818 | AR24: =100*AQ24/AQ$8 -> 0.0016679675 | AS24: ='HI2060'!$G26/1000 -> 0.22509649 | AT24: =100*AS24/AS$8 -> 0.0014673624
A25: 17 | D25: 6. | E25: Meningitis | G25: =World2016!$G27/1000 -> 278.81226 | H25: =100*G25/G$8 -> 0.49023312 | I25: ='LI2016'!$G27/1000 -> 114.42927 | J25: =100*I25/I$8 -> 2.1356769 | K25: ='LMI2016'!$G27/1000 -> 141.70206 | L25: =100*K25/K$8 -> 0.64022073 | M25: ='UMI2016'!$G27/1000 -> 19.392016 | N25: =100*M25/M$8 -> 0.10149708 | O25: ='HI2016'!$G27/1000 -> 3.2889226 | P25: =100*O25/O$8 -> 0.032005487 | Q25: =World2030!$G27/1000 -> 232.91431 | R25: =100*Q25/Q$8 -> 0.3419204 | S25: ='LI2030'!$G27/1000 -> 96.849354 | T25: =100*S25/S$8 -> 1.5593208 | U25: ='LMI2030'!$G27/1000 -> 117.46676 | V25: =100*U25/U$8 -> 0.44326899 | W25: ='UMI2030'!$G27/1000 -> 15.976341 | X25: =100*W25/W$8 -> 0.06822886 | Y25: ='HI2030'!$G27/1000 -> 2.621854 | Z25: =100*Y25/Y$8 -> 0.021862377 | AA25: =World2045!$G27/1000 -> 190.09773 | AB25: =100*AA25/AA$8 -> 0.22225172 | AC25: ='LI2045'!$G27/1000 -> 79.471369 | AD25: =100*AC25/AC$8 -> 0.958929 | AE25: ='LMI2045'!$G27/1000 -> 93.491528 | AF25: =100*AE25/AE$8 -> 0.28869631 | AG25: ='UMI2045'!$G27/1000 -> 14.619417 | AH25: =100*AG25/AG$8 -> 0.048261989 | AI25: ='HI2045'!$G27/1000 -> 2.5154208 | AJ25: =100*AI25/AI$8 -> 0.017265227 | AK25: =World2060!$G27/1000 -> 177.80444 | AL25: =100*AK25/AK$8 -> 0.1746071 | AM25: ='LI2060'!$G27/1000 -> 75.99278 | AN25: =100*AM25/AM$8 -> 0.62630907 | AO25: ='LMI2060'!$G27/1000 -> 85.37986 | AP25: =100*AO25/AO$8 -> 0.21512176 | AQ25: ='UMI2060'!$G27/1000 -> 13.977036 | AR25: =100*AQ25/AQ$8 -> 0.040316321 | AS25: ='HI2060'!$G27/1000 -> 2.4547602 | AT25: =100*AS25/AS$8 -> 0.016002128
A26: 18 | D26: 7. | E26: Encephalitis | G26: =World2016!$G28/1000 -> 104.48244 | H26: =100*G26/G$8 -> 0.18371054 | I26: ='LI2016'!$G28/1000 -> 6.198024 | J26: =100*I26/I$8 -> 0.11567824 | K26: ='LMI2016'!$G28/1000 -> 52.339614 | L26: =100*K26/K$8 -> 0.23647438 | M26: ='UMI2016'!$G28/1000 -> 18.79715 | N26: =100*M26/M$8 -> 0.098383573 | O26: ='HI2016'!$G28/1000 -> 27.14765 | P26: =100*O26/O$8 -> 0.26418188 | Q26: =World2030!$G28/1000 -> 105.34775 | R26: =100*Q26/Q$8 -> 0.15465149 | S26: ='LI2030'!$G28/1000 -> 4.3711763 | T26: =100*S26/S$8 -> 0.070378024 | U26: ='LMI2030'!$G28/1000 -> 45.22534 | V26: =100*U26/U$8 -> 0.17066097 | W26: ='UMI2030'!$G28/1000 -> 19.846521 | X26: =100*W26/W$8 -> 0.084756925 | Y26: ='HI2030'!$G28/1000 -> 35.904708 | Z26: =100*Y26/Y$8 -> 0.29939207 | AA26: =World2045!$G28/1000 -> 104.26513 | AB26: =100*AA26/AA$8 -> 0.121901 | AC26: ='LI2045'!$G28/1000 -> 3.2488501 | AD26: =100*AC26/AC$8 -> 0.039201748 | AE26: ='LMI2045'!$G28/1000 -> 39.839769 | AF26: =100*AE26/AE$8 -> 0.12302285 | AG26: ='UMI2045'!$G28/1000 -> 21.005236 | AH26: =100*AG26/AG$8 -> 0.069343014 | AI26: ='HI2045'!$G28/1000 -> 40.171275 | AJ26: =100*AI26/AI$8 -> 0.27572571 | AK26: =World2060!$G28/1000 -> 105.1503 | AL26: =100*AK26/AK$8 -> 0.10325946 | AM26: ='LI2060'!$G28/1000 -> 2.9110166 | AN26: =100*AM26/AM$8 -> 0.023991702 | AO26: ='LMI2060'!$G28/1000 -> 40.880858 | AP26: =100*AO26/AO$8 -> 0.10300277 | AQ26: ='UMI2060'!$G28/1000 -> 22.328133 | AR26: =100*AQ26/AQ$8 -> 0.064404798 | AS26: ='HI2060'!$G28/1000 -> 39.030294 | AT26: =100*AS26/AS$8 -> 0.25443127
A27: 19 | D27: 8. | E27: Acute hepatitis B | G27: =World2016!$G29/1000 -> 110.83004 | H27: =100*G27/G$8 -> 0.19487146 | I27: ='LI2016'!$G29/1000 -> 13.002348 | J27: =100*I27/I$8 -> 0.24267231 | K27: ='LMI2016'!$G29/1000 -> 80.620999 | L27: =100*K27/K$8 -> 0.36425184 | M27: ='UMI2016'!$G29/1000 -> 12.907297 | N27: =100*M27/M$8 -> 0.067556306 | O27: ='HI2016'!$G29/1000 -> 4.2993914 | P27: =100*O27/O$8 -> 0.04183866 | Q27: =World2030!$G29/1000 -> 114.08323 | R27: =100*Q27/Q$8 -> 0.16747527 | S27: ='LI2030'!$G29/1000 -> 14.466962 | T27: =100*S27/S$8 -> 0.23292499 | U27: ='LMI2030'!$G29/1000 -> 82.733867 | V27: =100*U27/U$8 -> 0.31220201 | W27: ='UMI2030'!$G29/1000 -> 12.773638 | X27: =100*W27/W$8 -> 0.054551337 | Y27: ='HI2030'!$G29/1000 -> 4.108767 | Z27: =100*Y27/Y$8 -> 0.034261029 | AA27: =World2045!$G29/1000 -> 108.00435 | AB27: =100*AA27/AA$8 -> 0.1262727 | AC27: ='LI2045'!$G29/1000 -> 14.429844 | AD27: =100*AC27/AC$8 -> 0.17411548 | AE27: ='LMI2045'!$G29/1000 -> 77.116046 | AF27: =100*AE27/AE$8 -> 0.23812979 | AG27: ='UMI2045'!$G29/1000 -> 12.349615 | AH27: =100*AG27/AG$8 -> 0.040768861 | AI27: ='HI2045'!$G29/1000 -> 4.108849 | AJ27: =100*AI27/AI$8 -> 0.028202125 | AK27: =World2060!$G29/1000 -> 105.52487 | AL27: =100*AK27/AK$8 -> 0.10362729 | AM27: ='LI2060'!$G29/1000 -> 15.174171 | AN27: =100*AM27/AM$8 -> 0.12506084 | AO27: ='LMI2060'!$G29/1000 -> 75.521649 | AP27: =100*AO27/AO$8 -> 0.19028316 | AQ27: ='UMI2060'!$G29/1000 -> 11.139702 | AR27: =100*AQ27/AQ$8 -> 0.03213212 | AS27: ='HI2060'!$G29/1000 -> 3.6893484 | AT27: =100*AS27/AS$8 -> 0.02405018
A28: 20 | D28: 9. | E28: Acute hepatitis C | G28: =World2016!$G30/1000 -> 2.552712 | H28: =100*G28/G$8 -> 0.0044884107 | I28: ='LI2016'!$G30/1000 -> 0.38270989 | J28: =100*I28/I$8 -> 0.0071427938 | K28: ='LMI2016'!$G30/1000 -> 1.9308784 | L28: =100*K28/K$8 -> 0.0087238561 | M28: ='UMI2016'!$G30/1000 -> 0.22669669 | N28: =100*M28/M$8 -> 0.0011865219 | O28: ='HI2016'!$G30/1000 -> 0.012426989 | P28: =100*O28/O$8 -> 0.00012093074 | Q28: =World2030!$G30/1000 -> 2.7198101 | R28: =100*Q28/Q$8 -> 0.0039927069 | S28: ='LI2030'!$G30/1000 -> 0.38695623 | T28: =100*S28/S$8 -> 0.0062301799 | U28: ='LMI2030'!$G30/1000 -> 2.0841519 | V28: =100*U28/U$8 -> 0.0078646923 | W28: ='UMI2030'!$G30/1000 -> 0.23419388 | X28: =100*W28/W$8 -> 0.0010001527 | Y28: ='HI2030'!$G30/1000 -> 0.014508074 | Z28: =100*Y28/Y$8 -> 0.00012097584 | AA28: =World2045!$G30/1000 -> 2.7857456 | AB28: =100*AA28/AA$8 -> 0.0032569392 | AC28: ='LI2045'!$G30/1000 -> 0.39559747 | AD28: =100*AC28/AC$8 -> 0.0047734158 | AE28: ='LMI2045'!$G30/1000 -> 2.1342974 | AF28: =100*AE28/AE$8 -> 0.0065905841 | AG28: ='UMI2045'!$G30/1000 -> 0.2359845 | AH28: =100*AG28/AG$8 -> 0.00077903797 | AI28: ='HI2045'!$G30/1000 -> 0.019866234 | AJ28: =100*AI28/AI$8 -> 0.00013635693 | AK28: =World2060!$G30/1000 -> 2.9694603 | AL28: =100*AK28/AK$8 -> 0.0029160625 | AM28: ='LI2060'!$G30/1000 -> 0.44358773 | AN28: =100*AM28/AM$8 -> 0.0036559134 | AO28: ='LMI2060'!$G30/1000 -> 2.2765162 | AP28: =100*AO28/AO$8 -> 0.0057358746 | AQ28: ='UMI2060'!$G30/1000 -> 0.2268304 | AR28: =100*AQ28/AQ$8 -> 0.00065428515 | AS28: ='HI2060'!$G30/1000 -> 0.022525958 | AT28: =100*AS28/AS$8 -> 0.00014684256
A29: 21 | D29: 10. | E29: Parasitic and vector diseases | G29: =World2016!$G31/1000 -> 573.72124 | H29: =100*G29/G$8 -> 1.0087689 | I29: ='LI2016'!$G31/1000 -> 274.73009 | J29: =100*I29/I$8 -> 5.1274881 | K29: ='LMI2016'!$G31/1000 -> 282.60451 | L29: =100*K29/K$8 -> 1.2768288 | M29: ='UMI2016'!$G31/1000 -> 16.1224 | N29: =100*M29/M$8 -> 0.084384032 | O29: ='HI2016'!$G31/1000 -> 0.26424168 | P29: =100*O29/O$8 -> 0.0025714146 | Q29: =World2030!$G31/1000 -> 405.74909 | R29: =100*Q29/Q$8 -> 0.5956435 | S29: ='LI2030'!$G31/1000 -> 202.06275 | T29: =100*S29/S$8 -> 3.2533067 | U29: ='LMI2030'!$G31/1000 -> 185.86107 | V29: =100*U29/U$8 -> 0.70135968 | W29: ='UMI2030'!$G31/1000 -> 17.511511 | X29: =100*W29/W$8 -> 0.074784986 | Y29: ='HI2030'!$G31/1000 -> 0.31376231 | Z29: =100*Y29/Y$8 -> 0.0026163128 | AA29: =World2045!$G31/1000 -> 336.51062 | AB29: =100*AA29/AA$8 -> 0.39342954 | AC29: ='LI2045'!$G31/1000 -> 165.35063 | AD29: =100*AC29/AC$8 -> 1.9951778 | AE29: ='LMI2045'!$G31/1000 -> 151.66697 | AF29: =100*AE29/AE$8 -> 0.46833863 | AG29: ='UMI2045'!$G31/1000 -> 19.063499 | AH29: =100*AG29/AG$8 -> 0.062932903 | AI29: ='HI2045'!$G31/1000 -> 0.4295212 | AJ29: =100*AI29/AI$8 -> 0.0029481275 | AK29: =World2060!$G31/1000 -> 305.70097 | AL29: =100*AK29/AK$8 -> 0.30020375 | AM29: ='LI2060'!$G31/1000 -> 146.75935 | AN29: =100*AM29/AM$8 -> 1.2095453 | AO29: ='LMI2060'!$G31/1000 -> 138.08947 | AP29: =100*AO29/AO$8 -> 0.34792808 | AQ29: ='UMI2060'!$G31/1000 -> 20.347022 | AR29: =100*AQ29/AQ$8 -> 0.058690345 | AS29: ='HI2060'!$G31/1000 -> 0.50511913 | AT29: =100*AS29/AS$8 -> 0.0032927782
A30: 22 | E30: a. | F30: Malaria | G30: =World2016!$G32/1000 -> 446.44595 | H30: =100*G30/G$8 -> 0.78498193 | I30: ='LI2016'!$G32/1000 -> 247.60166 | J30: =100*I30/I$8 -> 4.6211704 | K30: ='LMI2016'!$G32/1000 -> 197.23329 | L30: =100*K30/K$8 -> 0.89111508 | M30: ='UMI2016'!$G32/1000 -> 1.6097458 | N30: =100*M30/M$8 -> 0.0084253487 | O30: ='HI2016'!$G32/1000 -> 0.0012520164 | P30: =100*O30/O$8 -> 1.2183745e-05 | Q30: =World2030!$G32/1000 -> 293.07038 | R30: =100*Q30/Q$8 -> 0.43023009 | S30: ='LI2030'!$G32/1000 -> 179.76403 | T30: =100*S30/S$8 -> 2.8942867 | U30: ='LMI2030'!$G32/1000 -> 111.90315 | V30: =100*U30/U$8 -> 0.42227435 | W30: ='UMI2030'!$G32/1000 -> 1.4026627 | X30: =100*W30/W$8 -> 0.0059902375 | Y30: ='HI2030'!$G32/1000 -> 0.00052767932 | Z30: =100*Y30/Y$8 -> 4.4000636e-06 | AA30: =World2045!$G32/1000 -> 229.9197 | AB30: =100*AA30/AA$8 -> 0.26880935 | AC30: ='LI2045'!$G32/1000 -> 143.61945 | AD30: =100*AC30/AC$8 -> 1.732962 | AE30: ='LMI2045'!$G32/1000 -> 85.174477 | AF30: =100*AE30/AE$8 -> 0.26301374 | AG30: ='UMI2045'!$G32/1000 -> 1.1255332 | AH30: =100*AG30/AG$8 -> 0.0037156384 | AI30: ='HI2045'!$G32/1000 -> 0.00023438098 | AJ30: =100*AI30/AI$8 -> 1.6087332e-06 | AK30: =World2060!$G32/1000 -> 196.29909 | AL30: =100*AK30/AK$8 -> 0.19276918 | AM30: ='LI2060'!$G32/1000 -> 123.43793 | AN30: =100*AM30/AM$8 -> 1.0173374 | AO30: ='LMI2060'!$G32/1000 -> 71.944155 | AP30: =100*AO30/AO$8 -> 0.18126937 | AQ30: ='UMI2060'!$G32/1000 -> 0.91690546 | AR30: =100*AQ30/AQ$8 -> 0.0026447849 | AS30: ='HI2060'!$G32/1000 -> 0.00010265067 | AT30: =100*AS30/AS$8 -> 6.6916076e-07
A31: 23 | E31: b. | F31: Trypanosomiasis | G31: =World2016!$G33/1000 -> 3.0772969 | H31: =100*G31/G$8 -> 0.0054107837 | I31: ='LI2016'!$G33/1000 -> 2.8850426 | J31: =100*I31/I$8 -> 0.053845654 | K31: ='LMI2016'!$G33/1000 -> 0.13885243 | L31: =100*K31/K$8 -> 0.00062734587 | M31: ='UMI2016'!$G33/1000 -> 0.053024224 | N31: =100*M31/M$8 -> 0.00027752678 | O31: ='HI2016'!$G33/1000 -> 0.0003776997 | P31: =100*O31/O$8 -> 3.6755085e-06 | Q31: =World2030!$G33/1000 -> 2.3630956 | R31: =100*Q31/Q$8 -> 0.0034690467 | S31: ='LI2030'!$G33/1000 -> 2.2026097 | T31: =100*S31/S$8 -> 0.035463067 | U31: ='LMI2030'!$G33/1000 -> 0.10849435 | V31: =100*U31/U$8 -> 0.000409411 | W31: ='UMI2030'!$G33/1000 -> 0.051843815 | X31: =100*W31/W$8 -> 0.00022140517 | Y31: ='HI2030'!$G33/1000 -> 0.00014770618 | Z31: =100*Y31/Y$8 -> 1.2316507e-06 | AA31: =World2045!$G33/1000 -> 1.9473115 | AB31: =100*AA31/AA$8 -> 0.0022766885 | AC31: ='LI2045'!$G33/1000 -> 1.8161454 | AD31: =100*AC31/AC$8 -> 0.021914238 | AE31: ='LMI2045'!$G33/1000 -> 0.089928982 | AF31: =100*AE31/AE$8 -> 0.00027769537 | AG31: ='UMI2045'!$G33/1000 -> 0.041133359 | AH31: =100*AG31/AG$8 -> 0.00013579048 | AI31: ='HI2045'!$G33/1000 -> 0.0001037512 | AJ31: =100*AI31/AI$8 -> 7.1212265e-07 | AK31: =World2060!$G33/1000 -> 1.601334 | AL31: =100*AK31/AK$8 -> 0.0015725383 | AM31: ='LI2060'!$G33/1000 -> 1.4919767 | AN31: =100*AM31/AM$8 -> 0.012296412 | AO31: ='LMI2060'!$G33/1000 -> 0.07510997 | AP31: =100*AO31/AO$8 -> 0.0001892459 | AQ31: ='UMI2060'!$G33/1000 -> 0.034162102 | AR31: =100*AQ31/AQ$8 -> 9.8539507e-05 | AS31: ='HI2060'!$G33/1000 -> 8.5190974e-05 | AT31: =100*AS31/AS$8 -> 5.5534421e-07
A32: 24 | E32: c. | F32: Chagas disease | G32: =World2016!$G34/1000 -> 7.727879 | H32: =100*G32/G$8 -> 0.013587861 | I32: ='LI2016'!$G34/1000 -> 0 | J32: =100*I32/I$8 -> 0 | K32: ='LMI2016'!$G34/1000 -> 0.44579542 | L32: =100*K32/K$8 -> 0.0020141377 | M32: ='UMI2016'!$G34/1000 -> 7.1691368 | N32: =100*M32/M$8 -> 0.037522991 | O32: ='HI2016'!$G34/1000 -> 0.11294676 | P32: =100*O32/O$8 -> 0.0010991186 | Q32: =World2030!$G34/1000 -> 8.6456332 | R32: =100*Q32/Q$8 -> 0.012691871 | S32: ='LI2030'!$G34/1000 -> 0 | T32: =100*S32/S$8 -> 0 | U32: ='LMI2030'!$G34/1000 -> 0.49722657 | V32: =100*U32/U$8 -> 0.0018763191 | W32: ='UMI2030'!$G34/1000 -> 7.9635389 | X32: =100*W32/W$8 -> 0.034009238 | Y32: ='HI2030'!$G34/1000 -> 0.18486773 | Z32: =100*Y32/Y$8 -> 0.0015415229 | AA32: =World2045!$G34/1000 -> 10.851749 | AB32: =100*AA32/AA$8 -> 0.012687263 | AC32: ='LI2045'!$G34/1000 -> 0 | AD32: =100*AC32/AC$8 -> 0 | AE32: ='LMI2045'!$G34/1000 -> 0.53973264 | AF32: =100*AE32/AE$8 -> 0.0016666625 | AG32: ='UMI2045'!$G34/1000 -> 10.035447 | AH32: =100*AG32/AG$8 -> 0.033129271 | AI32: ='HI2045'!$G34/1000 -> 0.27656941 | AJ32: =100*AI32/AI$8 -> 0.0018983041 | AK32: =World2060!$G34/1000 -> 12.484912 | AL32: =100*AK32/AK$8 -> 0.012260404 | AM32: ='LI2060'!$G34/1000 -> 0 | AN32: =100*AM32/AM$8 -> 0 | AO32: ='LMI2060'!$G34/1000 -> 0.60187532 | AP32: =100*AO32/AO$8 -> 0.0015164756 | AQ32: ='UMI2060'!$G34/1000 -> 11.542142 | AR32: =100*AQ32/AQ$8 -> 0.033292944 | AS32: ='HI2060'!$G34/1000 -> 0.34089509 | AT32: =100*AS32/AS$8 -> 0.0022222321
A33: 25 | E33: d. | F33: Schistosomiasis | G33: =World2016!$G35/1000 -> 24.072074 | H33: =100*G33/G$8 -> 0.042325714 | I33: ='LI2016'!$G35/1000 -> 10.225906 | J33: =100*I33/I$8 -> 0.19085354 | K33: ='LMI2016'!$G35/1000 -> 12.397327 | L33: =100*K33/K$8 -> 0.056012073 | M33: ='UMI2016'!$G35/1000 -> 1.4003997 | N33: =100*M33/M$8 -> 0.0073296389 | O33: ='HI2016'!$G35/1000 -> 0.048441412 | P33: =100*O33/O$8 -> 0.00047139783 | Q33: =World2030!$G35/1000 -> 18.585463 | R33: =100*Q33/Q$8 -> 0.027283635 | S33: ='LI2030'!$G35/1000 -> 7.8881348 | T33: =100*S33/S$8 -> 0.12700273 | U33: ='LMI2030'!$G35/1000 -> 9.3947437 | V33: =100*U33/U$8 -> 0.03545172 | W33: ='UMI2030'!$G35/1000 -> 1.2584214 | X33: =100*W33/W$8 -> 0.005374238 | Y33: ='HI2030'!$G35/1000 -> 0.044163157 | Z33: =100*Y33/Y$8 -> 0.00036825529 | AA33: =World2045!$G35/1000 -> 19.653197 | AB33: =100*AA33/AA$8 -> 0.022977427 | AC33: ='LI2045'!$G35/1000 -> 8.4268718 | AD33: =100*AC33/AC$8 -> 0.10168155 | AE33: ='LMI2045'!$G35/1000 -> 9.7903057 | AF33: =100*AE33/AE$8 -> 0.030231885 | AG33: ='UMI2045'!$G35/1000 -> 1.3706712 | AH33: =100*AG33/AG$8 -> 0.0045248943 | AI33: ='HI2045'!$G35/1000 -> 0.065347991 | AJ33: =100*AI33/AI$8 -> 0.00044853247 | AK33: =World2060!$G35/1000 -> 21.857393 | AL33: =100*AK33/AK$8 -> 0.021464347 | AM33: ='LI2060'!$G35/1000 -> 9.6822731 | AN33: =100*AM33/AM$8 -> 0.079798311 | AO33: ='LMI2060'!$G35/1000 -> 10.643714 | AP33: =100*AO33/AO$8 -> 0.026817734 | AQ33: ='UMI2060'!$G35/1000 -> 1.4505391 | AR33: =100*AQ33/AQ$8 -> 0.0041840342 | AS33: ='HI2060'!$G35/1000 -> 0.08086728 | AT33: =100*AS33/AS$8 -> 0.00052715885
A34: 26 | E34: e. | F34: Leishmaniasis | G34: =World2016!$G36/1000 -> 14.453969 | H34: =100*G34/G$8 -> 0.025414285 | I34: ='LI2016'!$G36/1000 -> 4.07224 | J34: =100*I34/I$8 -> 0.076003186 | K34: ='LMI2016'!$G36/1000 -> 9.5439516 | L34: =100*K34/K$8 -> 0.043120303 | M34: ='UMI2016'!$G36/1000 -> 0.8207792 | N34: =100*M34/M$8 -> 0.0042959273 | O34: ='HI2016'!$G36/1000 -> 0.01699843 | P34: =100*O34/O$8 -> 0.0001654168 | Q34: =World2030!$G36/1000 -> 12.934417 | R34: =100*Q34/Q$8 -> 0.018987846 | S34: ='LI2030'!$G36/1000 -> 4.6916342 | T34: =100*S34/S$8 -> 0.075537549 | U34: ='LMI2030'!$G36/1000 -> 7.602256 | V34: =100*U34/U$8 -> 0.028687642 | W34: ='UMI2030'!$G36/1000 -> 0.62795227 | X34: =100*W34/W$8 -> 0.0026817447 | Y34: ='HI2030'!$G36/1000 -> 0.012574059 | Z34: =100*Y34/Y$8 -> 0.00010484902 | AA34: =World2045!$G36/1000 -> 11.748078 | AB34: =100*AA34/AA$8 -> 0.0137352 | AC34: ='LI2045'!$G36/1000 -> 5.0112146 | AD34: =100*AC34/AC$8 -> 0.060467047 | AE34: ='LMI2045'!$G36/1000 -> 6.1645405 | AF34: =100*AE34/AE$8 -> 0.019035736 | AG34: ='UMI2045'!$G36/1000 -> 0.55907402 | AH34: =100*AG34/AG$8 -> 0.0018456292 | AI34: ='HI2045'!$G36/1000 -> 0.013248426 | AJ34: =100*AI34/AI$8 -> 9.0933921e-05 | AK34: =World2060!$G36/1000 -> 11.998386 | AL34: =100*AK34/AK$8 -> 0.011782627 | AM34: ='LI2060'!$G36/1000 -> 5.8332006 | AN34: =100*AM34/AM$8 -> 0.048075442 | AO34: ='LMI2060'!$G36/1000 -> 5.618977 | AP34: =100*AO34/AO$8 -> 0.014157486 | AQ34: ='UMI2060'!$G36/1000 -> 0.53392536 | AR34: =100*AQ34/AQ$8 -> 0.0015400909 | AS34: ='HI2060'!$G36/1000 -> 0.012282632 | AT34: =100*AS34/AS$8 -> 8.0068206e-05
A35: 27 | E35: f. | F35: Lymphatic filariasis | G35: =World2016!$G37/1000 -> 0.00038413689 | H35: =100*G35/G$8 -> 6.7542446e-07 | I35: ='LI2016'!$G37/1000 -> 0 | J35: =100*I35/I$8 -> 0 | K35: ='LMI2016'!$G37/1000 -> 0 | L35: =100*K35/K$8 -> 0 | M35: ='UMI2016'!$G37/1000 -> 0.00038413689 | N35: =100*M35/M$8 -> 2.0105579e-06 | O35: ='HI2016'!$G37/1000 -> 0 | P35: =100*O35/O$8 -> 0 | Q35: =World2030!$G37/1000 -> 0.00033724138 | R35: =100*Q35/Q$8 -> 4.9507353e-07 | S35: ='LI2030'!$G37/1000 -> 0 | T35: =100*S35/S$8 -> 0 | U35: ='LMI2030'!$G37/1000 -> 0 | V35: =100*U35/U$8 -> 0 | W35: ='UMI2030'!$G37/1000 -> 0.00033724138 | X35: =100*W35/W$8 -> 1.4402293e-06 | Y35: ='HI2030'!$G37/1000 -> 0 | Z35: =100*Y35/Y$8 -> 0 | AA35: =World2045!$G37/1000 -> 0.00029665497 | AB35: =100*AA35/AA$8 -> 3.4683253e-07 | AC35: ='LI2045'!$G37/1000 -> 0 | AD35: =100*AC35/AC$8 -> 0 | AE35: ='LMI2045'!$G37/1000 -> 0 | AF35: =100*AE35/AE$8 -> 0 | AG35: ='UMI2045'!$G37/1000 -> 0.00029665497 | AH35: =100*AG35/AG$8 -> 9.7932485e-07 | AI35: ='HI2045'!$G37/1000 -> 0 | AJ35: =100*AI35/AI$8 -> 0 | AK35: =World2060!$G37/1000 -> 0.00019816527 | AL35: =100*AK35/AK$8 -> 1.946018e-07 | AM35: ='LI2060'!$G37/1000 -> 0 | AN35: =100*AM35/AM$8 -> 0 | AO35: ='LMI2060'!$G37/1000 -> 0 | AP35: =100*AO35/AO$8 -> 0 | AQ35: ='UMI2060'!$G37/1000 -> 0.00019816527 | AR35: =100*AQ35/AQ$8 -> 5.7160148e-07 | AS35: ='HI2060'!$G37/1000 -> 0 | AT35: =100*AS35/AS$8 -> 0
A36: 28 | E36: g. | F36: Onchocerciasis | G36: =World2016!$G38/1000 -> 0.0014504721 | H36: =100*G36/G$8 -> 2.5503521e-06 | I36: ='LI2016'!$G38/1000 -> 0 | J36: =100*I36/I$8 -> 0 | K36: ='LMI2016'!$G38/1000 -> 0.0003565937 | L36: =100*K36/K$8 -> 1.6111176e-06 | M36: ='UMI2016'!$G38/1000 -> 0.0010938784 | N36: =100*M36/M$8 -> 5.7253182e-06 | O36: ='HI2016'!$G38/1000 -> 0 | P36: =100*O36/O$8 -> 0 | Q36: =World2030!$G38/1000 -> 0.0010513241 | R36: =100*Q36/Q$8 -> 1.5433537e-06 | S36: ='LI2030'!$G38/1000 -> 0 | T36: =100*S36/S$8 -> 0 | U36: ='LMI2030'!$G38/1000 -> 0.00025068092 | V36: =100*U36/U$8 -> 9.4596192e-07 | W36: ='UMI2030'!$G38/1000 -> 0.00080064318 | X36: =100*W36/W$8 -> 3.4192417e-06 | Y36: ='HI2030'!$G38/1000 -> 0 | Z36: =100*Y36/Y$8 -> 0 | AA36: =World2045!$G38/1000 -> 0.0011008324 | AB36: =100*AA36/AA$8 -> 1.2870322e-06 | AC36: ='LI2045'!$G38/1000 -> 0 | AD36: =100*AC36/AC$8 -> 0 | AE36: ='LMI2045'!$G38/1000 -> 0.00037147781 | AF36: =100*AE36/AE$8 -> 1.1471015e-06 | AG36: ='UMI2045'!$G38/1000 -> 0.00072935462 | AH36: =100*AG36/AG$8 -> 2.4077638e-06 | AI36: ='HI2045'!$G38/1000 -> 0 | AJ36: =100*AI36/AI$8 -> 0 | AK36: =World2060!$G38/1000 -> 0.001319242 | AL36: =100*AK36/AK$8 -> 1.295519e-06 | AM36: ='LI2060'!$G38/1000 -> 0 | AN36: =100*AM36/AM$8 -> 0 | AO36: ='LMI2060'!$G38/1000 -> 0.0006371997 | AP36: =100*AO36/AO$8 -> 1.6054784e-06 | AQ36: ='UMI2060'!$G38/1000 -> 0.0006820423 | AR36: =100*AQ36/AQ$8 -> 1.9673296e-06 | AS36: ='HI2060'!$G38/1000 -> 0 | AT36: =100*AS36/AS$8 -> 0
A37: 29 | E37: h. | F37: Leprosy | G37: =World2016!$G39/1000 -> 13.221084 | H37: =100*G37/G$8 -> 0.023246515 | I37: ='LI2016'!$G39/1000 -> 1.8990852 | J37: =100*I37/I$8 -> 0.035444013 | K37: ='LMI2016'!$G39/1000 -> 10.014278 | L37: =100*K37/K$8 -> 0.045245272 | M37: ='UMI2016'!$G39/1000 -> 1.3024745 | N37: =100*M37/M$8 -> 0.0068171023 | O37: ='HI2016'!$G39/1000 -> 0.0052470044 | P37: =100*O37/O$8 -> 5.1060165e-05 | Q37: =World2030!$G39/1000 -> 12.517026 | R37: =100*Q37/Q$8 -> 0.018375112 | S37: ='LI2030'!$G39/1000 -> 2.0518111 | T37: =100*S37/S$8 -> 0.033035137 | U37: ='LMI2030'!$G39/1000 -> 9.2299501 | V37: =100*U37/U$8 -> 0.034829859 | W37: ='UMI2030'!$G39/1000 -> 1.2290412 | X37: =100*W37/W$8 -> 0.0052487661 | Y37: ='HI2030'!$G39/1000 -> 0.0062234883 | Z37: =100*Y37/Y$8 -> 5.1894671e-05 | AA37: =World2045!$G39/1000 -> 13.433167 | AB37: =100*AA37/AA$8 -> 0.015705313 | AC37: ='LI2045'!$G39/1000 -> 2.448183 | AD37: =100*AC37/AC$8 -> 0.029540622 | AE37: ='LMI2045'!$G39/1000 -> 9.878743 | AF37: =100*AE37/AE$8 -> 0.030504974 | AG37: ='UMI2045'!$G39/1000 -> 1.0962575 | AH37: =100*AG37/AG$8 -> 0.0036189928 | AI37: ='HI2045'!$G39/1000 -> 0.0099830342 | AJ37: =100*AI37/AI$8 -> 6.8521081e-05 | AK37: =World2060!$G39/1000 -> 14.668835 | AL37: =100*AK37/AK$8 -> 0.014405055 | AM37: ='LI2060'!$G39/1000 -> 3.0787304 | AN37: =100*AM37/AM$8 -> 0.025373947 | AO37: ='LMI2060'!$G39/1000 -> 10.676666 | AP37: =100*AO37/AO$8 -> 0.026900761 | AQ37: ='UMI2060'!$G39/1000 -> 0.90072901 | AR37: =100*AQ37/AQ$8 -> 0.0025981245 | AS37: ='HI2060'!$G39/1000 -> 0.01270908 | AT37: =100*AS37/AS$8 -> 8.2848144e-05
A38: 30 | E38: i. | F38: Dengue | G38: =World2016!$G40/1000 -> 40.392498 | H38: =100*G38/G$8 -> 0.07102177 | I38: ='LI2016'!$G40/1000 -> 0.43421375 | J38: =100*I38/I$8 -> 0.0081040479 | K38: ='LMI2016'!$G40/1000 -> 37.563713 | L38: =100*K38/K$8 -> 0.16971573 | M38: ='UMI2016'!$G40/1000 -> 2.3342359 | N38: =100*M38/M$8 -> 0.012217302 | O38: ='HI2016'!$G40/1000 -> 0.060335222 | P38: =100*O38/O$8 -> 0.00058714004 | Q38: =World2030!$G40/1000 -> 41.807633 | R38: =100*Q38/Q$8 -> 0.061374001 | S38: ='LI2030'!$G40/1000 -> 0.31822476 | T38: =100*S38/S$8 -> 0.0051235705 | U38: ='LMI2030'!$G40/1000 -> 37.287284 | V38: =100*U38/U$8 -> 0.14070616 | W38: ='UMI2030'!$G40/1000 -> 4.1474876 | X38: =100*W38/W$8 -> 0.017712338 | Y38: ='HI2030'!$G40/1000 -> 0.054636881 | Z38: =100*Y38/Y$8 -> 0.00045559063 | AA38: =World2045!$G40/1000 -> 37.669209 | AB38: =100*AA38/AA$8 -> 0.044040749 | AC38: ='LI2045'!$G40/1000 -> 0.2326558 | AD38: =100*AC38/AC$8 -> 0.0028073052 | AE38: ='LMI2045'!$G40/1000 -> 33.105099 | AF38: =100*AE38/AE$8 -> 0.10222659 | AG38: ='UMI2045'!$G40/1000 -> 4.2724057 | AH38: =100*AG38/AG$8 -> 0.014104173 | AI38: ='HI2045'!$G40/1000 -> 0.059048832 | AJ38: =100*AI38/AI$8 -> 0.0004052966 | AK38: =World2060!$G40/1000 -> 38.082562 | AL38: =100*AK38/AK$8 -> 0.037397749 | AM38: ='LI2060'!$G40/1000 -> 0.22103159 | AN38: =100*AM38/AM$8 -> 0.0018216743 | AO38: ='LMI2060'!$G40/1000 -> 33.243246 | AP38: =100*AO38/AO$8 -> 0.083759163 | AQ38: ='UMI2060'!$G40/1000 -> 4.562843 | AR38: =100*AQ38/AQ$8 -> 0.013161377 | AS38: ='HI2060'!$G40/1000 -> 0.055440661 | AT38: =100*AS38/AS$8 -> 0.00036140742
