Workbook
Name __LEX1955: '[1]summary-targets'!#REF!
Name __LEX1955: '[1]summary-targets'!#REF!
Name __LEX1955: '[1]summary-targets'!#REF!
Name __LEX1955: '[1]summary-targets'!#REF!
Name __LEX1955: '[1]summary-targets'!#REF!
Name __LEX1955: '[1]summary-targets'!#REF!
Name __LEX1975: '[1]summary-targets'!#REF!
Name __LEX1975: '[1]summary-targets'!#REF!
Name __LEX1975: '[1]summary-targets'!#REF!
Name __LEX1975: '[1]summary-targets'!#REF!
Name __LEX1975: '[1]summary-targets'!#REF!
Name __LEX1975: '[1]summary-targets'!#REF!
Name __LEX2025: '[1]summary-targets'!#REF!
Name __LEX2025: '[1]summary-targets'!#REF!
Name __LEX2025: '[1]summary-targets'!#REF!
Name __LEX2025: '[1]summary-targets'!#REF!
Name __LEX2025: '[1]summary-targets'!#REF!
Name __LEX2025: '[1]summary-targets'!#REF!
Name _reg98: [2]whoreg!#REF!
Name _reg98: [2]whoreg!#REF!
Name _reg98: [2]whoreg!#REF!
Name _reg98: [2]whoreg!#REF!
Name _reg98: [2]whoreg!#REF!
Name _reg98: [2]whoreg!#REF!
Name _reg98: [2]whoreg!#REF!
Name _resul: '[3]slop-inter'!$A$45:$AG$48
Name _yellowF: #REF!
Name _yellowF: #REF!
Name _yellowF: #REF!
Name _yellowF: #REF!
Name _yellowF: #REF!
Name _yellowF: #REF!
Name _yellowF: #REF!
Name _yellowM: #REF!
Name _yellowM: #REF!
Name _yellowM: #REF!
Name _yellowM: #REF!
Name _yellowM: #REF!
Name _yellowM: #REF!
Name _yellowM: #REF!
Name data: #REF!
Name data: #REF!
Name data: #REF!
Name data: #REF!
Name data: #REF!
Name data: #REF!
Name data: #REF!
Name GBDageD95: [4]Deaths!$A$1:$T$643
Name home: '[3]slop-inter'!$D$1:$F$1
Name label: [3]lx!$D$1788:$E$1825
Name PA: #REF!
Name PA: #REF!
Name PA: #REF!
Name PA: #REF!
Name PA: #REF!
Name PA: #REF!
Name PA: #REF!
Name pop: #REF!
Name pop: #REF!
Name pop: #REF!

Sheet Notes
B2: GLOBAL HEALTH ESTIMATES SUMMARY TABLES: PROJECTION OF DEATHS BY CAUSE, AGE AND SEX, BY WORLD BANK INCOME GROUP October 2018 World Health Organization Geneva, Switzerland
B3: http://www.who.int/healthinfo/global_burden_disease/en/
B5: Global Health Estimates Summary Tables: Projection This workbook contains summary projections of mortality by cause, sex, age and region. Following the release of the WHO Global Health Estimates of deaths by cause, age, sex and country for years 2000-2016 (1), WHO projections of mortality and causes of death have been updated and extended for years 2017-2060 (2). These projections are an update of previous projections released in 2006 (3), 2008 (4) and 2013 (5). A set of relatively simple models were used to project future health trends for baseline, optimistic and pessimistic scenarios, based largely on projections of economic and social development, and using the historically observed relationships of these with cause-specific mortality rates. Projected death rates were converted to numbers of deaths using the median population projections of the World Population Prospects 2017 (7). For a more detailed summary of methods and data inputs, refer to the documentation available on the WHO website at <url> (8). All projection covariates have been revised and updated. These include country level projections of gross domestic product (GDP) per capita in purchasing parity adjusted 2011 dollars, average years of education for men and women aged 25 years and over, and smoking impact SI, the component of observed lung cancer mortality attributable to tobacco smoking. SI was projected using 25-year lagged projections of prevalence of tobacco smoking and average cigarettes per smoker per day. In the original projections, separate projection models were developed for HIV/AIDS, tuberculosis, lung cancer, diabetes mellitus and chronic respiratory diseases (3). These models have been revised and updated as described in the projections documentation (8). Additional special projection models have also been developed for malaria, maternal deaths, road injury, homicide, natural disasters and war and conflict (8). These projections are less firm than the base year assessments for 2016, and provide “business-as-usual” projections under specified assumptions that do not specifically take account of trends in major risk factors apart from tobacco smoking, and to a limited extent, overweight and obesity. This spreadsheet includes point estimates for projected deaths by region, cause, age and sex under a business-as-usual scenario for projected covariates. Explicit uncertainty ranges are not included here, uncertainty in projections is better conveyed through comparison of optimistic and pessimistic scenarios with varying input assumptions (under preparation and not yet released). The number of significant figures displayed in worksheet cells in this this Excel workbook do not provide information on uncertainty ranges of projected estimates. The base scenario does not necessarily represent the best predictions or potential range of future global and regional health trends; it is possible that more sophisticated causal models incorporating projections of important determinants may provide better predictions for specific diseases. The preparation of these statistics was undertaken by the WHO Department of Health Statistics and Informatics in collaboration with WHO technical programs. Documentation and regional-level summary tables are available on the WHO website (8). For other queries, please send an email to healthstat@who.int. References 1. Global Health Estimates 2016: Deaths by cause, age and sex, by country and by region, 2000-2016. Geneva: World Health Organization; 2018. Available at http://www.who.int/healthinfo/global_burden_disease/estimates/en/. 2. World Health Organization (2018). Projections of mortality and causes of death, 2017-2060. Available on the WHO website at http://www.who.int/healthinfo/global_burden_disease/projections/en/. 3. Mathers CD, Loncar D. Projections of global mortality and burden of disease from 2002 to 2030. PLoS Medicine, 2006, 3(11): e442. 4. World Health Organization. The global burden of disease: 2004 update. Geneva, World Health Organization, 2008. 5. World Health Organization (2013). Projections of mortality and causes of death, 2012-2030. Available on the WHO website at http://www.who.int/healthinfo/global_burden_disease/projections/en/. 6. Murray CJL, Lopez AD, eds. The global burden of disease: a comprehensive assessment of mortality and disability from diseases, injuries and risk factors in 1990 and projected to 2020. Cambridge, Harvard School of Public Health on behalf of the World Health Organization and the World Bank, 1996. 7. UN Population Division. World Population Prospects - the 2017 revision. New York, United Nations, 2017. 8. World Health Organization (2018). Updated projections of mortality and causes of death, 2016-2060. Available on the WHO website at http://www.who.int/healthinfo/global_burden_disease/projections/en/.

Sheet Country list
B2: Important Notes for the Tables a. WHO Member States are classified according to the World Bank income group for the year 2016 (World Bank list of economies, July 2017). For a list of the countries included in each category, refer to the list below. b. Equatorial Guinea is classified by the World Bank as high income. It is kept here with upper middle income to avoid a regional grouping containing only one country and because its mortality profile is not dissimilar to neighbouring countries. c. Cook Islands, Nauru and Niue are classified into income groups using gross domestic product.
B4: List of Countries in Regional Categories
B6: World Bank income groups | C6: Countries included
B7: Low income | C7: Afghanistan
C8: Benin
C9: Burkina Faso
C10: Burundi
C11: Central African Republic
C12: Chad
C13: Comoros
C14: Democratic People's Republic of Korea
C15: Democratic Republic of the Congo
C16: Eritrea
C17: Ethiopia
C18: Gambia
C19: Guinea
... C37: Zimbabwe
B39: Lower middle income | C39: Angola
C40: Armenia
C41: Bangladesh
C42: Bhutan
C43: Bolivia (Plurinational State of)
C44: Cabo Verde
C45: Cambodia
C46: Cameroon
C47: Congo
C48: Côte d'Ivoire
C49: Djibouti
C50: Egypt
C51: El Salvador
... C89: Zambia
B91: Upper middle income | C91: Albania
C92: Algeria
C93: Argentina
C94: Azerbaijan
C95: Belarus
C96: Belize
C97: Bosnia and Herzegovina
C98: Botswana
C99: Brazil
C100: Bulgaria
C101: China
C102: Colombia
C103: Costa Rica
... C141: Venezuela (Bolivarian Republic of)
B143: High income | C143: Antigua and Barbuda
C144: Australia
C145: Austria
C146: Bahamas
C147: Bahrain
C148: Barbados
C149: Belgium
C150: Brunei Darussalam
C151: Canada
C152: Chile
C153: Cyprus
C154: Czechia
C155: Denmark
... C192: Uruguay

Sheet Summary
B1: Summary: Deaths (thousands) by cause and by World Bank income group
F3: Year | G3: 2016 | Q3: 2030 | AA3: 2045 | AK3: 2060
F4: Region | G4: WORLD | I4: Low-income countries | K4: Lower-middle-income countries | M4: Upper-middle-income countries | O4: High-income countries | Q4: WORLD | S4: Low-income countries | U4: Lower-middle-income countries | W4: Upper-middle-income countries | Y4: High-income countries | AA4: WORLD | AC4: Low-income countries | AE4: Lower-middle-income countries | AG4: Upper-middle-income countries | AI4: High-income countries | AK4: WORLD | AM4: Low-income countries | AO4: Lower-middle-income countries | AQ4: Upper-middle-income countries | AS4: High-income countries
B6: Population (thousands) | G6: =World2016!$G7 -> 7462277.2 | I6: ='LI2016'!$G7 -> 659272.67 | K6: ='LMI2016'!$G7 -> 3012429.5 | M6: ='UMI2016'!$G7 -> 2614405 | O6: ='HI2016'!$G7 -> 1176151 | Q6: =World2030!$G7 -> 8545864.6 | S6: ='LI2030'!$G7 -> 935905.38 | U6: ='LMI2030'!$G7 -> 3594806.6 | W6: ='UMI2030'!$G7 -> 2775923.4 | Y6: ='HI2030'!$G7 -> 1239209.7 | AA6: =World2045!$G7 -> 9498328.2 | AC6: ='LI2045'!$G7 -> 1288244.5 | AE6: ='LMI2045'!$G7 -> 4126607.7 | AG6: ='UMI2045'!$G7 -> 2811596.8 | AI6: ='HI2045'!$G7 -> 1271859.5 | AK6: =World2060!$G7 -> 10216375 | AM6: ='LI2060'!$G7 -> 1665664 | AO6: ='LMI2060'!$G7 -> 4529016.4 | AQ6: ='UMI2060'!$G7 -> 2741520.2 | AS6: ='HI2060'!$G7 -> 1280155.3
A7: GHE 2012 code | B7: GHE 2012 cause category | G7: Deaths (000s) | H7: % total | I7: Deaths (000s) | J7: % total | K7: Deaths (000s) | L7: % total | M7: Deaths (000s) | N7: % total | O7: Deaths (000s) | P7: % total | Q7: Deaths (000s) | R7: % total | S7: Deaths (000s) | T7: % total | U7: Deaths (000s) | V7: % total | W7: Deaths (000s) | X7: % total | Y7: Deaths (000s) | Z7: % total | AA7: Deaths (000s) | AB7: % total | AC7: Deaths (000s) | AD7: % total | AE7: Deaths (000s) | AF7: % total | AG7: Deaths (000s) | AH7: % total | AI7: Deaths (000s) | AJ7: % total | AK7: Deaths (000s) | AL7: % total | AM7: Deaths (000s) | AN7: % total | AO7: Deaths (000s) | AP7: % total | AQ7: Deaths (000s) | AR7: % total | AS7: Deaths (000s) | AT7: % total
A8: 0 | C8: All Causes | G8: =World2016!$G10/1000 -> 56873.405 | H8: =100*G8/G$8 -> 100 | I8: ='LI2016'!$G10/1000 -> 5357.9859 | J8: =100*I8/I$8 -> 100 | K8: ='LMI2016'!$G10/1000 -> 22133.313 | L8: =100*K8/K$8 -> 100 | M8: ='UMI2016'!$G10/1000 -> 19105.984 | N8: =100*M8/M$8 -> 100 | O8: ='HI2016'!$G10/1000 -> 10276.121 | P8: =100*O8/O$8 -> 100 | Q8: =World2030!$G10/1000 -> 68119.453 | R8: =100*Q8/Q$8 -> 100 | S8: ='LI2030'!$G10/1000 -> 6210.9961 | T8: =100*S8/S$8 -> 100 | U8: ='LMI2030'!$G10/1000 -> 26500.107 | V8: =100*U8/U$8 -> 100 | W8: ='UMI2030'!$G10/1000 -> 23415.811 | X8: =100*W8/W$8 -> 100 | Y8: ='HI2030'!$G10/1000 -> 11992.538 | Z8: =100*Y8/Y$8 -> 100 | AA8: =World2045!$G10/1000 -> 85532.627 | AB8: =100*AA8/AA$8 -> 100 | AC8: ='LI2045'!$G10/1000 -> 8287.5133 | AD8: =100*AC8/AC$8 -> 100 | AE8: ='LMI2045'!$G10/1000 -> 32384.04 | AF8: =100*AE8/AE$8 -> 100 | AG8: ='UMI2045'!$G10/1000 -> 30291.784 | AH8: =100*AG8/AG$8 -> 100 | AI8: ='HI2045'!$G10/1000 -> 14569.289 | AJ8: =100*AI8/AI$8 -> 100 | AK8: =World2060!$G10/1000 -> 101831.16 | AL8: =100*AK8/AK$8 -> 100 | AM8: ='LI2060'!$G10/1000 -> 12133.431 | AN8: =100*AM8/AM$8 -> 100 | AO8: ='LMI2060'!$G10/1000 -> 39689.086 | AP8: =100*AO8/AO$8 -> 100 | AQ8: ='UMI2060'!$G10/1000 -> 34668.432 | AR8: =100*AQ8/AQ$8 -> 100 | AS8: ='HI2060'!$G10/1000 -> 15340.211 | AT8: =100*AS8/AS$8 -> 100
A9: 1 | B9: I. | C9: Communicable, maternal, perinatal and nutritional conditions | G9: =World2016!$G11/1000 -> 11481.463 | H9: =100*G9/G$8 -> 20.187755 | I9: ='LI2016'!$G11/1000 -> 2812.4235 | J9: =100*I9/I$8 -> 52.490313 | K9: ='LMI2016'!$G11/1000 -> 6557.1767 | L9: =100*K9/K$8 -> 29.625825 | M9: ='UMI2016'!$G11/1000 -> 1422.2202 | N9: =100*M9/M$8 -> 7.4438467 | O9: ='HI2016'!$G11/1000 -> 689.64301 | P9: =100*O9/O$8 -> 6.7111218 | Q9: =World2030!$G11/1000 -> 10094.844 | R9: =100*Q9/Q$8 -> 14.819326 | S9: ='LI2030'!$G11/1000 -> 2349.26 | T9: =100*S9/S$8 -> 37.824207 | U9: ='LMI2030'!$G11/1000 -> 5538.3203 | V9: =100*U9/U$8 -> 20.899237 | W9: ='UMI2030'!$G11/1000 -> 1376.2935 | X9: =100*W9/W$8 -> 5.8776247 | Y9: ='HI2030'!$G11/1000 -> 830.97018 | Z9: =100*Y9/Y$8 -> 6.9290601 | AA9: =World2045!$G11/1000 -> 9666.0585 | AB9: =100*AA9/AA$8 -> 11.301019 | AC9: ='LI2045'!$G11/1000 -> 2031.3178 | AD9: =100*AC9/AC$8 -> 24.510582 | AE9: ='LMI2045'!$G11/1000 -> 5075.8292 | AF9: =100*AE9/AE$8 -> 15.67386 | AG9: ='UMI2045'!$G11/1000 -> 1549.7771 | AH9: =100*AG9/AG$8 -> 5.1161631 | AI9: ='HI2045'!$G11/1000 -> 1009.1345 | AJ9: =100*AI9/AI$8 -> 6.92645 | AK9: =World2060!$G11/1000 -> 9990.2208 | AL9: =100*AK9/AK$8 -> 9.8105735 | AM9: ='LI2060'!$G11/1000 -> 1996.7413 | AN9: =100*AM9/AM$8 -> 16.456526 | AO9: ='LMI2060'!$G11/1000 -> 5180.1088 | AP9: =100*AO9/AO$8 -> 13.051721 | AQ9: ='UMI2060'!$G11/1000 -> 1741.8988 | AR9: =100*AQ9/AQ$8 -> 5.0244523 | AS9: ='HI2060'!$G11/1000 -> 1071.4719 | AT9: =100*AS9/AS$8 -> 6.9847274
A10: 2 | C10: A. | D10: Infectious and parasitic diseases | G10: =World2016!$G12/1000 -> 5491.3375 | H10: =100*G10/G$8 -> 9.6553698 | I10: ='LI2016'!$G12/1000 -> 1489.2345 | J10: =100*I10/I$8 -> 27.79467 | K10: ='LMI2016'!$G12/1000 -> 3249.3595 | L10: =100*K10/K$8 -> 14.680854 | M10: ='UMI2016'!$G12/1000 -> 567.23489 | N10: =100*M10/M$8 -> 2.968886 | O10: ='HI2016'!$G12/1000 -> 185.50866 | P10: =100*O10/O$8 -> 1.8052401 | Q10: =World2030!$G12/1000 -> 4578.7775 | R10: =100*Q10/Q$8 -> 6.7216886 | S10: ='LI2030'!$G12/1000 -> 1233.438 | T10: =100*S10/S$8 -> 19.85894 | U10: ='LMI2030'!$G12/1000 -> 2643.7122 | V10: =100*U10/U$8 -> 9.9762321 | W10: ='UMI2030'!$G12/1000 -> 464.80873 | X10: =100*W10/W$8 -> 1.9850209 | Y10: ='HI2030'!$G12/1000 -> 236.81856 | Z10: =100*Y10/Y$8 -> 1.9747159 | AA10: =World2045!$G12/1000 -> 4100.7739 | AB10: =100*AA10/AA$8 -> 4.7943972 | AC10: ='LI2045'!$G12/1000 -> 1112.3716 | AD10: =100*AC10/AC$8 -> 13.42226 | AE10: ='LMI2045'!$G12/1000 -> 2340.2418 | AF10: =100*AE10/AE$8 -> 7.2265282 | AG10: ='UMI2045'!$G12/1000 -> 378.26468 | AH10: =100*AG10/AG$8 -> 1.2487369 | AI10: ='HI2045'!$G12/1000 -> 269.89579 | AJ10: =100*AI10/AI$8 -> 1.8524981 | AK10: =World2060!$G12/1000 -> 3968.4132 | AL10: =100*AK10/AK$8 -> 3.8970519 | AM10: ='LI2060'!$G12/1000 -> 1094.8329 | AN10: =100*AM10/AM$8 -> 9.0232756 | AO10: ='LMI2060'!$G12/1000 -> 2275.4343 | AP10: =100*AO10/AO$8 -> 5.7331487 | AQ10: ='UMI2060'!$G12/1000 -> 331.94064 | AR10: =100*AQ10/AQ$8 -> 0.95747232 | AS10: ='HI2060'!$G12/1000 -> 266.2053 | AT10: =100*AS10/AS$8 -> 1.7353431
A11: 3 | D11: 1. | E11: Tuberculosis | G11: =World2016!$G13/1000 -> 1292.9006 | H11: =100*G11/G$8 -> 2.2732957 | I11: ='LI2016'!$G13/1000 -> 225.92788 | J11: =100*I11/I$8 -> 4.2166568 | K11: ='LMI2016'!$G13/1000 -> 932.35133 | L11: =100*K11/K$8 -> 4.2124346 | M11: ='UMI2016'!$G13/1000 -> 122.03288 | N11: =100*M11/M$8 -> 0.63871549 | O11: ='HI2016'!$G13/1000 -> 12.588541 | P11: =100*O11/O$8 -> 0.12250285 | Q11: =World2030!$G13/1000 -> 1137.0415 | R11: =100*Q11/Q$8 -> 1.6691877 | S11: ='LI2030'!$G13/1000 -> 259.50012 | T11: =100*S11/S$8 -> 4.1780758 | U11: ='LMI2030'!$G13/1000 -> 786.36124 | V11: =100*U11/U$8 -> 2.9673889 | W11: ='UMI2030'!$G13/1000 -> 82.226709 | X11: =100*W11/W$8 -> 0.35115892 | Y11: ='HI2030'!$G13/1000 -> 8.9534467 | Z11: =100*Y11/Y$8 -> 0.074658479 | AA11: =World2045!$G13/1000 -> 1050.0536 | AB11: =100*AA11/AA$8 -> 1.2276644 | AC11: ='LI2045'!$G13/1000 -> 297.30689 | AD11: =100*AC11/AC$8 -> 3.5874077 | AE11: ='LMI2045'!$G13/1000 -> 687.91991 | AF11: =100*AE11/AE$8 -> 2.124256 | AG11: ='UMI2045'!$G13/1000 -> 57.846444 | AH11: =100*AG11/AG$8 -> 0.19096414 | AI11: ='HI2045'!$G13/1000 -> 6.9803273 | AJ11: =100*AI11/AI$8 -> 0.047911243 | AK11: =World2060!$G13/1000 -> 926.96353 | AL11: =100*AK11/AK$8 -> 0.91029458 | AM11: ='LI2060'!$G13/1000 -> 301.06517 | AN11: =100*AM11/AM$8 -> 2.4812863 | AO11: ='LMI2060'!$G13/1000 -> 582.12656 | AP11: =100*AO11/AO$8 -> 1.466717 | AQ11: ='UMI2060'!$G13/1000 -> 38.778187 | AR11: =100*AQ11/AQ$8 -> 0.11185446 | AS11: ='HI2060'!$G13/1000 -> 4.9936171 | AT11: =100*AS11/AS$8 -> 0.032552467
A12: 4 | D12: 2. | E12: STDs excluding HIV | G12: =World2016!$G14/1000 -> 102.36054 | H12: =100*G12/G$8 -> 0.17997962 | I12: ='LI2016'!$G14/1000 -> 48.032044 | J12: =100*I12/I$8 -> 0.89645707 | K12: ='LMI2016'!$G14/1000 -> 50.216186 | L12: =100*K12/K$8 -> 0.22688057 | M12: ='UMI2016'!$G14/1000 -> 3.3693152 | N12: =100*M12/M$8 -> 0.017634868 | O12: ='HI2016'!$G14/1000 -> 0.7429937 | P12: =100*O12/O$8 -> 0.0072302933 | Q12: =World2030!$G14/1000 -> 68.622331 | R12: =100*Q12/Q$8 -> 0.10073823 | S12: ='LI2030'!$G14/1000 -> 33.039018 | T12: =100*S12/S$8 -> 0.53194395 | U12: ='LMI2030'!$G14/1000 -> 32.856768 | V12: =100*U12/U$8 -> 0.1239873 | W12: ='UMI2030'!$G14/1000 -> 2.1388822 | X12: =100*W12/W$8 -> 0.0091343504 | Y12: ='HI2030'!$G14/1000 -> 0.58766285 | Z12: =100*Y12/Y$8 -> 0.0049002374 | AA12: =World2045!$G14/1000 -> 33.012726 | AB12: =100*AA12/AA$8 -> 0.038596647 | AC12: ='LI2045'!$G14/1000 -> 14.038376 | AD12: =100*AC12/AC$8 -> 0.1693919 | AE12: ='LMI2045'!$G14/1000 -> 16.748594 | AF12: =100*AE12/AE$8 -> 0.051718666 | AG12: ='UMI2045'!$G14/1000 -> 1.6354018 | AH12: =100*AG12/AG$8 -> 0.0053988294 | AI12: ='HI2045'!$G14/1000 -> 0.59035393 | AJ12: =100*AI12/AI$8 -> 0.0040520435 | AK12: =World2060!$G14/1000 -> 18.227393 | AL12: =100*AK12/AK$8 -> 0.017899622 | AM12: ='LI2060'!$G14/1000 -> 6.6947283 | AN12: =100*AM12/AM$8 -> 0.055175888 | AO12: ='LMI2060'!$G14/1000 -> 9.5414752 | AP12: =100*AO12/AO$8 -> 0.024040551 | AQ12: ='UMI2060'!$G14/1000 -> 1.4292004 | AR12: =100*AQ12/AQ$8 -> 0.0041224835 | AS12: ='HI2060'!$G14/1000 -> 0.56198933 | AT12: =100*AS12/AS$8 -> 0.0036635045
A13: 5 | E13: a. | F13: Syphilis | G13: =World2016!$G15/1000 -> 95.557801 | H13: =100*G13/G$8 -> 0.16801843 | I13: ='LI2016'!$G15/1000 -> 46.477894 | J13: =100*I13/I$8 -> 0.86745084 | K13: ='LMI2016'!$G15/1000 -> 46.462044 | L13: =100*K13/K$8 -> 0.20991907 | M13: ='UMI2016'!$G15/1000 -> 2.3379204 | N13: =100*M13/M$8 -> 0.012236587 | O13: ='HI2016'!$G15/1000 -> 0.27994259 | P13: =100*O13/O$8 -> 0.0027242048 | Q13: =World2030!$G15/1000 -> 62.193551 | R13: =100*Q13/Q$8 -> 0.091300721 | S13: ='LI2030'!$G15/1000 -> 31.444901 | T13: =100*S13/S$8 -> 0.50627791 | U13: ='LMI2030'!$G15/1000 -> 29.307991 | V13: =100*U13/U$8 -> 0.11059574 | W13: ='UMI2030'!$G15/1000 -> 1.2405548 | X13: =100*W13/W$8 -> 0.0052979365 | Y13: ='HI2030'!$G15/1000 -> 0.20010462 | Z13: =100*Y13/Y$8 -> 0.0016685761 | AA13: =World2045!$G15/1000 -> 27.107158 | AB13: =100*AA13/AA$8 -> 0.031692185 | AC13: ='LI2045'!$G15/1000 -> 12.563047 | AD13: =100*AC13/AC$8 -> 0.15159007 | AE13: ='LMI2045'!$G15/1000 -> 13.572566 | AF13: =100*AE13/AE$8 -> 0.041911282 | AG13: ='UMI2045'!$G15/1000 -> 0.78565442 | AH13: =100*AG13/AG$8 -> 0.0025936221 | AI13: ='HI2045'!$G15/1000 -> 0.18589028 | AJ13: =100*AI13/AI$8 -> 0.001275905 | AK13: =World2060!$G15/1000 -> 12.612664 | AL13: =100*AK13/AK$8 -> 0.012385859 | AM13: ='LI2060'!$G15/1000 -> 5.2657877 | AN13: =100*AM13/AM$8 -> 0.043399 | AO13: ='LMI2060'!$G15/1000 -> 6.554074 | AP13: =100*AO13/AO$8 -> 0.016513542 | AQ13: ='UMI2060'!$G15/1000 -> 0.62322124 | AR13: =100*AQ13/AQ$8 -> 0.001797662 | AS13: ='HI2060'!$G15/1000 -> 0.16958065 | AT13: =100*AS13/AS$8 -> 0.0011054649
A14: 6 | E14: b. | F14: Chlamydia | G14: =World2016!$G16/1000 -> 1.3237512 | H14: =100*G14/G$8 -> 0.0023275399 | I14: ='LI2016'!$G16/1000 -> 0.30389811 | J14: =100*I14/I$8 -> 0.0056718721 | K14: ='LMI2016'!$G16/1000 -> 0.73140161 | L14: =100*K14/K$8 -> 0.0033045284 | M14: ='UMI2016'!$G16/1000 -> 0.19317952 | N14: =100*M14/M$8 -> 0.0010110943 | O14: ='HI2016'!$G16/1000 -> 0.095271928 | P14: =100*O14/O$8 -> 0.00092711955 | Q14: =World2030!$G16/1000 -> 1.2433476 | R14: =100*Q14/Q$8 -> 0.001825246 | S14: ='LI2030'!$G16/1000 -> 0.30743229 | T14: =100*S14/S$8 -> 0.0049498065 | U14: ='LMI2030'!$G16/1000 -> 0.68990439 | V14: =100*U14/U$8 -> 0.0026034023 | W14: ='UMI2030'!$G16/1000 -> 0.16806921 | X14: =100*W14/W$8 -> 0.00071775951 | Y14: ='HI2030'!$G16/1000 -> 0.077941682 | Z14: =100*Y14/Y$8 -> 0.00064991814 | AA14: =World2045!$G16/1000 -> 1.1461863 | AB14: =100*AA14/AA$8 -> 0.0013400574 | AC14: ='LI2045'!$G16/1000 -> 0.28281217 | AD14: =100*AC14/AC$8 -> 0.0034125093 | AE14: ='LMI2045'!$G16/1000 -> 0.61952969 | AF14: =100*AE14/AE$8 -> 0.001913071 | AG14: ='UMI2045'!$G16/1000 -> 0.16036359 | AH14: =100*AG14/AG$8 -> 0.00052939633 | AI14: ='HI2045'!$G16/1000 -> 0.083480837 | AJ14: =100*AI14/AI$8 -> 0.00057299185 | AK14: =World2060!$G16/1000 -> 1.0970673 | AL14: =100*AK14/AK$8 -> 0.0010773395 | AM14: ='LI2060'!$G16/1000 -> 0.27350273 | AN14: =100*AM14/AM$8 -> 0.0022541252 | AO14: ='LMI2060'!$G16/1000 -> 0.58726266 | AP14: =100*AO14/AO$8 -> 0.0014796578 | AQ14: ='UMI2060'!$G16/1000 -> 0.15420443 | AR14: =100*AQ14/AQ$8 -> 0.00044479783 | AS14: ='HI2060'!$G16/1000 -> 0.082097523 | AT14: =100*AS14/AS$8 -> 0.00053517857
A15: 7 | E15: c. | F15: Gonorrhoea | G15: =World2016!$G17/1000 -> 3.680321 | H15: =100*G15/G$8 -> 0.0064710757 | I15: ='LI2016'!$G17/1000 -> 0.81021272 | J15: =100*I15/I$8 -> 0.015121591 | K15: ='LMI2016'!$G17/1000 -> 2.0198032 | L15: =100*K15/K$8 -> 0.009125625 | M15: ='UMI2016'!$G17/1000 -> 0.57684423 | N15: =100*M15/M$8 -> 0.0030191809 | O15: ='HI2016'!$G17/1000 -> 0.27346092 | P15: =100*O15/O$8 -> 0.0026611298 | Q15: =World2030!$G17/1000 -> 3.5310496 | R15: =100*Q15/Q$8 -> 0.0051836142 | S15: ='LI2030'!$G17/1000 -> 0.84319958 | T15: =100*S15/S$8 -> 0.013575915 | U15: ='LMI2030'!$G17/1000 -> 1.9349375 | V15: =100*U15/U$8 -> 0.0073016213 | W15: ='UMI2030'!$G17/1000 -> 0.51646249 | X15: =100*W15/W$8 -> 0.0022056144 | Y15: ='HI2030'!$G17/1000 -> 0.23645005 | Z15: =100*Y15/Y$8 -> 0.0019716431 | AA15: =World2045!$G17/1000 -> 3.3178774 | AB15: =100*AA15/AA$8 -> 0.0038790781 | AC15: ='LI2045'!$G17/1000 -> 0.79405541 | AD15: =100*AC15/AC$8 -> 0.009581347 | AE15: ='LMI2045'!$G17/1000 -> 1.770581 | AF15: =100*AE15/AE$8 -> 0.0054674493 | AG15: ='UMI2045'!$G17/1000 -> 0.50552081 | AH15: =100*AG15/AG$8 -> 0.001668838 | AI15: ='HI2045'!$G17/1000 -> 0.24772019 | AJ15: =100*AI15/AI$8 -> 0.0017002902 | AK15: =World2060!$G17/1000 -> 3.2295705 | AL15: =100*AK15/AK$8 -> 0.0031714953 | AM15: ='LI2060'!$G17/1000 -> 0.79200337 | AN15: =100*AM15/AM$8 -> 0.0065274477 | AO15: ='LMI2060'!$G17/1000 -> 1.7080087 | AP15: =100*AO15/AO$8 -> 0.0043034719 | AQ15: ='UMI2060'!$G17/1000 -> 0.48874031 | AR15: =100*AQ15/AQ$8 -> 0.001409756 | AS15: ='HI2060'!$G17/1000 -> 0.24081814 | AT15: =100*AS15/AS$8 -> 0.0015698489
A16: 8 | E16: d. | F16: Trichomoniasis | G16: =World2016!$G18/1000 -> 0 | H16: =100*G16/G$8 -> 0 | I16: ='LI2016'!$G18/1000 -> 0 | J16: =100*I16/I$8 -> 0 | K16: ='LMI2016'!$G18/1000 -> 0 | L16: =100*K16/K$8 -> 0 | M16: ='UMI2016'!$G18/1000 -> 0 | N16: =100*M16/M$8 -> 0 | O16: ='HI2016'!$G18/1000 -> 0 | P16: =100*O16/O$8 -> 0 | Q16: =World2030!$G18/1000 -> 0 | R16: =100*Q16/Q$8 -> 0 | S16: ='LI2030'!$G18/1000 -> 0 | T16: =100*S16/S$8 -> 0 | U16: ='LMI2030'!$G18/1000 -> 0 | V16: =100*U16/U$8 -> 0 | W16: ='UMI2030'!$G18/1000 -> 0 | X16: =100*W16/W$8 -> 0 | Y16: ='HI2030'!$G18/1000 -> 0 | Z16: =100*Y16/Y$8 -> 0 | AA16: =World2045!$G18/1000 -> 0 | AB16: =100*AA16/AA$8 -> 0 | AC16: ='LI2045'!$G18/1000 -> 0 | AD16: =100*AC16/AC$8 -> 0 | AE16: ='LMI2045'!$G18/1000 -> 0 | AF16: =100*AE16/AE$8 -> 0 | AG16: ='UMI2045'!$G18/1000 -> 0 | AH16: =100*AG16/AG$8 -> 0 | AI16: ='HI2045'!$G18/1000 -> 0 | AJ16: =100*AI16/AI$8 -> 0 | AK16: =World2060!$G18/1000 -> 0 | AL16: =100*AK16/AK$8 -> 0 | AM16: ='LI2060'!$G18/1000 -> 0 | AN16: =100*AM16/AM$8 -> 0 | AO16: ='LMI2060'!$G18/1000 -> 0 | AP16: =100*AO16/AO$8 -> 0 | AQ16: ='UMI2060'!$G18/1000 -> 0 | AR16: =100*AQ16/AQ$8 -> 0 | AS16: ='HI2060'!$G18/1000 -> 0 | AT16: =100*AS16/AS$8 -> 0
A17: 9 | E17: e. | F17: Other STDs | G17: =World2016!$G19/1000 -> 1.7986658 | H17: =100*G17/G$8 -> 0.003162578 | I17: ='LI2016'!$G19/1000 -> 0.44003934 | J17: =100*I17/I$8 -> 0.0082127752 | K17: ='LMI2016'!$G19/1000 -> 1.0029372 | L17: =100*K17/K$8 -> 0.0045313467 | M17: ='UMI2016'!$G19/1000 -> 0.26137103 | N17: =100*M17/M$8 -> 0.0013680061 | O17: ='HI2016'!$G19/1000 -> 0.094318263 | P17: =100*O17/O$8 -> 0.00091783915 | Q17: =World2030!$G19/1000 -> 1.6543819 | R17: =100*Q17/Q$8 -> 0.0024286483 | S17: ='LI2030'!$G19/1000 -> 0.44348477 | T17: =100*S17/S$8 -> 0.0071403164 | U17: ='LMI2030'!$G19/1000 -> 0.92393495 | V17: =100*U17/U$8 -> 0.0034865329 | W17: ='UMI2030'!$G19/1000 -> 0.21379574 | X17: =100*W17/W$8 -> 0.00091304006 | Y17: ='HI2030'!$G19/1000 -> 0.073166478 | Z17: =100*Y17/Y$8 -> 0.00061010002 | AA17: =World2045!$G19/1000 -> 1.4415034 | AB17: =100*AA17/AA$8 -> 0.0016853257 | AC17: ='LI2045'!$G19/1000 -> 0.39846117 | AD17: =100*AC17/AC$8 -> 0.0048079702 | AE17: ='LMI2045'!$G19/1000 -> 0.78591667 | AF17: =100*AE17/AE$8 -> 0.0024268642 | AG17: ='UMI2045'!$G19/1000 -> 0.18386291 | AH17: =100*AG17/AG$8 -> 0.00060697285 | AI17: ='HI2045'!$G19/1000 -> 0.073262615 | AJ17: =100*AI17/AI$8 -> 0.0005028565 | AK17: =World2060!$G19/1000 -> 1.2880916 | AL17: =100*AK17/AK$8 -> 0.0012649288 | AM17: ='LI2060'!$G19/1000 -> 0.36343445 | AN17: =100*AM17/AM$8 -> 0.0029953147 | AO17: ='LMI2060'!$G19/1000 -> 0.6921298 | AP17: =100*AO17/AO$8 -> 0.0017438794 | AQ17: ='UMI2060'!$G19/1000 -> 0.16303437 | AR17: =100*AQ17/AQ$8 -> 0.00047026751 | AS17: ='HI2060'!$G19/1000 -> 0.069493028 | AT17: =100*AS17/AS$8 -> 0.00045301221
A18: 10 | D18: 3. | E18: HIV/AIDS | G18: =World2016!$G20/1000 -> 1011.9922 | H18: =100*G18/G$8 -> 1.7793769 | I18: ='LI2016'!$G20/1000 -> 292.09713 | J18: =100*I18/I$8 -> 5.4516219 | K18: ='LMI2016'!$G20/1000 -> 466.85466 | L18: =100*K18/K$8 -> 2.109285 | M18: ='UMI2016'!$G20/1000 -> 240.4475 | N18: =100*M18/M$8 -> 1.2584931 | O18: ='HI2016'!$G20/1000 -> 12.592932 | P18: =100*O18/O$8 -> 0.12254558 | Q18: =World2030!$G20/1000 -> 741.29949 | R18: =100*Q18/Q$8 -> 1.0882347 | S18: ='LI2030'!$G20/1000 -> 195.45223 | T18: =100*S18/S$8 -> 3.1468741 | U18: ='LMI2030'!$G20/1000 -> 350.73861 | V18: =100*U18/U$8 -> 1.3235366 | W18: ='UMI2030'!$G20/1000 -> 187.73348 | X18: =100*W18/W$8 -> 0.8017381 | Y18: ='HI2030'!$G20/1000 -> 7.3751751 | Z18: =100*Y18/Y$8 -> 0.061498033 | AA18: =World2045!$G20/1000 -> 522.15852 | AB18: =100*AA18/AA$8 -> 0.61047876 | AC18: ='LI2045'!$G20/1000 -> 162.87838 | AD18: =100*AC18/AC$8 -> 1.9653468 | AE18: ='LMI2045'!$G20/1000 -> 244.73901 | AF18: =100*AE18/AE$8 -> 0.75573957 | AG18: ='UMI2045'!$G20/1000 -> 108.56017 | AH18: =100*AG18/AG$8 -> 0.35838156 | AI18: ='HI2045'!$G20/1000 -> 5.9809649 | AJ18: =100*AI18/AI$8 -> 0.041051866 | AK18: =World2060!$G20/1000 -> 363.35619 | AL18: =100*AK18/AK$8 -> 0.3568222 | AM18: ='LI2060'!$G20/1000 -> 123.75571 | AN18: =100*AM18/AM$8 -> 1.0199564 | AO18: ='LMI2060'!$G20/1000 -> 172.312 | AP18: =100*AO18/AO$8 -> 0.43415463 | AQ18: ='UMI2060'!$G20/1000 -> 63.112281 | AR18: =100*AQ18/AQ$8 -> 0.18204539 | AS18: ='HI2060'!$G20/1000 -> 4.1761952 | AT18: =100*AS18/AS$8 -> 0.027223845
A19: 11 | D19: 4. | E19: Diarrhoeal diseases | G19: =World2016!$G21/1000 -> 1382.7068 | H19: =100*G19/G$8 -> 2.431201 | I19: ='LI2016'!$G21/1000 -> 383.3999 | J19: =100*I19/I$8 -> 7.1556721 | K19: ='LMI2016'!$G21/1000 -> 911.45097 | L19: =100*K19/K$8 -> 4.1180051 | M19: ='UMI2016'!$G21/1000 -> 55.001409 | N19: =100*M19/M$8 -> 0.2878753 | O19: ='HI2016'!$G21/1000 -> 32.854511 | P19: =100*O19/O$8 -> 0.31971705 | Q19: =World2030!$G21/1000 -> 1236.1806 | R19: =100*Q19/Q$8 -> 1.8147248 | S19: ='LI2030'!$G21/1000 -> 330.39911 | T19: =100*S19/S$8 -> 5.3195833 | U19: ='LMI2030'!$G21/1000 -> 799.80151 | V19: =100*U19/U$8 -> 3.0181067 | W19: ='UMI2030'!$G21/1000 -> 47.144844 | X19: =100*W19/W$8 -> 0.20133765 | Y19: ='HI2030'!$G21/1000 -> 58.835118 | Z19: =100*Y19/Y$8 -> 0.49059771 | AA19: =World2045!$G21/1000 -> 1274.2686 | AB19: =100*AA19/AA$8 -> 1.4898041 | AC19: ='LI2045'!$G21/1000 -> 311.61411 | AD19: =100*AC19/AC$8 -> 3.7600436 | AE19: ='LMI2045'!$G21/1000 -> 834.42441 | AF19: =100*AE19/AE$8 -> 2.5766532 | AG19: ='UMI2045'!$G21/1000 -> 55.692153 | AH19: =100*AG19/AG$8 -> 0.18385234 | AI19: ='HI2045'!$G21/1000 -> 72.537912 | AJ19: =100*AI19/AI$8 -> 0.49788231 | AK19: =World2060!$G21/1000 -> 1491.6887 | AL19: =100*AK19/AK$8 -> 1.4648647 | AM19: ='LI2060'!$G21/1000 -> 371.89634 | AN19: =100*AM19/AM$8 -> 3.065055 | AO19: ='LMI2060'!$G21/1000 -> 980.69365 | AP19: =100*AO19/AO$8 -> 2.4709404 | AQ19: ='UMI2060'!$G21/1000 -> 65.688811 | AR19: =100*AQ19/AQ$8 -> 0.18947731 | AS19: ='HI2060'!$G21/1000 -> 73.409864 | AT19: =100*AS19/AS$8 -> 0.47854533
A20: 12 | D20: 5. | E20: Childhood-cluster diseases | G20: =World2016!$G22/1000 -> 156.11592 | H20: =100*G20/G$8 -> 0.27449722 | I20: ='LI2016'!$G22/1000 -> 53.687899 | J20: =100*I20/I$8 -> 1.0020164 | K20: ='LMI2016'!$G22/1000 -> 98.683259 | L20: =100*K20/K$8 -> 0.4458585 | M20: ='UMI2016'!$G22/1000 -> 3.5523527 | N20: =100*M20/M$8 -> 0.01859288 | O20: ='HI2016'!$G22/1000 -> 0.19240546 | P20: =100*O20/O$8 -> 0.0018723549 | Q20: =World2030!$G22/1000 -> 83.373713 | R20: =100*Q20/Q$8 -> 0.1223934 | S20: ='LI2030'!$G22/1000 -> 33.569334 | T20: =100*S20/S$8 -> 0.54048229 | U20: ='LMI2030'!$G22/1000 -> 47.811718 | V20: =100*U20/U$8 -> 0.18042085 | W20: ='UMI2030'!$G22/1000 -> 1.7460818 | X20: =100*W20/W$8 -> 0.0074568497 | Y20: ='HI2030'!$G22/1000 -> 0.24657944 | Z20: =100*Y20/Y$8 -> 0.0020561072 | AA20: =World2045!$G22/1000 -> 49.044165 | AB20: =100*AA20/AA$8 -> 0.057339715 | AC20: ='LI2045'!$G22/1000 -> 20.006854 | AD20: =100*AC20/AC$8 -> 0.24140961 | AE20: ='LMI2045'!$G22/1000 -> 27.784436 | AF20: =100*AE20/AE$8 -> 0.085796695 | AG20: ='UMI2045'!$G22/1000 -> 1.0287823 | AH20: =100*AG20/AG$8 -> 0.003396242 | AI20: ='HI2045'!$G22/1000 -> 0.22409206 | AJ20: =100*AI20/AI$8 -> 0.0015381125 | AK20: =World2060!$G22/1000 -> 34.551795 | AL20: =100*AK20/AK$8 -> 0.033930474 | AM20: ='LI2060'!$G22/1000 -> 13.636575 | AN20: =100*AM20/AM$8 -> 0.11238845 | AO20: ='LMI2060'!$G22/1000 -> 19.937385 | AP20: =100*AO20/AO$8 -> 0.050233923 | AQ20: ='UMI2060'!$G22/1000 -> 0.71462416 | AR20: =100*AQ20/AQ$8 -> 0.0020613109 | AS20: ='HI2060'!$G22/1000 -> 0.26321142 | AT20: =100*AS20/AS$8 -> 0.0017158266
A21: 13 | E21: a. | F21: Whooping cough | G21: =World2016!$G23/1000 -> 9.9890006 | H21: =100*G21/G$8 -> 0.017563571 | I21: ='LI2016'!$G23/1000 -> 5.4785055 | J21: =100*I21/I$8 -> 0.10224934 | K21: ='LMI2016'!$G23/1000 -> 4.0634341 | L21: =100*K21/K$8 -> 0.018358906 | M21: ='UMI2016'!$G23/1000 -> 0.36875873 | N21: =100*M21/M$8 -> 0.0019300693 | O21: ='HI2016'!$G23/1000 -> 0.078302319 | P21: =100*O21/O$8 -> 0.00076198322 | Q21: =World2030!$G23/1000 -> 6.8372248 | R21: =100*Q21/Q$8 -> 0.010037111 | S21: ='LI2030'!$G23/1000 -> 3.8167847 | T21: =100*S21/S$8 -> 0.061452055 | U21: ='LMI2030'!$G23/1000 -> 2.6097244 | V21: =100*U21/U$8 -> 0.0098479767 | W21: ='UMI2030'!$G23/1000 -> 0.2692216 | X21: =100*W21/W$8 -> 0.0011497428 | Y21: ='HI2030'!$G23/1000 -> 0.14149412 | Z21: =100*Y21/Y$8 -> 0.0011798513 | AA21: =World2045!$G23/1000 -> 3.5075404 | AB21: =100*AA21/AA$8 -> 0.0041008216 | AC21: ='LI2045'!$G23/1000 -> 2.0046077 | AD21: =100*AC21/AC$8 -> 0.024188289 | AE21: ='LMI2045'!$G23/1000 -> 1.3573592 | AF21: =100*AE21/AE$8 -> 0.0041914448 | AG21: ='UMI2045'!$G23/1000 -> 0.085955924 | AH21: =100*AG21/AG$8 -> 0.00028375986 | AI21: ='HI2045'!$G23/1000 -> 0.05961764 | AJ21: =100*AI21/AI$8 -> 0.00040920076 | AK21: =World2060!$G23/1000 -> 1.7967315 | AL21: =100*AK21/AK$8 -> 0.0017644221 | AM21: ='LI2060'!$G23/1000 -> 1.0156375 | AN21: =100*AM21/AM$8 -> 0.0083705717 | AO21: ='LMI2060'!$G23/1000 -> 0.71901848 | AP21: =100*AO21/AO$8 -> 0.0018116277 | AQ21: ='UMI2060'!$G23/1000 -> 0.030820926 | AR21: =100*AQ21/AQ$8 -> 8.890199e-05 | AS21: ='HI2060'!$G23/1000 -> 0.031254551 | AT21: =100*AS21/AS$8 -> 0.00020374264
A22: 14 | E22: b. | F22: Diphtheria | G22: =World2016!$G24/1000 -> 1.4467969 | H22: =100*G22/G$8 -> 0.00254389 | I22: ='LI2016'!$G24/1000 -> 0.47714313 | J22: =100*I22/I$8 -> 0.0089052703 | K22: ='LMI2016'!$G24/1000 -> 0.92266985 | L22: =100*K22/K$8 -> 0.0041686929 | M22: ='UMI2016'!$G24/1000 -> 0.040712724 | N22: =100*M22/M$8 -> 0.00021308886 | O22: ='HI2016'!$G24/1000 -> 0.0062711631 | P22: =100*O22/O$8 -> 6.1026559e-05 | Q22: =World2030!$G24/1000 -> 0.87972882 | R22: =100*Q22/Q$8 -> 0.0012914502 | S22: ='LI2030'!$G24/1000 -> 0.31002761 | T22: =100*S22/S$8 -> 0.0049915925 | U22: ='LMI2030'!$G24/1000 -> 0.53854549 | V22: =100*U22/U$8 -> 0.0020322389 | W22: ='UMI2030'!$G24/1000 -> 0.026512221 | X22: =100*W22/W$8 -> 0.00011322359 | Y22: ='HI2030'!$G24/1000 -> 0.004643491 | Z22: =100*Y22/Y$8 -> 3.8719835e-05 | AA22: =World2045!$G24/1000 -> 0.46990516 | AB22: =100*AA22/AA$8 -> 0.00054938703 | AC22: ='LI2045'!$G24/1000 -> 0.18513325 | AD22: =100*AC22/AC$8 -> 0.0022338818 | AE22: ='LMI2045'!$G24/1000 -> 0.26661685 | AF22: =100*AE22/AE$8 -> 0.00082329706 | AG22: ='UMI2045'!$G24/1000 -> 0.014240703 | AH22: =100*AG22/AG$8 -> 4.7011768e-05 | AI22: ='HI2045'!$G24/1000 -> 0.0039143548 | AJ22: =100*AI22/AI$8 -> 2.6867164e-05 | AK22: =World2060!$G24/1000 -> 0.26854351 | AL22: =100*AK22/AK$8 -> 0.00026371447 | AM22: ='LI2060'!$G24/1000 -> 0.11710053 | AN22: =100*AM22/AM$8 -> 0.00096510652 | AO22: ='LMI2060'!$G24/1000 -> 0.13978696 | AP22: =100*AO22/AO$8 -> 0.00035220504 | AQ22: ='UMI2060'!$G24/1000 -> 0.0081358381 | AR22: =100*AQ22/AQ$8 -> 2.3467569e-05 | AS22: ='HI2060'!$G24/1000 -> 0.0035201716 | AT22: =100*AS22/AS$8 -> 2.2947348e-05
A23: 15 | E23: c. | F23: Measles | G23: =World2016!$G25/1000 -> 90.956355 | H23: =100*G23/G$8 -> 0.15992775 | I23: ='LI2016'!$G25/1000 -> 31.064971 | J23: =100*I23/I$8 -> 0.57978822 | K23: ='LMI2016'!$G25/1000 -> 57.911429 | L23: =100*K23/K$8 -> 0.26164826 | M23: ='UMI2016'!$G25/1000 -> 1.9660876 | N23: =100*M23/M$8 -> 0.010290428 | O23: ='HI2016'!$G25/1000 -> 0.013867678 | P23: =100*O23/O$8 -> 0.00013495051 | Q23: =World2030!$G25/1000 -> 44.533384 | R23: =100*Q23/Q$8 -> 0.065375429 | S23: ='LI2030'!$G25/1000 -> 18.726925 | T23: =100*S23/S$8 -> 0.30151243 | U23: ='LMI2030'!$G25/1000 -> 25.143757 | V23: =100*U23/U$8 -> 0.094881717 | W23: ='UMI2030'!$G25/1000 -> 0.65589663 | X23: =100*W23/W$8 -> 0.0028010844 | Y23: ='HI2030'!$G25/1000 -> 0.0068053077 | Z23: =100*Y23/Y$8 -> 5.6746183e-05 | AA23: =World2045!$G25/1000 -> 21.705694 | AB23: =100*AA23/AA$8 -> 0.025377093 | AC23: ='LI2045'!$G25/1000 -> 9.4907463 | AD23: =100*AC23/AC$8 -> 0.11451863 | AE23: ='LMI2045'!$G25/1000 -> 11.959161 | AF23: =100*AE23/AE$8 -> 0.03692918 | AG23: ='UMI2045'!$G25/1000 -> 0.25154418 | AH23: =100*AG23/AG$8 -> 0.00083040398 | AI23: ='HI2045'!$G25/1000 -> 0.0042428465 | AJ23: =100*AI23/AI$8 -> 2.912185e-05 | AK23: =World2060!$G25/1000 -> 12.09542 | AL23: =100*AK23/AK$8 -> 0.011877916 | AM23: ='LI2060'!$G25/1000 -> 5.2757952 | AN23: =100*AM23/AM$8 -> 0.043481478 | AO23: ='LMI2060'!$G25/1000 -> 6.718875 | AP23: =100*AO23/AO$8 -> 0.016928772 | AQ23: ='UMI2060'!$G25/1000 -> 0.097409217 | AR23: =100*AQ23/AQ$8 -> 0.00028097382 | AS23: ='HI2060'!$G25/1000 -> 0.0033402031 | AT23: =100*AS23/AS$8 -> 2.1774167e-05
A24: 16 | E24: d. | F24: Tetanus | G24: =World2016!$G26/1000 -> 53.723763 | H24: =100*G24/G$8 -> 0.094462014 | I24: ='LI2016'!$G26/1000 -> 16.667279 | J24: =100*I24/I$8 -> 0.31107359 | K24: ='LMI2016'!$G26/1000 -> 35.785726 | L24: =100*K24/K$8 -> 0.16168265 | M24: ='UMI2016'!$G26/1000 -> 1.1767936 | N24: =100*M24/M$8 -> 0.0061592933 | O24: ='HI2016'!$G26/1000 -> 0.093964302 | P24: =100*O24/O$8 -> 0.00091439465 | Q24: =World2030!$G26/1000 -> 31.123375 | R24: =100*Q24/Q$8 -> 0.045689409 | S24: ='LI2030'!$G26/1000 -> 10.715596 | T24: =100*S24/S$8 -> 0.1725262 | U24: ='LMI2030'!$G26/1000 -> 19.519692 | V24: =100*U24/U$8 -> 0.073658916 | W24: ='UMI2030'!$G26/1000 -> 0.79445137 | X24: =100*W24/W$8 -> 0.0033927989 | Y24: ='HI2030'!$G26/1000 -> 0.093636524 | Z24: =100*Y24/Y$8 -> 0.00078078987 | AA24: =World2045!$G26/1000 -> 23.361025 | AB24: =100*AA24/AA$8 -> 0.027312414 | AC24: ='LI2045'!$G26/1000 -> 8.3263666 | AD24: =100*AC24/AC$8 -> 0.10046882 | AE24: ='LMI2045'!$G26/1000 -> 14.2013 | AF24: =100*AE24/AE$8 -> 0.043852774 | AG24: ='UMI2045'!$G26/1000 -> 0.67704149 | AH24: =100*AG24/AG$8 -> 0.0022350664 | AI24: ='HI2045'!$G26/1000 -> 0.15631721 | AJ24: =100*AI24/AI$8 -> 0.0010729228 | AK24: =World2060!$G26/1000 -> 20.391101 | AL24: =100*AK24/AK$8 -> 0.020024421 | AM24: ='LI2060'!$G26/1000 -> 7.2280412 | AN24: =100*AM24/AM$8 -> 0.059571288 | AO24: ='LMI2060'!$G26/1000 -> 12.359705 | AP24: =100*AO24/AO$8 -> 0.031141318 | AQ24: ='UMI2060'!$G26/1000 -> 0.57825818 | AR24: =100*AQ24/AQ$8 -> 0.0016679675 | AS24: ='HI2060'!$G26/1000 -> 0.22509649 | AT24: =100*AS24/AS$8 -> 0.0014673624
A25: 17 | D25: 6. | E25: Meningitis | G25: =World2016!$G27/1000 -> 278.81226 | H25: =100*G25/G$8 -> 0.49023312 | I25: ='LI2016'!$G27/1000 -> 114.42927 | J25: =100*I25/I$8 -> 2.1356769 | K25: ='LMI2016'!$G27/1000 -> 141.70206 | L25: =100*K25/K$8 -> 0.64022073 | M25: ='UMI2016'!$G27/1000 -> 19.392016 | N25: =100*M25/M$8 -> 0.10149708 | O25: ='HI2016'!$G27/1000 -> 3.2889226 | P25: =100*O25/O$8 -> 0.032005487 | Q25: =World2030!$G27/1000 -> 232.91431 | R25: =100*Q25/Q$8 -> 0.3419204 | S25: ='LI2030'!$G27/1000 -> 96.849354 | T25: =100*S25/S$8 -> 1.5593208 | U25: ='LMI2030'!$G27/1000 -> 117.46676 | V25: =100*U25/U$8 -> 0.44326899 | W25: ='UMI2030'!$G27/1000 -> 15.976341 | X25: =100*W25/W$8 -> 0.06822886 | Y25: ='HI2030'!$G27/1000 -> 2.621854 | Z25: =100*Y25/Y$8 -> 0.021862377 | AA25: =World2045!$G27/1000 -> 190.09773 | AB25: =100*AA25/AA$8 -> 0.22225172 | AC25: ='LI2045'!$G27/1000 -> 79.471369 | AD25: =100*AC25/AC$8 -> 0.958929 | AE25: ='LMI2045'!$G27/1000 -> 93.491528 | AF25: =100*AE25/AE$8 -> 0.28869631 | AG25: ='UMI2045'!$G27/1000 -> 14.619417 | AH25: =100*AG25/AG$8 -> 0.048261989 | AI25: ='HI2045'!$G27/1000 -> 2.5154208 | AJ25: =100*AI25/AI$8 -> 0.017265227 | AK25: =World2060!$G27/1000 -> 177.80444 | AL25: =100*AK25/AK$8 -> 0.1746071 | AM25: ='LI2060'!$G27/1000 -> 75.99278 | AN25: =100*AM25/AM$8 -> 0.62630907 | AO25: ='LMI2060'!$G27/1000 -> 85.37986 | AP25: =100*AO25/AO$8 -> 0.21512176 | AQ25: ='UMI2060'!$G27/1000 -> 13.977036 | AR25: =100*AQ25/AQ$8 -> 0.040316321 | AS25: ='HI2060'!$G27/1000 -> 2.4547602 | AT25: =100*AS25/AS$8 -> 0.016002128
A26: 18 | D26: 7. | E26: Encephalitis | G26: =World2016!$G28/1000 -> 104.48244 | H26: =100*G26/G$8 -> 0.18371054 | I26: ='LI2016'!$G28/1000 -> 6.198024 | J26: =100*I26/I$8 -> 0.11567824 | K26: ='LMI2016'!$G28/1000 -> 52.339614 | L26: =100*K26/K$8 -> 0.23647438 | M26: ='UMI2016'!$G28/1000 -> 18.79715 | N26: =100*M26/M$8 -> 0.098383573 | O26: ='HI2016'!$G28/1000 -> 27.14765 | P26: =100*O26/O$8 -> 0.26418188 | Q26: =World2030!$G28/1000 -> 105.34775 | R26: =100*Q26/Q$8 -> 0.15465149 | S26: ='LI2030'!$G28/1000 -> 4.3711763 | T26: =100*S26/S$8 -> 0.070378024 | U26: ='LMI2030'!$G28/1000 -> 45.22534 | V26: =100*U26/U$8 -> 0.17066097 | W26: ='UMI2030'!$G28/1000 -> 19.846521 | X26: =100*W26/W$8 -> 0.084756925 | Y26: ='HI2030'!$G28/1000 -> 35.904708 | Z26: =100*Y26/Y$8 -> 0.29939207 | AA26: =World2045!$G28/1000 -> 104.26513 | AB26: =100*AA26/AA$8 -> 0.121901 | AC26: ='LI2045'!$G28/1000 -> 3.2488501 | AD26: =100*AC26/AC$8 -> 0.039201748 | AE26: ='LMI2045'!$G28/1000 -> 39.839769 | AF26: =100*AE26/AE$8 -> 0.12302285 | AG26: ='UMI2045'!$G28/1000 -> 21.005236 | AH26: =100*AG26/AG$8 -> 0.069343014 | AI26: ='HI2045'!$G28/1000 -> 40.171275 | AJ26: =100*AI26/AI$8 -> 0.27572571 | AK26: =World2060!$G28/1000 -> 105.1503 | AL26: =100*AK26/AK$8 -> 0.10325946 | AM26: ='LI2060'!$G28/1000 -> 2.9110166 | AN26: =100*AM26/AM$8 -> 0.023991702 | AO26: ='LMI2060'!$G28/1000 -> 40.880858 | AP26: =100*AO26/AO$8 -> 0.10300277 | AQ26: ='UMI2060'!$G28/1000 -> 22.328133 | AR26: =100*AQ26/AQ$8 -> 0.064404798 | AS26: ='HI2060'!$G28/1000 -> 39.030294 | AT26: =100*AS26/AS$8 -> 0.25443127
A27: 19 | D27: 8. | E27: Acute hepatitis B | G27: =World2016!$G29/1000 -> 110.83004 | H27: =100*G27/G$8 -> 0.19487146 | I27: ='LI2016'!$G29/1000 -> 13.002348 | J27: =100*I27/I$8 -> 0.24267231 | K27: ='LMI2016'!$G29/1000 -> 80.620999 | L27: =100*K27/K$8 -> 0.36425184 | M27: ='UMI2016'!$G29/1000 -> 12.907297 | N27: =100*M27/M$8 -> 0.067556306 | O27: ='HI2016'!$G29/1000 -> 4.2993914 | P27: =100*O27/O$8 -> 0.04183866 | Q27: =World2030!$G29/1000 -> 114.08323 | R27: =100*Q27/Q$8 -> 0.16747527 | S27: ='LI2030'!$G29/1000 -> 14.466962 | T27: =100*S27/S$8 -> 0.23292499 | U27: ='LMI2030'!$G29/1000 -> 82.733867 | V27: =100*U27/U$8 -> 0.31220201 | W27: ='UMI2030'!$G29/1000 -> 12.773638 | X27: =100*W27/W$8 -> 0.054551337 | Y27: ='HI2030'!$G29/1000 -> 4.108767 | Z27: =100*Y27/Y$8 -> 0.034261029 | AA27: =World2045!$G29/1000 -> 108.00435 | AB27: =100*AA27/AA$8 -> 0.1262727 | AC27: ='LI2045'!$G29/1000 -> 14.429844 | AD27: =100*AC27/AC$8 -> 0.17411548 | AE27: ='LMI2045'!$G29/1000 -> 77.116046 | AF27: =100*AE27/AE$8 -> 0.23812979 | AG27: ='UMI2045'!$G29/1000 -> 12.349615 | AH27: =100*AG27/AG$8 -> 0.040768861 | AI27: ='HI2045'!$G29/1000 -> 4.108849 | AJ27: =100*AI27/AI$8 -> 0.028202125 | AK27: =World2060!$G29/1000 -> 105.52487 | AL27: =100*AK27/AK$8 -> 0.10362729 | AM27: ='LI2060'!$G29/1000 -> 15.174171 | AN27: =100*AM27/AM$8 -> 0.12506084 | AO27: ='LMI2060'!$G29/1000 -> 75.521649 | AP27: =100*AO27/AO$8 -> 0.19028316 | AQ27: ='UMI2060'!$G29/1000 -> 11.139702 | AR27: =100*AQ27/AQ$8 -> 0.03213212 | AS27: ='HI2060'!$G29/1000 -> 3.6893484 | AT27: =100*AS27/AS$8 -> 0.02405018
A28: 20 | D28: 9. | E28: Acute hepatitis C | G28: =World2016!$G30/1000 -> 2.552712 | H28: =100*G28/G$8 -> 0.0044884107 | I28: ='LI2016'!$G30/1000 -> 0.38270989 | J28: =100*I28/I$8 -> 0.0071427938 | K28: ='LMI2016'!$G30/1000 -> 1.9308784 | L28: =100*K28/K$8 -> 0.0087238561 | M28: ='UMI2016'!$G30/1000 -> 0.22669669 | N28: =100*M28/M$8 -> 0.0011865219 | O28: ='HI2016'!$G30/1000 -> 0.012426989 | P28: =100*O28/O$8 -> 0.00012093074 | Q28: =World2030!$G30/1000 -> 2.7198101 | R28: =100*Q28/Q$8 -> 0.0039927069 | S28: ='LI2030'!$G30/1000 -> 0.38695623 | T28: =100*S28/S$8 -> 0.0062301799 | U28: ='LMI2030'!$G30/1000 -> 2.0841519 | V28: =100*U28/U$8 -> 0.0078646923 | W28: ='UMI2030'!$G30/1000 -> 0.23419388 | X28: =100*W28/W$8 -> 0.0010001527 | Y28: ='HI2030'!$G30/1000 -> 0.014508074 | Z28: =100*Y28/Y$8 -> 0.00012097584 | AA28: =World2045!$G30/1000 -> 2.7857456 | AB28: =100*AA28/AA$8 -> 0.0032569392 | AC28: ='LI2045'!$G30/1000 -> 0.39559747 | AD28: =100*AC28/AC$8 -> 0.0047734158 | AE28: ='LMI2045'!$G30/1000 -> 2.1342974 | AF28: =100*AE28/AE$8 -> 0.0065905841 | AG28: ='UMI2045'!$G30/1000 -> 0.2359845 | AH28: =100*AG28/AG$8 -> 0.00077903797 | AI28: ='HI2045'!$G30/1000 -> 0.019866234 | AJ28: =100*AI28/AI$8 -> 0.00013635693 | AK28: =World2060!$G30/1000 -> 2.9694603 | AL28: =100*AK28/AK$8 -> 0.0029160625 | AM28: ='LI2060'!$G30/1000 -> 0.44358773 | AN28: =100*AM28/AM$8 -> 0.0036559134 | AO28: ='LMI2060'!$G30/1000 -> 2.2765162 | AP28: =100*AO28/AO$8 -> 0.0057358746 | AQ28: ='UMI2060'!$G30/1000 -> 0.2268304 | AR28: =100*AQ28/AQ$8 -> 0.00065428515 | AS28: ='HI2060'!$G30/1000 -> 0.022525958 | AT28: =100*AS28/AS$8 -> 0.00014684256
A29: 21 | D29: 10. | E29: Parasitic and vector diseases | G29: =World2016!$G31/1000 -> 573.72124 | H29: =100*G29/G$8 -> 1.0087689 | I29: ='LI2016'!$G31/1000 -> 274.73009 | J29: =100*I29/I$8 -> 5.1274881 | K29: ='LMI2016'!$G31/1000 -> 282.60451 | L29: =100*K29/K$8 -> 1.2768288 | M29: ='UMI2016'!$G31/1000 -> 16.1224 | N29: =100*M29/M$8 -> 0.084384032 | O29: ='HI2016'!$G31/1000 -> 0.26424168 | P29: =100*O29/O$8 -> 0.0025714146 | Q29: =World2030!$G31/1000 -> 405.74909 | R29: =100*Q29/Q$8 -> 0.5956435 | S29: ='LI2030'!$G31/1000 -> 202.06275 | T29: =100*S29/S$8 -> 3.2533067 | U29: ='LMI2030'!$G31/1000 -> 185.86107 | V29: =100*U29/U$8 -> 0.70135968 | W29: ='UMI2030'!$G31/1000 -> 17.511511 | X29: =100*W29/W$8 -> 0.074784986 | Y29: ='HI2030'!$G31/1000 -> 0.31376231 | Z29: =100*Y29/Y$8 -> 0.0026163128 | AA29: =World2045!$G31/1000 -> 336.51062 | AB29: =100*AA29/AA$8 -> 0.39342954 | AC29: ='LI2045'!$G31/1000 -> 165.35063 | AD29: =100*AC29/AC$8 -> 1.9951778 | AE29: ='LMI2045'!$G31/1000 -> 151.66697 | AF29: =100*AE29/AE$8 -> 0.46833863 | AG29: ='UMI2045'!$G31/1000 -> 19.063499 | AH29: =100*AG29/AG$8 -> 0.062932903 | AI29: ='HI2045'!$G31/1000 -> 0.4295212 | AJ29: =100*AI29/AI$8 -> 0.0029481275 | AK29: =World2060!$G31/1000 -> 305.70097 | AL29: =100*AK29/AK$8 -> 0.30020375 | AM29: ='LI2060'!$G31/1000 -> 146.75935 | AN29: =100*AM29/AM$8 -> 1.2095453 | AO29: ='LMI2060'!$G31/1000 -> 138.08947 | AP29: =100*AO29/AO$8 -> 0.34792808 | AQ29: ='UMI2060'!$G31/1000 -> 20.347022 | AR29: =100*AQ29/AQ$8 -> 0.058690345 | AS29: ='HI2060'!$G31/1000 -> 0.50511913 | AT29: =100*AS29/AS$8 -> 0.0032927782
A30: 22 | E30: a. | F30: Malaria | G30: =World2016!$G32/1000 -> 446.44595 | H30: =100*G30/G$8 -> 0.78498193 | I30: ='LI2016'!$G32/1000 -> 247.60166 | J30: =100*I30/I$8 -> 4.6211704 | K30: ='LMI2016'!$G32/1000 -> 197.23329 | L30: =100*K30/K$8 -> 0.89111508 | M30: ='UMI2016'!$G32/1000 -> 1.6097458 | N30: =100*M30/M$8 -> 0.0084253487 | O30: ='HI2016'!$G32/1000 -> 0.0012520164 | P30: =100*O30/O$8 -> 1.2183745e-05 | Q30: =World2030!$G32/1000 -> 293.07038 | R30: =100*Q30/Q$8 -> 0.43023009 | S30: ='LI2030'!$G32/1000 -> 179.76403 | T30: =100*S30/S$8 -> 2.8942867 | U30: ='LMI2030'!$G32/1000 -> 111.90315 | V30: =100*U30/U$8 -> 0.42227435 | W30: ='UMI2030'!$G32/1000 -> 1.4026627 | X30: =100*W30/W$8 -> 0.0059902375 | Y30: ='HI2030'!$G32/1000 -> 0.00052767932 | Z30: =100*Y30/Y$8 -> 4.4000636e-06 | AA30: =World2045!$G32/1000 -> 229.9197 | AB30: =100*AA30/AA$8 -> 0.26880935 | AC30: ='LI2045'!$G32/1000 -> 143.61945 | AD30: =100*AC30/AC$8 -> 1.732962 | AE30: ='LMI2045'!$G32/1000 -> 85.174477 | AF30: =100*AE30/AE$8 -> 0.26301374 | AG30: ='UMI2045'!$G32/1000 -> 1.1255332 | AH30: =100*AG30/AG$8 -> 0.0037156384 | AI30: ='HI2045'!$G32/1000 -> 0.00023438098 | AJ30: =100*AI30/AI$8 -> 1.6087332e-06 | AK30: =World2060!$G32/1000 -> 196.29909 | AL30: =100*AK30/AK$8 -> 0.19276918 | AM30: ='LI2060'!$G32/1000 -> 123.43793 | AN30: =100*AM30/AM$8 -> 1.0173374 | AO30: ='LMI2060'!$G32/1000 -> 71.944155 | AP30: =100*AO30/AO$8 -> 0.18126937 | AQ30: ='UMI2060'!$G32/1000 -> 0.91690546 | AR30: =100*AQ30/AQ$8 -> 0.0026447849 | AS30: ='HI2060'!$G32/1000 -> 0.00010265067 | AT30: =100*AS30/AS$8 -> 6.6916076e-07
A31: 23 | E31: b. | F31: Trypanosomiasis | G31: =World2016!$G33/1000 -> 3.0772969 | H31: =100*G31/G$8 -> 0.0054107837 | I31: ='LI2016'!$G33/1000 -> 2.8850426 | J31: =100*I31/I$8 -> 0.053845654 | K31: ='LMI2016'!$G33/1000 -> 0.13885243 | L31: =100*K31/K$8 -> 0.00062734587 | M31: ='UMI2016'!$G33/1000 -> 0.053024224 | N31: =100*M31/M$8 -> 0.00027752678 | O31: ='HI2016'!$G33/1000 -> 0.0003776997 | P31: =100*O31/O$8 -> 3.6755085e-06 | Q31: =World2030!$G33/1000 -> 2.3630956 | R31: =100*Q31/Q$8 -> 0.0034690467 | S31: ='LI2030'!$G33/1000 -> 2.2026097 | T31: =100*S31/S$8 -> 0.035463067 | U31: ='LMI2030'!$G33/1000 -> 0.10849435 | V31: =100*U31/U$8 -> 0.000409411 | W31: ='UMI2030'!$G33/1000 -> 0.051843815 | X31: =100*W31/W$8 -> 0.00022140517 | Y31: ='HI2030'!$G33/1000 -> 0.00014770618 | Z31: =100*Y31/Y$8 -> 1.2316507e-06 | AA31: =World2045!$G33/1000 -> 1.9473115 | AB31: =100*AA31/AA$8 -> 0.0022766885 | AC31: ='LI2045'!$G33/1000 -> 1.8161454 | AD31: =100*AC31/AC$8 -> 0.021914238 | AE31: ='LMI2045'!$G33/1000 -> 0.089928982 | AF31: =100*AE31/AE$8 -> 0.00027769537 | AG31: ='UMI2045'!$G33/1000 -> 0.041133359 | AH31: =100*AG31/AG$8 -> 0.00013579048 | AI31: ='HI2045'!$G33/1000 -> 0.0001037512 | AJ31: =100*AI31/AI$8 -> 7.1212265e-07 | AK31: =World2060!$G33/1000 -> 1.601334 | AL31: =100*AK31/AK$8 -> 0.0015725383 | AM31: ='LI2060'!$G33/1000 -> 1.4919767 | AN31: =100*AM31/AM$8 -> 0.012296412 | AO31: ='LMI2060'!$G33/1000 -> 0.07510997 | AP31: =100*AO31/AO$8 -> 0.0001892459 | AQ31: ='UMI2060'!$G33/1000 -> 0.034162102 | AR31: =100*AQ31/AQ$8 -> 9.8539507e-05 | AS31: ='HI2060'!$G33/1000 -> 8.5190974e-05 | AT31: =100*AS31/AS$8 -> 5.5534421e-07
A32: 24 | E32: c. | F32: Chagas disease | G32: =World2016!$G34/1000 -> 7.727879 | H32: =100*G32/G$8 -> 0.013587861 | I32: ='LI2016'!$G34/1000 -> 0 | J32: =100*I32/I$8 -> 0 | K32: ='LMI2016'!$G34/1000 -> 0.44579542 | L32: =100*K32/K$8 -> 0.0020141377 | M32: ='UMI2016'!$G34/1000 -> 7.1691368 | N32: =100*M32/M$8 -> 0.037522991 | O32: ='HI2016'!$G34/1000 -> 0.11294676 | P32: =100*O32/O$8 -> 0.0010991186 | Q32: =World2030!$G34/1000 -> 8.6456332 | R32: =100*Q32/Q$8 -> 0.012691871 | S32: ='LI2030'!$G34/1000 -> 0 | T32: =100*S32/S$8 -> 0 | U32: ='LMI2030'!$G34/1000 -> 0.49722657 | V32: =100*U32/U$8 -> 0.0018763191 | W32: ='UMI2030'!$G34/1000 -> 7.9635389 | X32: =100*W32/W$8 -> 0.034009238 | Y32: ='HI2030'!$G34/1000 -> 0.18486773 | Z32: =100*Y32/Y$8 -> 0.0015415229 | AA32: =World2045!$G34/1000 -> 10.851749 | AB32: =100*AA32/AA$8 -> 0.012687263 | AC32: ='LI2045'!$G34/1000 -> 0 | AD32: =100*AC32/AC$8 -> 0 | AE32: ='LMI2045'!$G34/1000 -> 0.53973264 | AF32: =100*AE32/AE$8 -> 0.0016666625 | AG32: ='UMI2045'!$G34/1000 -> 10.035447 | AH32: =100*AG32/AG$8 -> 0.033129271 | AI32: ='HI2045'!$G34/1000 -> 0.27656941 | AJ32: =100*AI32/AI$8 -> 0.0018983041 | AK32: =World2060!$G34/1000 -> 12.484912 | AL32: =100*AK32/AK$8 -> 0.012260404 | AM32: ='LI2060'!$G34/1000 -> 0 | AN32: =100*AM32/AM$8 -> 0 | AO32: ='LMI2060'!$G34/1000 -> 0.60187532 | AP32: =100*AO32/AO$8 -> 0.0015164756 | AQ32: ='UMI2060'!$G34/1000 -> 11.542142 | AR32: =100*AQ32/AQ$8 -> 0.033292944 | AS32: ='HI2060'!$G34/1000 -> 0.34089509 | AT32: =100*AS32/AS$8 -> 0.0022222321
A33: 25 | E33: d. | F33: Schistosomiasis | G33: =World2016!$G35/1000 -> 24.072074 | H33: =100*G33/G$8 -> 0.042325714 | I33: ='LI2016'!$G35/1000 -> 10.225906 | J33: =100*I33/I$8 -> 0.19085354 | K33: ='LMI2016'!$G35/1000 -> 12.397327 | L33: =100*K33/K$8 -> 0.056012073 | M33: ='UMI2016'!$G35/1000 -> 1.4003997 | N33: =100*M33/M$8 -> 0.0073296389 | O33: ='HI2016'!$G35/1000 -> 0.048441412 | P33: =100*O33/O$8 -> 0.00047139783 | Q33: =World2030!$G35/1000 -> 18.585463 | R33: =100*Q33/Q$8 -> 0.027283635 | S33: ='LI2030'!$G35/1000 -> 7.8881348 | T33: =100*S33/S$8 -> 0.12700273 | U33: ='LMI2030'!$G35/1000 -> 9.3947437 | V33: =100*U33/U$8 -> 0.03545172 | W33: ='UMI2030'!$G35/1000 -> 1.2584214 | X33: =100*W33/W$8 -> 0.005374238 | Y33: ='HI2030'!$G35/1000 -> 0.044163157 | Z33: =100*Y33/Y$8 -> 0.00036825529 | AA33: =World2045!$G35/1000 -> 19.653197 | AB33: =100*AA33/AA$8 -> 0.022977427 | AC33: ='LI2045'!$G35/1000 -> 8.4268718 | AD33: =100*AC33/AC$8 -> 0.10168155 | AE33: ='LMI2045'!$G35/1000 -> 9.7903057 | AF33: =100*AE33/AE$8 -> 0.030231885 | AG33: ='UMI2045'!$G35/1000 -> 1.3706712 | AH33: =100*AG33/AG$8 -> 0.0045248943 | AI33: ='HI2045'!$G35/1000 -> 0.065347991 | AJ33: =100*AI33/AI$8 -> 0.00044853247 | AK33: =World2060!$G35/1000 -> 21.857393 | AL33: =100*AK33/AK$8 -> 0.021464347 | AM33: ='LI2060'!$G35/1000 -> 9.6822731 | AN33: =100*AM33/AM$8 -> 0.079798311 | AO33: ='LMI2060'!$G35/1000 -> 10.643714 | AP33: =100*AO33/AO$8 -> 0.026817734 | AQ33: ='UMI2060'!$G35/1000 -> 1.4505391 | AR33: =100*AQ33/AQ$8 -> 0.0041840342 | AS33: ='HI2060'!$G35/1000 -> 0.08086728 | AT33: =100*AS33/AS$8 -> 0.00052715885
A34: 26 | E34: e. | F34: Leishmaniasis | G34: =World2016!$G36/1000 -> 14.453969 | H34: =100*G34/G$8 -> 0.025414285 | I34: ='LI2016'!$G36/1000 -> 4.07224 | J34: =100*I34/I$8 -> 0.076003186 | K34: ='LMI2016'!$G36/1000 -> 9.5439516 | L34: =100*K34/K$8 -> 0.043120303 | M34: ='UMI2016'!$G36/1000 -> 0.8207792 | N34: =100*M34/M$8 -> 0.0042959273 | O34: ='HI2016'!$G36/1000 -> 0.01699843 | P34: =100*O34/O$8 -> 0.0001654168 | Q34: =World2030!$G36/1000 -> 12.934417 | R34: =100*Q34/Q$8 -> 0.018987846 | S34: ='LI2030'!$G36/1000 -> 4.6916342 | T34: =100*S34/S$8 -> 0.075537549 | U34: ='LMI2030'!$G36/1000 -> 7.602256 | V34: =100*U34/U$8 -> 0.028687642 | W34: ='UMI2030'!$G36/1000 -> 0.62795227 | X34: =100*W34/W$8 -> 0.0026817447 | Y34: ='HI2030'!$G36/1000 -> 0.012574059 | Z34: =100*Y34/Y$8 -> 0.00010484902 | AA34: =World2045!$G36/1000 -> 11.748078 | AB34: =100*AA34/AA$8 -> 0.0137352 | AC34: ='LI2045'!$G36/1000 -> 5.0112146 | AD34: =100*AC34/AC$8 -> 0.060467047 | AE34: ='LMI2045'!$G36/1000 -> 6.1645405 | AF34: =100*AE34/AE$8 -> 0.019035736 | AG34: ='UMI2045'!$G36/1000 -> 0.55907402 | AH34: =100*AG34/AG$8 -> 0.0018456292 | AI34: ='HI2045'!$G36/1000 -> 0.013248426 | AJ34: =100*AI34/AI$8 -> 9.0933921e-05 | AK34: =World2060!$G36/1000 -> 11.998386 | AL34: =100*AK34/AK$8 -> 0.011782627 | AM34: ='LI2060'!$G36/1000 -> 5.8332006 | AN34: =100*AM34/AM$8 -> 0.048075442 | AO34: ='LMI2060'!$G36/1000 -> 5.618977 | AP34: =100*AO34/AO$8 -> 0.014157486 | AQ34: ='UMI2060'!$G36/1000 -> 0.53392536 | AR34: =100*AQ34/AQ$8 -> 0.0015400909 | AS34: ='HI2060'!$G36/1000 -> 0.012282632 | AT34: =100*AS34/AS$8 -> 8.0068206e-05
A35: 27 | E35: f. | F35: Lymphatic filariasis | G35: =World2016!$G37/1000 -> 0.00038413689 | H35: =100*G35/G$8 -> 6.7542446e-07 | I35: ='LI2016'!$G37/1000 -> 0 | J35: =100*I35/I$8 -> 0 | K35: ='LMI2016'!$G37/1000 -> 0 | L35: =100*K35/K$8 -> 0 | M35: ='UMI2016'!$G37/1000 -> 0.00038413689 | N35: =100*M35/M$8 -> 2.0105579e-06 | O35: ='HI2016'!$G37/1000 -> 0 | P35: =100*O35/O$8 -> 0 | Q35: =World2030!$G37/1000 -> 0.00033724138 | R35: =100*Q35/Q$8 -> 4.9507353e-07 | S35: ='LI2030'!$G37/1000 -> 0 | T35: =100*S35/S$8 -> 0 | U35: ='LMI2030'!$G37/1000 -> 0 | V35: =100*U35/U$8 -> 0 | W35: ='UMI2030'!$G37/1000 -> 0.00033724138 | X35: =100*W35/W$8 -> 1.4402293e-06 | Y35: ='HI2030'!$G37/1000 -> 0 | Z35: =100*Y35/Y$8 -> 0 | AA35: =World2045!$G37/1000 -> 0.00029665497 | AB35: =100*AA35/AA$8 -> 3.4683253e-07 | AC35: ='LI2045'!$G37/1000 -> 0 | AD35: =100*AC35/AC$8 -> 0 | AE35: ='LMI2045'!$G37/1000 -> 0 | AF35: =100*AE35/AE$8 -> 0 | AG35: ='UMI2045'!$G37/1000 -> 0.00029665497 | AH35: =100*AG35/AG$8 -> 9.7932485e-07 | AI35: ='HI2045'!$G37/1000 -> 0 | AJ35: =100*AI35/AI$8 -> 0 | AK35: =World2060!$G37/1000 -> 0.00019816527 | AL35: =100*AK35/AK$8 -> 1.946018e-07 | AM35: ='LI2060'!$G37/1000 -> 0 | AN35: =100*AM35/AM$8 -> 0 | AO35: ='LMI2060'!$G37/1000 -> 0 | AP35: =100*AO35/AO$8 -> 0 | AQ35: ='UMI2060'!$G37/1000 -> 0.00019816527 | AR35: =100*AQ35/AQ$8 -> 5.7160148e-07 | AS35: ='HI2060'!$G37/1000 -> 0 | AT35: =100*AS35/AS$8 -> 0
A36: 28 | E36: g. | F36: Onchocerciasis | G36: =World2016!$G38/1000 -> 0.0014504721 | H36: =100*G36/G$8 -> 2.5503521e-06 | I36: ='LI2016'!$G38/1000 -> 0 | J36: =100*I36/I$8 -> 0 | K36: ='LMI2016'!$G38/1000 -> 0.0003565937 | L36: =100*K36/K$8 -> 1.6111176e-06 | M36: ='UMI2016'!$G38/1000 -> 0.0010938784 | N36: =100*M36/M$8 -> 5.7253182e-06 | O36: ='HI2016'!$G38/1000 -> 0 | P36: =100*O36/O$8 -> 0 | Q36: =World2030!$G38/1000 -> 0.0010513241 | R36: =100*Q36/Q$8 -> 1.5433537e-06 | S36: ='LI2030'!$G38/1000 -> 0 | T36: =100*S36/S$8 -> 0 | U36: ='LMI2030'!$G38/1000 -> 0.00025068092 | V36: =100*U36/U$8 -> 9.4596192e-07 | W36: ='UMI2030'!$G38/1000 -> 0.00080064318 | X36: =100*W36/W$8 -> 3.4192417e-06 | Y36: ='HI2030'!$G38/1000 -> 0 | Z36: =100*Y36/Y$8 -> 0 | AA36: =World2045!$G38/1000 -> 0.0011008324 | AB36: =100*AA36/AA$8 -> 1.2870322e-06 | AC36: ='LI2045'!$G38/1000 -> 0 | AD36: =100*AC36/AC$8 -> 0 | AE36: ='LMI2045'!$G38/1000 -> 0.00037147781 | AF36: =100*AE36/AE$8 -> 1.1471015e-06 | AG36: ='UMI2045'!$G38/1000 -> 0.00072935462 | AH36: =100*AG36/AG$8 -> 2.4077638e-06 | AI36: ='HI2045'!$G38/1000 -> 0 | AJ36: =100*AI36/AI$8 -> 0 | AK36: =World2060!$G38/1000 -> 0.001319242 | AL36: =100*AK36/AK$8 -> 1.295519e-06 | AM36: ='LI2060'!$G38/1000 -> 0 | AN36: =100*AM36/AM$8 -> 0 | AO36: ='LMI2060'!$G38/1000 -> 0.0006371997 | AP36: =100*AO36/AO$8 -> 1.6054784e-06 | AQ36: ='UMI2060'!$G38/1000 -> 0.0006820423 | AR36: =100*AQ36/AQ$8 -> 1.9673296e-06 | AS36: ='HI2060'!$G38/1000 -> 0 | AT36: =100*AS36/AS$8 -> 0
A37: 29 | E37: h. | F37: Leprosy | G37: =World2016!$G39/1000 -> 13.221084 | H37: =100*G37/G$8 -> 0.023246515 | I37: ='LI2016'!$G39/1000 -> 1.8990852 | J37: =100*I37/I$8 -> 0.035444013 | K37: ='LMI2016'!$G39/1000 -> 10.014278 | L37: =100*K37/K$8 -> 0.045245272 | M37: ='UMI2016'!$G39/1000 -> 1.3024745 | N37: =100*M37/M$8 -> 0.0068171023 | O37: ='HI2016'!$G39/1000 -> 0.0052470044 | P37: =100*O37/O$8 -> 5.1060165e-05 | Q37: =World2030!$G39/1000 -> 12.517026 | R37: =100*Q37/Q$8 -> 0.018375112 | S37: ='LI2030'!$G39/1000 -> 2.0518111 | T37: =100*S37/S$8 -> 0.033035137 | U37: ='LMI2030'!$G39/1000 -> 9.2299501 | V37: =100*U37/U$8 -> 0.034829859 | W37: ='UMI2030'!$G39/1000 -> 1.2290412 | X37: =100*W37/W$8 -> 0.0052487661 | Y37: ='HI2030'!$G39/1000 -> 0.0062234883 | Z37: =100*Y37/Y$8 -> 5.1894671e-05 | AA37: =World2045!$G39/1000 -> 13.433167 | AB37: =100*AA37/AA$8 -> 0.015705313 | AC37: ='LI2045'!$G39/1000 -> 2.448183 | AD37: =100*AC37/AC$8 -> 0.029540622 | AE37: ='LMI2045'!$G39/1000 -> 9.878743 | AF37: =100*AE37/AE$8 -> 0.030504974 | AG37: ='UMI2045'!$G39/1000 -> 1.0962575 | AH37: =100*AG37/AG$8 -> 0.0036189928 | AI37: ='HI2045'!$G39/1000 -> 0.0099830342 | AJ37: =100*AI37/AI$8 -> 6.8521081e-05 | AK37: =World2060!$G39/1000 -> 14.668835 | AL37: =100*AK37/AK$8 -> 0.014405055 | AM37: ='LI2060'!$G39/1000 -> 3.0787304 | AN37: =100*AM37/AM$8 -> 0.025373947 | AO37: ='LMI2060'!$G39/1000 -> 10.676666 | AP37: =100*AO37/AO$8 -> 0.026900761 | AQ37: ='UMI2060'!$G39/1000 -> 0.90072901 | AR37: =100*AQ37/AQ$8 -> 0.0025981245 | AS37: ='HI2060'!$G39/1000 -> 0.01270908 | AT37: =100*AS37/AS$8 -> 8.2848144e-05
A38: 30 | E38: i. | F38: Dengue | G38: =World2016!$G40/1000 -> 40.392498 | H38: =100*G38/G$8 -> 0.07102177 | I38: ='LI2016'!$G40/1000 -> 0.43421375 | J38: =100*I38/I$8 -> 0.0081040479 | K38: ='LMI2016'!$G40/1000 -> 37.563713 | L38: =100*K38/K$8 -> 0.16971573 | M38: ='UMI2016'!$G40/1000 -> 2.3342359 | N38: =100*M38/M$8 -> 0.012217302 | O38: ='HI2016'!$G40/1000 -> 0.060335222 | P38: =100*O38/O$8 -> 0.00058714004 | Q38: =World2030!$G40/1000 -> 41.807633 | R38: =100*Q38/Q$8 -> 0.061374001 | S38: ='LI2030'!$G40/1000 -> 0.31822476 | T38: =100*S38/S$8 -> 0.0051235705 | U38: ='LMI2030'!$G40/1000 -> 37.287284 | V38: =100*U38/U$8 -> 0.14070616 | W38: ='UMI2030'!$G40/1000 -> 4.1474876 | X38: =100*W38/W$8 -> 0.017712338 | Y38: ='HI2030'!$G40/1000 -> 0.054636881 | Z38: =100*Y38/Y$8 -> 0.00045559063 | AA38: =World2045!$G40/1000 -> 37.669209 | AB38: =100*AA38/AA$8 -> 0.044040749 | AC38: ='LI2045'!$G40/1000 -> 0.2326558 | AD38: =100*AC38/AC$8 -> 0.0028073052 | AE38: ='LMI2045'!$G40/1000 -> 33.105099 | AF38: =100*AE38/AE$8 -> 0.10222659 | AG38: ='UMI2045'!$G40/1000 -> 4.2724057 | AH38: =100*AG38/AG$8 -> 0.014104173 | AI38: ='HI2045'!$G40/1000 -> 0.059048832 | AJ38: =100*AI38/AI$8 -> 0.0004052966 | AK38: =World2060!$G40/1000 -> 38.082562 | AL38: =100*AK38/AK$8 -> 0.037397749 | AM38: ='LI2060'!$G40/1000 -> 0.22103159 | AN38: =100*AM38/AM$8 -> 0.0018216743 | AO38: ='LMI2060'!$G40/1000 -> 33.243246 | AP38: =100*AO38/AO$8 -> 0.083759163 | AQ38: ='UMI2060'!$G40/1000 -> 4.562843 | AR38: =100*AQ38/AQ$8 -> 0.013161377 | AS38: ='HI2060'!$G40/1000 -> 0.055440661 | AT38: =100*AS38/AS$8 -> 0.00036140742
A39: 31 | E39: j. | F39: Trachoma | G39: =World2016!$G41/1000 -> 0.0014091835 | H39: =100*G39/G$8 -> 2.4777547e-06 | I39: ='LI2016'!$G41/1000 -> 0 | J39: =100*I39/I$8 -> 0 | K39: ='LMI2016'!$G41/1000 -> 0.00031827223 | L39: =100*K39/K$8 -> 1.4379783e-06 | M39: ='UMI2016'!$G41/1000 -> 0.00037843159 | N39: =100*M39/M$8 -> 1.9806966e-06 | O39: ='HI2016'!$G41/1000 -> 0.00071247965 | P39: =100*O39/O$8 -> 6.933352e-06 | Q39: =World2030!$G41/1000 -> 0.0011613339 | R39: =100*Q39/Q$8 -> 1.7048491e-06 | S39: ='LI2030'!$G41/1000 -> 0 | T39: =100*S39/S$8 -> 0 | U39: ='LMI2030'!$G41/1000 -> 0.00038712397 | V39: =100*U39/U$8 -> 1.4608393e-06 | W39: ='UMI2030'!$G41/1000 -> 0.00018636723 | X39: =100*W39/W$8 -> 7.9590337e-07 | Y39: ='HI2030'!$G41/1000 -> 0.00058784267 | Z39: =100*Y39/Y$8 -> 4.9017369e-06 | AA39: =World2045!$G41/1000 -> 0.0014155711 | AB39: =100*AA39/AA$8 -> 1.6550072e-06 | AC39: ='LI2045'!$G41/1000 -> 0 | AD39: =100*AC39/AC$8 -> 0 | AE39: ='LMI2045'!$G41/1000 -> 0.00057242531 | AF39: =100*AE39/AE$8 -> 1.7676155e-06 | AG39: ='UMI2045'!$G41/1000 -> 0.0001516137 | AH39: =100*AG39/AG$8 -> 5.0051095e-07 | AI39: ='HI2045'!$G41/1000 -> 0.00069153211 | AJ39: =100*AI39/AI$8 -> 4.7465056e-06 | AK39: =World2060!$G41/1000 -> 0.0016359039 | AL39: =100*AK39/AK$8 -> 1.6064865e-06 | AM39: ='LI2060'!$G41/1000 -> 0 | AN39: =100*AM39/AM$8 -> 0 | AO39: ='LMI2060'!$G41/1000 -> 0.00072208101 | AP39: =100*AO39/AO$8 -> 1.819344e-06 | AQ39: ='UMI2060'!$G41/1000 -> 8.4481843e-05 | AR39: =100*AQ39/AQ$8 -> 2.4368522e-07 | AS39: ='HI2060'!$G41/1000 -> 0.00082934102 | AT39: =100*AS39/AS$8 -> 5.4063208e-06
A40: 32 | E40: k. | F40: Rabies | G40: =World2016!$G42/1000 -> 24.327245 | H40: =100*G40/G$8 -> 0.042774379 | I40: ='LI2016'!$G42/1000 -> 7.6119446 | J40: =100*I40/I$8 -> 0.14206727 | K40: ='LMI2016'!$G42/1000 -> 15.266623 | L40: =100*K40/K$8 -> 0.068975768 | M40: ='UMI2016'!$G42/1000 -> 1.4307474 | N40: =100*M40/M$8 -> 0.007488478 | O40: ='HI2016'!$G42/1000 -> 0.017930653 | P40: =100*O40/O$8 -> 0.00017448853 | Q40: =World2030!$G42/1000 -> 15.8229 | R40: =100*Q40/Q$8 -> 0.023228166 | S40: ='LI2030'!$G42/1000 -> 5.1463039 | T40: =100*S40/S$8 -> 0.082857947 | U40: ='LMI2030'!$G42/1000 -> 9.8373231 | V40: =100*U40/U$8 -> 0.037121824 | W40: ='UMI2030'!$G42/1000 -> 0.82923904 | X40: =100*W40/W$8 -> 0.0035413637 | Y40: ='HI2030'!$G42/1000 -> 0.010033774 | Z40: =100*Y40/Y$8 -> 8.3666805e-05 | AA40: =World2045!$G42/1000 -> 11.285396 | AB40: =100*AA40/AA$8 -> 0.013194258 | AC40: ='LI2045'!$G42/1000 -> 3.7961035 | AD40: =100*AC40/AC$8 -> 0.045805096 | AE40: ='LMI2045'!$G42/1000 -> 6.9231991 | AF40: =100*AE40/AE$8 -> 0.021378429 | AG40: ='UMI2045'!$G42/1000 -> 0.56179927 | AH40: =100*AG40/AG$8 -> 0.0018546259 | AI40: ='HI2045'!$G42/1000 -> 0.004293845 | AJ40: =100*AI40/AI$8 -> 2.9471891e-05 | AK40: =World2060!$G42/1000 -> 8.7052996 | AL40: =100*AK40/AK$8 -> 0.0085487581 | AM40: ='LI2060'!$G42/1000 -> 3.0142089 | AN40: =100*AM40/AM$8 -> 0.024842181 | AO40: ='LMI2060'!$G42/1000 -> 5.2843713 | AP40: =100*AO40/AO$8 -> 0.013314419 | AQ40: ='UMI2060'!$G42/1000 -> 0.40481216 | AR40: =100*AQ40/AQ$8 -> 0.0011676679 | AS40: ='HI2060'!$G42/1000 -> 0.001907199 | AT40: =100*AS40/AS$8 -> 1.2432677e-05
A41: 33 | D41: 11. | E41: Intestinal nematode infections | G41: =World2016!$G43/1000 -> 6.250325 | H41: =100*G41/G$8 -> 0.010989891 | I41: ='LI2016'!$G43/1000 -> 2.4222575 | J41: =100*I41/I$8 -> 0.045208359 | K41: ='LMI2016'!$G43/1000 -> 3.6968536 | L41: =100*K41/K$8 -> 0.016702667 | M41: ='UMI2016'!$G43/1000 -> 0.12877893 | N41: =100*M41/M$8 -> 0.00067402407 | O41: ='HI2016'!$G43/1000 -> 0.0024349448 | P41: =100*O41/O$8 -> 2.3695174e-05 | Q41: =World2030!$G43/1000 -> 4.0728643 | R41: =100*Q41/Q$8 -> 0.0059790033 | S41: ='LI2030'!$G43/1000 -> 1.5330215 | T41: =100*S41/S$8 -> 0.024682378 | U41: ='LMI2030'!$G43/1000 -> 2.4527616 | V41: =100*U41/U$8 -> 0.0092556665 | W41: ='UMI2030'!$G43/1000 -> 0.084726096 | X41: =100*W41/W$8 -> 0.00036183285 | Y41: ='HI2030'!$G43/1000 -> 0.0023551214 | Z41: =100*Y41/Y$8 -> 1.9638223e-05 | AA41: =World2045!$G43/1000 -> 2.1354959 | AB41: =100*AA41/AA$8 -> 0.0024967033 | AC41: ='LI2045'!$G43/1000 -> 0.69274683 | AD41: =100*AC41/AC$8 -> 0.0083589227 | AE41: ='LMI2045'!$G43/1000 -> 1.3681312 | AF41: =100*AE41/AE$8 -> 0.0042247082 | AG41: ='UMI2045'!$G43/1000 -> 0.071866918 | AH41: =100*AG41/AG$8 -> 0.00023724888 | AI41: ='HI2045'!$G43/1000 -> 0.0027509916 | AJ41: =100*AI41/AI$8 -> 1.8882127e-05 | AK41: =World2060!$G43/1000 -> 1.4095091 | AL41: =100*AK41/AK$8 -> 0.0013841629 | AM41: ='LI2060'!$G43/1000 -> 0.36916485 | AN41: =100*AM41/AM$8 -> 0.0030425429 | AO41: ='LMI2060'!$G43/1000 -> 0.97175352 | AP41: =100*AO41/AO$8 -> 0.0024484149 | AQ41: ='UMI2060'!$G43/1000 -> 0.065730077 | AR41: =100*AQ41/AQ$8 -> 0.00018959634 | AS41: ='HI2060'!$G43/1000 -> 0.0028606744 | AT41: =100*AS41/AS$8 -> 1.8648208e-05
A42: 34 | E42: a. | F42: Ascariasis | G42: =World2016!$G44/1000 -> 6.2482824 | H42: =100*G42/G$8 -> 0.010986299 | I42: ='LI2016'!$G44/1000 -> 2.4222575 | J42: =100*I42/I$8 -> 0.045208359 | K42: ='LMI2016'!$G44/1000 -> 3.6956753 | L42: =100*K42/K$8 -> 0.016697343 | M42: ='UMI2016'!$G44/1000 -> 0.12832653 | N42: =100*M42/M$8 -> 0.00067165621 | O42: ='HI2016'!$G44/1000 -> 0.0020230976 | P42: =100*O42/O$8 -> 1.9687366e-05 | Q42: =World2030!$G44/1000 -> 4.071197 | R42: =100*Q42/Q$8 -> 0.0059765557 | S42: ='LI2030'!$G44/1000 -> 1.5330215 | T42: =100*S42/S$8 -> 0.024682378 | U42: ='LMI2030'!$G44/1000 -> 2.4519963 | V42: =100*U42/U$8 -> 0.0092527789 | W42: ='UMI2030'!$G44/1000 -> 0.08459616 | X42: =100*W42/W$8 -> 0.00036127794 | Y42: ='HI2030'!$G44/1000 -> 0.0015830276 | Z42: =100*Y42/Y$8 -> 1.3200105e-05 | AA42: =World2045!$G44/1000 -> 2.1338811 | AB42: =100*AA42/AA$8 -> 0.0024948154 | AC42: ='LI2045'!$G44/1000 -> 0.69274683 | AD42: =100*AC42/AC$8 -> 0.0083589227 | AE42: ='LMI2045'!$G44/1000 -> 1.3674929 | AF42: =100*AE42/AE$8 -> 0.004222737 | AG42: ='UMI2045'!$G44/1000 -> 0.071797276 | AH42: =100*AG42/AG$8 -> 0.00023701897 | AI42: ='HI2045'!$G44/1000 -> 0.0018441818 | AJ42: =100*AI42/AI$8 -> 1.2658009e-05 | AK42: =World2060!$G44/1000 -> 1.4080004 | AL42: =100*AK42/AK$8 -> 0.0013826813 | AM42: ='LI2060'!$G44/1000 -> 0.36916485 | AN42: =100*AM42/AM$8 -> 0.0030425429 | AO42: ='LMI2060'!$G44/1000 -> 0.97124394 | AP42: =100*AO42/AO$8 -> 0.002447131 | AQ42: ='UMI2060'!$G44/1000 -> 0.065692237 | AR42: =100*AQ42/AQ$8 -> 0.00018948719 | AS42: ='HI2060'!$G44/1000 -> 0.0018993475 | AT42: =100*AS42/AS$8 -> 1.2381495e-05
A43: 35 | E43: b. | F43: Trichuriasis | G43: =World2016!$G45/1000 -> 0.00080712211 | H43: =100*G43/G$8 -> 1.4191556e-06 | I43: ='LI2016'!$G45/1000 -> 0 | J43: =100*I43/I$8 -> 0 | K43: ='LMI2016'!$G45/1000 -> 0.00080712211 | L43: =100*K43/K$8 -> 3.6466394e-06 | M43: ='UMI2016'!$G45/1000 -> 0 | N43: =100*M43/M$8 -> 0 | O43: ='HI2016'!$G45/1000 -> 0 | P43: =100*O43/O$8 -> 0 | Q43: =World2030!$G45/1000 -> 0.0004984116 | R43: =100*Q43/Q$8 -> 7.3167293e-07 | S43: ='LI2030'!$G45/1000 -> 0 | T43: =100*S43/S$8 -> 0 | U43: ='LMI2030'!$G45/1000 -> 0.0004984116 | V43: =100*U43/U$8 -> 1.8807909e-06 | W43: ='UMI2030'!$G45/1000 -> 0 | X43: =100*W43/W$8 -> 0 | Y43: ='HI2030'!$G45/1000 -> 0 | Z43: =100*Y43/Y$8 -> 0 | AA43: =World2045!$G45/1000 -> 0.00040019551 | AB43: =100*AA43/AA$8 -> 4.6788638e-07 | AC43: ='LI2045'!$G45/1000 -> 0 | AD43: =100*AC43/AC$8 -> 0 | AE43: ='LMI2045'!$G45/1000 -> 0.00040019551 | AF43: =100*AE43/AE$8 -> 1.2357801e-06 | AG43: ='UMI2045'!$G45/1000 -> 0 | AH43: =100*AG43/AG$8 -> 0 | AI43: ='HI2045'!$G45/1000 -> 0 | AJ43: =100*AI43/AI$8 -> 0 | AK43: =World2060!$G45/1000 -> 0.00030275374 | AL43: =100*AK43/AK$8 -> 2.9730953e-07 | AM43: ='LI2060'!$G45/1000 -> 0 | AN43: =100*AM43/AM$8 -> 0 | AO43: ='LMI2060'!$G45/1000 -> 0.00030275374 | AP43: =100*AO43/AO$8 -> 7.6281358e-07 | AQ43: ='UMI2060'!$G45/1000 -> 0 | AR43: =100*AQ43/AQ$8 -> 0 | AS43: ='HI2060'!$G45/1000 -> 0 | AT43: =100*AS43/AS$8 -> 0
A44: 36 | E44: c. | F44: Hookworm disease | G44: =World2016!$G46/1000 -> 0.00123546 | H44: =100*G44/G$8 -> 2.1722984e-06 | I44: ='LI2016'!$G46/1000 -> 0 | J44: =100*I44/I$8 -> 0 | K44: ='LMI2016'!$G46/1000 -> 0.00037121066 | L44: =100*K44/K$8 -> 1.6771581e-06 | M44: ='UMI2016'!$G46/1000 -> 0.00045240217 | N44: =100*M44/M$8 -> 2.3678559e-06 | O44: ='HI2016'!$G46/1000 -> 0.0004118472 | P44: =100*O44/O$8 -> 4.007808e-06 | Q44: =World2030!$G46/1000 -> 0.0011688412 | R44: =100*Q44/Q$8 -> 1.7158699e-06 | S44: ='LI2030'!$G46/1000 -> 0 | T44: =100*S44/S$8 -> 0 | U44: ='LMI2030'!$G46/1000 -> 0.00026681113 | V44: =100*U44/U$8 -> 1.0068304e-06 | W44: ='UMI2030'!$G46/1000 -> 0.00012993622 | X44: =100*W44/W$8 -> 5.5490804e-07 | Y44: ='HI2030'!$G46/1000 -> 0.0007720938 | Z44: =100*Y44/Y$8 -> 6.4381183e-06 | AA44: =World2045!$G46/1000 -> 0.0012145977 | AB44: =100*AA44/AA$8 -> 1.4200403e-06 | AC44: ='LI2045'!$G46/1000 -> 0 | AD44: =100*AC44/AC$8 -> 0 | AE44: ='LMI2045'!$G46/1000 -> 0.00023814659 | AF44: =100*AE44/AE$8 -> 7.3538257e-07 | AG44: ='UMI2045'!$G46/1000 -> 6.9641374e-05 | AH44: =100*AG44/AG$8 -> 2.2990186e-07 | AI44: ='HI2045'!$G46/1000 -> 0.00090680978 | AJ44: =100*AI44/AI$8 -> 6.2241184e-06 | AK44: =World2060!$G46/1000 -> 0.0012059868 | AL44: =100*AK44/AK$8 -> 1.1843003e-06 | AM44: ='LI2060'!$G46/1000 -> 0 | AN44: =100*AM44/AM$8 -> 0 | AO44: ='LMI2060'!$G46/1000 -> 0.00020682035 | AP44: =100*AO44/AO$8 -> 5.2110132e-07 | AQ44: ='UMI2060'!$G46/1000 -> 3.7839469e-05 | AR44: =100*AQ44/AQ$8 -> 1.0914676e-07 | AS44: ='HI2060'!$G46/1000 -> 0.00096132696 | AT44: =100*AS44/AS$8 -> 6.2667127e-06
A45: 37 | D45: 12. | E45: Other infectious diseases | G45: =World2016!$G47/1000 -> 468.61244 | H45: =100*G45/G$8 -> 0.82395707 | I45: ='LI2016'!$G47/1000 -> 74.924959 | J45: =100*I45/I$8 -> 1.3983792 | K45: ='LMI2016'!$G47/1000 -> 226.90817 | L45: =100*K45/K$8 -> 1.0251885 | M45: ='UMI2016'!$G47/1000 -> 75.257096 | N45: =100*M45/M$8 -> 0.3938928 | O45: ='HI2016'!$G47/1000 -> 91.522209 | P45: =100*O45/O$8 -> 0.89062991 | Q45: =World2030!$G47/1000 -> 447.37278 | R45: =100*Q45/Q$8 -> 0.65674747 | S45: ='LI2030'!$G47/1000 -> 61.807952 | T45: =100*S45/S$8 -> 0.99513751 | U45: ='LMI2030'!$G47/1000 -> 190.3184 | V45: =100*U45/U$8 -> 0.71817973 | W45: ='UMI2030'!$G47/1000 -> 77.391807 | X45: =100*W45/W$8 -> 0.3305109 | Y45: ='HI2030'!$G47/1000 -> 117.85462 | Z45: =100*Y45/Y$8 -> 0.98273293 | AA45: =World2045!$G47/1000 -> 428.43727 | AB45: =100*AA45/AA$8 -> 0.50090507 | AC45: ='LI2045'!$G47/1000 -> 42.937973 | AD45: =100*AC45/AC$8 -> 0.51810443 | AE45: ='LMI2045'!$G47/1000 -> 163.00873 | AF45: =100*AE45/AE$8 -> 0.5033613 | AG45: ='UMI2045'!$G47/1000 -> 86.156106 | AH45: =100*AG45/AG$8 -> 0.28442071 | AI45: ='HI2045'!$G47/1000 -> 136.33446 | AJ45: =100*AI45/AI$8 -> 0.93576606 | AK45: =World2060!$G47/1000 -> 435.06609 | AL45: =100*AK45/AK$8 -> 0.4272426 | AM45: ='LI2060'!$G47/1000 -> 36.134339 | AN45: =100*AM45/AM$8 -> 0.29780808 | AO45: ='LMI2060'!$G47/1000 -> 167.70316 | AP45: =100*AO45/AO$8 -> 0.42254226 | AQ45: ='UMI2060'!$G47/1000 -> 94.133078 | AR45: =100*AQ45/AQ$8 -> 0.2715239 | AS45: ='HI2060'!$G47/1000 -> 137.09551 | AT45: =100*AS45/AS$8 -> 0.89370031
A46: 38 | C46: B. | D46: Respiratory infections | G46: =World2016!$G48/1000 -> 2964.4805 | H46: =100*G46/G$8 -> 5.2124197 | I46: ='LI2016'!$G48/1000 -> 501.20645 | J46: =100*I46/I$8 -> 9.3543817 | K46: ='LMI2016'!$G48/1000 -> 1450.0394 | L46: =100*K46/K$8 -> 6.5513888 | M46: ='UMI2016'!$G48/1000 -> 571.69889 | N46: =100*M46/M$8 -> 2.9922504 | O46: ='HI2016'!$G48/1000 -> 441.53581 | P46: =100*O46/O$8 -> 4.2967167 | Q46: =World2030!$G48/1000 -> 3226.3448 | R46: =100*Q46/Q$8 -> 4.7363046 | S46: ='LI2030'!$G48/1000 -> 451.0811 | T46: =100*S46/S$8 -> 7.2626209 | U46: ='LMI2030'!$G48/1000 -> 1510.0571 | V46: =100*U46/U$8 -> 5.6983058 | W46: ='UMI2030'!$G48/1000 -> 723.58397 | X46: =100*W46/W$8 -> 3.0901512 | Y46: ='HI2030'!$G48/1000 -> 541.62259 | Z46: =100*Y46/Y$8 -> 4.5163299 | AA46: =World2045!$G48/1000 -> 3847.7498 | AB46: =100*AA46/AA$8 -> 4.4985755 | AC46: ='LI2045'!$G48/1000 -> 440.20104 | AD46: =100*AC46/AC$8 -> 5.3116179 | AE46: ='LMI2045'!$G48/1000 -> 1716.514 | AF46: =100*AE46/AE$8 -> 5.3004937 | AG46: ='UMI2045'!$G48/1000 -> 1003.3627 | AH46: =100*AG46/AG$8 -> 3.312326 | AI46: ='HI2045'!$G48/1000 -> 687.67208 | AJ46: =100*AI46/AI$8 -> 4.7200113 | AK46: =World2060!$G48/1000 -> 4626.5181 | AL46: =100*AK46/AK$8 -> 4.5433226 | AM46: ='LI2060'!$G48/1000 -> 533.82744 | AN46: =100*AM46/AM$8 -> 4.3996412 | AO46: ='LMI2060'!$G48/1000 -> 2094.6229 | AP46: =100*AO46/AO$8 -> 5.277579 | AQ46: ='UMI2060'!$G48/1000 -> 1241.1154 | AR46: =100*AQ46/AQ$8 -> 3.5799582 | AS46: ='HI2060'!$G48/1000 -> 756.95245 | AT46: =100*AS46/AS$8 -> 4.9344331
A47: 39 | D47: 1. | E47: Lower respiratory infections | G47: =World2016!$G49/1000 -> 2957.1359 | H47: =100*G47/G$8 -> 5.1995057 | I47: ='LI2016'!$G49/1000 -> 499.8394 | J47: =100*I47/I$8 -> 9.3288674 | K47: ='LMI2016'!$G49/1000 -> 1447.9064 | L47: =100*K47/K$8 -> 6.5417518 | M47: ='UMI2016'!$G49/1000 -> 570.78171 | N47: =100*M47/M$8 -> 2.9874499 | O47: ='HI2016'!$G49/1000 -> 438.60838 | P47: =100*O47/O$8 -> 4.2682289 | Q47: =World2030!$G49/1000 -> 3221.2583 | R47: =100*Q47/Q$8 -> 4.7288376 | S47: ='LI2030'!$G49/1000 -> 449.98587 | T47: =100*S47/S$8 -> 7.2449871 | U47: ='LMI2030'!$G49/1000 -> 1508.2365 | V47: =100*U47/U$8 -> 5.6914353 | W47: ='UMI2030'!$G49/1000 -> 722.70744 | X47: =100*W47/W$8 -> 3.0864079 | Y47: ='HI2030'!$G49/1000 -> 540.32851 | Z47: =100*Y47/Y$8 -> 4.5055392 | AA47: =World2045!$G49/1000 -> 3842.4553 | AB47: =100*AA47/AA$8 -> 4.4923855 | AC47: ='LI2045'!$G49/1000 -> 439.29144 | AD47: =100*AC47/AC$8 -> 5.3006423 | AE47: ='LMI2045'!$G49/1000 -> 1714.7882 | AF47: =100*AE47/AE$8 -> 5.2951646 | AG47: ='UMI2045'!$G49/1000 -> 1002.2897 | AH47: =100*AG47/AG$8 -> 3.308784 | AI47: ='HI2045'!$G49/1000 -> 686.08591 | AJ47: =100*AI47/AI$8 -> 4.7091242 | AK47: =World2060!$G49/1000 -> 4620.9047 | AL47: =100*AK47/AK$8 -> 4.5378101 | AM47: ='LI2060'!$G49/1000 -> 532.92659 | AN47: =100*AM47/AM$8 -> 4.3922167 | AO47: ='LMI2060'!$G49/1000 -> 2092.8244 | AP47: =100*AO47/AO$8 -> 5.2730477 | AQ47: ='UMI2060'!$G49/1000 -> 1239.8558 | AR47: =100*AQ47/AQ$8 -> 3.576325 | AS47: ='HI2060'!$G49/1000 -> 755.29785 | AT47: =100*AS47/AS$8 -> 4.9236471
A48: 40 | D48: 2. | E48: Upper respiratory infections | G48: =World2016!$G50/1000 -> 5.8993995 | H48: =100*G48/G$8 -> 0.010372862 | I48: ='LI2016'!$G50/1000 -> 1.0007684 | J48: =100*I48/I$8 -> 0.018678071 | K48: ='LMI2016'!$G50/1000 -> 1.4032985 | L48: =100*K48/K$8 -> 0.0063402097 | M48: ='UMI2016'!$G50/1000 -> 0.72739991 | N48: =100*M48/M$8 -> 0.0038071836 | O48: ='HI2016'!$G50/1000 -> 2.7679327 | P48: =100*O48/O$8 -> 0.026935579 | Q48: =World2030!$G50/1000 -> 3.8549523 | R48: =100*Q48/Q$8 -> 0.0056591064 | S48: ='LI2030'!$G50/1000 -> 0.78199861 | T48: =100*S48/S$8 -> 0.012590551 | U48: ='LMI2030'!$G50/1000 -> 1.1671607 | V48: =100*U48/U$8 -> 0.0044043621 | W48: ='UMI2030'!$G50/1000 -> 0.72364626 | X48: =100*W48/W$8 -> 0.0030904172 | Y48: ='HI2030'!$G50/1000 -> 1.1821468 | Z48: =100*Y48/Y$8 -> 0.0098573526 | AA48: =World2045!$G50/1000 -> 4.0259664 | AB48: =100*AA48/AA$8 -> 0.0047069365 | AC48: ='LI2045'!$G50/1000 -> 0.61369304 | AD48: =100*AC48/AC$8 -> 0.0074050323 | AE48: ='LMI2045'!$G50/1000 -> 1.0331335 | AF48: =100*AE48/AE$8 -> 0.0031902551 | AG48: ='UMI2045'!$G50/1000 -> 0.91669794 | AH48: =100*AG48/AG$8 -> 0.0030262263 | AI48: ='HI2045'!$G50/1000 -> 1.4624419 | AJ48: =100*AI48/AI$8 -> 0.01003784 | AK48: =World2060!$G50/1000 -> 4.2190094 | AL48: =100*AK48/AK$8 -> 0.0041431418 | AM48: ='LI2060'!$G50/1000 -> 0.56235376 | AN48: =100*AM48/AM$8 -> 0.0046347464 | AO48: ='LMI2060'!$G50/1000 -> 1.0191183 | AP48: =100*AO48/AO$8 -> 0.0025677544 | AQ48: ='UMI2060'!$G50/1000 -> 1.1061187 | AR48: =100*AQ48/AQ$8 -> 0.0031905647 | AS48: ='HI2060'!$G50/1000 -> 1.5314186 | AT48: =100*AS48/AS$8 -> 0.0099830348
A49: 41 | D49: 3. | E49: Otitis media | G49: =World2016!$G51/1000 -> 1.4452338 | H49: =100*G49/G$8 -> 0.0025411418 | I49: ='LI2016'!$G51/1000 -> 0.36627921 | J49: =100*I49/I$8 -> 0.0068361361 | K49: ='LMI2016'!$G51/1000 -> 0.72966711 | L49: =100*K49/K$8 -> 0.0032966918 | M49: ='UMI2016'!$G51/1000 -> 0.18978547 | N49: =100*M49/M$8 -> 0.00099332999 | O49: ='HI2016'!$G51/1000 -> 0.15950204 | P49: =100*O49/O$8 -> 0.0015521619 | Q49: =World2030!$G51/1000 -> 1.2315766 | R49: =100*Q49/Q$8 -> 0.001807966 | S49: ='LI2030'!$G51/1000 -> 0.31323475 | T49: =100*S49/S$8 -> 0.0050432289 | U49: ='LMI2030'!$G51/1000 -> 0.65353959 | V49: =100*U49/U$8 -> 0.0024661772 | W49: ='UMI2030'!$G51/1000 -> 0.15287733 | X49: =100*W49/W$8 -> 0.00065288076 | Y49: ='HI2030'!$G51/1000 -> 0.1119249 | Z49: =100*Y49/Y$8 -> 0.00093328784 | AA49: =World2045!$G51/1000 -> 1.2685205 | AB49: =100*AA49/AA$8 -> 0.0014830838 | AC49: ='LI2045'!$G51/1000 -> 0.29590676 | AD49: =100*AC49/AC$8 -> 0.0035705132 | AE49: ='LMI2045'!$G51/1000 -> 0.6926281 | AF49: =100*AE49/AE$8 -> 0.0021387946 | AG49: ='UMI2045'!$G51/1000 -> 0.15624678 | AH49: =100*AG49/AG$8 -> 0.0005158058 | AI49: ='HI2045'!$G51/1000 -> 0.1237389 | AJ49: =100*AI49/AI$8 -> 0.00084931325 | AK49: =World2060!$G51/1000 -> 1.3943979 | AL49: =100*AK49/AK$8 -> 0.0013693234 | AM49: ='LI2060'!$G51/1000 -> 0.3384924 | AN49: =100*AM49/AM$8 -> 0.0027897501 | AO49: ='LMI2060'!$G51/1000 -> 0.77925396 | AP49: =100*AO49/AO$8 -> 0.0019633961 | AQ49: ='UMI2060'!$G51/1000 -> 0.15346176 | AR49: =100*AQ49/AQ$8 -> 0.0004426556 | AS49: ='HI2060'!$G51/1000 -> 0.12318978 | AT49: =100*AS49/AS$8 -> 0.00080305142
A50: 42 | C50: C. | D50: Maternal conditions | G50: =World2016!$G52/1000 -> 298.18997 | H50: =100*G50/G$8 -> 0.52430476 | I50: ='LI2016'!$G52/1000 -> 104.93634 | J50: =100*I50/I$8 -> 1.9585035 | K50: ='LMI2016'!$G52/1000 -> 177.16797 | L50: =100*K50/K$8 -> 0.80045841 | M50: ='UMI2016'!$G52/1000 -> 14.672567 | N50: =100*M50/M$8 -> 0.076795661 | O50: ='HI2016'!$G52/1000 -> 1.4130937 | P50: =100*O50/O$8 -> 0.013751236 | Q50: =World2030!$G52/1000 -> 226.92059 | R50: =100*Q50/Q$8 -> 0.33312157 | S50: ='LI2030'!$G52/1000 -> 84.40567 | T50: =100*S50/S$8 -> 1.3589716 | U50: ='LMI2030'!$G52/1000 -> 130.80706 | V50: =100*U50/U$8 -> 0.49360956 | W50: ='UMI2030'!$G52/1000 -> 10.522224 | X50: =100*W50/W$8 -> 0.044936406 | Y50: ='HI2030'!$G52/1000 -> 1.1856309 | Z50: =100*Y50/Y$8 -> 0.009886405 | AA50: =World2045!$G52/1000 -> 172.20139 | AB50: =100*AA50/AA$8 -> 0.20132831 | AC50: ='LI2045'!$G52/1000 -> 67.893328 | AD50: =100*AC50/AC$8 -> 0.81922436 | AE50: ='LMI2045'!$G52/1000 -> 95.505047 | AF50: =100*AE50/AE$8 -> 0.29491393 | AG50: ='UMI2045'!$G52/1000 -> 7.8790325 | AH50: =100*AG50/AG$8 -> 0.02601046 | AI50: ='HI2045'!$G52/1000 -> 0.92398619 | AJ50: =100*AI50/AI$8 -> 0.006342013 | AK50: =World2060!$G52/1000 -> 136.79297 | AL50: =100*AK50/AK$8 -> 0.13433311 | AM50: ='LI2060'!$G52/1000 -> 56.553467 | AN50: =100*AM50/AM$8 -> 0.46609624 | AO50: ='LMI2060'!$G52/1000 -> 73.223258 | AP50: =100*AO50/AO$8 -> 0.18449217 | AQ50: ='UMI2060'!$G52/1000 -> 6.2427329 | AR50: =100*AQ50/AQ$8 -> 0.018006967 | AS50: ='HI2060'!$G52/1000 -> 0.77351053 | AT50: =100*AS50/AS$8 -> 0.0050423722
A51: 49 | C51: D. | D51: Neonatal conditions | G51: =World2016!$G53/1000 -> 2274.7983 | H51: =100*G51/G$8 -> 3.9997576 | I51: ='LI2016'!$G53/1000 -> 567.93413 | J51: =100*I51/I$8 -> 10.599769 | K51: ='LMI2016'!$G53/1000 -> 1461.0499 | L51: =100*K51/K$8 -> 6.6011352 | M51: ='UMI2016'!$G53/1000 -> 212.89705 | N51: =100*M51/M$8 -> 1.1142951 | O51: ='HI2016'!$G53/1000 -> 32.917194 | P51: =100*O51/O$8 -> 0.32032704 | Q51: =World2030!$G53/1000 -> 1624.9025 | R51: =100*Q51/Q$8 -> 2.3853722 | S51: ='LI2030'!$G53/1000 -> 454.75295 | T51: =100*S51/S$8 -> 7.3217394 | U51: ='LMI2030'!$G53/1000 -> 1034.8767 | V51: =100*U51/U$8 -> 3.9051791 | W51: ='UMI2030'!$G53/1000 -> 115.81135 | X51: =100*W51/W$8 -> 0.49458612 | Y51: ='HI2030'!$G53/1000 -> 19.461542 | Z51: =100*Y51/Y$8 -> 0.16228043 | AA51: =World2045!$G53/1000 -> 1057.877 | AB51: =100*AA51/AA$8 -> 1.2368111 | AC51: ='LI2045'!$G53/1000 -> 303.76076 | AD51: =100*AC51/AC$8 -> 3.6652824 | AE51: ='LMI2045'!$G53/1000 -> 674.35154 | AF51: =100*AE51/AE$8 -> 2.0823576 | AG51: ='UMI2045'!$G53/1000 -> 69.333741 | AH51: =100*AG51/AG$8 -> 0.22888629 | AI51: ='HI2045'!$G53/1000 -> 10.430991 | AJ51: =100*AI51/AI$8 -> 0.071595748 | AK51: =World2060!$G53/1000 -> 648.3984 | AL51: =100*AK51/AK$8 -> 0.63673869 | AM51: ='LI2060'!$G53/1000 -> 182.20322 | AN51: =100*AM51/AM$8 -> 1.5016628 | AO51: ='LMI2060'!$G53/1000 -> 419.3737 | AP51: =100*AO51/AO$8 -> 1.0566474 | AQ51: ='UMI2060'!$G53/1000 -> 41.071294 | AR51: =100*AQ51/AQ$8 -> 0.11846885 | AS51: ='HI2060'!$G53/1000 -> 5.7501772 | AT51: =100*AS51/AS$8 -> 0.037484342
A52: 50 | D52: 1. | E52: Preterm birth complications | G52: =World2016!$G54/1000 -> 1013.3304 | H52: =100*G52/G$8 -> 1.7817297 | I52: ='LI2016'!$G54/1000 -> 212.10023 | J52: =100*I52/I$8 -> 3.9585814 | K52: ='LMI2016'!$G54/1000 -> 684.68849 | L52: =100*K52/K$8 -> 3.0934749 | M52: ='UMI2016'!$G54/1000 -> 98.686598 | N52: =100*M52/M$8 -> 0.51652192 | O52: ='HI2016'!$G54/1000 -> 17.85504 | P52: =100*O52/O$8 -> 0.17375272 | Q52: =World2030!$G54/1000 -> 755.75281 | R52: =100*Q52/Q$8 -> 1.1094523 | S52: ='LI2030'!$G54/1000 -> 173.14041 | T52: =100*S52/S$8 -> 2.7876433 | U52: ='LMI2030'!$G54/1000 -> 516.1096 | V52: =100*U52/U$8 -> 1.9475755 | W52: ='UMI2030'!$G54/1000 -> 55.314305 | X52: =100*W52/W$8 -> 0.2362263 | Y52: ='HI2030'!$G54/1000 -> 11.188489 | Z52: =100*Y52/Y$8 -> 0.093295424 | AA52: =World2045!$G54/1000 -> 499.10739 | AB52: =100*AA52/AA$8 -> 0.58352866 | AC52: ='LI2045'!$G54/1000 -> 117.75595 | AD52: =100*AC52/AC$8 -> 1.420884 | AE52: ='LMI2045'!$G54/1000 -> 340.3838 | AF52: =100*AE52/AE$8 -> 1.051085 | AG52: ='UMI2045'!$G54/1000 -> 34.376893 | AH52: =100*AG52/AG$8 -> 0.11348586 | AI52: ='HI2045'!$G54/1000 -> 6.5907504 | AJ52: =100*AI52/AI$8 -> 0.045237283 | AK52: =World2060!$G54/1000 -> 310.23584 | AL52: =100*AK52/AK$8 -> 0.30465708 | AM52: ='LI2060'!$G54/1000 -> 70.81578 | AN52: =100*AM52/AM$8 -> 0.58364184 | AO52: ='LMI2060'!$G54/1000 -> 214.84381 | AP52: =100*AO52/AO$8 -> 0.54131711 | AQ52: ='UMI2060'!$G54/1000 -> 20.72209 | AR52: =100*AQ52/AQ$8 -> 0.059772217 | AS52: ='HI2060'!$G54/1000 -> 3.8541577 | AT52: =100*AS52/AS$8 -> 0.025124541
A53: 51 | D53: 2. | E53: Birth asphyxia and birth trauma | G53: =World2016!$G55/1000 -> 678.6383 | H53: =100*G53/G$8 -> 1.1932437 | I53: ='LI2016'!$G55/1000 -> 201.39503 | J53: =100*I53/I$8 -> 3.7587823 | K53: ='LMI2016'!$G55/1000 -> 415.06141 | L53: =100*K53/K$8 -> 1.8752792 | M53: ='UMI2016'!$G55/1000 -> 57.732829 | N53: =100*M53/M$8 -> 0.30217145 | O53: ='HI2016'!$G55/1000 -> 4.4490377 | P53: =100*O53/O$8 -> 0.043294913 | Q53: =World2030!$G55/1000 -> 479.56731 | R53: =100*Q53/Q$8 -> 0.70400935 | S53: ='LI2030'!$G55/1000 -> 161.49582 | T53: =100*S53/S$8 -> 2.6001598 | U53: ='LMI2030'!$G55/1000 -> 283.33329 | V53: =100*U53/U$8 -> 1.0691779 | W53: ='UMI2030'!$G55/1000 -> 31.996915 | X53: =100*W53/W$8 -> 0.13664662 | Y53: ='HI2030'!$G55/1000 -> 2.741286 | Z53: =100*Y53/Y$8 -> 0.022858264 | AA53: =World2045!$G55/1000 -> 325.42415 | AB53: =100*AA53/AA$8 -> 0.38046786 | AC53: ='LI2045'!$G55/1000 -> 111.90555 | AD53: =100*AC53/AC$8 -> 1.350291 | AE53: ='LMI2045'!$G55/1000 -> 191.2335 | AF53: =100*AE53/AE$8 -> 0.59051773 | AG53: ='UMI2045'!$G55/1000 -> 20.651123 | AH53: =100*AG53/AG$8 -> 0.068174007 | AI53: ='HI2045'!$G55/1000 -> 1.6339826 | AJ53: =100*AI53/AI$8 -> 0.011215253 | AK53: =World2060!$G55/1000 -> 202.87395 | AL53: =100*AK53/AK$8 -> 0.1992258 | AM53: ='LI2060'!$G55/1000 -> 69.313353 | AN53: =100*AM53/AM$8 -> 0.5712593 | AO53: ='LMI2060'!$G55/1000 -> 119.79567 | AP53: =100*AO53/AO$8 -> 0.3018353 | AQ53: ='UMI2060'!$G55/1000 -> 12.801876 | AR53: =100*AQ53/AQ$8 -> 0.036926607 | AS53: ='HI2060'!$G55/1000 -> 0.96304448 | AT53: =100*AS53/AS$8 -> 0.0062779089
A54: 52 | D54: 3. | E54: Neonatal sepsis and infections | G54: =World2016!$G56/1000 -> 395.58302 | H54: =100*G54/G$8 -> 0.6955501 | I54: ='LI2016'!$G56/1000 -> 116.25619 | J54: =100*I54/I$8 -> 2.1697741 | K54: ='LMI2016'!$G56/1000 -> 252.39153 | L54: =100*K54/K$8 -> 1.1403242 | M54: ='UMI2016'!$G56/1000 -> 25.012419 | N54: =100*M54/M$8 -> 0.13091406 | O54: ='HI2016'!$G56/1000 -> 1.9228833 | P54: =100*O54/O$8 -> 0.018712151 | Q54: =World2030!$G56/1000 -> 291.99709 | R54: =100*Q54/Q$8 -> 0.42865449 | S54: ='LI2030'!$G56/1000 -> 97.109239 | T54: =100*S54/S$8 -> 1.5635051 | U54: ='LMI2030'!$G56/1000 -> 178.18372 | V54: =100*U54/U$8 -> 0.67238868 | W54: ='UMI2030'!$G56/1000 -> 15.532697 | X54: =100*W54/W$8 -> 0.066334224 | Y54: ='HI2030'!$G56/1000 -> 1.1714338 | Z54: =100*Y54/Y$8 -> 0.0097680222 | AA54: =World2045!$G56/1000 -> 195.34502 | AB54: =100*AA54/AA$8 -> 0.22838655 | AC54: ='LI2045'!$G56/1000 -> 65.714829 | AD54: =100*AC54/AC$8 -> 0.79293783 | AE54: ='LMI2045'!$G56/1000 -> 119.35204 | AF54: =100*AE54/AE$8 -> 0.36855205 | AG54: ='UMI2045'!$G56/1000 -> 9.589934 | AH54: =100*AG54/AG$8 -> 0.031658531 | AI54: ='HI2045'!$G56/1000 -> 0.68821074 | AJ54: =100*AI54/AI$8 -> 0.0047237085 | AK54: =World2060!$G56/1000 -> 120.36791 | AL54: =100*AK54/AK$8 -> 0.11820342 | AM54: ='LI2060'!$G56/1000 -> 39.1158 | AN54: =100*AM54/AM$8 -> 0.32238037 | AO54: ='LMI2060'!$G56/1000 -> 75.135783 | AP54: =100*AO54/AO$8 -> 0.18931094 | AQ54: ='UMI2060'!$G56/1000 -> 5.7182953 | AR54: =100*AQ54/AQ$8 -> 0.016494243 | AS54: ='HI2060'!$G56/1000 -> 0.39803161 | AT54: =100*AS54/AS$8 -> 0.0025946945
A55: 53 | D55: 4. | E55: Other neonatal conditions | G55: =World2016!$G57/1000 -> 187.2466 | H55: =100*G55/G$8 -> 0.32923404 | I55: ='LI2016'!$G57/1000 -> 38.182675 | J55: =100*I55/I$8 -> 0.71263112 | K55: ='LMI2016'!$G57/1000 -> 108.90849 | L55: =100*K55/K$8 -> 0.49205686 | M55: ='UMI2016'!$G57/1000 -> 31.465209 | N55: =100*M55/M$8 -> 0.16468772 | O55: ='HI2016'!$G57/1000 -> 8.690234 | P55: =100*O55/O$8 -> 0.084567259 | Q55: =World2030!$G57/1000 -> 97.585296 | R55: =100*Q55/Q$8 -> 0.14325614 | S55: ='LI2030'!$G57/1000 -> 23.007474 | T55: =100*S55/S$8 -> 0.37043131 | U55: ='LMI2030'!$G57/1000 -> 57.250055 | V55: =100*U55/U$8 -> 0.21603707 | W55: ='UMI2030'!$G57/1000 -> 12.967434 | X55: =100*W55/W$8 -> 0.055378964 | Y55: ='HI2030'!$G57/1000 -> 4.3603333 | Z55: =100*Y55/Y$8 -> 0.036358719 | AA55: =World2045!$G57/1000 -> 38.000467 | AB55: =100*AA55/AA$8 -> 0.044428037 | AC55: ='LI2045'!$G57/1000 -> 8.3844361 | AD55: =100*AC55/AC$8 -> 0.1011695 | AE55: ='LMI2045'!$G57/1000 -> 23.382192 | AF55: =100*AE55/AE$8 -> 0.072202825 | AG55: ='UMI2045'!$G57/1000 -> 4.7157915 | AH55: =100*AG55/AG$8 -> 0.015567889 | AI55: ='HI2045'!$G57/1000 -> 1.5180474 | AJ55: =100*AI55/AI$8 -> 0.010419502 | AK55: =World2060!$G57/1000 -> 14.920697 | AL55: =100*AK55/AK$8 -> 0.014652389 | AM55: ='LI2060'!$G57/1000 -> 2.9582872 | AN55: =100*AM55/AM$8 -> 0.024381292 | AO55: ='LMI2060'!$G57/1000 -> 9.5984338 | AP55: =100*AO55/AO$8 -> 0.024184063 | AQ55: ='UMI2060'!$G57/1000 -> 1.8290328 | AR55: =100*AQ55/AQ$8 -> 0.0052757876 | AS55: ='HI2060'!$G57/1000 -> 0.5349434 | AT55: =100*AS55/AS$8 -> 0.0034871971
A56: 54 | C56: E. | D56: Nutritional deficiencies | G56: =World2016!$G58/1000 -> 452.65707 | H56: =100*G56/G$8 -> 0.79590289 | I56: ='LI2016'!$G58/1000 -> 149.1121 | J56: =100*I56/I$8 -> 2.782988 | K56: ='LMI2016'!$G58/1000 -> 219.55996 | L56: =100*K56/K$8 -> 0.99198868 | M56: ='UMI2016'!$G58/1000 -> 55.716762 | N56: =100*M56/M$8 -> 0.29161942 | O56: ='HI2016'!$G58/1000 -> 28.268244 | P56: =100*O56/O$8 -> 0.27508672 | Q56: =World2030!$G58/1000 -> 437.89856 | R56: =100*Q56/Q$8 -> 0.64283922 | S56: ='LI2030'!$G58/1000 -> 125.58232 | T56: =100*S56/S$8 -> 2.0219353 | U56: ='LMI2030'!$G58/1000 -> 218.86716 | V56: =100*U56/U$8 -> 0.82591048 | W56: ='UMI2030'!$G58/1000 -> 61.567219 | X56: =100*W56/W$8 -> 0.26293012 | Y56: ='HI2030'!$G58/1000 -> 31.881854 | Z56: =100*Y56/Y$8 -> 0.26584742 | AA56: =World2045!$G58/1000 -> 487.45647 | AB56: =100*AA56/AA$8 -> 0.56990705 | AC56: ='LI2045'!$G58/1000 -> 107.09104 | AD56: =100*AC56/AC$8 -> 1.2921975 | AE56: ='LMI2045'!$G58/1000 -> 249.2168 | AF56: =100*AE56/AE$8 -> 0.76956672 | AG56: ='UMI2045'!$G58/1000 -> 90.936971 | AH56: =100*AG56/AG$8 -> 0.30020342 | AI56: ='HI2045'!$G58/1000 -> 40.211665 | AJ56: =100*AI56/AI$8 -> 0.27600294 | AK56: =World2060!$G58/1000 -> 610.09808 | AL56: =100*AK56/AK$8 -> 0.5991271 | AM56: ='LI2060'!$G58/1000 -> 129.32423 | AN56: =100*AM56/AM$8 -> 1.0658504 | AO56: ='LMI2060'!$G58/1000 -> 317.4546 | AP56: =100*AO56/AO$8 -> 0.79985364 | AQ56: ='UMI2060'!$G58/1000 -> 121.52877 | AR56: =100*AQ56/AQ$8 -> 0.35054592 | AS56: ='HI2060'!$G58/1000 -> 41.790478 | AT56: =100*AS56/AS$8 -> 0.2724244
A57: 55 | D57: 1. | E57: Protein-energy malnutrition | G57: =World2016!$G59/1000 -> 342.31958 | H57: =100*G57/G$8 -> 0.60189747 | I57: ='LI2016'!$G59/1000 -> 135.07447 | J57: =100*I57/I$8 -> 2.5209933 | K57: ='LMI2016'!$G59/1000 -> 149.58231 | L57: =100*K57/K$8 -> 0.67582429 | M57: ='UMI2016'!$G59/1000 -> 42.396612 | N57: =100*M57/M$8 -> 0.22190226 | O57: ='HI2016'!$G59/1000 -> 15.266196 | P57: =100*O57/O$8 -> 0.14855991 | Q57: =World2030!$G59/1000 -> 290.86116 | R57: =100*Q57/Q$8 -> 0.42698693 | S57: ='LI2030'!$G59/1000 -> 106.07686 | T57: =100*S57/S$8 -> 1.7078881 | U57: ='LMI2030'!$G59/1000 -> 123.51691 | V57: =100*U57/U$8 -> 0.46609966 | W57: ='UMI2030'!$G59/1000 -> 45.089868 | X57: =100*W57/W$8 -> 0.19256163 | Y57: ='HI2030'!$G59/1000 -> 16.177518 | Z57: =100*Y57/Y$8 -> 0.13489653 | AA57: =World2045!$G59/1000 -> 272.91501 | AB57: =100*AA57/AA$8 -> 0.31907709 | AC57: ='LI2045'!$G59/1000 -> 75.816391 | AD57: =100*AC57/AC$8 -> 0.91482677 | AE57: ='LMI2045'!$G59/1000 -> 111.68225 | AF57: =100*AE57/AE$8 -> 0.34486819 | AG57: ='UMI2045'!$G59/1000 -> 65.513041 | AH57: =100*AG57/AG$8 -> 0.2162733 | AI57: ='HI2045'!$G59/1000 -> 19.903329 | AJ57: =100*AI57/AI$8 -> 0.13661153 | AK57: =World2060!$G59/1000 -> 310.41253 | AL57: =100*AK57/AK$8 -> 0.3048306 | AM57: ='LI2060'!$G59/1000 -> 77.402669 | AN57: =100*AM57/AM$8 -> 0.63792895 | AO57: ='LMI2060'!$G59/1000 -> 126.80647 | AP57: =100*AO57/AO$8 -> 0.31949958 | AQ57: ='UMI2060'!$G59/1000 -> 86.203963 | AR57: =100*AQ57/AQ$8 -> 0.24865262 | AS57: ='HI2060'!$G59/1000 -> 19.999434 | AT57: =100*AS57/AS$8 -> 0.13037261
A58: 56 | D58: 2. | E58: Iodine deficiency | G58: =World2016!$G60/1000 -> 2.6572301 | H58: =100*G58/G$8 -> 0.004672184 | I58: ='LI2016'!$G60/1000 -> 0.85666939 | J58: =100*I58/I$8 -> 0.015988646 | K58: ='LMI2016'!$G60/1000 -> 1.5232402 | L58: =100*K58/K$8 -> 0.0068821157 | M58: ='UMI2016'!$G60/1000 -> 0.25772523 | N58: =100*M58/M$8 -> 0.0013489241 | O58: ='HI2016'!$G60/1000 -> 0.019595269 | P58: =100*O58/O$8 -> 0.00019068741 | Q58: =World2030!$G60/1000 -> 2.5115384 | R58: =100*Q58/Q$8 -> 0.0036869621 | S58: ='LI2030'!$G60/1000 -> 0.77157297 | T58: =100*S58/S$8 -> 0.012422693 | U58: ='LMI2030'!$G60/1000 -> 1.463253 | V58: =100*U58/U$8 -> 0.0055216871 | W58: ='UMI2030'!$G60/1000 -> 0.25924655 | X58: =100*W58/W$8 -> 0.0011071431 | Y58: ='HI2030'!$G60/1000 -> 0.017465891 | Z58: =100*Y58/Y$8 -> 0.00014563966 | AA58: =World2045!$G60/1000 -> 2.2382663 | AB58: =100*AA58/AA$8 -> 0.0026168568 | AC58: ='LI2045'!$G60/1000 -> 0.66606912 | AD58: =100*AC58/AC$8 -> 0.0080370201 | AE58: ='LMI2045'!$G60/1000 -> 1.2764899 | AF58: =100*AE58/AE$8 -> 0.0039417253 | AG58: ='UMI2045'!$G60/1000 -> 0.27568257 | AH58: =100*AG58/AG$8 -> 0.00091009023 | AI58: ='HI2045'!$G60/1000 -> 0.020024743 | AJ58: =100*AI58/AI$8 -> 0.00013744489 | AK58: =World2060!$G60/1000 -> 2.1878032 | AL58: =100*AK58/AK$8 -> 0.0021484614 | AM58: ='LI2060'!$G60/1000 -> 0.67116075 | AN58: =100*AM58/AM$8 -> 0.0055315001 | AO58: ='LMI2060'!$G60/1000 -> 1.2305661 | AP58: =100*AO58/AO$8 -> 0.0031005152 | AQ58: ='UMI2060'!$G60/1000 -> 0.26369455 | AR58: =100*AQ58/AQ$8 -> 0.00076061863 | AS58: ='HI2060'!$G60/1000 -> 0.022381726 | AT58: =100*AS58/AS$8 -> 0.00014590234
A59: 57 | D59: 3. | E59: Vitamin A deficiency | G59: =World2016!$G61/1000 -> 0.0084214639 | H59: =100*G59/G$8 -> 1.4807385e-05 | I59: ='LI2016'!$G61/1000 -> 0 | J59: =100*I59/I$8 -> 0 | K59: ='LMI2016'!$G61/1000 -> 0.0015839096 | L59: =100*K59/K$8 -> 7.1562246e-06 | M59: ='UMI2016'!$G61/1000 -> 0.006506267 | N59: =100*M59/M$8 -> 3.4053556e-05 | O59: ='HI2016'!$G61/1000 -> 0.00033128724 | P59: =100*O59/O$8 -> 3.2238549e-06 | Q59: =World2030!$G61/1000 -> 0.0067494529 | R59: =100*Q59/Q$8 -> 9.9082606e-06 | S59: ='LI2030'!$G61/1000 -> 0 | T59: =100*S59/S$8 -> 0 | U59: ='LMI2030'!$G61/1000 -> 0.0010541628 | V59: =100*U59/U$8 -> 3.9779566e-06 | W59: ='UMI2030'!$G61/1000 -> 0.0054761326 | X59: =100*W59/W$8 -> 2.3386474e-05 | Y59: ='HI2030'!$G61/1000 -> 0.00021915749 | Z59: =100*Y59/Y$8 -> 1.8274487e-06 | AA59: =World2045!$G61/1000 -> 0.0080072821 | AB59: =100*AA59/AA$8 -> 9.3616698e-06 | AC59: ='LI2045'!$G61/1000 -> 0 | AD59: =100*AC59/AC$8 -> 0 | AE59: ='LMI2045'!$G61/1000 -> 0.0010850738 | AF59: =100*AE59/AE$8 -> 3.3506437e-06 | AG59: ='UMI2045'!$G61/1000 -> 0.0066691746 | AH59: =100*AG59/AG$8 -> 2.2016447e-05 | AI59: ='HI2045'!$G61/1000 -> 0.00025303376 | AJ59: =100*AI59/AI$8 -> 1.7367612e-06 | AK59: =World2060!$G61/1000 -> 0.0093375385 | AL59: =100*AK59/AK$8 -> 9.1696279e-06 | AM59: ='LI2060'!$G61/1000 -> 0 | AN59: =100*AM59/AM$8 -> 0 | AO59: ='LMI2060'!$G61/1000 -> 0.0011657878 | AP59: =100*AO59/AO$8 -> 2.9373007e-06 | AQ59: ='UMI2060'!$G61/1000 -> 0.0079868994 | AR59: =100*AQ59/AQ$8 -> 2.303796e-05 | AS59: ='HI2060'!$G61/1000 -> 0.00018485123 | AT59: =100*AS59/AS$8 -> 1.205011e-06
A60: 58 | D60: 4. | E60: Iron-deficiency anaemia | G60: =World2016!$G62/1000 -> 23.917949 | H60: =100*G60/G$8 -> 0.042054717 | I60: ='LI2016'!$G62/1000 -> 0.47655637 | J60: =100*I60/I$8 -> 0.0088943192 | K60: ='LMI2016'!$G62/1000 -> 5.9034302 | L60: =100*K60/K$8 -> 0.026672149 | M60: ='UMI2016'!$G62/1000 -> 6.7650918 | N60: =100*M60/M$8 -> 0.035408235 | O60: ='HI2016'!$G62/1000 -> 10.772871 | P60: =100*O60/O$8 -> 0.10483402 | Q60: =World2030!$G62/1000 -> 27.504498 | R60: =100*Q60/Q$8 -> 0.040376863 | S60: ='LI2030'!$G62/1000 -> 0.45254384 | T60: =100*S60/S$8 -> 0.0072861718 | U60: ='LMI2030'!$G62/1000 -> 6.0937631 | V60: =100*U60/U$8 -> 0.022995239 | W60: ='UMI2030'!$G62/1000 -> 7.9294903 | X60: =100*W60/W$8 -> 0.033863829 | Y60: ='HI2030'!$G62/1000 -> 13.028701 | Z60: =100*Y60/Y$8 -> 0.10864006 | AA60: =World2045!$G62/1000 -> 33.882107 | AB60: =100*AA60/AA$8 -> 0.03961308 | AC60: ='LI2045'!$G62/1000 -> 0.39160186 | AD60: =100*AC60/AC$8 -> 0.0047252034 | AE60: ='LMI2045'!$G62/1000 -> 6.2712822 | AF60: =100*AE60/AE$8 -> 0.019365348 | AG60: ='UMI2045'!$G62/1000 -> 10.734653 | AH60: =100*AG60/AG$8 -> 0.035437506 | AI60: ='HI2045'!$G62/1000 -> 16.48457 | AJ60: =100*AI60/AI$8 -> 0.11314602 | AK60: =World2060!$G62/1000 -> 38.175616 | AL60: =100*AK60/AK$8 -> 0.03748913 | AM60: ='LI2060'!$G62/1000 -> 0.34683961 | AN60: =100*AM60/AM$8 -> 0.0028585452 | AO60: ='LMI2060'!$G62/1000 -> 6.9025966 | AP60: =100*AO60/AO$8 -> 0.017391674 | AQ60: ='UMI2060'!$G62/1000 -> 13.840067 | AR60: =100*AQ60/AQ$8 -> 0.039921237 | AS60: ='HI2060'!$G62/1000 -> 17.086113 | AT60: =100*AS60/AS$8 -> 0.11138121
A61: 59 | D61: 5. | E61: Other nutritional deficiencies | G61: =World2016!$G63/1000 -> 83.753887 | H61: =100*G61/G$8 -> 0.14726371 | I61: ='LI2016'!$G63/1000 -> 12.704411 | J61: =100*I61/I$8 -> 0.23711169 | K61: ='LMI2016'!$G63/1000 -> 62.549399 | L61: =100*K61/K$8 -> 0.28260296 | M61: ='UMI2016'!$G63/1000 -> 6.2908267 | N61: =100*M61/M$8 -> 0.032925949 | O61: ='HI2016'!$G63/1000 -> 2.2092507 | P61: =100*O61/O$8 -> 0.021498878 | Q61: =World2030!$G63/1000 -> 117.01461 | R61: =100*Q61/Q$8 -> 0.17177855 | S61: ='LI2030'!$G63/1000 -> 18.28134 | T61: =100*S61/S$8 -> 0.2943383 | U61: ='LMI2030'!$G63/1000 -> 87.792183 | V61: =100*U61/U$8 -> 0.33128992 | W61: ='UMI2030'!$G63/1000 -> 8.2831382 | X61: =100*W61/W$8 -> 0.035374125 | Y61: ='HI2030'!$G63/1000 -> 2.6579498 | Z61: =100*Y61/Y$8 -> 0.022163363 | AA61: =World2045!$G63/1000 -> 178.41308 | AB61: =100*AA61/AA$8 -> 0.20859067 | AC61: ='LI2045'!$G63/1000 -> 30.216975 | AD61: =100*AC61/AC$8 -> 0.36460846 | AE61: ='LMI2045'!$G63/1000 -> 129.98569 | AF61: =100*AE61/AE$8 -> 0.40138811 | AG61: ='UMI2045'!$G63/1000 -> 14.406924 | AH61: =100*AG61/AG$8 -> 0.047560501 | AI61: ='HI2045'!$G63/1000 -> 3.803488 | AJ61: =100*AI61/AI$8 -> 0.026106202 | AK61: =World2060!$G63/1000 -> 259.31279 | AL61: =100*AK61/AK$8 -> 0.25464974 | AM61: ='LI2060'!$G63/1000 -> 50.903556 | AN61: =100*AM61/AM$8 -> 0.41953143 | AO61: ='LMI2060'!$G63/1000 -> 182.51381 | AP61: =100*AO61/AO$8 -> 0.45985892 | AQ61: ='UMI2060'!$G63/1000 -> 21.213063 | AR61: =100*AQ61/AQ$8 -> 0.061188412 | AS61: ='HI2060'!$G63/1000 -> 4.6823638 | AT61: =100*AS61/AS$8 -> 0.030523464
A62: 60 | B62: II. | C62: Noncommunicable diseases | G62: =World2016!$G64/1000 -> 40507.6 | H62: =100*G62/G$8 -> 71.224151 | I62: ='LI2016'!$G64/1000 -> 1961.0959 | J62: =100*I62/I$8 -> 36.601364 | K62: ='LMI2016'!$G64/1000 -> 13418.19 | L62: =100*K62/K$8 -> 60.624407 | M62: ='UMI2016'!$G64/1000 -> 16113.187 | N62: =100*M62/M$8 -> 84.335814 | O62: ='HI2016'!$G64/1000 -> 9015.1262 | P62: =100*O62/O$8 -> 87.728882 | Q62: =World2030!$G64/1000 -> 52461.236 | R62: =100*Q62/Q$8 -> 77.01359 | S62: ='LI2030'!$G64/1000 -> 3032.4447 | T62: =100*S62/S$8 -> 48.823806 | U62: ='LMI2030'!$G64/1000 -> 18372.9 | V62: =100*U62/U$8 -> 69.331418 | W62: ='UMI2030'!$G64/1000 -> 20525.169 | X62: =100*W62/W$8 -> 87.655171 | Y62: ='HI2030'!$G64/1000 -> 10530.722 | Z62: =100*Y62/Y$8 -> 87.810619 | AA62: =World2045!$G64/1000 -> 69445.294 | AB62: =100*AA62/AA$8 -> 81.191583 | AC62: ='LI2045'!$G64/1000 -> 4891.8198 | AD62: =100*AC62/AC$8 -> 59.026388 | AE62: ='LMI2045'!$G64/1000 -> 24467.004 | AF62: =100*AE62/AE$8 -> 75.55266 | AG62: ='UMI2045'!$G64/1000 -> 27218.994 | AH62: =100*AG62/AG$8 -> 89.856028 | AI62: ='HI2045'!$G64/1000 -> 12867.476 | AJ62: =100*AI62/AI$8 -> 88.319178 | AK62: =World2060!$G64/1000 -> 84094.252 | AL62: =100*AK62/AK$8 -> 82.582042 | AM62: ='LI2060'!$G64/1000 -> 7897.3936 | AN62: =100*AM62/AM$8 -> 65.087884 | AO62: ='LMI2060'!$G64/1000 -> 31260.752 | AP62: =100*AO62/AO$8 -> 78.764102 | AQ62: ='UMI2060'!$G64/1000 -> 31376.548 | AR62: =100*AQ62/AQ$8 -> 90.504666 | AS62: ='HI2060'!$G64/1000 -> 13559.558 | AT62: =100*AS62/AS$8 -> 88.39225
A63: 61 | C63: A. | D63: Malignant neoplasms | G63: =World2016!$G65/1000 -> 8966.2944 | H63: =100*G63/G$8 -> 15.765355 | I63: ='LI2016'!$G65/1000 -> 370.48587 | J63: =100*I63/I$8 -> 6.9146482 | K63: ='LMI2016'!$G65/1000 -> 2023.1416 | L63: =100*K63/K$8 -> 9.1407082 | M63: ='UMI2016'!$G65/1000 -> 3872.5531 | N63: =100*M63/M$8 -> 20.268797 | O63: ='HI2016'!$G65/1000 -> 2700.1138 | P63: =100*O63/O$8 -> 26.275613 | Q63: =World2030!$G65/1000 -> 11713.213 | R63: =100*Q63/Q$8 -> 17.195107 | S63: ='LI2030'!$G65/1000 -> 623.79427 | T63: =100*S63/S$8 -> 10.043385 | U63: ='LMI2030'!$G65/1000 -> 2921.513 | V63: =100*U63/U$8 -> 11.024533 | W63: ='UMI2030'!$G65/1000 -> 5068.8606 | X63: =100*W63/W$8 -> 21.647171 | Y63: ='HI2030'!$G65/1000 -> 3099.0452 | Z63: =100*Y63/Y$8 -> 25.841445 | AA63: =World2045!$G65/1000 -> 15449.741 | AB63: =100*AA63/AA$8 -> 18.06298 | AC63: ='LI2045'!$G65/1000 -> 1098.685 | AD63: =100*AC63/AC$8 -> 13.257112 | AE63: ='LMI2045'!$G65/1000 -> 4107.7546 | AF63: =100*AE63/AE$8 -> 12.684503 | AG63: ='UMI2045'!$G65/1000 -> 6645.6248 | AH63: =100*AG63/AG$8 -> 21.938704 | AI63: ='HI2045'!$G65/1000 -> 3597.6764 | AJ63: =100*AI63/AI$8 -> 24.693563 | AK63: =World2060!$G65/1000 -> 18633.158 | AL63: =100*AK63/AK$8 -> 18.298091 | AM63: ='LI2060'!$G65/1000 -> 1879.6507 | AN63: =100*AM63/AM$8 -> 15.491502 | AO63: ='LMI2060'!$G65/1000 -> 5433.0242 | AP63: =100*AO63/AO$8 -> 13.688963 | AQ63: ='UMI2060'!$G65/1000 -> 7578.0148 | AR63: =100*AQ63/AQ$8 -> 21.858545 | AS63: ='HI2060'!$G65/1000 -> 3742.4684 | AT63: =100*AS63/AS$8 -> 24.39646
A64: 62 | D64: 1. | E64: Mouth and oropharynx cancers | G64: =World2016!$G66/1000 -> 332.56081 | H64: =100*G64/G$8 -> 0.5847387 | I64: ='LI2016'!$G66/1000 -> 14.077275 | J64: =100*I64/I$8 -> 0.26273446 | K64: ='LMI2016'!$G66/1000 -> 173.9779 | L64: =100*K64/K$8 -> 0.78604544 | M64: ='UMI2016'!$G66/1000 -> 83.743095 | N64: =100*M64/M$8 -> 0.4383082 | O64: ='HI2016'!$G66/1000 -> 60.762537 | P64: =100*O64/O$8 -> 0.59129837 | Q64: =World2030!$G66/1000 -> 439.2117 | R64: =100*Q64/Q$8 -> 0.64476692 | S64: ='LI2030'!$G66/1000 -> 22.95584 | T64: =100*S64/S$8 -> 0.36959997 | U64: ='LMI2030'!$G66/1000 -> 243.9009 | V64: =100*U64/U$8 -> 0.92037702 | W64: ='UMI2030'!$G66/1000 -> 104.14549 | X64: =100*W64/W$8 -> 0.44476566 | Y64: ='HI2030'!$G66/1000 -> 68.209471 | Z64: =100*Y64/Y$8 -> 0.56876592 | AA64: =World2045!$G66/1000 -> 563.11518 | AB64: =100*AA64/AA$8 -> 0.65836301 | AC64: ='LI2045'!$G66/1000 -> 39.813467 | AD64: =100*AC64/AC$8 -> 0.48040306 | AE64: ='LMI2045'!$G66/1000 -> 323.54482 | AF64: =100*AE64/AE$8 -> 0.99908727 | AG64: ='UMI2045'!$G66/1000 -> 125.98621 | AH64: =100*AG64/AG$8 -> 0.41590884 | AI64: ='HI2045'!$G66/1000 -> 73.770678 | AJ64: =100*AI64/AI$8 -> 0.50634371 | AK64: =World2060!$G66/1000 -> 679.94118 | AL64: =100*AK64/AK$8 -> 0.66771427 | AM64: ='LI2060'!$G66/1000 -> 66.327594 | AN64: =100*AM64/AM$8 -> 0.5466516 | AO64: ='LMI2060'!$G66/1000 -> 401.85108 | AP64: =100*AO64/AO$8 -> 1.0124977 | AQ64: ='UMI2060'!$G66/1000 -> 137.83027 | AR64: =100*AQ64/AQ$8 -> 0.39756707 | AS64: ='HI2060'!$G66/1000 -> 73.932242 | AT64: =100*AS64/AS$8 -> 0.48195062
A65: 63 | D65: 2. | E65: Oesophagus cancer | G65: =World2016!$G67/1000 -> 429.14473 | H65: =100*G65/G$8 -> 0.75456135 | I65: ='LI2016'!$G67/1000 -> 19.421793 | J65: =100*I65/I$8 -> 0.36248308 | K65: ='LMI2016'!$G67/1000 -> 85.006743 | L65: =100*K65/K$8 -> 0.38406696 | M65: ='UMI2016'!$G67/1000 -> 250.07428 | N65: =100*M65/M$8 -> 1.3088793 | O65: ='HI2016'!$G67/1000 -> 74.641913 | P65: =100*O65/O$8 -> 0.72636272 | Q65: =World2030!$G67/1000 -> 572.90195 | R65: =100*Q65/Q$8 -> 0.84102548 | S65: ='LI2030'!$G67/1000 -> 34.105034 | T65: =100*S65/S$8 -> 0.54910731 | U65: ='LMI2030'!$G67/1000 -> 122.93445 | V65: =100*U65/U$8 -> 0.4639017 | W65: ='UMI2030'!$G67/1000 -> 331.98872 | X65: =100*W65/W$8 -> 1.4177972 | Y65: ='HI2030'!$G67/1000 -> 83.873757 | Z65: =100*Y65/Y$8 -> 0.69938286 | AA65: =World2045!$G67/1000 -> 794.30561 | AB65: =100*AA65/AA$8 -> 0.92865804 | AC65: ='LI2045'!$G67/1000 -> 63.223171 | AD65: =100*AC65/AC$8 -> 0.76287263 | AE65: ='LMI2045'!$G67/1000 -> 175.96114 | AF65: =100*AE65/AE$8 -> 0.5433576 | AG65: ='UMI2045'!$G67/1000 -> 460.42724 | AH65: =100*AG65/AG$8 -> 1.519974 | AI65: ='HI2045'!$G67/1000 -> 94.694058 | AJ65: =100*AI65/AI$8 -> 0.64995663 | AK65: =World2060!$G67/1000 -> 977.2834 | AL65: =100*AK65/AK$8 -> 0.95970959 | AM65: ='LI2060'!$G67/1000 -> 115.71115 | AN65: =100*AM65/AM$8 -> 0.95365563 | AO65: ='LMI2060'!$G67/1000 -> 237.57498 | AP65: =100*AO65/AO$8 -> 0.59859019 | AQ65: ='UMI2060'!$G67/1000 -> 526.54449 | AR65: =100*AQ65/AQ$8 -> 1.518801 | AS65: ='HI2060'!$G67/1000 -> 97.452785 | AT65: =100*AS65/AS$8 -> 0.63527669
A66: 64 | D66: 3. | E66: Stomach cancer | G66: =World2016!$G68/1000 -> 760.17175 | H66: =100*G66/G$8 -> 1.3366032 | I66: ='LI2016'!$G68/1000 -> 17.596913 | J66: =100*I66/I$8 -> 0.32842402 | K66: ='LMI2016'!$G68/1000 -> 131.20692 | L66: =100*K66/K$8 -> 0.59280289 | M66: ='UMI2016'!$G68/1000 -> 458.94102 | N66: =100*M66/M$8 -> 2.40208 | O66: ='HI2016'!$G68/1000 -> 152.42689 | P66: =100*O66/O$8 -> 1.4833116 | Q66: =World2030!$G68/1000 -> 962.62306 | R66: =100*Q66/Q$8 -> 1.4131398 | S66: ='LI2030'!$G68/1000 -> 27.875708 | T66: =100*S66/S$8 -> 0.4488122 | U66: ='LMI2030'!$G68/1000 -> 175.57253 | V66: =100*U66/U$8 -> 0.66253517 | W66: ='UMI2030'!$G68/1000 -> 597.27746 | X66: =100*W66/W$8 -> 2.5507443 | Y66: ='HI2030'!$G68/1000 -> 161.89736 | Z66: =100*Y66/Y$8 -> 1.3499841 | AA66: =World2045!$G68/1000 -> 1317.0367 | AB66: =100*AA66/AA$8 -> 1.5398062 | AC66: ='LI2045'!$G68/1000 -> 48.136628 | AD66: =100*AC66/AC$8 -> 0.58083319 | AE66: ='LMI2045'!$G68/1000 -> 245.41132 | AF66: =100*AE66/AE$8 -> 0.75781565 | AG66: ='UMI2045'!$G68/1000 -> 830.18285 | AH66: =100*AG66/AG$8 -> 2.7406205 | AI66: ='HI2045'!$G68/1000 -> 193.30587 | AJ66: =100*AI66/AI$8 -> 1.3268038 | AK66: =World2060!$G68/1000 -> 1574.4211 | AL66: =100*AK66/AK$8 -> 1.5461093 | AM66: ='LI2060'!$G68/1000 -> 79.919188 | AN66: =100*AM66/AM$8 -> 0.65866932 | AO66: ='LMI2060'!$G68/1000 -> 320.74304 | AP66: =100*AO66/AO$8 -> 0.80813914 | AQ66: ='UMI2060'!$G68/1000 -> 966.71623 | AR66: =100*AQ66/AQ$8 -> 2.7884626 | AS66: ='HI2060'!$G68/1000 -> 207.0426 | AT66: =100*AS66/AS$8 -> 1.3496724
A67: 65 | D67: 4. | E67: Colon and rectum cancers | G67: =World2016!$G69/1000 -> 794.49533 | H67: =100*G67/G$8 -> 1.3969541 | I67: ='LI2016'!$G69/1000 -> 19.05081 | J67: =100*I67/I$8 -> 0.35555917 | K67: ='LMI2016'!$G69/1000 -> 138.72397 | L67: =100*K67/K$8 -> 0.62676549 | M67: ='UMI2016'!$G69/1000 -> 308.79522 | N67: =100*M67/M$8 -> 1.6162225 | O67: ='HI2016'!$G69/1000 -> 327.92533 | P67: =100*O67/O$8 -> 3.1911392 | Q67: =World2030!$G69/1000 -> 1059.0896 | R67: =100*Q67/Q$8 -> 1.5547535 | S67: ='LI2030'!$G69/1000 -> 31.987335 | T67: =100*S67/S$8 -> 0.51501135 | U67: ='LMI2030'!$G69/1000 -> 203.88908 | V67: =100*U67/U$8 -> 0.76938964 | W67: ='UMI2030'!$G69/1000 -> 441.18312 | X67: =100*W67/W$8 -> 1.8841249 | Y67: ='HI2030'!$G69/1000 -> 382.03005 | Z67: =100*Y67/Y$8 -> 3.1855646 | AA67: =World2045!$G69/1000 -> 1426.1721 | AB67: =100*AA67/AA$8 -> 1.6674013 | AC67: ='LI2045'!$G69/1000 -> 55.2792 | AD67: =100*AC67/AC$8 -> 0.66701793 | AE67: ='LMI2045'!$G69/1000 -> 285.90735 | AF67: =100*AE67/AE$8 -> 0.88286497 | AG67: ='UMI2045'!$G69/1000 -> 620.69299 | AH67: =100*AG67/AG$8 -> 2.0490473 | AI67: ='HI2045'!$G69/1000 -> 464.29261 | AJ67: =100*AI67/AI$8 -> 3.1867898 | AK67: =World2060!$G69/1000 -> 1705.7693 | AL67: =100*AK67/AK$8 -> 1.6750957 | AM67: ='LI2060'!$G69/1000 -> 90.513521 | AN67: =100*AM67/AM$8 -> 0.74598455 | AO67: ='LMI2060'!$G69/1000 -> 376.83912 | AP67: =100*AO67/AO$8 -> 0.94947795 | AQ67: ='UMI2060'!$G69/1000 -> 741.29323 | AR67: =100*AQ67/AQ$8 -> 2.138237 | AS67: ='HI2060'!$G69/1000 -> 497.12347 | AT67: =100*AS67/AS$8 -> 3.240656
A68: 66 | D68: 5. | E68: Liver cancer | G68: =World2016!$G70/1000 -> 829.5995 | H68: =100*G68/G$8 -> 1.4586774 | I68: ='LI2016'!$G70/1000 -> 25.336532 | J68: =100*I68/I$8 -> 0.47287418 | K68: ='LMI2016'!$G70/1000 -> 158.14451 | L68: =100*K68/K$8 -> 0.71450896 | M68: ='UMI2016'!$G70/1000 -> 503.24606 | N68: =100*M68/M$8 -> 2.6339709 | O68: ='HI2016'!$G70/1000 -> 142.8724 | P68: =100*O68/O$8 -> 1.3903339 | Q68: =World2030!$G70/1000 -> 1111.7884 | R68: =100*Q68/Q$8 -> 1.6321159 | S68: ='LI2030'!$G70/1000 -> 41.595762 | T68: =100*S68/S$8 -> 0.66971161 | U68: ='LMI2030'!$G70/1000 -> 237.19353 | V68: =100*U68/U$8 -> 0.89506631 | W68: ='UMI2030'!$G70/1000 -> 659.6827 | X68: =100*W68/W$8 -> 2.8172533 | Y68: ='HI2030'!$G70/1000 -> 173.3164 | Z68: =100*Y68/Y$8 -> 1.4452019 | AA68: =World2045!$G70/1000 -> 1441.4463 | AB68: =100*AA68/AA$8 -> 1.685259 | AC68: ='LI2045'!$G70/1000 -> 69.793949 | AD68: =100*AC68/AC$8 -> 0.84215791 | AE68: ='LMI2045'!$G70/1000 -> 339.08847 | AF68: =100*AE68/AE$8 -> 1.0470851 | AG68: ='UMI2045'!$G70/1000 -> 833.37274 | AH68: =100*AG68/AG$8 -> 2.7511511 | AI68: ='HI2045'!$G70/1000 -> 199.19109 | AJ68: =100*AI68/AI$8 -> 1.3671984 | AK68: =World2060!$G70/1000 -> 1660.8047 | AL68: =100*AK68/AK$8 -> 1.6309396 | AM68: ='LI2060'!$G70/1000 -> 111.60889 | AN68: =100*AM68/AM$8 -> 0.91984604 | AO68: ='LMI2060'!$G70/1000 -> 446.60838 | AP68: =100*AO68/AO$8 -> 1.1252675 | AQ68: ='UMI2060'!$G70/1000 -> 895.29383 | AR68: =100*AQ68/AQ$8 -> 2.5824469 | AS68: ='HI2060'!$G70/1000 -> 207.29357 | AT68: =100*AS68/AS$8 -> 1.3513085
A69: 67 | D69: 6. | E69: Pancreas cancer | G69: =World2016!$G71/1000 -> 371.81388 | H69: =100*G69/G$8 -> 0.65375703 | I69: ='LI2016'!$G71/1000 -> 5.8768187 | J69: =100*I69/I$8 -> 0.10968336 | K69: ='LMI2016'!$G71/1000 -> 44.110575 | L69: =100*K69/K$8 -> 0.19929495 | M69: ='UMI2016'!$G71/1000 -> 138.43624 | N69: =100*M69/M$8 -> 0.72457005 | O69: ='HI2016'!$G71/1000 -> 183.39025 | P69: =100*O69/O$8 -> 1.7846252 | Q69: =World2030!$G71/1000 -> 503.9531 | R69: =100*Q69/Q$8 -> 0.73980791 | S69: ='LI2030'!$G71/1000 -> 9.8842348 | T69: =100*S69/S$8 -> 0.15914089 | U69: ='LMI2030'!$G71/1000 -> 66.904555 | V69: =100*U69/U$8 -> 0.252469 | W69: ='UMI2030'!$G71/1000 -> 196.49717 | X69: =100*W69/W$8 -> 0.83916448 | Y69: ='HI2030'!$G71/1000 -> 230.66714 | Z69: =100*Y69/Y$8 -> 1.9234222 | AA69: =World2045!$G71/1000 -> 641.07687 | AB69: =100*AA69/AA$8 -> 0.7495115 | AC69: ='LI2045'!$G71/1000 -> 16.950483 | AD69: =100*AC69/AC$8 -> 0.20453039 | AE69: ='LMI2045'!$G71/1000 -> 95.163848 | AF69: =100*AE69/AE$8 -> 0.29386033 | AG69: ='UMI2045'!$G71/1000 -> 262.89741 | AH69: =100*AG69/AG$8 -> 0.86788356 | AI69: ='HI2045'!$G71/1000 -> 266.06513 | AJ69: =100*AI69/AI$8 -> 1.8262053 | AK69: =World2060!$G71/1000 -> 733.36659 | AL69: =100*AK69/AK$8 -> 0.72017896 | AM69: ='LI2060'!$G71/1000 -> 27.939218 | AN69: =100*AM69/AM$8 -> 0.23026643 | AO69: ='LMI2060'!$G71/1000 -> 127.13873 | AP69: =100*AO69/AO$8 -> 0.32033675 | AQ69: ='UMI2060'!$G71/1000 -> 303.9539 | AR69: =100*AQ69/AQ$8 -> 0.87674547 | AS69: ='HI2060'!$G71/1000 -> 274.33474 | AT69: =100*AS69/AS$8 -> 1.7883375
A70: 68 | D70: 7. | E70: Trachea, bronchus, lung cancers | G70: =World2016!$G72/1000 -> 1707.74 | H70: =100*G70/G$8 -> 3.002704 | I70: ='LI2016'!$G72/1000 -> 23.811578 | J70: =100*I70/I$8 -> 0.44441286 | K70: ='LMI2016'!$G72/1000 -> 229.67731 | L70: =100*K70/K$8 -> 1.0376996 | M70: ='UMI2016'!$G72/1000 -> 874.24836 | N70: =100*M70/M$8 -> 4.5757829 | O70: ='HI2016'!$G72/1000 -> 580.00273 | P70: =100*O70/O$8 -> 5.6441795 | Q70: =World2030!$G72/1000 -> 2018.5213 | R70: =100*Q70/Q$8 -> 2.9632083 | S70: ='LI2030'!$G72/1000 -> 33.574493 | T70: =100*S70/S$8 -> 0.54056535 | U70: ='LMI2030'!$G72/1000 -> 325.26045 | V70: =100*U70/U$8 -> 1.227393 | W70: ='UMI2030'!$G72/1000 -> 1075.7604 | X70: =100*W70/W$8 -> 4.5941625 | Y70: ='HI2030'!$G72/1000 -> 583.92594 | Z70: =100*Y70/Y$8 -> 4.8690772 | AA70: =World2045!$G72/1000 -> 2340.373 | AB70: =100*AA70/AA$8 -> 2.7362343 | AC70: ='LI2045'!$G72/1000 -> 45.737719 | AD70: =100*AC70/AC$8 -> 0.55188713 | AE70: ='LMI2045'!$G72/1000 -> 435.00118 | AF70: =100*AE70/AE$8 -> 1.3432579 | AG70: ='UMI2045'!$G72/1000 -> 1282.2326 | AH70: =100*AG70/AG$8 -> 4.2329386 | AI70: ='HI2045'!$G72/1000 -> 577.40151 | AJ70: =100*AI70/AI$8 -> 3.9631414 | AK70: =World2060!$G72/1000 -> 2448.8056 | AL70: =100*AK70/AK$8 -> 2.4047704 | AM70: ='LI2060'!$G72/1000 -> 63.908329 | AN70: =100*AM70/AM$8 -> 0.52671276 | AO70: ='LMI2060'!$G72/1000 -> 548.70313 | AP70: =100*AO70/AO$8 -> 1.3825038 | AQ70: ='UMI2060'!$G72/1000 -> 1310.6324 | AR70: =100*AQ70/AQ$8 -> 3.780478 | AS70: ='HI2060'!$G72/1000 -> 525.56173 | AT70: =100*AS70/AS$8 -> 3.4260398
A71: 69 | D71: 8. | E71: Melanoma and other skin cancers | G71: =World2016!$G73/1000 -> 113.08002 | H71: =100*G71/G$8 -> 0.19882759 | I71: ='LI2016'!$G73/1000 -> 3.641928 | J71: =100*I71/I$8 -> 0.06797196 | K71: ='LMI2016'!$G73/1000 -> 14.242905 | L71: =100*K71/K$8 -> 0.064350532 | M71: ='UMI2016'!$G73/1000 -> 45.925191 | N71: =100*M71/M$8 -> 0.24037072 | O71: ='HI2016'!$G73/1000 -> 49.269993 | P71: =100*O71/O$8 -> 0.479461 | Q71: =World2030!$G73/1000 -> 155.20976 | R71: =100*Q71/Q$8 -> 0.22784939 | S71: ='LI2030'!$G73/1000 -> 6.0248593 | T71: =100*S71/S$8 -> 0.097003108 | U71: ='LMI2030'!$G73/1000 -> 20.229385 | V71: =100*U71/U$8 -> 0.076336993 | W71: ='UMI2030'!$G73/1000 -> 63.511778 | X71: =100*W71/W$8 -> 0.27123458 | Y71: ='HI2030'!$G73/1000 -> 65.443736 | Z71: =100*Y71/Y$8 -> 0.5457038 | AA71: =World2045!$G73/1000 -> 214.16462 | AB71: =100*AA71/AA$8 -> 0.25038939 | AC71: ='LI2045'!$G73/1000 -> 11.02488 | AD71: =100*AC71/AC$8 -> 0.13303001 | AE71: ='LMI2045'!$G73/1000 -> 29.981201 | AF71: =100*AE71/AE$8 -> 0.092580175 | AG71: ='UMI2045'!$G73/1000 -> 90.889327 | AH71: =100*AG71/AG$8 -> 0.30004613 | AI71: ='HI2045'!$G73/1000 -> 82.269214 | AJ71: =100*AI71/AI$8 -> 0.56467557 | AK71: =World2060!$G73/1000 -> 268.13303 | AL71: =100*AK71/AK$8 -> 0.26331138 | AM71: ='LI2060'!$G73/1000 -> 19.979268 | AN71: =100*AM71/AM$8 -> 0.16466297 | AO71: ='LMI2060'!$G73/1000 -> 42.221444 | AP71: =100*AO71/AO$8 -> 0.10638049 | AQ71: ='UMI2060'!$G73/1000 -> 115.86803 | AR71: =100*AQ71/AQ$8 -> 0.33421768 | AS71: ='HI2060'!$G73/1000 -> 90.064292 | AT71: =100*AS71/AS$8 -> 0.58711247
A72: 70 | D72: 9. | E72: Breast cancer | G72: =World2016!$G74/1000 -> 586.01234 | H72: =100*G72/G$8 -> 1.0303803 | I72: ='LI2016'!$G74/1000 -> 30.607644 | J72: =100*I72/I$8 -> 0.57125279 | K72: ='LMI2016'!$G74/1000 -> 200.51635 | L72: =100*K72/K$8 -> 0.90594817 | M72: ='UMI2016'!$G74/1000 -> 167.38788 | N72: =100*M72/M$8 -> 0.87610185 | O72: ='HI2016'!$G74/1000 -> 187.50047 | P72: =100*O72/O$8 -> 1.824623 | Q72: =World2030!$G74/1000 -> 807.24416 | R72: =100*Q72/Q$8 -> 1.185042 | S72: ='LI2030'!$G74/1000 -> 57.52599 | T72: =100*S72/S$8 -> 0.92619587 | U72: ='LMI2030'!$G74/1000 -> 314.24855 | V72: =100*U72/U$8 -> 1.1858388 | W72: ='UMI2030'!$G74/1000 -> 220.6553 | X72: =100*W72/W$8 -> 0.94233465 | Y72: ='HI2030'!$G74/1000 -> 214.81431 | Z72: =100*Y72/Y$8 -> 1.7912331 | AA72: =World2045!$G74/1000 -> 1136.0211 | AB72: =100*AA72/AA$8 -> 1.3281728 | AC72: ='LI2045'!$G74/1000 -> 120.78972 | AD72: =100*AC72/AC$8 -> 1.4574905 | AE72: ='LMI2045'!$G74/1000 -> 473.39259 | AF72: =100*AE72/AE$8 -> 1.4618083 | AG72: ='UMI2045'!$G74/1000 -> 286.53817 | AH72: =100*AG72/AG$8 -> 0.94592702 | AI72: ='HI2045'!$G74/1000 -> 255.30062 | AJ72: =100*AI72/AI$8 -> 1.7523204 | AK72: =World2060!$G74/1000 -> 1480.0492 | AL72: =100*AK72/AK$8 -> 1.4534345 | AM72: ='LI2060'!$G74/1000 -> 227.94496 | AN72: =100*AM72/AM$8 -> 1.8786522 | AO72: ='LMI2060'!$G74/1000 -> 642.51841 | AP72: =100*AO72/AO$8 -> 1.6188793 | AQ72: ='UMI2060'!$G74/1000 -> 338.92042 | AR72: =100*AQ72/AQ$8 -> 0.97760529 | AS72: ='HI2060'!$G74/1000 -> 270.66541 | AT72: =100*AS72/AS$8 -> 1.7644178
A73: 71 | D73: 10. | E73: Cervix uteri cancer | G73: =World2016!$G75/1000 -> 283.4393 | H73: =100*G73/G$8 -> 0.49836879 | I73: ='LI2016'!$G75/1000 -> 40.019981 | J73: =100*I73/I$8 -> 0.74692211 | K73: ='LMI2016'!$G75/1000 -> 131.63931 | L73: =100*K73/K$8 -> 0.59475644 | M73: ='UMI2016'!$G75/1000 -> 81.814696 | N73: =100*M73/M$8 -> 0.42821503 | O73: ='HI2016'!$G75/1000 -> 29.965316 | P73: =100*O73/O$8 -> 0.29160143 | Q73: =World2030!$G75/1000 -> 366.1865 | R73: =100*Q73/Q$8 -> 0.53756525 | S73: ='LI2030'!$G75/1000 -> 64.364602 | T73: =100*S73/S$8 -> 1.0363008 | U73: ='LMI2030'!$G75/1000 -> 173.75977 | V73: =100*U73/U$8 -> 0.6556946 | W73: ='UMI2030'!$G75/1000 -> 95.28889 | X73: =100*W73/W$8 -> 0.40694251 | Y73: ='HI2030'!$G75/1000 -> 32.773239 | Z73: =100*Y73/Y$8 -> 0.27328025 | AA73: =World2045!$G75/1000 -> 491.3313 | AB73: =100*AA73/AA$8 -> 0.57443729 | AC73: ='LI2045'!$G75/1000 -> 111.1833 | AD73: =100*AC73/AC$8 -> 1.3415761 | AE73: ='LMI2045'!$G75/1000 -> 231.10248 | AF73: =100*AE73/AE$8 -> 0.71363077 | AG73: ='UMI2045'!$G75/1000 -> 113.03586 | AH73: =100*AG73/AG$8 -> 0.37315682 | AI73: ='HI2045'!$G75/1000 -> 36.009666 | AJ73: =100*AI73/AI$8 -> 0.24716145 | AK73: =World2060!$G75/1000 -> 633.96085 | AL73: =100*AK73/AK$8 -> 0.62256077 | AM73: ='LI2060'!$G75/1000 -> 184.64188 | AN73: =100*AM73/AM$8 -> 1.5217614 | AO73: ='LMI2060'!$G75/1000 -> 289.19164 | AP73: =100*AO73/AO$8 -> 0.72864272 | AQ73: ='UMI2060'!$G75/1000 -> 123.24085 | AR73: =100*AQ73/AQ$8 -> 0.35548435 | AS73: ='HI2060'!$G75/1000 -> 36.88649 | AT73: =100*AS73/AS$8 -> 0.24045621
A74: 72 | D74: 11. | E74: Corpus uteri cancer | G74: =World2016!$G76/1000 -> 84.161463 | H74: =100*G74/G$8 -> 0.14798035 | I74: ='LI2016'!$G76/1000 -> 2.5409463 | J74: =100*I74/I$8 -> 0.047423535 | K74: ='LMI2016'!$G76/1000 -> 17.064599 | L74: =100*K74/K$8 -> 0.07709916 | M74: ='UMI2016'!$G76/1000 -> 31.976417 | N74: =100*M74/M$8 -> 0.16736336 | O74: ='HI2016'!$G76/1000 -> 32.579501 | P74: =100*O74/O$8 -> 0.31704084 | Q74: =World2030!$G76/1000 -> 102.643 | R74: =100*Q74/Q$8 -> 0.15068089 | S74: ='LI2030'!$G76/1000 -> 4.0754403 | T74: =100*S74/S$8 -> 0.065616533 | U74: ='LMI2030'!$G76/1000 -> 23.287023 | V74: =100*U74/U$8 -> 0.087875202 | W74: ='UMI2030'!$G76/1000 -> 36.956902 | X74: =100*W74/W$8 -> 0.15782884 | Y74: ='HI2030'!$G76/1000 -> 38.32363 | Z74: =100*Y74/Y$8 -> 0.31956229 | AA74: =World2045!$G76/1000 -> 126.12681 | AB74: =100*AA74/AA$8 -> 0.14746047 | AC74: ='LI2045'!$G76/1000 -> 7.2948393 | AD74: =100*AC74/AC$8 -> 0.088022052 | AE74: ='LMI2045'!$G76/1000 -> 33.163054 | AF74: =100*AE74/AE$8 -> 0.10240555 | AG74: ='UMI2045'!$G76/1000 -> 43.519366 | AH74: =100*AG74/AG$8 -> 0.14366723 | AI74: ='HI2045'!$G76/1000 -> 42.149552 | AJ74: =100*AI74/AI$8 -> 0.28930411 | AK74: =World2060!$G76/1000 -> 146.76796 | AL74: =100*AK74/AK$8 -> 0.14412873 | AM74: ='LI2060'!$G76/1000 -> 13.065405 | AN74: =100*AM74/AM$8 -> 0.10768104 | AO74: ='LMI2060'!$G76/1000 -> 44.218231 | AP74: =100*AO74/AO$8 -> 0.11141156 | AQ74: ='UMI2060'!$G76/1000 -> 46.456113 | AR74: =100*AQ74/AQ$8 -> 0.1340012 | AS74: ='HI2060'!$G76/1000 -> 43.028212 | AT74: =100*AS74/AS$8 -> 0.28049296
A75: 73 | D75: 12. | E75: Ovary cancer | G75: =World2016!$G77/1000 -> 164.56809 | H75: =100*G75/G$8 -> 0.2893586 | I75: ='LI2016'!$G77/1000 -> 8.4131666 | J75: =100*I75/I$8 -> 0.15702107 | K75: ='LMI2016'!$G77/1000 -> 52.055898 | L75: =100*K75/K$8 -> 0.23519253 | M75: ='UMI2016'!$G77/1000 -> 48.063988 | N75: =100*M75/M$8 -> 0.2515651 | O75: ='HI2016'!$G77/1000 -> 56.035036 | P75: =100*O75/O$8 -> 0.54529365 | Q75: =World2030!$G77/1000 -> 213.03284 | R75: =100*Q75/Q$8 -> 0.31273422 | S75: ='LI2030'!$G77/1000 -> 13.958566 | T75: =100*S75/S$8 -> 0.22473957 | U75: ='LMI2030'!$G77/1000 -> 75.690105 | V75: =100*U75/U$8 -> 0.28562188 | W75: ='UMI2030'!$G77/1000 -> 61.222227 | X75: =100*W75/W$8 -> 0.26145679 | Y75: ='HI2030'!$G77/1000 -> 62.161944 | Z75: =100*Y75/Y$8 -> 0.51833851 | AA75: =World2045!$G77/1000 -> 262.68297 | AB75: =100*AA75/AA$8 -> 0.30711435 | AC75: ='LI2045'!$G77/1000 -> 23.606735 | AD75: =100*AC75/AC$8 -> 0.28484703 | AE75: ='LMI2045'!$G77/1000 -> 98.932314 | AF75: =100*AE75/AE$8 -> 0.30549713 | AG75: ='UMI2045'!$G77/1000 -> 72.054919 | AH75: =100*AG75/AG$8 -> 0.23786951 | AI75: ='HI2045'!$G77/1000 -> 68.089 | AJ75: =100*AI75/AI$8 -> 0.46734608 | AK75: =World2060!$G77/1000 -> 303.32922 | AL75: =100*AK75/AK$8 -> 0.29787466 | AM75: ='LI2060'!$G77/1000 -> 37.673709 | AN75: =100*AM75/AM$8 -> 0.3104951 | AO75: ='LMI2060'!$G77/1000 -> 119.86349 | AP75: =100*AO75/AO$8 -> 0.30200617 | AQ75: ='UMI2060'!$G77/1000 -> 77.577247 | AR75: =100*AQ75/AQ$8 -> 0.22376913 | AS75: ='HI2060'!$G77/1000 -> 68.214772 | AT75: =100*AS75/AS$8 -> 0.44467949
... A79: 77 | D79: 16. | E79: Leukaemia | G79: =World2016!$G81/1000 -> 292.34153 | H79: =100*G79/G$8 -> 0.5140215 | I79: ='LI2016'!$G81/1000 -> 12.659453 | J79: =100*I79/I$8 -> 0.23627261 | K79: ='LMI2016'!$G81/1000 -> 73.822482 | L79: =100*K79/K$8 -> 0.33353561 | M79: ='UMI2016'!$G81/1000 -> 109.53602 | N79: =100*M79/M$8 -> 0.57330737 | O79: ='HI2016'!$G81/1000 -> 96.323575 | P79: =100*O79/O$8 -> 0.93735344 | Q79: =World2030!$G81/1000 -> 356.87825 | R79: =100*Q79/Q$8 -> 0.52390064 | S79: ='LI2030'!$G81/1000 -> 19.613086 | T79: =100*S79/S$8 -> 0.31578004 | U79: ='LMI2030'!$G81/1000 -> 93.17782 | V79: =100*U79/U$8 -> 0.35161299 | W79: ='UMI2030'!$G81/1000 -> 126.95499 | X79: =100*W79/W$8 -> 0.54217635 | Y79: ='HI2030'!$G81/1000 -> 117.13235 | Z79: =100*Y79/Y$8 -> 0.97671027 | AA79: =World2045!$G81/1000 -> 443.43741 | AB79: =100*AA79/AA$8 -> 0.51844241 | AC79: ='LI2045'!$G81/1000 -> 31.071719 | AD79: =100*AC79/AC$8 -> 0.37492209 | AE79: ='LMI2045'!$G81/1000 -> 115.96857 | AF79: =100*AE79/AE$8 -> 0.35810408 | AG79: ='UMI2045'!$G81/1000 -> 152.36148 | AH79: =100*AG79/AG$8 -> 0.50297956 | AI79: ='HI2045'!$G81/1000 -> 144.03564 | AJ79: =100*AI79/AI$8 -> 0.98862508 | AK79: =World2060!$G81/1000 -> 511.90912 | AL79: =100*AK79/AK$8 -> 0.50270381 | AM79: ='LI2060'!$G81/1000 -> 47.192812 | AN79: =100*AM79/AM$8 -> 0.38894861 | AO79: ='LMI2060'!$G81/1000 -> 139.75901 | AP79: =100*AO79/AO$8 -> 0.35213461 | AQ79: ='UMI2060'!$G81/1000 -> 171.39279 | AR79: =100*AQ79/AQ$8 -> 0.49437712 | AS79: ='HI2060'!$G81/1000 -> 153.56451 | AT79: =100*AS79/AS$8 -> 1.0010587
A80: 78 | E80: Other malignant neoplasms | G80: =World2016!$G82/1000 -> 1315.2994 | H80: =100*G80/G$8 -> 2.3126792 | I80: ='LI2016'!$G82/1000 -> 99.332089 | J80: =100*I80/I$8 -> 1.8539072 | K80: ='LMI2016'!$G82/1000 -> 384.44374 | L80: =100*K80/K$8 -> 1.7369462 | M80: ='UMI2016'!$G82/1000 -> 483.25805 | N80: =100*M80/M$8 -> 2.5293544 | O80: ='HI2016'!$G82/1000 -> 348.2655 | P80: =100*O80/O$8 -> 3.3890755 | Q80: =World2030!$G82/1000 -> 1769.6713 | R80: =100*Q80/Q$8 -> 2.5978941 | S80: ='LI2030'!$G82/1000 -> 166.66946 | T80: =100*S80/S$8 -> 2.6834579 | U80: ='LMI2030'!$G82/1000 -> 552.29957 | V80: =100*U80/U$8 -> 2.0841409 | W80: ='UMI2030'!$G82/1000 -> 644.75481 | X80: =100*W80/W$8 -> 2.7535019 | Y80: ='HI2030'!$G82/1000 -> 405.94742 | Z80: =100*Y80/Y$8 -> 3.385 | AA80: =World2045!$G82/1000 -> 2380.6572 | AB80: =100*AA80/AA$8 -> 2.7833322 | AC80: ='LI2045'!$G82/1000 -> 283.90934 | AD80: =100*AC80/AC$8 -> 3.4257482 | AE80: ='LMI2045'!$G82/1000 -> 765.23709 | AF80: =100*AE80/AE$8 -> 2.3630069 | AG80: ='UMI2045'!$G82/1000 -> 855.45818 | AH80: =100*AG80/AG$8 -> 2.8240601 | AI80: ='HI2045'!$G82/1000 -> 476.05255 | AJ80: =100*AI80/AI$8 -> 3.2675072 | AK80: =World2060!$G82/1000 -> 2965.8981 | AL80: =100*AK80/AK$8 -> 2.9125644 | AM80: ='LI2060'!$G82/1000 -> 463.60354 | AN80: =100*AM80/AM$8 -> 3.8208775 | AO80: ='LMI2060'!$G82/1000 -> 1002.3324 | AP80: =100*AO80/AO$8 -> 2.5254609 | AQ80: ='UMI2060'!$G82/1000 -> 998.04772 | AR80: =100*AQ80/AQ$8 -> 2.8788372 | AS80: ='HI2060'!$G82/1000 -> 501.91444 | AT80: =100*AS80/AS$8 -> 3.2718874
A81: 79 | C81: B. | D81: Other neoplasms | G81: =World2016!$G83/1000 -> 215.19358 | H81: =100*G81/G$8 -> 0.37837295 | I81: ='LI2016'!$G83/1000 -> 11.410151 | J81: =100*I81/I$8 -> 0.21295597 | K81: ='LMI2016'!$G83/1000 -> 43.378742 | L81: =100*K81/K$8 -> 0.19598847 | M81: ='UMI2016'!$G83/1000 -> 74.880755 | N81: =100*M81/M$8 -> 0.39192304 | O81: ='HI2016'!$G83/1000 -> 85.52393 | P81: =100*O81/O$8 -> 0.83225887 | Q81: =World2030!$G83/1000 -> 290.80247 | R81: =100*Q81/Q$8 -> 0.42690077 | S81: ='LI2030'!$G83/1000 -> 16.631061 | T81: =100*S81/S$8 -> 0.26776802 | U81: ='LMI2030'!$G83/1000 -> 56.318125 | V81: =100*U81/U$8 -> 0.21252037 | W81: ='UMI2030'!$G83/1000 -> 103.61126 | X81: =100*W81/W$8 -> 0.44248418 | Y81: ='HI2030'!$G83/1000 -> 114.24202 | Z81: =100*Y81/Y$8 -> 0.95260921 | AA81: =World2045!$G83/1000 -> 402.02288 | AB81: =100*AA81/AA$8 -> 0.47002283 | AC81: ='LI2045'!$G83/1000 -> 28.837092 | AD81: =100*AC81/AC$8 -> 0.34795832 | AE81: ='LMI2045'!$G83/1000 -> 80.989139 | AF81: =100*AE81/AE$8 -> 0.25008967 | AG81: ='UMI2045'!$G83/1000 -> 142.47312 | AH81: =100*AG81/AG$8 -> 0.47033586 | AI81: ='HI2045'!$G83/1000 -> 149.72352 | AJ81: =100*AI81/AI$8 -> 1.0276653 | AK81: =World2060!$G83/1000 -> 504.44505 | AL81: =100*AK81/AK$8 -> 0.49537396 | AM81: ='LI2060'!$G83/1000 -> 48.042873 | AN81: =100*AM81/AM$8 -> 0.39595455 | AO81: ='LMI2060'!$G83/1000 -> 112.34922 | AP81: =100*AO81/AO$8 -> 0.28307333 | AQ81: ='UMI2060'!$G83/1000 -> 175.7505 | AR81: =100*AQ81/AQ$8 -> 0.50694678 | AS81: ='HI2060'!$G83/1000 -> 168.30247 | AT81: =100*AS81/AS$8 -> 1.0971327
A82: 80 | C82: C. | D82: Diabetes mellitus | G82: =World2016!$G84/1000 -> 1598.526 | H82: =100*G82/G$8 -> 2.810674 | I82: ='LI2016'!$G84/1000 -> 88.789446 | J82: =100*I82/I$8 -> 1.6571422 | K82: ='LMI2016'!$G84/1000 -> 691.29901 | L82: =100*K82/K$8 -> 3.1233418 | M82: ='UMI2016'!$G84/1000 -> 546.49054 | N82: =100*M82/M$8 -> 2.8603108 | O82: ='HI2016'!$G84/1000 -> 271.94697 | P82: =100*O82/O$8 -> 2.6463971 | Q82: =World2030!$G84/1000 -> 2412.6356 | R82: =100*Q82/Q$8 -> 3.5417718 | S82: ='LI2030'!$G84/1000 -> 143.01741 | T82: =100*S82/S$8 -> 2.3026485 | U82: ='LMI2030'!$G84/1000 -> 1088.4542 | V82: =100*U82/U$8 -> 4.1073579 | W82: ='UMI2030'!$G84/1000 -> 840.27674 | X82: =100*W82/W$8 -> 3.5885015 | Y82: ='HI2030'!$G84/1000 -> 340.88717 | Z82: =100*Y82/Y$8 -> 2.8424939 | AA82: =World2045!$G84/1000 -> 3663.4593 | AB82: =100*AA82/AA$8 -> 4.2831133 | AC82: ='LI2045'!$G84/1000 -> 243.58192 | AD82: =100*AC82/AC$8 -> 2.9391437 | AE82: ='LMI2045'!$G84/1000 -> 1666.5663 | AF82: =100*AE82/AE$8 -> 5.1462582 | AG82: ='UMI2045'!$G84/1000 -> 1288.439 | AH82: =100*AG82/AG$8 -> 4.2534272 | AI82: ='HI2045'!$G84/1000 -> 464.87202 | AJ82: =100*AI82/AI$8 -> 3.1907668 | AK82: =World2060!$G84/1000 -> 5128.5589 | AL82: =100*AK82/AK$8 -> 5.0363355 | AM82: ='LI2060'!$G84/1000 -> 433.12205 | AN82: =100*AM82/AM$8 -> 3.5696584 | AO82: ='LMI2060'!$G84/1000 -> 2466.4893 | AP82: =100*AO82/AO$8 -> 6.2145278 | AQ82: ='UMI2060'!$G84/1000 -> 1686.6724 | AR82: =100*AQ82/AQ$8 -> 4.8651535 | AS82: ='HI2060'!$G84/1000 -> 542.2751 | AT82: =100*AS82/AS$8 -> 3.5349911
A83: 81 | C83: D. | D83: Endocrine, blood, immune disorders | G83: =World2016!$G85/1000 -> 362.04862 | H83: =100*G83/G$8 -> 0.63658686 | I83: ='LI2016'!$G85/1000 -> 45.271059 | J83: =100*I83/I$8 -> 0.84492681 | K83: ='LMI2016'!$G85/1000 -> 120.81037 | L83: =100*K83/K$8 -> 0.54583047 | M83: ='UMI2016'!$G85/1000 -> 83.722544 | N83: =100*M83/M$8 -> 0.43820063 | O83: ='HI2016'!$G85/1000 -> 112.24465 | P83: =100*O83/O$8 -> 1.0922862 | Q83: =World2030!$G85/1000 -> 469.71417 | R83: =100*Q83/Q$8 -> 0.68954484 | S83: ='LI2030'!$G85/1000 -> 59.363927 | T83: =100*S83/S$8 -> 0.95578754 | U83: ='LMI2030'!$G85/1000 -> 157.52723 | V83: =100*U83/U$8 -> 0.59443999 | W83: ='UMI2030'!$G85/1000 -> 109.96497 | X83: =100*W83/W$8 -> 0.46961846 | Y83: ='HI2030'!$G85/1000 -> 142.85804 | Z83: =100*Y83/Y$8 -> 1.1912244 | AA83: =World2045!$G85/1000 -> 605.0384 | AB83: =100*AA83/AA$8 -> 0.70737732 | AC83: ='LI2045'!$G85/1000 -> 77.097204 | AD83: =100*AC83/AC$8 -> 0.93028151 | AE83: ='LMI2045'!$G85/1000 -> 203.88339 | AF83: =100*AE83/AE$8 -> 0.62957984 | AG83: ='UMI2045'!$G85/1000 -> 148.12377 | AH83: =100*AG83/AG$8 -> 0.48898993 | AI83: ='HI2045'!$G85/1000 -> 175.93404 | AJ83: =100*AI83/AI$8 -> 1.2075678 | AK83: =World2060!$G85/1000 -> 728.60901 | AL83: =100*AK83/AK$8 -> 0.71550693 | AM83: ='LI2060'!$G85/1000 -> 96.46074 | AN83: =100*AM83/AM$8 -> 0.79499969 | AO83: ='LMI2060'!$G85/1000 -> 256.25587 | AP83: =100*AO83/AO$8 -> 0.64565827 | AQ83: ='UMI2060'!$G85/1000 -> 184.75838 | AR83: =100*AQ83/AQ$8 -> 0.53292973 | AS83: ='HI2060'!$G85/1000 -> 191.13402 | AT83: =100*AS83/AS$8 -> 1.2459674
A84: 82 | C84: E. | D84: Mental and behavioral disorders | G84: =World2016!$G86/1000 -> 315.39721 | H84: =100*G84/G$8 -> 0.55456011 | I84: ='LI2016'!$G86/1000 -> 11.297148 | J84: =100*I84/I$8 -> 0.21084691 | K84: ='LMI2016'!$G86/1000 -> 79.085437 | L84: =100*K84/K$8 -> 0.35731405 | M84: ='UMI2016'!$G86/1000 -> 130.80127 | N84: =100*M84/M$8 -> 0.6846089 | O84: ='HI2016'!$G86/1000 -> 94.213361 | P84: =100*O84/O$8 -> 0.91681832 | Q84: =World2030!$G86/1000 -> 347.68078 | R84: =100*Q84/Q$8 -> 0.51039867 | S84: ='LI2030'!$G86/1000 -> 16.091271 | T84: =100*S84/S$8 -> 0.25907713 | U84: ='LMI2030'!$G86/1000 -> 94.210699 | V84: =100*U84/U$8 -> 0.35551064 | W84: ='UMI2030'!$G86/1000 -> 138.63799 | X84: =100*W84/W$8 -> 0.59207001 | Y84: ='HI2030'!$G86/1000 -> 98.740816 | Z84: =100*Y84/Y$8 -> 0.8233521 | AA84: =World2045!$G86/1000 -> 368.30784 | AB84: =100*AA84/AA$8 -> 0.43060509 | AC84: ='LI2045'!$G86/1000 -> 22.405598 | AD84: =100*AC84/AC$8 -> 0.27035369 | AE84: ='LMI2045'!$G86/1000 -> 106.22549 | AF84: =100*AE84/AE$8 -> 0.32801802 | AG84: ='UMI2045'!$G86/1000 -> 145.10913 | AH84: =100*AG84/AG$8 -> 0.47903792 | AI84: ='HI2045'!$G86/1000 -> 94.567624 | AJ84: =100*AI84/AI$8 -> 0.64908882 | AK84: =World2060!$G86/1000 -> 376.97775 | AL84: =100*AK84/AK$8 -> 0.37019882 | AM84: ='LI2060'!$G86/1000 -> 29.563262 | AN84: =100*AM84/AM$8 -> 0.2436513 | AO84: ='LMI2060'!$G86/1000 -> 117.43664 | AP84: =100*AO84/AO$8 -> 0.29589153 | AQ84: ='UMI2060'!$G86/1000 -> 141.91591 | AR84: =100*AQ84/AQ$8 -> 0.40935199 | AS84: ='HI2060'!$G86/1000 -> 88.061936 | AT84: =100*AS84/AS$8 -> 0.57405948
A85: 83 | D85: 1. | E85: Unipolar depressive disorders | G85: =World2016!$G87/1000 -> 0 | H85: =100*G85/G$8 -> 0 | I85: ='LI2016'!$G87/1000 -> 0 | J85: =100*I85/I$8 -> 0 | K85: ='LMI2016'!$G87/1000 -> 0 | L85: =100*K85/K$8 -> 0 | M85: ='UMI2016'!$G87/1000 -> 0 | N85: =100*M85/M$8 -> 0 | O85: ='HI2016'!$G87/1000 -> 0 | P85: =100*O85/O$8 -> 0 | Q85: =World2030!$G87/1000 -> 0 | R85: =100*Q85/Q$8 -> 0 | S85: ='LI2030'!$G87/1000 -> 0 | T85: =100*S85/S$8 -> 0 | U85: ='LMI2030'!$G87/1000 -> 0 | V85: =100*U85/U$8 -> 0 | W85: ='UMI2030'!$G87/1000 -> 0 | X85: =100*W85/W$8 -> 0 | Y85: ='HI2030'!$G87/1000 -> 0 | Z85: =100*Y85/Y$8 -> 0 | AA85: =World2045!$G87/1000 -> 0 | AB85: =100*AA85/AA$8 -> 0 | AC85: ='LI2045'!$G87/1000 -> 0 | AD85: =100*AC85/AC$8 -> 0 | AE85: ='LMI2045'!$G87/1000 -> 0 | AF85: =100*AE85/AE$8 -> 0 | AG85: ='UMI2045'!$G87/1000 -> 0 | AH85: =100*AG85/AG$8 -> 0 | AI85: ='HI2045'!$G87/1000 -> 0 | AJ85: =100*AI85/AI$8 -> 0 | AK85: =World2060!$G87/1000 -> 0 | AL85: =100*AK85/AK$8 -> 0 | AM85: ='LI2060'!$G87/1000 -> 0 | AN85: =100*AM85/AM$8 -> 0 | AO85: ='LMI2060'!$G87/1000 -> 0 | AP85: =100*AO85/AO$8 -> 0 | AQ85: ='UMI2060'!$G87/1000 -> 0 | AR85: =100*AQ85/AQ$8 -> 0 | AS85: ='HI2060'!$G87/1000 -> 0 | AT85: =100*AS85/AS$8 -> 0
A86: 84 | D86: 2. | E86: Bipolar disorder | G86: =World2016!$G88/1000 -> 0.78524821 | H86: =100*G86/G$8 -> 0.0013806949 | I86: ='LI2016'!$G88/1000 -> 0 | J86: =100*I86/I$8 -> 0 | K86: ='LMI2016'!$G88/1000 -> 0.002972193 | L86: =100*K86/K$8 -> 1.3428595e-05 | M86: ='UMI2016'!$G88/1000 -> 0.082320439 | N86: =100*M86/M$8 -> 0.00043086207 | O86: ='HI2016'!$G88/1000 -> 0.69995558 | P86: =100*O86/O$8 -> 0.0068114765 | Q86: =World2030!$G88/1000 -> 0.75483585 | R86: =100*Q86/Q$8 -> 0.0011081062 | S86: ='LI2030'!$G88/1000 -> 0 | T86: =100*S86/S$8 -> 0 | U86: ='LMI2030'!$G88/1000 -> 0.0023349559 | V86: =100*U86/U$8 -> 8.8111188e-06 | W86: ='UMI2030'!$G88/1000 -> 0.06856281 | X86: =100*W86/W$8 -> 0.00029280562 | Y86: ='HI2030'!$G88/1000 -> 0.68393808 | Z86: =100*Y86/Y$8 -> 0.0057030303 | AA86: =World2045!$G88/1000 -> 0.865776 | AB86: =100*AA86/AA$8 -> 0.0010122172 | AC86: ='LI2045'!$G88/1000 -> 0 | AD86: =100*AC86/AC$8 -> 0 | AE86: ='LMI2045'!$G88/1000 -> 0.0030065715 | AF86: =100*AE86/AE$8 -> 9.2841148e-06 | AG86: ='UMI2045'!$G88/1000 -> 0.079347245 | AH86: =100*AG86/AG$8 -> 0.00026194312 | AI86: ='HI2045'!$G88/1000 -> 0.78342218 | AJ86: =100*AI86/AI$8 -> 0.0053772164 | AK86: =World2060!$G88/1000 -> 0.8908798 | AL86: =100*AK86/AK$8 -> 0.00087485972 | AM86: ='LI2060'!$G88/1000 -> 0 | AN86: =100*AM86/AM$8 -> 0 | AO86: ='LMI2060'!$G88/1000 -> 0.0037780729 | AP86: =100*AO86/AO$8 -> 9.5191733e-06 | AQ86: ='UMI2060'!$G88/1000 -> 0.085526323 | AR86: =100*AQ86/AQ$8 -> 0.00024669799 | AS86: ='HI2060'!$G88/1000 -> 0.8015754 | AT86: =100*AS86/AS$8 -> 0.0052253219
A87: 85 | D87: 3. | E87: Schizophrenia | G87: =World2016!$G89/1000 -> 5.1979722 | H87: =100*G87/G$8 -> 0.0091395482 | I87: ='LI2016'!$G89/1000 -> 0 | J87: =100*I87/I$8 -> 0 | K87: ='LMI2016'!$G89/1000 -> 0.23027386 | L87: =100*K87/K$8 -> 0.0010403949 | M87: ='UMI2016'!$G89/1000 -> 1.1010755 | N87: =100*M87/M$8 -> 0.0057629876 | O87: ='HI2016'!$G89/1000 -> 3.8666228 | P87: =100*O87/O$8 -> 0.03762726 | Q87: =World2030!$G89/1000 -> 6.2524366 | R87: =100*Q87/Q$8 -> 0.009178636 | S87: ='LI2030'!$G89/1000 -> 0 | T87: =100*S87/S$8 -> 0 | U87: ='LMI2030'!$G89/1000 -> 0.15511817 | V87: =100*U87/U$8 -> 0.00058534922 | W87: ='UMI2030'!$G89/1000 -> 1.4669548 | X87: =100*W87/W$8 -> 0.0062648047 | Y87: ='HI2030'!$G89/1000 -> 4.6303636 | Z87: =100*Y87/Y$8 -> 0.038610372 | AA87: =World2045!$G89/1000 -> 6.8070359 | AB87: =100*AA87/AA$8 -> 0.0079584085 | AC87: ='LI2045'!$G89/1000 -> 0 | AD87: =100*AC87/AC$8 -> 0 | AE87: ='LMI2045'!$G89/1000 -> 0.18086551 | AF87: =100*AE87/AE$8 -> 0.000558502 | AG87: ='UMI2045'!$G89/1000 -> 1.7004015 | AH87: =100*AG87/AG$8 -> 0.0056134081 | AI87: ='HI2045'!$G89/1000 -> 4.9257689 | AJ87: =100*AI87/AI$8 -> 0.033809261 | AK87: =World2060!$G89/1000 -> 6.9421214 | AL87: =100*AK87/AK$8 -> 0.0068172859 | AM87: ='LI2060'!$G89/1000 -> 0 | AN87: =100*AM87/AM$8 -> 0 | AO87: ='LMI2060'!$G89/1000 -> 0.20798785 | AP87: =100*AO87/AO$8 -> 0.00052404292 | AQ87: ='UMI2060'!$G89/1000 -> 1.8183166 | AR87: =100*AQ87/AQ$8 -> 0.0052448771 | AS87: ='HI2060'!$G89/1000 -> 4.9158169 | AT87: =100*AS87/AS$8 -> 0.032045302
A88: 86 | D88: 4. | E88: Alcohol use disorders | G88: =World2016!$G90/1000 -> 145.56528 | H88: =100*G88/G$8 -> 0.25594614 | I88: ='LI2016'!$G90/1000 -> 6.6776253 | J88: =100*I88/I$8 -> 0.12462939 | K88: ='LMI2016'!$G90/1000 -> 39.092208 | L88: =100*K88/K$8 -> 0.17662158 | M88: ='UMI2016'!$G90/1000 -> 64.922453 | N88: =100*M88/M$8 -> 0.33980166 | O88: ='HI2016'!$G90/1000 -> 34.872999 | P88: =100*O88/O$8 -> 0.33935956 | Q88: =World2030!$G90/1000 -> 154.87532 | R88: =100*Q88/Q$8 -> 0.22735844 | S88: ='LI2030'!$G90/1000 -> 9.697991 | T88: =100*S88/S$8 -> 0.15614228 | U88: ='LMI2030'!$G90/1000 -> 46.312265 | V88: =100*U88/U$8 -> 0.17476256 | W88: ='UMI2030'!$G90/1000 -> 65.358112 | X88: =100*W88/W$8 -> 0.27911957 | Y88: ='HI2030'!$G90/1000 -> 33.506956 | Z88: =100*Y88/Y$8 -> 0.27939836 | AA88: =World2045!$G90/1000 -> 159.83964 | AB88: =100*AA88/AA$8 -> 0.18687564 | AC88: ='LI2045'!$G90/1000 -> 13.913081 | AD88: =100*AC88/AC$8 -> 0.16788004 | AE88: ='LMI2045'!$G90/1000 -> 51.237541 | AF88: =100*AE88/AE$8 -> 0.15821849 | AG88: ='UMI2045'!$G90/1000 -> 63.543626 | AH88: =100*AG88/AG$8 -> 0.20977182 | AI88: ='HI2045'!$G90/1000 -> 31.145394 | AJ88: =100*AI88/AI$8 -> 0.21377429 | AK88: =World2060!$G90/1000 -> 162.31232 | AL88: =100*AK88/AK$8 -> 0.15939356 | AM88: ='LI2060'!$G90/1000 -> 19.180622 | AN88: =100*AM88/AM$8 -> 0.15808078 | AO88: ='LMI2060'!$G90/1000 -> 55.669617 | AP88: =100*AO88/AO$8 -> 0.1402643 | AQ88: ='UMI2060'!$G90/1000 -> 59.509291 | AR88: =100*AQ88/AQ$8 -> 0.17165268 | AS88: ='HI2060'!$G90/1000 -> 27.952784 | AT88: =100*AS88/AS$8 -> 0.18221903
A89: 87 | D89: 5. | E89: Drug use disorders | G89: =World2016!$G91/1000 -> 160.23489 | H89: =100*G89/G$8 -> 0.28173957 | I89: ='LI2016'!$G91/1000 -> 4.5935236 | J89: =100*I89/I$8 -> 0.085732282 | K89: ='LMI2016'!$G91/1000 -> 39.053917 | L89: =100*K89/K$8 -> 0.17644858 | M89: ='UMI2016'!$G91/1000 -> 64.047357 | N89: =100*M89/M$8 -> 0.33522144 | O89: ='HI2016'!$G91/1000 -> 52.540088 | P89: =100*O89/O$8 -> 0.51128327 | Q89: =World2030!$G91/1000 -> 182.39767 | R89: =100*Q89/Q$8 -> 0.2677615 | S89: ='LI2030'!$G91/1000 -> 6.3607447 | T89: =100*S89/S$8 -> 0.10241102 | U89: ='LMI2030'!$G91/1000 -> 47.033042 | V89: =100*U89/U$8 -> 0.17748246 | W89: ='UMI2030'!$G91/1000 -> 71.227909 | X89: =100*W89/W$8 -> 0.30418724 | Y89: ='HI2030'!$G91/1000 -> 57.775973 | Z89: =100*Y89/Y$8 -> 0.48176601 | AA89: =World2045!$G91/1000 -> 197.58076 | AB89: =100*AA89/AA$8 -> 0.23100046 | AC89: ='LI2045'!$G91/1000 -> 8.4499782 | AD89: =100*AC89/AC$8 -> 0.10196036 | AE89: ='LMI2045'!$G91/1000 -> 54.141594 | AF89: =100*AE89/AE$8 -> 0.16718604 | AG89: ='UMI2045'!$G91/1000 -> 79.309356 | AH89: =100*AG89/AG$8 -> 0.26181804 | AI89: ='HI2045'!$G91/1000 -> 55.679835 | AJ89: =100*AI89/AI$8 -> 0.38217264 | AK89: =World2060!$G91/1000 -> 203.84977 | AL89: =100*AK89/AK$8 -> 0.20018408 | AM89: ='LI2060'!$G91/1000 -> 10.332306 | AN89: =100*AM89/AM$8 -> 0.085155686 | AO89: ='LMI2060'!$G91/1000 -> 60.951534 | AP89: =100*AO89/AO$8 -> 0.15357253 | AQ89: ='UMI2060'!$G91/1000 -> 80.063548 | AR89: =100*AQ89/AQ$8 -> 0.23094079 | AS89: ='HI2060'!$G91/1000 -> 52.502378 | AT89: =100*AS89/AS$8 -> 0.34225329
A90: 88 | D90: 6. | E90: Anxiety disorders | G90: =World2016!$G92/1000 -> 0 | H90: =100*G90/G$8 -> 0 | I90: ='LI2016'!$G92/1000 -> 0 | J90: =100*I90/I$8 -> 0 | K90: ='LMI2016'!$G92/1000 -> 0 | L90: =100*K90/K$8 -> 0 | M90: ='UMI2016'!$G92/1000 -> 0 | N90: =100*M90/M$8 -> 0 | O90: ='HI2016'!$G92/1000 -> 0 | P90: =100*O90/O$8 -> 0 | Q90: =World2030!$G92/1000 -> 0 | R90: =100*Q90/Q$8 -> 0 | S90: ='LI2030'!$G92/1000 -> 0 | T90: =100*S90/S$8 -> 0 | U90: ='LMI2030'!$G92/1000 -> 0 | V90: =100*U90/U$8 -> 0 | W90: ='UMI2030'!$G92/1000 -> 0 | X90: =100*W90/W$8 -> 0 | Y90: ='HI2030'!$G92/1000 -> 0 | Z90: =100*Y90/Y$8 -> 0 | AA90: =World2045!$G92/1000 -> 0 | AB90: =100*AA90/AA$8 -> 0 | AC90: ='LI2045'!$G92/1000 -> 0 | AD90: =100*AC90/AC$8 -> 0 | AE90: ='LMI2045'!$G92/1000 -> 0 | AF90: =100*AE90/AE$8 -> 0 | AG90: ='UMI2045'!$G92/1000 -> 0 | AH90: =100*AG90/AG$8 -> 0 | AI90: ='HI2045'!$G92/1000 -> 0 | AJ90: =100*AI90/AI$8 -> 0 | AK90: =World2060!$G92/1000 -> 0 | AL90: =100*AK90/AK$8 -> 0 | AM90: ='LI2060'!$G92/1000 -> 0 | AN90: =100*AM90/AM$8 -> 0 | AO90: ='LMI2060'!$G92/1000 -> 0 | AP90: =100*AO90/AO$8 -> 0 | AQ90: ='UMI2060'!$G92/1000 -> 0 | AR90: =100*AQ90/AQ$8 -> 0 | AS90: ='HI2060'!$G92/1000 -> 0 | AT90: =100*AS90/AS$8 -> 0
A91: 89 | D91: 7. | E91: Eating disorders | G91: =World2016!$G93/1000 -> 1.8451708 | H91: =100*G91/G$8 -> 0.0032443474 | I91: ='LI2016'!$G93/1000 -> 0.025999062 | J91: =100*I91/I$8 -> 0.00048523945 | K91: ='LMI2016'!$G93/1000 -> 0.68786922 | L91: =100*K91/K$8 -> 0.0031078457 | M91: ='UMI2016'!$G93/1000 -> 0.41666082 | N91: =100*M91/M$8 -> 0.002180787 | O91: ='HI2016'!$G93/1000 -> 0.71464174 | P91: =100*O91/O$8 -> 0.0069543919 | Q91: =World2030!$G93/1000 -> 1.7574686 | R91: =100*Q91/Q$8 -> 0.0025799805 | S91: ='LI2030'!$G93/1000 -> 0.032535025 | T91: =100*S91/S$8 -> 0.00052382943 | U91: ='LMI2030'!$G93/1000 -> 0.69274744 | V91: =100*U91/U$8 -> 0.0026141307 | W91: ='UMI2030'!$G93/1000 -> 0.33663414 | X91: =100*W91/W$8 -> 0.001437636 | Y91: ='HI2030'!$G93/1000 -> 0.69555197 | Z91: =100*Y91/Y$8 -> 0.0057998729 | AA91: =World2045!$G93/1000 -> 1.5889353 | AB91: =100*AA91/AA$8 -> 0.001857695 | AC91: ='LI2045'!$G93/1000 -> 0.042539114 | AD91: =100*AC91/AC$8 -> 0.00051329166 | AE91: ='LMI2045'!$G93/1000 -> 0.64532951 | AF91: =100*AE91/AE$8 -> 0.0019927393 | AG91: ='UMI2045'!$G93/1000 -> 0.2872004 | AH91: =100*AG91/AG$8 -> 0.00094811317 | AI91: ='HI2045'!$G93/1000 -> 0.61386629 | AJ91: =100*AI91/AI$8 -> 0.0042134266 | AK91: =World2060!$G93/1000 -> 1.4310288 | AL91: =100*AK91/AK$8 -> 0.0014052955 | AM91: ='LI2060'!$G93/1000 -> 0.050333738 | AN91: =100*AM91/AM$8 -> 0.00041483516 | AO91: ='LMI2060'!$G93/1000 -> 0.58570691 | AP91: =100*AO91/AO$8 -> 0.001475738 | AQ91: ='UMI2060'!$G93/1000 -> 0.24559876 | AR91: =100*AQ91/AQ$8 -> 0.0007084219 | AS91: ='HI2060'!$G93/1000 -> 0.54938934 | AT91: =100*AS91/AS$8 -> 0.0035813675
A92: 90 | D92: 8. | E92: Pervasive developmental disorders | G92: =World2016!$G94/1000 -> 0 | H92: =100*G92/G$8 -> 0 | I92: ='LI2016'!$G94/1000 -> 0 | J92: =100*I92/I$8 -> 0 | K92: ='LMI2016'!$G94/1000 -> 0 | L92: =100*K92/K$8 -> 0 | M92: ='UMI2016'!$G94/1000 -> 0 | N92: =100*M92/M$8 -> 0 | O92: ='HI2016'!$G94/1000 -> 0 | P92: =100*O92/O$8 -> 0 | Q92: =World2030!$G94/1000 -> 0 | R92: =100*Q92/Q$8 -> 0 | S92: ='LI2030'!$G94/1000 -> 0 | T92: =100*S92/S$8 -> 0 | U92: ='LMI2030'!$G94/1000 -> 0 | V92: =100*U92/U$8 -> 0 | W92: ='UMI2030'!$G94/1000 -> 0 | X92: =100*W92/W$8 -> 0 | Y92: ='HI2030'!$G94/1000 -> 0 | Z92: =100*Y92/Y$8 -> 0 | AA92: =World2045!$G94/1000 -> 0 | AB92: =100*AA92/AA$8 -> 0 | AC92: ='LI2045'!$G94/1000 -> 0 | AD92: =100*AC92/AC$8 -> 0 | AE92: ='LMI2045'!$G94/1000 -> 0 | AF92: =100*AE92/AE$8 -> 0 | AG92: ='UMI2045'!$G94/1000 -> 0 | AH92: =100*AG92/AG$8 -> 0 | AI92: ='HI2045'!$G94/1000 -> 0 | AJ92: =100*AI92/AI$8 -> 0 | AK92: =World2060!$G94/1000 -> 0 | AL92: =100*AK92/AK$8 -> 0 | AM92: ='LI2060'!$G94/1000 -> 0 | AN92: =100*AM92/AM$8 -> 0 | AO92: ='LMI2060'!$G94/1000 -> 0 | AP92: =100*AO92/AO$8 -> 0 | AQ92: ='UMI2060'!$G94/1000 -> 0 | AR92: =100*AQ92/AQ$8 -> 0 | AS92: ='HI2060'!$G94/1000 -> 0 | AT92: =100*AS92/AS$8 -> 0
A93: 91 | D93: 9. | E93: Childhood behavioural disorders | G93: =World2016!$G95/1000 -> 0 | H93: =100*G93/G$8 -> 0 | I93: ='LI2016'!$G95/1000 -> 0 | J93: =100*I93/I$8 -> 0 | K93: ='LMI2016'!$G95/1000 -> 0 | L93: =100*K93/K$8 -> 0 | M93: ='UMI2016'!$G95/1000 -> 0 | N93: =100*M93/M$8 -> 0 | O93: ='HI2016'!$G95/1000 -> 0 | P93: =100*O93/O$8 -> 0 | Q93: =World2030!$G95/1000 -> 0 | R93: =100*Q93/Q$8 -> 0 | S93: ='LI2030'!$G95/1000 -> 0 | T93: =100*S93/S$8 -> 0 | U93: ='LMI2030'!$G95/1000 -> 0 | V93: =100*U93/U$8 -> 0 | W93: ='UMI2030'!$G95/1000 -> 0 | X93: =100*W93/W$8 -> 0 | Y93: ='HI2030'!$G95/1000 -> 0 | Z93: =100*Y93/Y$8 -> 0 | AA93: =World2045!$G95/1000 -> 0 | AB93: =100*AA93/AA$8 -> 0 | AC93: ='LI2045'!$G95/1000 -> 0 | AD93: =100*AC93/AC$8 -> 0 | AE93: ='LMI2045'!$G95/1000 -> 0 | AF93: =100*AE93/AE$8 -> 0 | AG93: ='UMI2045'!$G95/1000 -> 0 | AH93: =100*AG93/AG$8 -> 0 | AI93: ='HI2045'!$G95/1000 -> 0 | AJ93: =100*AI93/AI$8 -> 0 | AK93: =World2060!$G95/1000 -> 0 | AL93: =100*AK93/AK$8 -> 0 | AM93: ='LI2060'!$G95/1000 -> 0 | AN93: =100*AM93/AM$8 -> 0 | AO93: ='LMI2060'!$G95/1000 -> 0 | AP93: =100*AO93/AO$8 -> 0 | AQ93: ='UMI2060'!$G95/1000 -> 0 | AR93: =100*AQ93/AQ$8 -> 0 | AS93: ='HI2060'!$G95/1000 -> 0 | AT93: =100*AS93/AS$8 -> 0
A94: 92 | D94: 10. | E94: Idiopathic intellectual disability | G94: =World2016!$G96/1000 -> 1.7686533 | H94: =100*G94/G$8 -> 0.0031098073 | I94: ='LI2016'!$G96/1000 -> 0 | J94: =100*I94/I$8 -> 0 | K94: ='LMI2016'!$G96/1000 -> 0.018197001 | L94: =100*K94/K$8 -> 8.2215442e-05 | M94: ='UMI2016'!$G96/1000 -> 0.23140251 | N94: =100*M94/M$8 -> 0.001211152 | O94: ='HI2016'!$G96/1000 -> 1.5190537 | P94: =100*O94/O$8 -> 0.014782365 | Q94: =World2030!$G96/1000 -> 1.6430484 | R94: =100*Q94/Q$8 -> 0.0024120106 | S94: ='LI2030'!$G96/1000 -> 0 | T94: =100*S94/S$8 -> 0 | U94: ='LMI2030'!$G96/1000 -> 0.015191443 | V94: =100*U94/U$8 -> 5.7325969e-05 | W94: ='UMI2030'!$G96/1000 -> 0.17982285 | X94: =100*W94/W$8 -> 0.00076795482 | Y94: ='HI2030'!$G96/1000 -> 1.4480342 | Z94: =100*Y94/Y$8 -> 0.012074459 | AA94: =World2045!$G96/1000 -> 1.6256897 | AB94: =100*AA94/AA$8 -> 0.0019006662 | AC94: ='LI2045'!$G96/1000 -> 0 | AD94: =100*AC94/AC$8 -> 0 | AE94: ='LMI2045'!$G96/1000 -> 0.017152057 | AF94: =100*AE94/AE$8 -> 5.2964536e-05 | AG94: ='UMI2045'!$G96/1000 -> 0.18920185 | AH94: =100*AG94/AG$8 -> 0.00062459791 | AI94: ='HI2045'!$G96/1000 -> 1.4193358 | AJ94: =100*AI94/AI$8 -> 0.0097419703 | AK94: =World2060!$G96/1000 -> 1.5516448 | AL94: =100*AK94/AK$8 -> 0.0015237427 | AM94: ='LI2060'!$G96/1000 -> 0 | AN94: =100*AM94/AM$8 -> 0 | AO94: ='LMI2060'!$G96/1000 -> 0.018019709 | AP94: =100*AO94/AO$8 -> 4.5402177e-05 | AQ94: ='UMI2060'!$G96/1000 -> 0.19363224 | AR94: =100*AQ94/AQ$8 -> 0.0005585261 | AS94: ='HI2060'!$G96/1000 -> 1.3399929 | AT94: =100*AS94/AS$8 -> 0.0087351658
A95: 93 | D95: 11. | E95: Other mental and behavioural disorders | G95: =World2016!$G97/1000 -> 0 | H95: =100*G95/G$8 -> 0 | I95: ='LI2016'!$G97/1000 -> 0 | J95: =100*I95/I$8 -> 0 | K95: ='LMI2016'!$G97/1000 -> 0 | L95: =100*K95/K$8 -> 0 | M95: ='UMI2016'!$G97/1000 -> 0 | N95: =100*M95/M$8 -> 0 | O95: ='HI2016'!$G97/1000 -> 0 | P95: =100*O95/O$8 -> 0 | Q95: =World2030!$G97/1000 -> 0 | R95: =100*Q95/Q$8 -> 0 | S95: ='LI2030'!$G97/1000 -> 0 | T95: =100*S95/S$8 -> 0 | U95: ='LMI2030'!$G97/1000 -> 0 | V95: =100*U95/U$8 -> 0 | W95: ='UMI2030'!$G97/1000 -> 0 | X95: =100*W95/W$8 -> 0 | Y95: ='HI2030'!$G97/1000 -> 0 | Z95: =100*Y95/Y$8 -> 0 | AA95: =World2045!$G97/1000 -> 0 | AB95: =100*AA95/AA$8 -> 0 | AC95: ='LI2045'!$G97/1000 -> 0 | AD95: =100*AC95/AC$8 -> 0 | AE95: ='LMI2045'!$G97/1000 -> 0 | AF95: =100*AE95/AE$8 -> 0 | AG95: ='UMI2045'!$G97/1000 -> 0 | AH95: =100*AG95/AG$8 -> 0 | AI95: ='HI2045'!$G97/1000 -> 0 | AJ95: =100*AI95/AI$8 -> 0 | AK95: =World2060!$G97/1000 -> 0 | AL95: =100*AK95/AK$8 -> 0 | AM95: ='LI2060'!$G97/1000 -> 0 | AN95: =100*AM95/AM$8 -> 0 | AO95: ='LMI2060'!$G97/1000 -> 0 | AP95: =100*AO95/AO$8 -> 0 | AQ95: ='UMI2060'!$G97/1000 -> 0 | AR95: =100*AQ95/AQ$8 -> 0 | AS95: ='HI2060'!$G97/1000 -> 0 | AT95: =100*AS95/AS$8 -> 0
A96: 94 | C96: F. | D96: Neurological conditions | G96: =World2016!$G98/1000 -> 2538.4598 | H96: =100*G96/G$8 -> 4.4633512 | I96: ='LI2016'!$G98/1000 -> 80.794753 | J96: =100*I96/I$8 -> 1.5079314 | K96: ='LMI2016'!$G98/1000 -> 536.55925 | L96: =100*K96/K$8 -> 2.4242157 | M96: ='UMI2016'!$G98/1000 -> 980.98507 | N96: =100*M96/M$8 -> 5.1344388 | O96: ='HI2016'!$G98/1000 -> 940.12073 | P96: =100*O96/O$8 -> 9.1485952 | Q96: =World2030!$G98/1000 -> 4019.3804 | R96: =100*Q96/Q$8 -> 5.9004884 | S96: ='LI2030'!$G98/1000 -> 121.57716 | T96: =100*S96/S$8 -> 1.9574502 | U96: ='LMI2030'!$G98/1000 -> 774.19674 | V96: =100*U96/U$8 -> 2.9214853 | W96: ='UMI2030'!$G98/1000 -> 1561.7269 | X96: =100*W96/W$8 -> 6.66954 | Y96: ='HI2030'!$G98/1000 -> 1561.8796 | Z96: =100*Y96/Y$8 -> 13.023762 | AA96: =World2045!$G98/1000 -> 6333.7083 | AB96: =100*AA96/AA$8 -> 7.4050202 | AC96: ='LI2045'!$G98/1000 -> 188.70622 | AD96: =100*AC96/AC$8 -> 2.2769944 | AE96: ='LMI2045'!$G98/1000 -> 1206.6424 | AF96: =100*AE96/AE$8 -> 3.7260404 | AG96: ='UMI2045'!$G98/1000 -> 2659.6851 | AH96: =100*AG96/AG$8 -> 8.7802195 | AI96: ='HI2045'!$G98/1000 -> 2278.6745 | AJ96: =100*AI96/AI$8 -> 15.640259 | AK96: =World2060!$G98/1000 -> 8348.1001 | AL96: =100*AK96/AK$8 -> 8.1979819 | AM96: ='LI2060'!$G98/1000 -> 317.28909 | AN96: =100*AM96/AM$8 -> 2.6149989 | AO96: ='LMI2060'!$G98/1000 -> 1781.1666 | AP96: =100*AO96/AO$8 -> 4.4877993 | AQ96: ='UMI2060'!$G98/1000 -> 3622.3021 | AR96: =100*AQ96/AQ$8 -> 10.448416 | AS96: ='HI2060'!$G98/1000 -> 2627.3423 | AT96: =100*AS96/AS$8 -> 17.127159
A97: 95 | D97: 1. | E97: Alzheimer's disease and other dementias | G97: =World2016!$G99/1000 -> 1991.7082 | H97: =100*G97/G$8 -> 3.5020028 | I97: ='LI2016'!$G99/1000 -> 54.828854 | J97: =100*I97/I$8 -> 1.0233109 | K97: ='LMI2016'!$G99/1000 -> 390.89271 | L97: =100*K97/K$8 -> 1.7660831 | M97: ='UMI2016'!$G99/1000 -> 827.34542 | N97: =100*M97/M$8 -> 4.3302947 | O97: ='HI2016'!$G99/1000 -> 718.64126 | P97: =100*O97/O$8 -> 6.9933124 | Q97: =World2030!$G99/1000 -> 3281.0693 | R97: =100*Q97/Q$8 -> 4.8166407 | S97: ='LI2030'!$G99/1000 -> 86.102331 | T97: =100*S97/S$8 -> 1.3862886 | U97: ='LMI2030'!$G99/1000 -> 596.63154 | V97: =100*U97/U$8 -> 2.2514307 | W97: ='UMI2030'!$G99/1000 -> 1349.7885 | X97: =100*W97/W$8 -> 5.7644322 | Y97: ='HI2030'!$G99/1000 -> 1248.5469 | Z97: =100*Y97/Y$8 -> 10.411031 | AA97: =World2045!$G99/1000 -> 5384.5921 | AB97: =100*AA97/AA$8 -> 6.2953663 | AC97: ='LI2045'!$G99/1000 -> 140.6552 | AD97: =100*AC97/AC$8 -> 1.6971943 | AE97: ='LMI2045'!$G99/1000 -> 991.6438 | AF97: =100*AE97/AE$8 -> 3.0621374 | AG97: ='UMI2045'!$G99/1000 -> 2367.0553 | AH97: =100*AG97/AG$8 -> 7.8141826 | AI97: ='HI2045'!$G99/1000 -> 1885.2378 | AJ97: =100*AI97/AI$8 -> 12.939807 | AK97: =World2060!$G99/1000 -> 7258.2286 | AL97: =100*AK97/AK$8 -> 7.1277089 | AM97: ='LI2060'!$G99/1000 -> 253.66522 | AN97: =100*AM97/AM$8 -> 2.0906306 | AO97: ='LMI2060'!$G99/1000 -> 1524.4425 | AP97: =100*AO97/AO$8 -> 3.8409614 | AQ97: ='UMI2060'!$G99/1000 -> 3273.9218 | AR97: =100*AQ97/AQ$8 -> 9.4435245 | AS97: ='HI2060'!$G99/1000 -> 2206.1991 | AT97: =100*AS97/AS$8 -> 14.381804
A98: 96 | D98: 2. | E98: Parkinson's disease | G98: =World2016!$G100/1000 -> 213.65212 | H98: =100*G98/G$8 -> 0.37566261 | I98: ='LI2016'!$G100/1000 -> 3.7575208 | J98: =100*I98/I$8 -> 0.070129352 | K98: ='LMI2016'!$G100/1000 -> 29.929707 | L98: =100*K98/K$8 -> 0.1352247 | M98: ='UMI2016'!$G100/1000 -> 78.719569 | N98: =100*M98/M$8 -> 0.41201525 | O98: ='HI2016'!$G100/1000 -> 101.24532 | P98: =100*O98/O$8 -> 0.9852484 | Q98: =World2030!$G100/1000 -> 337.26541 | R98: =100*Q98/Q$8 -> 0.49510881 | S98: ='LI2030'!$G100/1000 -> 5.7198858 | T98: =100*S98/S$8 -> 0.09209289 | U98: ='LMI2030'!$G100/1000 -> 44.774722 | V98: =100*U98/U$8 -> 0.16896053 | W98: ='UMI2030'!$G100/1000 -> 125.23954 | X98: =100*W98/W$8 -> 0.53485031 | Y98: ='HI2030'!$G100/1000 -> 161.53127 | Z98: =100*Y98/Y$8 -> 1.3469314 | AA98: =World2045!$G100/1000 -> 500.02935 | AB98: =100*AA98/AA$8 -> 0.58460656 | AC98: ='LI2045'!$G100/1000 -> 9.1711822 | AD98: =100*AC98/AC$8 -> 0.11066265 | AE98: ='LMI2045'!$G100/1000 -> 68.39564 | AF98: =100*AE98/AE$8 -> 0.21120169 | AG98: ='UMI2045'!$G100/1000 -> 196.29466 | AH98: =100*AG98/AG$8 -> 0.64801287 | AI98: ='HI2045'!$G100/1000 -> 226.16786 | AJ98: =100*AI98/AI$8 -> 1.5523604 | AK98: =World2060!$G100/1000 -> 612.52842 | AL98: =100*AK98/AK$8 -> 0.60151374 | AM98: ='LI2060'!$G100/1000 -> 15.895031 | AN98: =100*AM98/AM$8 -> 0.13100195 | AO98: ='LMI2060'!$G100/1000 -> 98.056662 | AP98: =100*AO98/AO$8 -> 0.24706203 | AQ98: ='UMI2060'!$G100/1000 -> 246.09398 | AR98: =100*AQ98/AQ$8 -> 0.70985035 | AS98: ='HI2060'!$G100/1000 -> 252.48275 | AT98: =100*AS98/AS$8 -> 1.6458884
A99: 97 | D99: 3. | E99: Epilepsy | G99: =World2016!$G101/1000 -> 137.20324 | H99: =100*G99/G$8 -> 0.24124323 | I99: ='LI2016'!$G101/1000 -> 18.432639 | J99: =100*I99/I$8 -> 0.34402179 | K99: ='LMI2016'!$G101/1000 -> 68.813209 | L99: =100*K99/K$8 -> 0.31090333 | M99: ='UMI2016'!$G101/1000 -> 32.031971 | N99: =100*M99/M$8 -> 0.16765413 | O99: ='HI2016'!$G101/1000 -> 17.925418 | P99: =100*O99/O$8 -> 0.17443759 | Q99: =World2030!$G101/1000 -> 159.25676 | R99: =100*Q99/Q$8 -> 0.23379043 | S99: ='LI2030'!$G101/1000 -> 24.986763 | T99: =100*S99/S$8 -> 0.40229881 | U99: ='LMI2030'!$G101/1000 -> 78.701095 | V99: =100*U99/U$8 -> 0.29698406 | W99: ='UMI2030'!$G101/1000 -> 33.460342 | X99: =100*W99/W$8 -> 0.14289636 | Y99: ='HI2030'!$G101/1000 -> 22.108561 | Z99: =100*Y99/Y$8 -> 0.18435264 | AA99: =World2045!$G101/1000 -> 184.63771 | AB99: =100*AA99/AA$8 -> 0.21586816 | AC99: ='LI2045'!$G101/1000 -> 32.703678 | AD99: =100*AC99/AC$8 -> 0.39461388 | AE99: ='LMI2045'!$G101/1000 -> 91.218553 | AF99: =100*AE99/AE$8 -> 0.2816775 | AG99: ='UMI2045'!$G101/1000 -> 35.552188 | AH99: =100*AG99/AG$8 -> 0.11736578 | AI99: ='HI2045'!$G101/1000 -> 25.16329 | AJ99: =100*AI99/AI$8 -> 0.17271461 | AK99: =World2060!$G101/1000 -> 206.36131 | AL99: =100*AK99/AK$8 -> 0.20265046 | AM99: ='LI2060'!$G101/1000 -> 40.115055 | AN99: =100*AM99/AM$8 -> 0.33061592 | AO99: ='LMI2060'!$G101/1000 -> 103.70048 | AP99: =100*AO99/AO$8 -> 0.2612821 | AQ99: ='UMI2060'!$G101/1000 -> 36.677278 | AR99: =100*AQ99/AQ$8 -> 0.10579445 | AS99: ='HI2060'!$G101/1000 -> 25.868503 | AT99: =100*AS99/AS$8 -> 0.16863199
A100: 98 | D100: 4. | E100: Multiple sclerosis | G100: =World2016!$G102/1000 -> 24.065094 | H100: =100*G100/G$8 -> 0.04231344 | I100: ='LI2016'!$G102/1000 -> 0.34796936 | J100: =100*I100/I$8 -> 0.006494406 | K100: ='LMI2016'!$G102/1000 -> 7.1462667 | L100: =100*K100/K$8 -> 0.032287379 | M100: ='UMI2016'!$G102/1000 -> 4.2148677 | N100: =100*M100/M$8 -> 0.022060458 | O100: ='HI2016'!$G102/1000 -> 12.35599 | P100: =100*O100/O$8 -> 0.12023982 | Q100: =World2030!$G102/1000 -> 28.185958 | R100: =100*Q100/Q$8 -> 0.041377253 | S100: ='LI2030'!$G102/1000 -> 0.43019537 | T100: =100*S100/S$8 -> 0.0069263507 | U100: ='LMI2030'!$G102/1000 -> 8.1748631 | V100: =100*U100/U$8 -> 0.030848415 | W100: ='UMI2030'!$G102/1000 -> 4.5085213 | X100: =100*W100/W$8 -> 0.019254175 | Y100: ='HI2030'!$G102/1000 -> 15.072378 | Z100: =100*Y100/Y$8 -> 0.1256813 | AA100: =World2045!$G102/1000 -> 28.40846 | AB100: =100*AA100/AA$8 -> 0.033213595 | AC100: ='LI2045'!$G102/1000 -> 0.59933913 | AD100: =100*AC100/AC$8 -> 0.0072318331 | AE100: ='LMI2045'!$G102/1000 -> 8.1394578 | AF100: =100*AE100/AE$8 -> 0.025134164 | AG100: ='UMI2045'!$G102/1000 -> 4.6972855 | AH100: =100*AG100/AG$8 -> 0.015506797 | AI100: ='HI2045'!$G102/1000 -> 14.972378 | AJ100: =100*AI100/AI$8 -> 0.1027667 | AK100: =World2060!$G102/1000 -> 27.493672 | AL100: =100*AK100/AK$8 -> 0.026999272 | AM100: ='LI2060'!$G102/1000 -> 0.78592719 | AN100: =100*AM100/AM$8 -> 0.0064773697 | AO100: ='LMI2060'!$G102/1000 -> 7.7425348 | AP100: =100*AO100/AO$8 -> 0.019507969 | AQ100: ='UMI2060'!$G102/1000 -> 4.619829 | AR100: =100*AQ100/AQ$8 -> 0.013325751 | AS100: ='HI2060'!$G102/1000 -> 14.345381 | AT100: =100*AS100/AS$8 -> 0.093514886
A101: 99 | D101: 5. | E101: Migraine | G101: =World2016!$G103/1000 -> 0.021669257 | H101: =100*G101/G$8 -> 3.8100861e-05 | I101: ='LI2016'!$G103/1000 -> 0 | J101: =100*I101/I$8 -> 0 | K101: ='LMI2016'!$G103/1000 -> 0.0036799563 | L101: =100*K101/K$8 -> 1.6626324e-05 | M101: ='UMI2016'!$G103/1000 -> 0.0041472538 | N101: =100*M101/M$8 -> 2.170657e-05 | O101: ='HI2016'!$G103/1000 -> 0.013842047 | P101: =100*O101/O$8 -> 0.00013470108 | Q101: =World2030!$G103/1000 -> 0.015267981 | R101: =100*Q101/Q$8 -> 2.2413541e-05 | S101: ='LI2030'!$G103/1000 -> 0 | T101: =100*S101/S$8 -> 0 | U101: ='LMI2030'!$G103/1000 -> 0.0032052159 | V101: =100*U101/U$8 -> 1.2095105e-05 | W101: ='UMI2030'!$G103/1000 -> 0.0033415583 | X101: =100*W101/W$8 -> 1.4270521e-05 | Y101: ='HI2030'!$G103/1000 -> 0.0087212071 | Z101: =100*Y101/Y$8 -> 7.2721945e-05 | AA101: =World2045!$G103/1000 -> 0.017478228 | AB101: =100*AA101/AA$8 -> 2.0434574e-05 | AC101: ='LI2045'!$G103/1000 -> 0 | AD101: =100*AC101/AC$8 -> 0 | AE101: ='LMI2045'!$G103/1000 -> 0.0040750601 | AF101: =100*AE101/AE$8 -> 1.2583545e-05 | AG101: ='UMI2045'!$G103/1000 -> 0.0044924807 | AH101: =100*AG101/AG$8 -> 1.483069e-05 | AI101: ='HI2045'!$G103/1000 -> 0.0089106868 | AJ101: =100*AI101/AI$8 -> 6.1160754e-05 | AK101: =World2060!$G103/1000 -> 0.019659082 | AL101: =100*AK101/AK$8 -> 1.9305566e-05 | AM101: ='LI2060'!$G103/1000 -> 0 | AN101: =100*AM101/AM$8 -> 0 | AO101: ='LMI2060'!$G103/1000 -> 0.0049626936 | AP101: =100*AO101/AO$8 -> 1.2503925e-05 | AQ101: ='UMI2060'!$G103/1000 -> 0.0060346662 | AR101: =100*AQ101/AQ$8 -> 1.7406805e-05 | AS101: ='HI2060'!$G103/1000 -> 0.0086617218 | AT101: =100*AS101/AS$8 -> 5.6464163e-05
A102: 100 | D102: 6. | E102: Non-migraine headache | G102: =World2016!$G104/1000 -> 0 | H102: =100*G102/G$8 -> 0 | I102: ='LI2016'!$G104/1000 -> 0 | J102: =100*I102/I$8 -> 0 | K102: ='LMI2016'!$G104/1000 -> 0 | L102: =100*K102/K$8 -> 0 | M102: ='UMI2016'!$G104/1000 -> 0 | N102: =100*M102/M$8 -> 0 | O102: ='HI2016'!$G104/1000 -> 0 | P102: =100*O102/O$8 -> 0 | Q102: =World2030!$G104/1000 -> 0 | R102: =100*Q102/Q$8 -> 0 | S102: ='LI2030'!$G104/1000 -> 0 | T102: =100*S102/S$8 -> 0 | U102: ='LMI2030'!$G104/1000 -> 0 | V102: =100*U102/U$8 -> 0 | W102: ='UMI2030'!$G104/1000 -> 0 | X102: =100*W102/W$8 -> 0 | Y102: ='HI2030'!$G104/1000 -> 0 | Z102: =100*Y102/Y$8 -> 0 | AA102: =World2045!$G104/1000 -> 0 | AB102: =100*AA102/AA$8 -> 0 | AC102: ='LI2045'!$G104/1000 -> 0 | AD102: =100*AC102/AC$8 -> 0 | AE102: ='LMI2045'!$G104/1000 -> 0 | AF102: =100*AE102/AE$8 -> 0 | AG102: ='UMI2045'!$G104/1000 -> 0 | AH102: =100*AG102/AG$8 -> 0 | AI102: ='HI2045'!$G104/1000 -> 0 | AJ102: =100*AI102/AI$8 -> 0 | AK102: =World2060!$G104/1000 -> 0 | AL102: =100*AK102/AK$8 -> 0 | AM102: ='LI2060'!$G104/1000 -> 0 | AN102: =100*AM102/AM$8 -> 0 | AO102: ='LMI2060'!$G104/1000 -> 0 | AP102: =100*AO102/AO$8 -> 0 | AQ102: ='UMI2060'!$G104/1000 -> 0 | AR102: =100*AQ102/AQ$8 -> 0 | AS102: ='HI2060'!$G104/1000 -> 0 | AT102: =100*AS102/AS$8 -> 0
A103: 101 | D103: 7. | E103: Other neurological conditions | G103: =World2016!$G105/1000 -> 171.80943 | H103: =100*G103/G$8 -> 0.30209099 | I103: ='LI2016'!$G105/1000 -> 3.4277693 | J103: =100*I103/I$8 -> 0.063974959 | K103: ='LMI2016'!$G105/1000 -> 39.773683 | L103: =100*K103/K$8 -> 0.17970054 | M103: ='UMI2016'!$G105/1000 -> 38.669081 | N103: =100*M103/M$8 -> 0.20239251 | O103: ='HI2016'!$G105/1000 -> 89.938899 | P103: =100*O103/O$8 -> 0.87522225 | Q103: =World2030!$G105/1000 -> 213.58768 | R103: =100*Q103/Q$8 -> 0.31354873 | S103: ='LI2030'!$G105/1000 -> 4.3379811 | T103: =100*S103/S$8 -> 0.069843565 | U103: ='LMI2030'!$G105/1000 -> 45.911318 | V103: =100*U103/U$8 -> 0.17324956 | W103: ='UMI2030'!$G105/1000 -> 48.726531 | X103: =100*W103/W$8 -> 0.20809243 | Y103: ='HI2030'!$G105/1000 -> 114.61185 | Z103: =100*Y103/Y$8 -> 0.95569302 | AA103: =World2045!$G105/1000 -> 236.02305 | AB103: =100*AA103/AA$8 -> 0.27594505 | AC103: ='LI2045'!$G105/1000 -> 5.5768154 | AD103: =100*AC103/AC$8 -> 0.067291782 | AE103: ='LMI2045'!$G105/1000 -> 47.240898 | AF103: =100*AE103/AE$8 -> 0.1458771 | AG103: ='UMI2045'!$G105/1000 -> 56.081067 | AH103: =100*AG103/AG$8 -> 0.18513623 | AI103: ='HI2045'!$G105/1000 -> 127.12427 | AJ103: =100*AI103/AI$8 -> 0.87254961 | AK103: =World2060!$G105/1000 -> 243.46838 | AL103: =100*AK103/AK$8 -> 0.23909025 | AM103: ='LI2060'!$G105/1000 -> 6.8278572 | AN103: =100*AM103/AM$8 -> 0.056273095 | AO103: ='LMI2060'!$G105/1000 -> 47.219443 | AP103: =100*AO103/AO$8 -> 0.11897337 | AQ103: ='UMI2060'!$G105/1000 -> 60.983204 | AR103: =100*AQ103/AQ$8 -> 0.17590413 | AS103: ='HI2060'!$G105/1000 -> 128.43787 | AT103: =100*AS103/AS$8 -> 0.83726276
A104: 102 | C104: G. | D104: Sense organ diseases | G104: =World2016!$G106/1000 -> 0.63073767 | H104: =100*G104/G$8 -> 0.0011090204 | I104: ='LI2016'!$G106/1000 -> 0 | J104: =100*I104/I$8 -> 0 | K104: ='LMI2016'!$G106/1000 -> 0.05793291 | L104: =100*K104/K$8 -> 0.00026174531 | M104: ='UMI2016'!$G106/1000 -> 0.1631015 | N104: =100*M104/M$8 -> 0.00085366709 | O104: ='HI2016'!$G106/1000 -> 0.40970326 | P104: =100*O104/O$8 -> 0.0039869446 | Q104: =World2030!$G106/1000 -> 0.59341386 | R104: =100*Q104/Q$8 -> 0.00087113715 | S104: ='LI2030'!$G106/1000 -> 0 | T104: =100*S104/S$8 -> 0 | U104: ='LMI2030'!$G106/1000 -> 0.051904633 | V104: =100*U104/U$8 -> 0.00019586575 | W104: ='UMI2030'!$G106/1000 -> 0.15793729 | X104: =100*W104/W$8 -> 0.00067448995 | Y104: ='HI2030'!$G106/1000 -> 0.38357193 | Z104: =100*Y104/Y$8 -> 0.0031984216 | AA104: =World2045!$G106/1000 -> 0.84127442 | AB104: =100*AA104/AA$8 -> 0.00098357136 | AC104: ='LI2045'!$G106/1000 -> 0 | AD104: =100*AC104/AC$8 -> 0 | AE104: ='LMI2045'!$G106/1000 -> 0.074826901 | AF104: =100*AE104/AE$8 -> 0.00023106104 | AG104: ='UMI2045'!$G106/1000 -> 0.23856886 | AH104: =100*AG104/AG$8 -> 0.00078756952 | AI104: ='HI2045'!$G106/1000 -> 0.52787866 | AJ104: =100*AI104/AI$8 -> 0.0036232287 | AK104: =World2060!$G106/1000 -> 1.0440983 | AL104: =100*AK104/AK$8 -> 0.001025323 | AM104: ='LI2060'!$G106/1000 -> 0 | AN104: =100*AM104/AM$8 -> 0 | AO104: ='LMI2060'!$G106/1000 -> 0.10416207 | AP104: =100*AO104/AO$8 -> 0.00026244511 | AQ104: ='UMI2060'!$G106/1000 -> 0.33511206 | AR104: =100*AQ104/AQ$8 -> 0.0009666202 | AS104: ='HI2060'!$G106/1000 -> 0.60482418 | AT104: =100*AS104/AS$8 -> 0.003942737
A105: 110 | C105: H. | D105: Cardiovascular diseases | G105: =World2016!$G107/1000 -> 17858.012 | H105: =100*G105/G$8 -> 31.399583 | I105: ='LI2016'!$G107/1000 -> 793.99557 | J105: =100*I105/I$8 -> 14.818919 | K105: ='LMI2016'!$G107/1000 -> 6166.5632 | L105: =100*K105/K$8 -> 27.861004 | M105: ='UMI2016'!$G107/1000 -> 7707.6762 | N105: =100*M105/M$8 -> 40.341686 | O105: ='HI2016'!$G107/1000 -> 3189.7769 | P105: =100*O105/O$8 -> 31.040671 | Q105: =World2030!$G107/1000 -> 22261.209 | R105: =100*Q105/Q$8 -> 32.679666 | S105: ='LI2030'!$G107/1000 -> 1290.5719 | T105: =100*S105/S$8 -> 20.778823 | U105: ='LMI2030'!$G107/1000 -> 8432.8943 | V105: =100*U105/U$8 -> 31.822114 | W105: ='UMI2030'!$G107/1000 -> 9331.02 | X105: =100*W105/W$8 -> 39.849228 | Y105: ='HI2030'!$G107/1000 -> 3206.7231 | Z105: =100*Y105/Y$8 -> 26.739319 | AA105: =World2045!$G107/1000 -> 28071.948 | AB105: =100*AA105/AA$8 -> 32.820163 | AC105: ='LI2045'!$G107/1000 -> 2181.4886 | AD105: =100*AC105/AC$8 -> 26.322595 | AE105: ='LMI2045'!$G107/1000 -> 10824.977 | AF105: =100*AE105/AE$8 -> 33.426887 | AG105: ='UMI2045'!$G107/1000 -> 11429.798 | AH105: =100*AG105/AG$8 -> 37.732338 | AI105: ='HI2045'!$G107/1000 -> 3635.6842 | AJ105: =100*AI105/AI$8 -> 24.954438 | AK105: =World2060!$G107/1000 -> 32349.075 | AL105: =100*AK105/AK$8 -> 31.767364 | AM105: ='LI2060'!$G107/1000 -> 3624.1486 | AN105: =100*AM105/AM$8 -> 29.869116 | AO105: ='LMI2060'!$G107/1000 -> 13112.744 | AP105: =100*AO105/AO$8 -> 33.038665 | AQ105: ='UMI2060'!$G107/1000 -> 12139.402 | AR105: =100*AQ105/AQ$8 -> 35.015722 | AS105: ='HI2060'!$G107/1000 -> 3472.781 | AT105: =100*AS105/AS$8 -> 22.638417
...

Sheet Top 20 causes
A1: Global Health Estimates (GHE) 2016: Deaths by age, sex and cause
A3: World
A4: 2016 | C4: WORLD, 2000 | G4: 2030 | I4: WORLD, 2011 | M4: 2016 | O4: WORLD, 2011 | S4: 2060 | U4: WORLD, 2011
A5: Rank | B5: GHE code | C5: Cause | D5: Deaths (000s) | E5: % deaths | F5: Deaths per 100,000 population | G5: Rank | H5: GHE code | I5: Cause | J5: Deaths (000s) | K5: % deaths | L5: Deaths per 100,000 population | M5: Rank | N5: GHE code | O5: Cause | P5: Deaths (000s) | Q5: % deaths | R5: Deaths per 100,000 population | S5: Rank | T5: GHE code | U5: Cause | V5: Deaths (000s) | W5: % deaths | X5: Deaths per 100,000 population
A6: 1 | B6: 113 | C6: Ischaemic heart disease | D6: 9433.224 | E6: =100000*D6/World2016!$G$10 -> 16.586354 | F6: =100000*D6/World2016!$G$7 -> 126.41214 | G6: 1 | H6: 113 | I6: Ischaemic heart disease | J6: 11740.367 | K6: =100000*J6/World2030!$G$10 -> 17.234969 | L6: =100000*J6/World2030!$G$7 -> 137.38068 | M6: 1 | N6: 113 | O6: Ischaemic heart disease | P6: 14553.656 | Q6: =100000*P6/World2045!$G$10 -> 17.015326 | R6: =100000*P6/World2045!$G$7 -> 153.22334 | S6: 1 | T6: 113 | U6: Ischaemic heart disease | V6: 16560.299 | W6: =100000*V6/World2060!$G$10 -> 16.262507 | X6: =100000*V6/World2060!$G$7 -> 162.09564
A7: 2 | B7: 114 | C7: Stroke | D7: 5780.6414 | E7: =100000*D7/World2016!$G$10 -> 10.16405 | F7: =100000*D7/World2016!$G$7 -> 77.464844 | G7: 2 | H7: 114 | I7: Stroke | J7: 7180.2224 | K7: =100000*J7/World2030!$G$10 -> 10.540634 | L7: =100000*J7/World2030!$G$7 -> 84.019847 | M7: 2 | N7: 114 | O7: Stroke | P7: 9243.8795 | Q7: =100000*P7/World2045!$G$10 -> 10.807431 | R7: =100000*P7/World2045!$G$7 -> 97.321122 | S7: 2 | T7: 114 | U7: Stroke | V7: 10759.496 | W7: =100000*V7/World2060!$G$10 -> 10.566015 | X7: =100000*V7/World2060!$G$7 -> 105.31618
A8: 3 | B8: 118 | C8: Chronic obstructive pulmonary disease | D8: 3041.446 | E8: =100000*D8/World2016!$G$10 -> 5.3477474 | F8: =100000*D8/World2016!$G$7 -> 40.757612 | G8: 3 | H8: 118 | I8: Chronic obstructive pulmonary disease | J8: 3864.1484 | K8: =100000*J8/World2030!$G$10 -> 5.6726064 | L8: =100000*J8/World2030!$G$7 -> 45.216588 | M8: 3 | N8: 118 | O8: Chronic obstructive pulmonary disease | P8: 5483.7462 | Q8: =100000*P8/World2045!$G$10 -> 6.4112918 | R8: =100000*P8/World2045!$G$7 -> 57.733805 | S8: 3 | T8: 95 | U8: Alzheimer disease and other dementias | V8: 7258.2285 | W8: =100000*V8/World2060!$G$10 -> 7.1277088 | X8: =100000*V8/World2060!$G$7 -> 71.045045
A9: 4 | B9: 39 | C9: Lower respiratory infections | D9: 2957.1359 | E9: =100000*D9/World2016!$G$10 -> 5.1995057 | F9: =100000*D9/World2016!$G$7 -> 39.627795 | G9: 4 | H9: 95 | I9: Alzheimer disease and other dementias | J9: 3281.0693 | K9: =100000*J9/World2030!$G$10 -> 4.8166407 | L9: =100000*J9/World2030!$G$7 -> 38.39365 | M9: 4 | N9: 95 | O9: Alzheimer disease and other dementias | P9: 5384.5922 | Q9: =100000*P9/World2045!$G$10 -> 6.2953663 | R9: =100000*P9/World2045!$G$7 -> 56.689894 | S9: 4 | T9: 118 | U9: Chronic obstructive pulmonary disease | V9: 7053.0569 | W9: =100000*V9/World2060!$G$10 -> 6.9262266 | X9: =100000*V9/World2060!$G$7 -> 69.036783
A10: 5 | B10: 95 | C10: Alzheimer disease and other dementias | D10: 1991.7083 | E10: =100000*D10/World2016!$G$10 -> 3.5020029 | F10: =100000*D10/World2016!$G$7 -> 26.690355 | G10: 5 | H10: 39 | I10: Lower respiratory infections | J10: 3221.2583 | K10: =100000*J10/World2030!$G$10 -> 4.7288376 | L10: =100000*J10/World2030!$G$7 -> 37.693767 | M10: 5 | N10: 39 | O10: Lower respiratory infections | P10: 3842.4553 | Q10: =100000*P10/World2045!$G$10 -> 4.4923854 | R10: =100000*P10/World2045!$G$7 -> 40.454017 | S10: 5 | T10: 80 | U10: Diabetes mellitus | V10: 5128.5589 | W10: =100000*V10/World2060!$G$10 -> 5.0363355 | X10: =100000*V10/World2060!$G$7 -> 50.199397
A11: 6 | B11: 68 | C11: Trachea, bronchus, lung cancers | D11: 1707.7399 | E11: =100000*D11/World2016!$G$10 -> 3.0027039 | F11: =100000*D11/World2016!$G$7 -> 22.884971 | G11: 6 | H11: 80 | I11: Diabetes mellitus | J11: 2412.6356 | K11: =100000*J11/World2030!$G$10 -> 3.5417718 | L11: =100000*J11/World2030!$G$7 -> 28.231615 | M11: 6 | N11: 80 | O11: Diabetes mellitus | P11: 3663.4593 | Q11: =100000*P11/World2045!$G$10 -> 4.2831133 | R11: =100000*P11/World2045!$G$7 -> 38.569517 | S11: 6 | T11: 39 | U11: Lower respiratory infections | V11: 4620.9047 | W11: =100000*V11/World2060!$G$10 -> 4.5378101 | X11: =100000*V11/World2060!$G$7 -> 45.230373
A12: 7 | B12: 80 | C12: Diabetes mellitus | D12: 1598.526 | E12: =100000*D12/World2016!$G$10 -> 2.810674 | F12: =100000*D12/World2016!$G$7 -> 21.421423 | G12: 7 | H12: 68 | I12: Trachea, bronchus, lung cancers | J12: 2018.5212 | K12: =100000*J12/World2030!$G$10 -> 2.9632082 | L12: =100000*J12/World2030!$G$7 -> 23.61986 | M12: 7 | N12: 68 | O12: Trachea, bronchus, lung cancers | P12: 2340.3731 | Q12: =100000*P12/World2045!$G$10 -> 2.7362343 | R12: =100000*P12/World2045!$G$7 -> 24.639842 | S12: 7 | T12: 127 | U12: Kidney diseases | V12: 2784.9036 | W12: =100000*V12/World2060!$G$10 -> 2.7348246 | X12: =100000*V12/World2060!$G$7 -> 27.259213
A13: 8 | B13: 153 | C13: Road injury | D13: 1402.3018 | E13: =100000*D13/World2016!$G$10 -> 2.4656547 | F13: =100000*D13/World2016!$G$7 -> 18.791875 | G13: 8 | H13: 127 | I13: Kidney diseases | J13: 1626.1265 | K13: =100000*J13/World2030!$G$10 -> 2.387169 | L13: =100000*J13/World2030!$G$7 -> 19.028227 | M13: 8 | N13: 127 | O13: Kidney diseases | P13: 2224.5518 | Q13: =100000*P13/World2045!$G$10 -> 2.6008225 | R13: =100000*P13/World2045!$G$7 -> 23.420456 | S13: 8 | T13: 68 | U13: Trachea, bronchus, lung cancers | V13: 2448.8055 | W13: =100000*V13/World2060!$G$10 -> 2.4047703 | X13: =100000*V13/World2060!$G$7 -> 23.969416
A14: 9 | B14: 11 | C14: Diarrhoeal diseases | D14: 1382.7068 | E14: =100000*D14/World2016!$G$10 -> 2.431201 | F14: =100000*D14/World2016!$G$7 -> 18.529287 | G14: 9 | H14: 123 | I14: Cirrhosis of the liver | J14: 1501.9698 | K14: =100000*J14/World2030!$G$10 -> 2.2049059 | L14: =100000*J14/World2030!$G$7 -> 17.575399 | M14: 9 | N14: 123 | O14: Cirrhosis of the liver | P14: 1748.3617 | Q14: =100000*P14/World2045!$G$10 -> 2.0440875 | R14: =100000*P14/World2045!$G$7 -> 18.407047 | S14: 9 | T14: 153 | U14: Road injury | V14: 2260.0095 | W14: =100000*V14/World2060!$G$10 -> 2.2193693 | X14: =100000*V14/World2060!$G$7 -> 22.121441
A15: 10 | B15: 3 | C15: Tuberculosis | D15: 1292.9007 | E15: =100000*D15/World2016!$G$10 -> 2.2732957 | F15: =100000*D15/World2016!$G$7 -> 17.325819 | G15: 10 | H15: 153 | I15: Road injury | J15: 1498.6527 | K15: =100000*J15/World2030!$G$10 -> 2.2000363 | L15: =100000*J15/World2030!$G$7 -> 17.536584 | M15: 10 | N15: 153 | O15: Road injury | P15: 1596.01 | Q15: =100000*P15/World2045!$G$10 -> 1.8659663 | R15: =100000*P15/World2045!$G$7 -> 16.803063 | S15: 10 | T15: 123 | U15: Cirrhosis of the liver | V15: 1989.7948 | W15: =100000*V15/World2060!$G$10 -> 1.9540137 | X15: =100000*V15/World2060!$G$7 -> 19.476524
A16: 11 | B16: 123 | C16: Cirrhosis of the liver | D16: 1254.0714 | E16: =100000*D16/World2016!$G$10 -> 2.2050226 | F16: =100000*D16/World2016!$G$7 -> 16.805479 | G16: 11 | H16: 11 | I16: Diarrhoeal diseases | J16: 1236.1805 | K16: =100000*J16/World2030!$G$10 -> 1.8147247 | L16: =100000*J16/World2030!$G$7 -> 14.465248 | M16: 11 | N16: 112 | O16: Hypertensive heart disease | P16: 1594.2791 | Q16: =100000*P16/World2045!$G$10 -> 1.8639426 | R16: =100000*P16/World2045!$G$7 -> 16.784839 | S16: 11 | T16: 112 | U16: Hypertensive heart disease | V16: 1910.0347 | W16: =100000*V16/World2060!$G$10 -> 1.8756879 | X16: =100000*V16/World2060!$G$7 -> 18.695815
A17: 12 | B17: 127 | C17: Kidney diseases | D17: 1179.8387 | E17: =100000*D17/World2016!$G$10 -> 2.0744999 | F17: =100000*D17/World2016!$G$7 -> 15.810706 | G17: 12 | H17: 112 | I17: Hypertensive heart disease | J17: 1203.4148 | K17: =100000*J17/World2030!$G$10 -> 1.7666243 | L17: =100000*J17/World2030!$G$7 -> 14.081838 | M17: 12 | N17: 66 | O17: Liver cancer | P17: 1441.4463 | Q17: =100000*P17/World2045!$G$10 -> 1.685259 | R17: =100000*P17/World2045!$G$7 -> 15.17579 | S17: 12 | T17: 65 | U17: Colon and rectum cancers | V17: 1705.7693 | W17: =100000*V17/World2060!$G$10 -> 1.6750956 | X17: =100000*V17/World2060!$G$7 -> 16.696424
... A25: 20 | B25: 51 | C25: Birth asphyxia and birth trauma | D25: 678.6383 | E25: =100000*D25/World2016!$G$10 -> 1.1932437 | F25: =100000*D25/World2016!$G$7 -> 9.0942521 | G25: 20 | H25: 50 | I25: Preterm birth complications | J25: 755.75282 | K25: =100000*J25/World2030!$G$10 -> 1.1094523 | L25: =100000*J25/World2030!$G$7 -> 8.8434916 | M25: 20 | N25: 74 | O25: Prostate cancer | P25: 843.92138 | Q25: =100000*P25/World2045!$G$10 -> 0.98666604 | R25: =100000*P25/World2045!$G$7 -> 8.8849466 | S25: 20 | T25: 63 | U25: Oesophagus cancer | V25: 977.28342 | W25: =100000*V25/World2060!$G$10 -> 0.9597096 | X25: =100000*V25/World2060!$G$7 -> 9.5658526
A27: Low-income countries
A28: 2016 | C28: WORLD, 2000 | G28: 2030 | I28: WORLD, 2011 | M28: 2016 | O28: WORLD, 2011 | S28: 2060 | U28: WORLD, 2011
A29: Rank | B29: GHE code | C29: Cause | D29: Deaths (000s) | E29: % deaths | F29: Deaths per 100,000 population | G29: Rank | H29: GHE code | I29: Cause | J29: Deaths (000s) | K29: % deaths | L29: Deaths per 100,000 population | M29: Rank | N29: GHE code | O29: Cause | P29: Deaths (000s) | Q29: % deaths | R29: Deaths per 100,000 population | S29: Rank | T29: GHE code | U29: Cause | V29: Deaths (000s) | W29: % deaths | X29: Deaths per 100,000 population
A30: 1 | B30: 39 | C30: Lower respiratory infections | D30: 499.83941 | E30: =100000*D30/'LI2016'!$G$10 -> 9.3288676 | F30: =100000*D30/'LI2016'!$G$7 -> 75.816795 | G30: 1 | H30: 113 | I30: Ischaemic heart disease | J30: 575.07962 | K30: =100000*J30/'LI2030'!$G$10 -> 9.2590562 | L30: =100000*J30/'LI2030'!$G$7 -> 61.446342 | M30: 1 | N30: 113 | O30: Ischaemic heart disease | P30: 981.92277 | Q30: =100000*P30/'LI2045'!$G$10 -> 11.848219 | R30: =100000*P30/'LI2045'!$G$7 -> 76.221773 | S30: 1 | T30: 113 | U30: Ischaemic heart disease | V30: 1647.2247 | W30: =100000*V30/'LI2060'!$G$10 -> 13.575918 | X30: =100000*V30/'LI2060'!$G$7 -> 98.892978
A31: 2 | B31: 11 | C31: Diarrhoeal diseases | D31: 383.39991 | E31: =100000*D31/'LI2016'!$G$10 -> 7.1556722 | F31: =100000*D31/'LI2016'!$G$7 -> 58.154983 | G31: 2 | H31: 39 | I31: Lower respiratory infections | J31: 449.98587 | K31: =100000*J31/'LI2030'!$G$10 -> 7.2449872 | L31: =100000*J31/'LI2030'!$G$7 -> 48.080274 | M31: 2 | N31: 114 | O31: Stroke | P31: 742.02026 | Q31: =100000*P31/'LI2045'!$G$10 -> 8.9534729 | R31: =100000*P31/'LI2045'!$G$7 -> 57.599337 | S31: 2 | T31: 153 | U31: Road injury | V31: 1299.869 | W31: =100000*V31/'LI2060'!$G$10 -> 10.71312 | X31: =100000*V31/'LI2060'!$G$7 -> 78.039091
A32: 3 | B32: 113 | C32: Ischaemic heart disease | D32: 349.07579 | E32: =100000*D32/'LI2016'!$G$10 -> 6.5150562 | F32: =100000*D32/'LI2016'!$G$7 -> 52.948622 | G32: 3 | H32: 114 | I32: Stroke | J32: 442.68271 | K32: =100000*J32/'LI2030'!$G$10 -> 7.1274028 | L32: =100000*J32/'LI2030'!$G$7 -> 47.299943 | M32: 3 | N32: 153 | O32: Road injury | P32: 630.4241 | Q32: =100000*P32/'LI2045'!$G$10 -> 7.6069151 | R32: =100000*P32/'LI2045'!$G$7 -> 48.936682 | S32: 3 | T32: 114 | U32: Stroke | V32: 1214.2982 | W32: =100000*V32/'LI2060'!$G$10 -> 10.007871 | X32: =100000*V32/'LI2060'!$G$7 -> 72.901749
A33: 4 | B33: 10 | C33: HIV/AIDS | D33: 292.09713 | E33: =100000*D33/'LI2016'!$G$10 -> 5.4516218 | F33: =100000*D33/'LI2016'!$G$7 -> 44.305967 | G33: 4 | H33: 11 | I33: Diarrhoeal diseases | J33: 330.39911 | K33: =100000*J33/'LI2030'!$G$10 -> 5.3195832 | L33: =100000*J33/'LI2030'!$G$7 -> 35.302619 | M33: 4 | N33: 39 | O33: Lower respiratory infections | P33: 439.29144 | Q33: =100000*P33/'LI2045'!$G$10 -> 5.3006423 | R33: =100000*P33/'LI2045'!$G$7 -> 34.100006 | S33: 4 | T33: 39 | U33: Lower respiratory infections | V33: 532.92659 | W33: =100000*V33/'LI2060'!$G$10 -> 4.3922167 | X33: =100000*V33/'LI2060'!$G$7 -> 31.994844
A34: 5 | B34: 114 | C34: Stroke | D34: 278.30992 | E34: =100000*D34/'LI2016'!$G$10 -> 5.1943011 | F34: =100000*D34/'LI2016'!$G$7 -> 42.214691 | G34: 5 | H34: 153 | I34: Road injury | J34: 314.96695 | K34: =100000*J34/'LI2030'!$G$10 -> 5.0711181 | L34: =100000*J34/'LI2030'!$G$7 -> 33.653717 | M34: 5 | N34: 11 | O34: Diarrhoeal diseases | P34: 311.61411 | Q34: =100000*P34/'LI2045'!$G$10 -> 3.7600436 | R34: =100000*P34/'LI2045'!$G$7 -> 24.189051 | S34: 5 | T34: 80 | U34: Diabetes mellitus | V34: 433.12204 | W34: =100000*V34/'LI2060'!$G$10 -> 3.5696584 | X34: =100000*V34/'LI2060'!$G$7 -> 26.002966
A35: 6 | B35: 22 | C35: Malaria | D35: 247.60166 | E35: =100000*D35/'LI2016'!$G$10 -> 4.6211704 | F35: =100000*D35/'LI2016'!$G$7 -> 37.556791 | G35: 6 | H35: 3 | I35: Tuberculosis | J35: 259.50013 | K35: =100000*J35/'LI2030'!$G$10 -> 4.1780758 | L35: =100000*J35/'LI2030'!$G$7 -> 27.727175 | M35: 6 | N35: 3 | O35: Tuberculosis | P35: 297.30688 | Q35: =100000*P35/'LI2045'!$G$10 -> 3.5874076 | R35: =100000*P35/'LI2045'!$G$7 -> 23.078452 | S35: 6 | T35: 11 | U35: Diarrhoeal diseases | V35: 371.89634 | W35: =100000*V35/'LI2060'!$G$10 -> 3.065055 | X35: =100000*V35/'LI2060'!$G$7 -> 22.327213
A36: 7 | B36: 3 | C36: Tuberculosis | D36: 225.92788 | E36: =100000*D36/'LI2016'!$G$10 -> 4.2166568 | F36: =100000*D36/'LI2016'!$G$7 -> 34.269262 | G36: 7 | H36: 10 | I36: HIV/AIDS | J36: 195.45223 | K36: =100000*J36/'LI2030'!$G$10 -> 3.1468742 | L36: =100000*J36/'LI2030'!$G$7 -> 20.88376 | M36: 7 | N36: 80 | O36: Diabetes mellitus | P36: 243.58192 | Q36: =100000*P36/'LI2045'!$G$10 -> 2.9391437 | R36: =100000*P36/'LI2045'!$G$7 -> 18.908051 | S36: 7 | T36: 118 | U36: Chronic obstructive pulmonary disease | V36: 350.43807 | W36: =100000*V36/'LI2060'!$G$10 -> 2.8882026 | X36: =100000*V36/'LI2060'!$G$7 -> 21.038941
A37: 8 | B37: 50 | C37: Preterm birth complications | D37: 212.10023 | E37: =100000*D37/'LI2016'!$G$10 -> 3.9585814 | F37: =100000*D37/'LI2016'!$G$7 -> 32.171853 | G37: 8 | H37: 22 | I37: Malaria | J37: 179.76403 | K37: =100000*J37/'LI2030'!$G$10 -> 2.8942866 | L37: =100000*J37/'LI2030'!$G$7 -> 19.207501 | M37: 8 | N37: 118 | O37: Chronic obstructive pulmonary disease | P37: 231.19424 | Q37: =100000*P37/'LI2045'!$G$10 -> 2.7896695 | R37: =100000*P37/'LI2045'!$G$7 -> 17.946457 | S37: 8 | T37: 3 | U37: Tuberculosis | V37: 301.06517 | W37: =100000*V37/'LI2060'!$G$10 -> 2.4812864 | X37: =100000*V37/'LI2060'!$G$7 -> 18.074785
A38: 9 | B38: 51 | C38: Birth asphyxia and birth trauma | D38: 201.39503 | E38: =100000*D38/'LI2016'!$G$10 -> 3.7587823 | F38: =100000*D38/'LI2016'!$G$7 -> 30.548062 | G38: 9 | H38: 50 | I38: Preterm birth complications | J38: 173.14042 | K38: =100000*J38/'LI2030'!$G$10 -> 2.7876433 | L38: =100000*J38/'LI2030'!$G$7 -> 18.499778 | M38: 9 | N38: 123 | O38: Cirrhosis of the liver | P38: 167.58045 | Q38: =100000*P38/'LI2045'!$G$10 -> 2.0220837 | R38: =100000*P38/'LI2045'!$G$7 -> 13.008436 | S38: 9 | T38: 95 | U38: Alzheimer disease and other dementias | V38: 253.66523 | W38: =100000*V38/'LI2060'!$G$10 -> 2.0906306 | X38: =100000*V38/'LI2060'!$G$7 -> 15.229076
A39: 10 | B39: 153 | C39: Road injury | D39: 193.57665 | E39: =100000*D39/'LI2016'!$G$10 -> 3.6128622 | F39: =100000*D39/'LI2016'!$G$7 -> 29.362153 | G39: 10 | H39: 51 | I39: Birth asphyxia and birth trauma | J39: 161.49582 | K39: =100000*J39/'LI2030'!$G$10 -> 2.6001598 | L39: =100000*J39/'LI2030'!$G$7 -> 17.255572 | M39: 10 | N39: 10 | O39: HIV/AIDS | P39: 162.87838 | Q39: =100000*P39/'LI2045'!$G$10 -> 1.9653468 | R39: =100000*P39/'LI2045'!$G$7 -> 12.643437 | S39: 10 | T39: 123 | U39: Cirrhosis of the liver | V39: 234.16688 | W39: =100000*V39/'LI2060'!$G$10 -> 1.9299312 | X39: =100000*V39/'LI2060'!$G$7 -> 14.058471
A40: 11 | B40: 55 | C40: Protein-energy malnutrition | D40: 135.07447 | E40: =100000*D40/'LI2016'!$G$10 -> 2.5209934 | F40: =100000*D40/'LI2016'!$G$7 -> 20.488408 | G40: 11 | H40: 118 | I40: Chronic obstructive pulmonary disease | J40: 154.72028 | K40: =100000*J40/'LI2030'!$G$10 -> 2.4910703 | L40: =100000*J40/'LI2030'!$G$7 -> 16.531616 | M40: 11 | N40: 140 | O40: Congenital anomalies | P40: 157.04189 | Q40: =100000*P40/'LI2045'!$G$10 -> 1.8949217 | R40: =100000*P40/'LI2045'!$G$7 -> 12.19038 | S40: 11 | T40: 112 | U40: Hypertensive heart disease | V40: 231.31415 | W40: =100000*V40/'LI2060'!$G$10 -> 1.9064199 | X40: =100000*V40/'LI2060'!$G$7 -> 13.887204
A41: 12 | B41: 52 | C41: Neonatal sepsis and infections | D41: 116.25619 | E41: =100000*D41/'LI2016'!$G$10 -> 2.1697741 | F41: =100000*D41/'LI2016'!$G$7 -> 17.634007 | G41: 12 | H41: 80 | I41: Diabetes mellitus | J41: 143.0174 | K41: =100000*J41/'LI2030'!$G$10 -> 2.3026484 | L41: =100000*J41/'LI2030'!$G$7 -> 15.281182 | M41: 12 | N41: 22 | O41: Malaria | P41: 143.61945 | Q41: =100000*P41/'LI2045'!$G$10 -> 1.7329619 | R41: =100000*P41/'LI2045'!$G$7 -> 11.148463 | S41: 12 | T41: 70 | U41: Breast cancer | V41: 227.94497 | W41: =100000*V41/'LI2060'!$G$10 -> 1.8786522 | X41: =100000*V41/'LI2060'!$G$7 -> 13.684931
... A49: 20 | B49: 95 | C49: Alzheimer disease and other dementias | D49: 54.828855 | E49: =100000*D49/'LI2016'!$G$10 -> 1.0233109 | F49: =100000*D49/'LI2016'!$G$7 -> 8.3165673 | G49: 20 | H49: 112 | I49: Hypertensive heart disease | J49: 78.211215 | K49: =100000*J49/'LI2030'!$G$10 -> 1.2592379 | L49: =100000*J49/'LI2030'!$G$7 -> 8.3567438 | M49: 20 | N49: 127 | O49: Kidney diseases | P49: 107.2365 | Q49: =100000*P49/'LI2045'!$G$10 -> 1.2939527 | R49: =100000*P49/'LI2045'!$G$7 -> 8.3242353 | S49: 20 | T49: 22 | U49: Malaria | V49: 123.43793 | W49: =100000*V49/'LI2060'!$G$10 -> 1.0173374 | X49: =100000*V49/'LI2060'!$G$7 -> 7.4107341
A51: Lower-middle-income countries
A52: 2016 | C52: WORLD, 2000 | G52: 2030 | I52: WORLD, 2011 | M52: 2016 | O52: WORLD, 2011 | S52: 2060 | U52: WORLD, 2011
A53: Rank | B53: GHE code | C53: Cause | D53: Deaths (000s) | E53: % deaths | F53: Deaths per 100,000 population | G53: Rank | H53: GHE code | I53: Cause | J53: Deaths (000s) | K53: % deaths | L53: Deaths per 100,000 population | M53: Rank | N53: GHE code | O53: Cause | P53: Deaths (000s) | Q53: % deaths | R53: Deaths per 100,000 population | S53: Rank | T53: GHE code | U53: Cause | V53: Deaths (000s) | W53: % deaths | X53: Deaths per 100,000 population
A54: 1 | B54: 113 | C54: Ischaemic heart disease | D54: 3597.3823 | E54: =100000*D54/'LMI2016'!$G$10 -> 16.253248 | F54: =100000*D54/'LMI2016'!$G$7 -> 119.41797 | G54: 1 | H54: 113 | I54: Ischaemic heart disease | J54: 4912.7528 | K54: =100000*J54/'LMI2030'!$G$10 -> 18.538615 | L54: =100000*J54/'LMI2030'!$G$7 -> 136.66251 | M54: 1 | N54: 113 | O54: Ischaemic heart disease | P54: 6161.6624 | Q54: =100000*P54/'LMI2045'!$G$10 -> 19.026849 | R54: =100000*P54/'LMI2045'!$G$7 -> 149.31544 | S54: 1 | T54: 113 | U54: Ischaemic heart disease | V54: 7261.7745 | W54: =100000*V54/'LMI2060'!$G$10 -> 18.296653 | X54: =100000*V54/'LMI2060'!$G$7 -> 160.33889
A55: 2 | B55: 114 | C55: Stroke | D55: 1855.2793 | E55: =100000*D55/'LMI2016'!$G$10 -> 8.3822936 | F55: =100000*D55/'LMI2016'!$G$7 -> 61.587475 | G55: 2 | H55: 114 | I55: Stroke | J55: 2562.6015 | K55: =100000*J55/'LMI2030'!$G$10 -> 9.6701553 | L55: =100000*J55/'LMI2030'!$G$7 -> 71.286214 | M55: 2 | N55: 114 | O55: Stroke | P55: 3413.0231 | Q55: =100000*P55/'LMI2045'!$G$10 -> 10.539213 | R55: =100000*P55/'LMI2045'!$G$7 -> 82.707719 | S55: 2 | T55: 114 | U55: Stroke | V55: 4288.1196 | W55: =100000*V55/'LMI2060'!$G$10 -> 10.804279 | X55: =100000*V55/'LMI2060'!$G$7 -> 94.681035
A56: 3 | B56: 39 | C56: Lower respiratory infections | D56: 1447.9064 | E56: =100000*D56/'LMI2016'!$G$10 -> 6.5417517 | F56: =100000*D56/'LMI2016'!$G$7 -> 48.064407 | G56: 3 | H56: 118 | I56: Chronic obstructive pulmonary disease | J56: 1613.791 | K56: =100000*J56/'LMI2030'!$G$10 -> 6.0897527 | L56: =100000*J56/'LMI2030'!$G$7 -> 44.89229 | M56: 3 | N56: 118 | O56: Chronic obstructive pulmonary disease | P56: 2227.0237 | Q56: =100000*P56/'LMI2045'!$G$10 -> 6.8769174 | R56: =100000*P56/'LMI2045'!$G$7 -> 53.96742 | S56: 3 | T56: 118 | U56: Chronic obstructive pulmonary disease | V56: 3010.4801 | W56: =100000*V56/'LMI2060'!$G$10 -> 7.5851584 | X56: =100000*V56/'LMI2060'!$G$7 -> 66.470947
A57: 4 | B57: 118 | C57: Chronic obstructive pulmonary disease | D57: 1183.8942 | E57: =100000*D57/'LMI2016'!$G$10 -> 5.3489246 | F57: =100000*D57/'LMI2016'!$G$7 -> 39.300313 | G57: 4 | H57: 39 | I57: Lower respiratory infections | J57: 1508.2365 | K57: =100000*J57/'LMI2030'!$G$10 -> 5.6914353 | L57: =100000*J57/'LMI2030'!$G$7 -> 41.955983 | M57: 4 | N57: 39 | O57: Lower respiratory infections | P57: 1714.7882 | Q57: =100000*P57/'LMI2045'!$G$10 -> 5.2951645 | R57: =100000*P57/'LMI2045'!$G$7 -> 41.554428 | S57: 4 | T57: 80 | U57: Diabetes mellitus | V57: 2466.4893 | W57: =100000*V57/'LMI2060'!$G$10 -> 6.2145278 | X57: =100000*V57/'LMI2060'!$G$7 -> 54.459713
A58: 5 | B58: 3 | C58: Tuberculosis | D58: 932.35135 | E58: =100000*D58/'LMI2016'!$G$10 -> 4.2124347 | F58: =100000*D58/'LMI2016'!$G$7 -> 30.950147 | G58: 5 | H58: 80 | I58: Diabetes mellitus | J58: 1088.4542 | K58: =100000*J58/'LMI2030'!$G$10 -> 4.1073579 | L58: =100000*J58/'LMI2030'!$G$7 -> 30.27852 | M58: 5 | N58: 80 | O58: Diabetes mellitus | P58: 1666.5663 | Q58: =100000*P58/'LMI2045'!$G$10 -> 5.1462582 | R58: =100000*P58/'LMI2045'!$G$7 -> 40.385868 | S58: 5 | T58: 39 | U58: Lower respiratory infections | V58: 2092.8245 | W58: =100000*V58/'LMI2060'!$G$10 -> 5.2730477 | X58: =100000*V58/'LMI2060'!$G$7 -> 46.20925
A59: 6 | B59: 11 | C59: Diarrhoeal diseases | D59: 911.45094 | E59: =100000*D59/'LMI2016'!$G$10 -> 4.118005 | F59: =100000*D59/'LMI2016'!$G$7 -> 30.256341 | G59: 6 | H59: 123 | I59: Cirrhosis of the liver | J59: 818.9328 | K59: =100000*J59/'LMI2030'!$G$10 -> 3.0903 | L59: =100000*J59/'LMI2030'!$G$7 -> 22.780998 | M59: 6 | N59: 95 | O59: Alzheimer disease and other dementias | P59: 991.64378 | Q59: =100000*P59/'LMI2045'!$G$10 -> 3.0621373 | R59: =100000*P59/'LMI2045'!$G$7 -> 24.030483 | S59: 6 | T59: 95 | U59: Alzheimer disease and other dementias | V59: 1524.4425 | W59: =100000*V59/'LMI2060'!$G$10 -> 3.8409613 | X59: =100000*V59/'LMI2060'!$G$7 -> 33.65946
A60: 7 | B60: 80 | C60: Diabetes mellitus | D60: 691.29902 | E60: =100000*D60/'LMI2016'!$G$10 -> 3.1233418 | F60: =100000*D60/'LMI2016'!$G$7 -> 22.948222 | G60: 7 | H60: 11 | I60: Diarrhoeal diseases | J60: 799.80148 | K60: =100000*J60/'LMI2030'!$G$10 -> 3.0181066 | L60: =100000*J60/'LMI2030'!$G$7 -> 22.248804 | M60: 7 | N60: 123 | O60: Cirrhosis of the liver | P60: 976.15999 | Q60: =100000*P60/'LMI2045'!$G$10 -> 3.0143243 | R60: =100000*P60/'LMI2045'!$G$7 -> 23.655265 | S60: 7 | T60: 127 | U60: Kidney diseases | V60: 1169.4321 | W60: =100000*V60/'LMI2060'!$G$10 -> 2.9464829 | X60: =100000*V60/'LMI2060'!$G$7 -> 25.820886
A61: 8 | B61: 50 | C61: Preterm birth complications | D61: 684.68849 | E61: =100000*D61/'LMI2016'!$G$10 -> 3.0934749 | F61: =100000*D61/'LMI2016'!$G$7 -> 22.72878 | G61: 8 | H61: 3 | I61: Tuberculosis | J61: 786.36128 | K61: =100000*J61/'LMI2030'!$G$10 -> 2.9673891 | L61: =100000*J61/'LMI2030'!$G$7 -> 21.874926 | M61: 8 | N61: 127 | O61: Kidney diseases | P61: 917.9582 | Q61: =100000*P61/'LMI2045'!$G$10 -> 2.8346006 | R61: =100000*P61/'LMI2045'!$G$7 -> 22.244862 | S61: 8 | T61: 123 | U61: Cirrhosis of the liver | V61: 1154.0989 | W61: =100000*V61/'LMI2060'!$G$10 -> 2.9078495 | X61: =100000*V61/'LMI2060'!$G$7 -> 25.48233
A62: 9 | B62: 123 | C62: Cirrhosis of the liver | D62: 661.23067 | E62: =100000*D62/'LMI2016'!$G$10 -> 2.9874907 | F62: =100000*D62/'LMI2016'!$G$7 -> 21.950079 | G62: 9 | H62: 153 | I62: Road injury | J62: 727.40555 | K62: =100000*J62/'LMI2030'!$G$10 -> 2.7449155 | L62: =100000*J62/'LMI2030'!$G$7 -> 20.234901 | M62: 9 | N62: 11 | O62: Diarrhoeal diseases | P62: 834.4244 | Q62: =100000*P62/'LMI2045'!$G$10 -> 2.5766532 | R62: =100000*P62/'LMI2045'!$G$7 -> 20.220589 | S62: 9 | T62: 11 | U62: Diarrhoeal diseases | V62: 980.69363 | W62: =100000*V62/'LMI2060'!$G$10 -> 2.4709403 | X62: =100000*V62/'LMI2060'!$G$7 -> 21.653568
A63: 10 | B63: 153 | C63: Road injury | D63: 599.04169 | E63: =100000*D63/'LMI2016'!$G$10 -> 2.7065161 | F63: =100000*D63/'LMI2016'!$G$7 -> 19.885667 | G63: 10 | H63: 127 | I63: Kidney diseases | J63: 698.42737 | K63: =100000*J63/'LMI2030'!$G$10 -> 2.6355643 | L63: =100000*J63/'LMI2030'!$G$7 -> 19.428789 | M63: 10 | N63: 3 | O63: Tuberculosis | P63: 687.91993 | Q63: =100000*P63/'LMI2045'!$G$10 -> 2.124256 | R63: =100000*P63/'LMI2045'!$G$7 -> 16.670349 | S63: 10 | T63: 155 | U63: Falls | V63: 796.33772 | W63: =100000*V63/'LMI2060'!$G$10 -> 2.0064401 | X63: =100000*V63/'LMI2060'!$G$7 -> 17.583017
A64: 11 | B64: 127 | C64: Kidney diseases | D64: 510.68121 | E64: =100000*D64/'LMI2016'!$G$10 -> 2.3072967 | F64: =100000*D64/'LMI2016'!$G$7 -> 16.95247 | G64: 11 | H64: 95 | I64: Alzheimer disease and other dementias | J64: 596.63154 | K64: =100000*J64/'LMI2030'!$G$10 -> 2.2514307 | L64: =100000*J64/'LMI2030'!$G$7 -> 16.597041 | M64: 11 | N64: 153 | O64: Road injury | P64: 649.65675 | Q64: =100000*P64/'LMI2045'!$G$10 -> 2.0061016 | R64: =100000*P64/'LMI2045'!$G$7 -> 15.743119 | S64: 11 | T64: 153 | U64: Road injury | V64: 699.6148 | W64: =100000*V64/'LMI2060'!$G$10 -> 1.7627385 | X64: =100000*V64/'LMI2060'!$G$7 -> 15.447389
A65: 12 | B65: 10 | C65: HIV/AIDS | D65: 466.85466 | E65: =100000*D65/'LMI2016'!$G$10 -> 2.109285 | F65: =100000*D65/'LMI2016'!$G$7 -> 15.497613 | G65: 12 | H65: 50 | I65: Preterm birth complications | J65: 516.10961 | K65: =100000*J65/'LMI2030'!$G$10 -> 1.9475755 | L65: =100000*J65/'LMI2030'!$G$7 -> 14.35709 | M65: 12 | N65: 155 | O65: Falls | P65: 613.99414 | Q65: =100000*P65/'LMI2045'!$G$10 -> 1.8959776 | R65: =100000*P65/'LMI2045'!$G$7 -> 14.878907 | S65: 12 | T65: 119 | U65: Asthma | V65: 659.91828 | W65: =100000*V65/'LMI2060'!$G$10 -> 1.6627198 | X65: =100000*V65/'LMI2060'!$G$7 -> 14.570896
... A73: 20 | B73: 52 | C73: Neonatal sepsis and infections | D73: 252.39153 | E73: =100000*D73/'LMI2016'!$G$10 -> 1.1403242 | F73: =100000*D73/'LMI2016'!$G$7 -> 8.3783382 | G73: 20 | H73: 140 | I73: Congenital anomalies | J73: 311.44871 | K73: =100000*J73/'LMI2030'!$G$10 -> 1.1752734 | L73: =100000*J73/'LMI2030'!$G$7 -> 8.6638515 | M73: 20 | N73: 62 | O73: Mouth and oropharynx cancers | P73: 323.54483 | Q73: =100000*P73/'LMI2045'!$G$10 -> 0.9990873 | R73: =100000*P73/'LMI2045'!$G$7 -> 7.8404553 | S73: 20 | T73: 65 | U73: Colon and rectum cancers | V73: 376.83912 | W73: =100000*V73/'LMI2060'!$G$10 -> 0.94947794 | X73: =100000*V73/'LMI2060'!$G$7 -> 8.3205511
A75: Upper-middle-income countries
A76: 2016 | C76: WORLD, 2000 | G76: 2030 | I76: WORLD, 2011 | M76: 2016 | O76: WORLD, 2011 | S76: 2060 | U76: WORLD, 2011
A77: Rank | B77: GHE code | C77: Cause | D77: Deaths (000s) | E77: % deaths | F77: Deaths per 100,000 population | G77: Rank | H77: GHE code | I77: Cause | J77: Deaths (000s) | K77: % deaths | L77: Deaths per 100,000 population | M77: Rank | N77: GHE code | O77: Cause | P77: Deaths (000s) | Q77: % deaths | R77: Deaths per 100,000 population | S77: Rank | T77: GHE code | U77: Cause | V77: Deaths (000s) | W77: % deaths | X77: Deaths per 100,000 population
A78: 1 | B78: 113 | C78: Ischaemic heart disease | D78: 3761.8017 | E78: =100000*D78/'UMI2016'!$G$10 -> 19.689128 | F78: =100000*D78/'UMI2016'!$G$7 -> 143.88749 | G78: 1 | H78: 113 | I78: Ischaemic heart disease | J78: 4560.8037 | K78: =100000*J78/'UMI2030'!$G$10 -> 19.477453 | L78: =100000*J78/'UMI2030'!$G$7 -> 164.29862 | M78: 1 | N78: 113 | O78: Ischaemic heart disease | P78: 5513.5733 | Q78: =100000*P78/'UMI2045'!$G$10 -> 18.201547 | R78: =100000*P78/'UMI2045'!$G$7 -> 196.10114 | S78: 1 | T78: 113 | U78: Ischaemic heart disease | V78: 5857.1394 | W78: =100000*V78/'UMI2060'!$G$10 -> 16.894734 | X78: =100000*V78/'UMI2060'!$G$7 -> 213.64568
A79: 2 | B79: 114 | C79: Stroke | D79: 2905.6273 | E79: =100000*D79/'UMI2016'!$G$10 -> 15.207943 | F79: =100000*D79/'UMI2016'!$G$7 -> 111.13914 | G79: 2 | H79: 114 | I79: Stroke | J79: 3470.7238 | K79: =100000*J79/'UMI2030'!$G$10 -> 14.822138 | L79: =100000*J79/'UMI2030'!$G$7 -> 125.02952 | M79: 2 | N79: 114 | O79: Stroke | P79: 4258.793 | Q79: =100000*P79/'UMI2045'!$G$10 -> 14.059235 | R79: =100000*P79/'UMI2045'!$G$7 -> 151.4724 | S79: 2 | T79: 114 | U79: Stroke | V79: 4425.6852 | W79: =100000*V79/'UMI2060'!$G$10 -> 12.76575 | X79: =100000*V79/'UMI2060'!$G$7 -> 161.4318
A80: 3 | B80: 118 | C80: Chronic obstructive pulmonary disease | D80: 1194.5593 | E80: =100000*D80/'UMI2016'!$G$10 -> 6.2522783 | F80: =100000*D80/'UMI2016'!$G$7 -> 45.69144 | G80: 3 | H80: 118 | I80: Chronic obstructive pulmonary disease | J80: 1421.9162 | K80: =100000*J80/'UMI2030'!$G$10 -> 6.0724617 | L80: =100000*J80/'UMI2030'!$G$7 -> 51.223177 | M80: 3 | N80: 95 | O80: Alzheimer disease and other dementias | P80: 2367.0554 | Q80: =100000*P80/'UMI2045'!$G$10 -> 7.8141829 | R80: =100000*P80/'UMI2045'!$G$7 -> 84.189008 | S80: 3 | T80: 95 | U80: Alzheimer disease and other dementias | V80: 3273.9217 | W80: =100000*V80/'UMI2060'!$G$10 -> 9.4435243 | X80: =100000*V80/'UMI2060'!$G$7 -> 119.41994
A81: 4 | B81: 68 | C81: Trachea, bronchus, lung cancers | D81: 874.24831 | E81: =100000*D81/'UMI2016'!$G$10 -> 4.5757826 | F81: =100000*D81/'UMI2016'!$G$7 -> 33.439666 | G81: 4 | H81: 95 | I81: Alzheimer disease and other dementias | J81: 1349.7886 | K81: =100000*J81/'UMI2030'!$G$10 -> 5.7644323 | L81: =100000*J81/'UMI2030'!$G$7 -> 48.62485 | M81: 4 | N81: 118 | O81: Chronic obstructive pulmonary disease | P81: 2173.7359 | Q81: =100000*P81/'UMI2045'!$G$10 -> 7.1759915 | R81: =100000*P81/'UMI2045'!$G$7 -> 77.313215 | S81: 4 | T81: 118 | U81: Chronic obstructive pulmonary disease | V81: 2753.7113 | W81: =100000*V81/'UMI2060'!$G$10 -> 7.9429935 | X81: =100000*V81/'UMI2060'!$G$7 -> 100.44468
A82: 5 | B82: 95 | C82: Alzheimer disease and other dementias | D82: 827.34545 | E82: =100000*D82/'UMI2016'!$G$10 -> 4.3302948 | F82: =100000*D82/'UMI2016'!$G$7 -> 31.64565 | G82: 5 | H82: 68 | I82: Trachea, bronchus, lung cancers | J82: 1075.7603 | K82: =100000*J82/'UMI2030'!$G$10 -> 4.5941622 | L82: =100000*J82/'UMI2030'!$G$7 -> 38.753244 | M82: 5 | N82: 80 | O82: Diabetes mellitus | P82: 1288.439 | Q82: =100000*P82/'UMI2045'!$G$10 -> 4.2534272 | R82: =100000*P82/'UMI2045'!$G$7 -> 45.825882 | S82: 5 | T82: 80 | U82: Diabetes mellitus | V82: 1686.6725 | W82: =100000*V82/'UMI2060'!$G$10 -> 4.8651536 | X82: =100000*V82/'UMI2060'!$G$7 -> 61.523256
A83: 6 | B83: 39 | C83: Lower respiratory infections | D83: 570.78171 | E83: =100000*D83/'UMI2016'!$G$10 -> 2.9874499 | F83: =100000*D83/'UMI2016'!$G$7 -> 21.832184 | G83: 6 | H83: 80 | I83: Diabetes mellitus | J83: 840.27675 | K83: =100000*J83/'UMI2030'!$G$10 -> 3.5885016 | L83: =100000*J83/'UMI2030'!$G$7 -> 30.270171 | M83: 6 | N83: 68 | O83: Trachea, bronchus, lung cancers | P83: 1282.2327 | Q83: =100000*P83/'UMI2045'!$G$10 -> 4.2329388 | R83: =100000*P83/'UMI2045'!$G$7 -> 45.605142 | S83: 6 | T83: 68 | U83: Trachea, bronchus, lung cancers | V83: 1310.6323 | W83: =100000*V83/'UMI2060'!$G$10 -> 3.7804777 | X83: =100000*V83/'UMI2060'!$G$7 -> 47.806773
A84: 7 | B84: 80 | C84: Diabetes mellitus | D84: 546.49053 | E84: =100000*D84/'UMI2016'!$G$10 -> 2.8603108 | F84: =100000*D84/'UMI2016'!$G$7 -> 20.903056 | G84: 7 | H84: 39 | I84: Lower respiratory infections | J84: 722.70742 | K84: =100000*J84/'UMI2030'!$G$10 -> 3.0864078 | L84: =100000*J84/'UMI2030'!$G$7 -> 26.034848 | M84: 7 | N84: 39 | O84: Lower respiratory infections | P84: 1002.2897 | Q84: =100000*P84/'UMI2045'!$G$10 -> 3.308784 | R84: =100000*P84/'UMI2045'!$G$7 -> 35.648415 | S84: 7 | T84: 39 | U84: Lower respiratory infections | V84: 1239.8558 | W84: =100000*V84/'UMI2060'!$G$10 -> 3.576325 | X84: =100000*V84/'UMI2060'!$G$7 -> 45.22512
A85: 8 | B85: 153 | C85: Road injury | D85: 515.97422 | E85: =100000*D85/'UMI2016'!$G$10 -> 2.7005896 | F85: =100000*D85/'UMI2016'!$G$7 -> 19.735818 | G85: 8 | H85: 66 | I85: Liver cancer | J85: 659.68267 | K85: =100000*J85/'UMI2030'!$G$10 -> 2.8172531 | L85: =100000*J85/'UMI2030'!$G$7 -> 23.764441 | M85: 8 | N85: 66 | O85: Liver cancer | P85: 833.37278 | Q85: =100000*P85/'UMI2045'!$G$10 -> 2.7511512 | R85: =100000*P85/'UMI2045'!$G$7 -> 29.640551 | S85: 8 | T85: 127 | U85: Kidney diseases | V85: 983.83199 | W85: =100000*V85/'UMI2060'!$G$10 -> 2.8378324 | X85: =100000*V85/'UMI2060'!$G$7 -> 35.886367
A86: 9 | B86: 66 | C86: Liver cancer | D86: 503.24607 | E86: =100000*D86/'UMI2016'!$G$10 -> 2.6339709 | F86: =100000*D86/'UMI2016'!$G$7 -> 19.248971 | G86: 9 | H86: 64 | I86: Stomach cancer | J86: 597.27741 | K86: =100000*J86/'UMI2030'!$G$10 -> 2.5507441 | L86: =100000*J86/'UMI2030'!$G$7 -> 21.516351 | M86: 9 | N86: 64 | O86: Stomach cancer | P86: 830.18284 | Q86: =100000*P86/'UMI2045'!$G$10 -> 2.7406205 | R86: =100000*P86/'UMI2045'!$G$7 -> 29.527095 | S86: 9 | T86: 64 | U86: Stomach cancer | V86: 966.71623 | W86: =100000*V86/'UMI2060'!$G$10 -> 2.7884625 | X86: =100000*V86/'UMI2060'!$G$7 -> 35.262051
A87: 10 | B87: 64 | C87: Stomach cancer | D87: 458.94102 | E87: =100000*D87/'UMI2016'!$G$10 -> 2.40208 | F87: =100000*D87/'UMI2016'!$G$7 -> 17.55432 | G87: 10 | H87: 112 | I87: Hypertensive heart disease | J87: 570.14372 | K87: =100000*J87/'UMI2030'!$G$10 -> 2.4348664 | L87: =100000*J87/'UMI2030'!$G$7 -> 20.538885 | M87: 10 | N87: 127 | O87: Kidney diseases | P87: 795.44845 | Q87: =100000*P87/'UMI2045'!$G$10 -> 2.6259544 | R87: =100000*P87/'UMI2045'!$G$7 -> 28.291698 | S87: 10 | T87: 66 | U87: Liver cancer | V87: 895.29386 | W87: =100000*V87/'UMI2060'!$G$10 -> 2.582447 | X87: =100000*V87/'UMI2060'!$G$7 -> 32.65684
A88: 11 | B88: 112 | C88: Hypertensive heart disease | D88: 424.56298 | E88: =100000*D88/'UMI2016'!$G$10 -> 2.2221466 | F88: =100000*D88/'UMI2016'!$G$7 -> 16.239373 | G88: 11 | H88: 127 | I88: Kidney diseases | J88: 562.5536 | K88: =100000*J88/'UMI2030'!$G$10 -> 2.4024519 | L88: =100000*J88/'UMI2030'!$G$7 -> 20.265458 | M88: 11 | N88: 112 | O88: Hypertensive heart disease | P88: 758.45037 | Q88: =100000*P88/'UMI2045'!$G$10 -> 2.5038154 | R88: =100000*P88/'UMI2045'!$G$7 -> 26.975787 | S88: 11 | T88: 112 | U88: Hypertensive heart disease | V88: 867.07322 | W88: =100000*V88/'UMI2060'!$G$10 -> 2.5010454 | X88: =100000*V88/'UMI2060'!$G$7 -> 31.627461
A89: 12 | B89: 127 | C89: Kidney diseases | D89: 396.63576 | E89: =100000*D89/'UMI2016'!$G$10 -> 2.0759766 | F89: =100000*D89/'UMI2016'!$G$7 -> 15.171167 | G89: 12 | H89: 65 | I89: Colon and rectum cancers | J89: 441.18311 | K89: =100000*J89/'UMI2030'!$G$10 -> 1.8841248 | L89: =100000*J89/'UMI2030'!$G$7 -> 15.893202 | M89: 12 | N89: 65 | O89: Colon and rectum cancers | P89: 620.693 | Q89: =100000*P89/'UMI2045'!$G$10 -> 2.0490474 | R89: =100000*P89/'UMI2045'!$G$7 -> 22.076174 | S89: 12 | T89: 65 | U89: Colon and rectum cancers | V89: 741.29321 | W89: =100000*V89/'UMI2060'!$G$10 -> 2.1382369 | X89: =100000*V89/'UMI2060'!$G$7 -> 27.039495
... A97: 20 | B97: 115 | C97: Cardiomyopathy, myocarditis, endocarditis | D97: 174.66103 | E97: =100000*D97/'UMI2016'!$G$10 -> 0.91416922 | F97: =100000*D97/'UMI2016'!$G$7 -> 6.680718 | G97: 20 | H97: 67 | I97: Pancreas cancer | J97: 196.49717 | K97: =100000*J97/'UMI2030'!$G$10 -> 0.83916448 | L97: =100000*J97/'UMI2030'!$G$7 -> 7.0786236 | M97: 20 | N97: 153 | O97: Road injury | P97: 246.567 | Q97: =100000*P97/'UMI2045'!$G$10 -> 0.81397319 | R97: =100000*P97/'UMI2045'!$G$7 -> 8.7696432 | S97: 20 | T97: 96 | U97: Parkinson disease | V97: 246.09397 | W97: =100000*V97/'UMI2060'!$G$10 -> 0.70985031 | X97: =100000*V97/'UMI2060'!$G$7 -> 8.9765515
A99: High-income countries
A100: 2016 | C100: WORLD, 2000 | G100: 2030 | I100: WORLD, 2011 | M100: 2016 | O100: WORLD, 2011 | S100: 2060 | U100: WORLD, 2011
A101: Rank | B101: GHE code | C101: Cause | D101: Deaths (000s) | E101: % deaths | F101: Deaths per 100,000 population | G101: Rank | H101: GHE code | I101: Cause | J101: Deaths (000s) | K101: % deaths | L101: Deaths per 100,000 population | M101: Rank | N101: GHE code | O101: Cause | P101: Deaths (000s) | Q101: % deaths | R101: Deaths per 100,000 population | S101: Rank | T101: GHE code | U101: Cause | V101: Deaths (000s) | W101: % deaths | X101: Deaths per 100,000 population
A102: 1 | B102: 113 | C102: Ischaemic heart disease | D102: 1724.9643 | E102: =100000*D102/'HI2016'!$G$10 -> 16.786142 | F102: =100000*D102/'HI2016'!$G$7 -> 146.6618 | G102: 1 | H102: 113 | I102: Ischaemic heart disease | J102: 1691.7304 | K102: =100000*J102/'HI2030'!$G$10 -> 14.106525 | L102: =100000*J102/'HI2030'!$G$7 -> 136.51688 | M102: 1 | N102: 113 | O102: Ischaemic heart disease | P102: 1896.4971 | Q102: =100000*P102/'HI2045'!$G$10 -> 13.017088 | R102: =100000*P102/'HI2045'!$G$7 -> 149.11215 | S102: 1 | T102: 95 | U102: Alzheimer disease and other dementias | V102: 2206.1991 | W102: =100000*V102/'HI2060'!$G$10 -> 14.381804 | X102: =100000*V102/'HI2060'!$G$7 -> 172.3384
A103: 2 | B103: 114 | C103: Stroke | D103: 741.4249 | E103: =100000*D103/'HI2016'!$G$10 -> 7.2150268 | F103: =100000*D103/'HI2016'!$G$7 -> 63.038241 | G103: 2 | H103: 95 | I103: Alzheimer disease and other dementias | J103: 1248.5469 | K103: =100000*J103/'HI2030'!$G$10 -> 10.411031 | L103: =100000*J103/'HI2030'!$G$7 -> 100.75348 | M103: 2 | N103: 95 | O103: Alzheimer disease and other dementias | P103: 1885.2378 | Q103: =100000*P103/'HI2045'!$G$10 -> 12.939806 | R103: =100000*P103/'HI2045'!$G$7 -> 148.22689 | S103: 2 | T103: 113 | U103: Ischaemic heart disease | V103: 1794.1607 | W103: =100000*V103/'HI2060'!$G$10 -> 11.695802 | X103: =100000*V103/'HI2060'!$G$7 -> 140.1518
A104: 3 | B104: 95 | C104: Alzheimer disease and other dementias | D104: 718.64127 | E104: =100000*D104/'HI2016'!$G$10 -> 6.9933125 | F104: =100000*D104/'HI2016'!$G$7 -> 61.101106 | G104: 3 | H104: 114 | I104: Stroke | J104: 704.21439 | K104: =100000*J104/'HI2030'!$G$10 -> 5.8721046 | L104: =100000*J104/'HI2030'!$G$7 -> 56.8277 | M104: 3 | N104: 118 | O104: Chronic obstructive pulmonary disease | P104: 851.79243 | Q104: =100000*P104/'HI2045'!$G$10 -> 5.8464929 | R104: =100000*P104/'HI2045'!$G$7 -> 66.972211 | S104: 3 | T104: 118 | U104: Chronic obstructive pulmonary disease | V104: 938.42754 | W104: =100000*V104/'HI2060'!$G$10 -> 6.1174356 | X104: =100000*V104/'HI2060'!$G$7 -> 73.305759
A105: 4 | B105: 68 | C105: Trachea, bronchus, lung cancers | D105: 580.00274 | E105: =100000*D105/'HI2016'!$G$10 -> 5.6441797 | F105: =100000*D105/'HI2016'!$G$7 -> 49.313629 | G105: 4 | H105: 118 | I105: Chronic obstructive pulmonary disease | J105: 673.72098 | K105: =100000*J105/'HI2030'!$G$10 -> 5.6178347 | L105: =100000*J105/'HI2030'!$G$7 -> 54.366985 | M105: 4 | N105: 114 | O105: Stroke | P105: 830.04317 | Q105: =100000*P105/'HI2045'!$G$10 -> 5.6972113 | R105: =100000*P105/'HI2045'!$G$7 -> 65.262175 | S105: 4 | T105: 114 | U105: Stroke | V105: 831.39307 | W105: =100000*V105/'HI2060'!$G$10 -> 5.4196977 | X105: =100000*V105/'HI2060'!$G$7 -> 64.944706
A106: 5 | B106: 118 | C106: Chronic obstructive pulmonary disease | D106: 554.5545 | E106: =100000*D106/'HI2016'!$G$10 -> 5.3965352 | F106: =100000*D106/'HI2016'!$G$7 -> 47.149941 | G106: 5 | H106: 68 | I106: Trachea, bronchus, lung cancers | J106: 583.92594 | K106: =100000*J106/'HI2030'!$G$10 -> 4.8690771 | L106: =100000*J106/'HI2030'!$G$7 -> 47.120832 | M106: 5 | N106: 39 | O106: Lower respiratory infections | P106: 686.08591 | Q106: =100000*P106/'HI2045'!$G$10 -> 4.7091242 | R106: =100000*P106/'HI2045'!$G$7 -> 53.94353 | S106: 5 | T106: 39 | U106: Lower respiratory infections | V106: 755.29784 | W106: =100000*V106/'HI2060'!$G$10 -> 4.923647 | X106: =100000*V106/'HI2060'!$G$7 -> 59.000487
A107: 6 | B107: 39 | C107: Lower respiratory infections | D107: 438.60838 | E107: =100000*D107/'HI2016'!$G$10 -> 4.2682289 | F107: =100000*D107/'HI2016'!$G$7 -> 37.291842 | G107: 6 | H107: 39 | I107: Lower respiratory infections | J107: 540.32851 | K107: =100000*J107/'HI2030'!$G$10 -> 4.5055392 | L107: =100000*J107/'HI2030'!$G$7 -> 43.602668 | M107: 6 | N107: 68 | O107: Trachea, bronchus, lung cancers | P107: 577.40151 | Q107: =100000*P107/'HI2045'!$G$10 -> 3.9631414 | R107: =100000*P107/'HI2045'!$G$7 -> 45.398215 | S107: 6 | T107: 80 | U107: Diabetes mellitus | V107: 542.2751 | W107: =100000*V107/'HI2060'!$G$10 -> 3.5349911 | X107: =100000*V107/'HI2060'!$G$7 -> 42.360103
A108: 7 | B108: 65 | C108: Colon and rectum cancers | D108: 327.92533 | E108: =100000*D108/'HI2016'!$G$10 -> 3.1911392 | F108: =100000*D108/'HI2016'!$G$7 -> 27.881227 | G108: 7 | H108: 65 | I108: Colon and rectum cancers | J108: 382.03005 | K108: =100000*J108/'HI2030'!$G$10 -> 3.1855646 | L108: =100000*J108/'HI2030'!$G$7 -> 30.828523 | M108: 7 | N108: 80 | O108: Diabetes mellitus | P108: 464.87202 | Q108: =100000*P108/'HI2045'!$G$10 -> 3.1907668 | R108: =100000*P108/'HI2045'!$G$7 -> 36.55058 | S108: 7 | T108: 68 | U108: Trachea, bronchus, lung cancers | V108: 525.56173 | W108: =100000*V108/'HI2060'!$G$10 -> 3.4260398 | X108: =100000*V108/'HI2060'!$G$7 -> 41.05453
