Workbook
Name __LEX1955: '[1]summary-targets'!#REF!
Name __LEX1955: '[1]summary-targets'!#REF!
Name __LEX1955: '[1]summary-targets'!#REF!
Name __LEX1955: '[1]summary-targets'!#REF!
Name __LEX1955: '[1]summary-targets'!#REF!
Name __LEX1975: '[1]summary-targets'!#REF!
Name __LEX1975: '[1]summary-targets'!#REF!
Name __LEX1975: '[1]summary-targets'!#REF!
Name __LEX1975: '[1]summary-targets'!#REF!
Name __LEX1975: '[1]summary-targets'!#REF!
Name __LEX2025: '[1]summary-targets'!#REF!
Name __LEX2025: '[1]summary-targets'!#REF!
Name __LEX2025: '[1]summary-targets'!#REF!
Name __LEX2025: '[1]summary-targets'!#REF!
Name __LEX2025: '[1]summary-targets'!#REF!
Name _reg98: [2]whoreg!#REF!
Name _reg98: [2]whoreg!#REF!
Name _reg98: [2]whoreg!#REF!
Name _reg98: [2]whoreg!#REF!
Name _reg98: [2]whoreg!#REF!
Name _resul: '[3]slop-inter'!$A$45:$AG$48
Name _yellowF: #REF!
Name _yellowF: #REF!
Name _yellowF: #REF!
Name _yellowF: #REF!
Name _yellowF: #REF!
Name _yellowF: #REF!
Name _yellowF: #REF!
Name _yellowM: #REF!
Name _yellowM: #REF!
Name _yellowM: #REF!
Name _yellowM: #REF!
Name _yellowM: #REF!
Name _yellowM: #REF!
Name _yellowM: #REF!
Name data: #REF!
Name data: #REF!
Name data: #REF!
Name data: #REF!
Name data: #REF!
Name data: #REF!
Name data: #REF!
Name GBDageD95: [4]Deaths!$A$1:$T$643
Name home: '[3]slop-inter'!$D$1:$F$1
Name label: [3]lx!$D$1788:$E$1825
Name n: #REF!
Name n: #REF!
Name PA: #REF!
Name PA: #REF!
Name PA: #REF!
Name PA: #REF!
Name PA: #REF!
Name PA: #REF!
Name PA: #REF!
Name pop: #REF!
Name pop: #REF!
Name pop: #REF!
Name pop: #REF!
Name pop: #REF!
Name pop: #REF!

Sheet Notes
B2: GLOBAL HEALTH ESTIMATES SUMMARY TABLES: PROJECTION OF DEATHS BY CAUSE, AGE AND SEX, BYWHO REGION October 2018 World Health Organization Geneva, Switzerland
B3: http://www.who.int/healthinfo/global_burden_disease/en/
B5: Global Health Estimates Summary Tables: Projection This workbook contains summary projections of mortality by cause, sex, age and region. Following the release of the WHO Global Health Estimates of deaths by cause, age, sex and country for years 2000-2016 (1), WHO projections of mortality and causes of death have been updated and extended for years 2017-2060 (2). These projections are an update of previous projections released in 2006 (3), 2008 (4) and 2013 (5). A set of relatively simple models were used to project future health trends for baseline, optimistic and pessimistic scenarios, based largely on projections of economic and social development, and using the historically observed relationships of these with cause-specific mortality rates. Projected death rates were converted to numbers of deaths using the median population projections of the World Population Prospects 2017 (7). For a more detailed summary of methods and data inputs, refer to the documentation available on the WHO website at <url> (8). All projection covariates have been revised and updated. These include country level projections of gross domestic product (GDP) per capita in purchasing parity adjusted 2011 dollars, average years of education for men and women aged 25 years and over, and smoking impact SI, the component of observed lung cancer mortality attributable to tobacco smoking. SI was projected using 25-year lagged projections of prevalence of tobacco smoking and average cigarettes per smoker per day. In the original projections, separate projection models were developed for HIV/AIDS, tuberculosis, lung cancer, diabetes mellitus and chronic respiratory diseases (3). These models have been revised and updated as described in the projections documentation (8). Additional special projection models have also been developed for malaria, maternal deaths, road injury, homicide, natural disasters and war and conflict (8). These projections are less firm than the base year assessments for 2016, and provide “business-as-usual” projections under specified assumptions that do not specifically take account of trends in major risk factors apart from tobacco smoking, and to a limited extent, overweight and obesity. This spreadsheet includes point estimates for projected deaths by region, cause, age and sex under a business-as-usual scenario for projected covariates. Explicit uncertainty ranges are not included here, uncertainty in projections is better conveyed through comparison of optimistic and pessimistic scenarios with varying input assumptions (under preparation and not yet released). The number of significant figures displayed in worksheet cells in this this Excel workbook do not provide information on uncertainty ranges of projected estimates. The base scenario does not necessarily represent the best predictions or potential range of future global and regional health trends; it is possible that more sophisticated causal models incorporating projections of important determinants may provide better predictions for specific diseases. The preparation of these statistics was undertaken by the WHO Department of Health Statistics and Informatics in collaboration with WHO technical programs. Documentation and regional-level summary tables are available on the WHO website (8). For other queries, please send an email to healthstat@who.int. References 1. Global Health Estimates 2016: Deaths by cause, age and sex, by country and by region, 2000-2016. Geneva: World Health Organization; 2018. Available at http://www.who.int/healthinfo/global_burden_disease/estimates/en/. 2. World Health Organization (2018). Projections of mortality and causes of death, 2017-2060. Available on the WHO website at http://www.who.int/healthinfo/global_burden_disease/projections/en/. 3. Mathers CD, Loncar D. Projections of global mortality and burden of disease from 2002 to 2030. PLoS Medicine, 2006, 3(11): e442. 4. World Health Organization. The global burden of disease: 2004 update. Geneva, World Health Organization, 2008. 5. World Health Organization (2013). Projections of mortality and causes of death, 2012-2030. Available on the WHO website at http://www.who.int/healthinfo/global_burden_disease/projections/en/. 6. Murray CJL, Lopez AD, eds. The global burden of disease: a comprehensive assessment of mortality and disability from diseases, injuries and risk factors in 1990 and projected to 2020. Cambridge, Harvard School of Public Health on behalf of the World Health Organization and the World Bank, 1996. 7. UN Population Division. World Population Prospects - the 2017 revision. New York, United Nations, 2017. 8. World Health Organization (2018). Updated projections of mortality and causes of death, 2016-2060. Available on the WHO website at http://www.who.int/healthinfo/global_burden_disease/projections/en/.

Sheet Country list
B2: List of Countries in Regional Categories
B4: WHO Region | C4: Countries included
B5: African Region | C5: Algeria
C6: Angola
C7: Benin
C8: Botswana
C9: Burkina Faso
C10: Burundi
C11: Cameroon
C12: Cabo Verde
C13: Central African Republic
C14: Chad
C15: Comoros
C16: Congo
C17: Côte d'Ivoire
... C51: Zimbabwe
B53: Region of the Americas | C53: Antigua and Barbuda
C54: Argentina
C55: Bahamas
C56: Barbados
C57: Belize
C58: Bolivia (Plurinational State of)
C59: Brazil
C60: Canada
C61: Chile
C62: Colombia
C63: Costa Rica
C64: Cuba
C65: Dominican Republic
... C85: Venezuela (Bolivarian Republic of)
B87: South-East Asia Region | C87: Bangladesh
C88: Bhutan
C89: Democratic People's Republic of Korea
C90: India
C91: Indonesia
C92: Maldives
C93: Myanmar
C94: Nepal
C95: Sri Lanka
C96: Thailand
...

Sheet Summary
B1: Summary: Deaths (thousands) by cause and by WHO region
F3: Year | G3: 2016 | U3: 2030 | AI3: 2045 | AW3: 2060
G4: WORLD | I4: African Region | K4: Region of the Americas | M4: South-East Asia Region | O4: European Region | Q4: Eastern Mediterraneam Region | S4: Western Pacific Region | U4: WORLD | W4: African Region | Y4: Region of the Americas | AA4: South-East Asia Region | AC4: European Region | AE4: Eastern Mediterraneam Region | AG4: Western Pacific Region | AI4: WORLD | AK4: African Region | AM4: Region of the Americas | AO4: South-East Asia Region | AQ4: European Region | AS4: Eastern Mediterraneam Region | AU4: Western Pacific Region | AW4: WORLD | AY4: African Region | BA4: Region of the Americas | BC4: South-East Asia Region | BE4: European Region | BG4: Eastern Mediterraneam Region | BI4: Western Pacific Region
B5: Population (thousands) | G5: =World2016!$G7 -> 7462277.2 | I5: ='AFR2016'!$G7 -> 1019920.2 | K5: ='AMR2016'!$G7 -> 995824.47 | M5: =SEAR2016!$G7 -> 1947631.2 | O5: ='EUR2016'!$G7 -> 916314.6 | Q5: ='EMR2016'!$G7 -> 669126.1 | S5: ='WPR2016'!$G7 -> 1913460.7 | U5: =World2030!$G7 -> 8545864.6 | W5: ='AFR2030'!$G7 -> 1443182.3 | Y5: ='AMR2030'!$G7 -> 1111973.7 | AA5: =SEAR2030!$G7 -> 2207223.1 | AC5: ='EUR2030'!$G7 -> 938052.19 | AE5: ='EMR2030'!$G7 -> 844626.99 | AG5: ='WPR2030'!$G7 -> 2000806.3 | AI5: =World2045!$G7 -> 9498328.2 | AK5: ='AFR2045'!$G7 -> 1990125 | AM5: ='AMR2045'!$G7 -> 1194493.5 | AO5: =SEAR2045!$G7 -> 2370726.5 | AQ5: ='EUR2045'!$G7 -> 939195.95 | AS5: ='EMR2045'!$G7 -> 1018600.5 | AU5: ='WPR2045'!$G7 -> 1985186.6 | AW5: =World2060!$G7 -> 10216375 | AY5: ='AFR2060'!$G7 -> 2586382.8 | BA5: ='AMR2060'!$G7 -> 1236641.5 | BC5: =SEAR2060!$G7 -> 2416297.3 | BE5: ='EUR2060'!$G7 -> 924085.11 | BG5: ='EMR2060'!$G7 -> 1159812 | BI5: ='WPR2060'!$G7 -> 1893156.8
A6: GHE 2012 code | B6: GHE 2012 cause category | G6: Deaths (000s) | H6: % total | I6: Deaths (000s) | J6: % total | K6: Deaths (000s) | L6: % total | M6: Deaths (000s) | N6: % total | O6: Deaths (000s) | P6: % total | Q6: Deaths (000s) | R6: % total | S6: Deaths (000s) | T6: % total | U6: Deaths (000s) | V6: % total | W6: Deaths (000s) | X6: % total | Y6: Deaths (000s) | Z6: % total | AA6: Deaths (000s) | AB6: % total | AC6: Deaths (000s) | AD6: % total | AE6: Deaths (000s) | AF6: % total | AG6: Deaths (000s) | AH6: % total | AI6: Deaths (000s) | AJ6: % total | AK6: Deaths (000s) | AL6: % total | AM6: Deaths (000s) | AN6: % total | AO6: Deaths (000s) | AP6: % total | AQ6: Deaths (000s) | AR6: % total | AS6: Deaths (000s) | AT6: % total | AU6: Deaths (000s) | AV6: % total | AW6: Deaths (000s) | AX6: % total | AY6: Deaths (000s) | AZ6: % total | BA6: Deaths (000s) | BB6: % total | BC6: Deaths (000s) | BD6: % total | BE6: Deaths (000s) | BF6: % total | BG6: Deaths (000s) | BH6: % total | BI6: Deaths (000s) | BJ6: % total
A7: 0 | C7: All Causes | G7: =World2016!$G10/1000 -> 56873.405 | H7: =100*G7/G$7 -> 100 | I7: ='AFR2016'!$G10/1000 -> 8845.101 | J7: =100*I7/I$7 -> 100 | K7: ='AMR2016'!$G10/1000 -> 6906.324 | L7: =100*K7/K$7 -> 100 | M7: =SEAR2016!$G10/1000 -> 13818.545 | N7: =100*M7/M$7 -> 100 | O7: ='EUR2016'!$G10/1000 -> 9214.7073 | P7: =100*O7/O$7 -> 100 | Q7: ='EMR2016'!$G10/1000 -> 4138.3815 | R7: =100*Q7/Q$7 -> 100 | S7: ='WPR2016'!$G10/1000 -> 13950.346 | T7: =100*S7/S$7 -> 100 | U7: =World2030!$G10/1000 -> 68119.453 | V7: =100*U7/U$7 -> 100 | W7: ='AFR2030'!$G10/1000 -> 10089.18 | X7: =100*W7/W$7 -> 100 | Y7: ='AMR2030'!$G10/1000 -> 8644.9039 | Z7: =100*Y7/Y$7 -> 100 | AA7: =SEAR2030!$G10/1000 -> 16864.68 | AB7: =100*AA7/AA$7 -> 100 | AC7: ='EUR2030'!$G10/1000 -> 9811.9964 | AD7: =100*AC7/AC$7 -> 100 | AE7: ='EMR2030'!$G10/1000 -> 5194.7922 | AF7: =100*AE7/AE$7 -> 100 | AG7: ='WPR2030'!$G10/1000 -> 17513.899 | AH7: =100*AG7/AG$7 -> 100 | AI7: =World2045!$G10/1000 -> 85532.627 | AJ7: =100*AI7/AI$7 -> 100 | AK7: ='AFR2045'!$G10/1000 -> 12941.052 | AL7: =100*AK7/AK$7 -> 100 | AM7: ='AMR2045'!$G10/1000 -> 11376.064 | AN7: =100*AM7/AM$7 -> 100 | AO7: =SEAR2045!$G10/1000 -> 20116.552 | AP7: =100*AO7/AO$7 -> 100 | AQ7: ='EUR2045'!$G10/1000 -> 11290.039 | AR7: =100*AQ7/AQ$7 -> 100 | AS7: ='EMR2045'!$G10/1000 -> 7400.858 | AT7: =100*AS7/AS$7 -> 100 | AU7: ='WPR2045'!$G10/1000 -> 22408.062 | AV7: =100*AU7/AU$7 -> 100 | AW7: =World2060!$G10/1000 -> 101831.16 | AX7: =100*AW7/AW$7 -> 100 | AY7: ='AFR2060'!$G10/1000 -> 18134.434 | AZ7: =100*AY7/AY$7 -> 100 | BA7: ='AMR2060'!$G10/1000 -> 13335.078 | BB7: =100*BA7/BA$7 -> 100 | BC7: =SEAR2060!$G10/1000 -> 23717.229 | BD7: =100*BC7/BC$7 -> 100 | BE7: ='EUR2060'!$G10/1000 -> 11665.818 | BF7: =100*BE7/BE$7 -> 100 | BG7: ='EMR2060'!$G10/1000 -> 10350.274 | BH7: =100*BG7/BG$7 -> 100 | BI7: ='WPR2060'!$G10/1000 -> 24628.326 | BJ7: =100*BI7/BI$7 -> 100
A8: 1 | B8: I. | C8: Communicable, maternal, perinatal and nutritional conditions | G8: =World2016!$G11/1000 -> 11481.463 | H8: =100*G8/G$7 -> 20.187755 | I8: ='AFR2016'!$G11/1000 -> 4964.5698 | J8: =100*I8/I$7 -> 56.127905 | K8: ='AMR2016'!$G11/1000 -> 684.8507 | L8: =100*K8/K$7 -> 9.916284 | M8: =SEAR2016!$G11/1000 -> 3372.4006 | N8: =100*M8/M$7 -> 24.404889 | O8: ='EUR2016'!$G11/1000 -> 489.25779 | P8: =100*O8/O$7 -> 5.3095315 | Q8: ='EMR2016'!$G11/1000 -> 1035.9238 | R8: =100*Q8/Q$7 -> 25.032101 | S8: ='WPR2016'!$G11/1000 -> 934.46072 | T8: =100*S8/S$7 -> 6.6984771 | U8: =World2030!$G11/1000 -> 10094.844 | V8: =100*U8/U$7 -> 14.819326 | W8: ='AFR2030'!$G11/1000 -> 4234.8051 | X8: =100*W8/W$7 -> 41.973728 | Y8: ='AMR2030'!$G11/1000 -> 755.89111 | Z8: =100*Y8/Y$7 -> 8.7437769 | AA8: =SEAR2030!$G11/1000 -> 2822.9686 | AB8: =100*AA8/AA$7 -> 16.738939 | AC8: ='EUR2030'!$G11/1000 -> 472.10309 | AD8: =100*AC8/AC$7 -> 4.8114886 | AE8: ='EMR2030'!$G11/1000 -> 870.30998 | AF8: =100*AE8/AE$7 -> 16.753509 | AG8: ='WPR2030'!$G11/1000 -> 938.76607 | AH8: =100*AG8/AG$7 -> 5.3601203 | AI8: =World2045!$G11/1000 -> 9666.0585 | AJ8: =100*AI8/AI$7 -> 11.301019 | AK8: ='AFR2045'!$G11/1000 -> 3697.8615 | AL8: =100*AK8/AK$7 -> 28.57466 | AM8: ='AMR2045'!$G11/1000 -> 915.63153 | AN8: =100*AM8/AM$7 -> 8.0487554 | AO8: =SEAR2045!$G11/1000 -> 2680.6329 | AP8: =100*AO8/AO$7 -> 13.325509 | AQ8: ='EUR2045'!$G11/1000 -> 498.19257 | AR8: =100*AQ8/AQ$7 -> 4.4126736 | AS8: ='EMR2045'!$G11/1000 -> 772.73632 | AT8: =100*AS8/AS$7 -> 10.441172 | AU8: ='WPR2045'!$G11/1000 -> 1101.0037 | AV8: =100*AU8/AU$7 -> 4.9134267 | AW8: =World2060!$G11/1000 -> 9990.2208 | AX8: =100*AW8/AW$7 -> 9.8105735 | AY8: ='AFR2060'!$G11/1000 -> 3607.5434 | AZ8: =100*AY8/AY$7 -> 19.893333 | BA8: ='AMR2060'!$G11/1000 -> 1068.5759 | BB8: =100*BA8/BA$7 -> 8.0132706 | BC8: =SEAR2060!$G11/1000 -> 2854.6221 | BD8: =100*BC8/BC$7 -> 12.036069 | BE8: ='EUR2060'!$G11/1000 -> 497.88249 | BF8: =100*BE8/BE$7 -> 4.2678746 | BG8: ='EMR2060'!$G11/1000 -> 733.44199 | BH8: =100*BG8/BG$7 -> 7.0862082 | BI8: ='WPR2060'!$G11/1000 -> 1228.155 | BJ8: =100*BI8/BI$7 -> 4.9867577
A9: 2 | C9: A. | D9: Infectious and parasitic diseases | G9: =World2016!$G12/1000 -> 5491.3375 | H9: =100*G9/G$7 -> 9.6553698 | I9: ='AFR2016'!$G12/1000 -> 2728.7076 | J9: =100*I9/I$7 -> 30.849931 | K9: ='AMR2016'!$G12/1000 -> 222.66393 | L9: =100*K9/K$7 -> 3.2240586 | M9: =SEAR2016!$G12/1000 -> 1713.2576 | N9: =100*M9/M$7 -> 12.398249 | O9: ='EUR2016'!$G12/1000 -> 178.00103 | P9: =100*O9/O$7 -> 1.9317057 | Q9: ='EMR2016'!$G12/1000 -> 355.8517 | R9: =100*Q9/Q$7 -> 8.5988133 | S9: ='WPR2016'!$G12/1000 -> 292.85569 | T9: =100*S9/S$7 -> 2.0992719 | U9: =World2030!$G12/1000 -> 4578.7775 | V9: =100*U9/U$7 -> 6.7216886 | W9: ='AFR2030'!$G12/1000 -> 2307.2029 | X9: =100*W9/W$7 -> 22.86809 | Y9: ='AMR2030'!$G12/1000 -> 224.04591 | Z9: =100*Y9/Y$7 -> 2.591653 | AA9: =SEAR2030!$G12/1000 -> 1346.6415 | AB9: =100*AA9/AA$7 -> 7.9849809 | AC9: ='EUR2030'!$G12/1000 -> 179.04152 | AD9: =100*AC9/AC$7 -> 1.8247205 | AE9: ='EMR2030'!$G12/1000 -> 293.99508 | AF9: =100*AE9/AE$7 -> 5.6594194 | AG9: ='WPR2030'!$G12/1000 -> 227.85058 | AH9: =100*AG9/AG$7 -> 1.30097 | AI9: =World2045!$G12/1000 -> 4100.7739 | AJ9: =100*AI9/AI$7 -> 4.7943972 | AK9: ='AFR2045'!$G12/1000 -> 2087.6894 | AL9: =100*AK9/AK$7 -> 16.132301 | AM9: ='AMR2045'!$G12/1000 -> 229.53463 | AN9: =100*AM9/AM$7 -> 2.0176982 | AO9: =SEAR2045!$G12/1000 -> 1163.2036 | AP9: =100*AO9/AO$7 -> 5.7823208 | AQ9: ='EUR2045'!$G12/1000 -> 171.58024 | AR9: =100*AQ9/AQ$7 -> 1.5197489 | AS9: ='EMR2045'!$G12/1000 -> 253.6644 | AT9: =100*AS9/AS$7 -> 3.4274999 | AU9: ='WPR2045'!$G12/1000 -> 195.10164 | AV9: =100*AU9/AU$7 -> 0.87067608 | AW9: =World2060!$G12/1000 -> 3968.4132 | AX9: =100*AW9/AW$7 -> 3.8970519 | AY9: ='AFR2060'!$G12/1000 -> 2020.337 | AZ9: =100*AY9/AY$7 -> 11.140888 | BA9: ='AMR2060'!$G12/1000 -> 232.39178 | BB9: =100*BA9/BA$7 -> 1.7427103 | BC9: =SEAR2060!$G12/1000 -> 1139.0562 | BD9: =100*BC9/BC$7 -> 4.8026528 | BE9: ='EUR2060'!$G12/1000 -> 161.83382 | BF9: =100*BE9/BE$7 -> 1.3872479 | BG9: ='EMR2060'!$G12/1000 -> 239.6911 | BH9: =100*BG9/BG$7 -> 2.3157947 | BI9: ='WPR2060'!$G12/1000 -> 175.10334 | BJ9: =100*BI9/BI$7 -> 0.71098352
A10: 3 | D10: 1. | E10: Tuberculosis | G10: =World2016!$G13/1000 -> 1292.9006 | H10: =100*G10/G$7 -> 2.2732957 | I10: ='AFR2016'!$G13/1000 -> 405.49641 | J10: =100*I10/I$7 -> 4.5844181 | K10: ='AMR2016'!$G13/1000 -> 18.734368 | L10: =100*K10/K$7 -> 0.27126396 | M10: =SEAR2016!$G13/1000 -> 650.97968 | N10: =100*M10/M$7 -> 4.7109133 | O10: ='EUR2016'!$G13/1000 -> 26.630176 | P10: =100*O10/O$7 -> 0.28899643 | Q10: ='EMR2016'!$G13/1000 -> 81.512358 | R10: =100*Q10/Q$7 -> 1.9696676 | S10: ='WPR2016'!$G13/1000 -> 109.54763 | T10: =100*S10/S$7 -> 0.78526823 | U10: =World2030!$G13/1000 -> 1137.0415 | V10: =100*U10/U$7 -> 1.6691877 | W10: ='AFR2030'!$G13/1000 -> 501.03089 | X10: =100*W10/W$7 -> 4.9660217 | Y10: ='AMR2030'!$G13/1000 -> 14.192789 | Z10: =100*Y10/Y$7 -> 0.16417521 | AA10: =SEAR2030!$G13/1000 -> 458.12047 | AB10: =100*AA10/AA$7 -> 2.7164492 | AC10: ='EUR2030'!$G13/1000 -> 9.7370871 | AD10: =100*AC10/AC$7 -> 0.099236554 | AE10: ='EMR2030'!$G13/1000 -> 82.410727 | AF10: =100*AE10/AE$7 -> 1.5864105 | AG10: ='WPR2030'!$G13/1000 -> 71.549557 | AH10: =100*AG10/AG$7 -> 0.40853014 | AI10: =World2045!$G13/1000 -> 1050.0536 | AJ10: =100*AI10/AI$7 -> 1.2276644 | AK10: ='AFR2045'!$G13/1000 -> 591.09556 | AL10: =100*AK10/AK$7 -> 4.5676006 | AM10: ='AMR2045'!$G13/1000 -> 10.121144 | AN10: =100*AM10/AM$7 -> 0.088968771 | AO10: =SEAR2045!$G13/1000 -> 317.63604 | AP10: =100*AO10/AO$7 -> 1.5789785 | AQ10: ='EUR2045'!$G13/1000 -> 4.003967 | AR10: =100*AQ10/AQ$7 -> 0.035464598 | AS10: ='EMR2045'!$G13/1000 -> 79.815596 | AT10: =100*AS10/AS$7 -> 1.0784641 | AU10: ='WPR2045'!$G13/1000 -> 47.381259 | AV10: =100*AU10/AU$7 -> 0.21144738 | AW10: =World2060!$G13/1000 -> 926.96353 | AX10: =100*AW10/AW$7 -> 0.91029458 | AY10: ='AFR2060'!$G13/1000 -> 599.21064 | AZ10: =100*AY10/AY$7 -> 3.3042698 | BA10: ='AMR2060'!$G13/1000 -> 6.3891705 | BB10: =100*BA10/BA$7 -> 0.047912509 | BC10: =SEAR2060!$G13/1000 -> 217.85931 | BD10: =100*BC10/BC$7 -> 0.91856979 | BE10: ='EUR2060'!$G13/1000 -> 2.0290681 | BF10: =100*BE10/BE$7 -> 0.017393278 | BG10: ='EMR2060'!$G13/1000 -> 72.567228 | BH10: =100*BG10/BG$7 -> 0.70111406 | BI10: ='WPR2060'!$G13/1000 -> 28.908116 | BJ10: =100*BI10/BI$7 -> 0.11737751
A11: 4 | D11: 2. | E11: STDs excluding HIV | G11: =World2016!$G14/1000 -> 102.36054 | H11: =100*G11/G$7 -> 0.17997962 | I11: ='AFR2016'!$G14/1000 -> 62.696974 | J11: =100*I11/I$7 -> 0.70883277 | K11: ='AMR2016'!$G14/1000 -> 2.6666332 | L11: =100*K11/K$7 -> 0.03861147 | M11: =SEAR2016!$G14/1000 -> 10.028714 | N11: =100*M11/M$7 -> 0.07257431 | O11: ='EUR2016'!$G14/1000 -> 0.65032237 | P11: =100*O11/O$7 -> 0.0070574392 | Q11: ='EMR2016'!$G14/1000 -> 23.224442 | R11: =100*Q11/Q$7 -> 0.56119625 | S11: ='WPR2016'!$G14/1000 -> 3.0934536 | T11: =100*S11/S$7 -> 0.022174745 | U11: =World2030!$G14/1000 -> 68.622331 | V11: =100*U11/U$7 -> 0.10073823 | W11: ='AFR2030'!$G14/1000 -> 42.469296 | X11: =100*W11/W$7 -> 0.42093901 | Y11: ='AMR2030'!$G14/1000 -> 1.3768004 | Z11: =100*Y11/Y$7 -> 0.015926151 | AA11: =SEAR2030!$G14/1000 -> 5.3876623 | AB11: =100*AA11/AA$7 -> 0.031946424 | AC11: ='EUR2030'!$G14/1000 -> 0.40847781 | AD11: =100*AC11/AC$7 -> 0.0041630448 | AE11: ='EMR2030'!$G14/1000 -> 16.751673 | AF11: =100*AE11/AE$7 -> 0.32247052 | AG11: ='WPR2030'!$G14/1000 -> 2.2284204 | AH11: =100*AG11/AG$7 -> 0.012723725 | AI11: =World2045!$G14/1000 -> 33.012726 | AJ11: =100*AI11/AI$7 -> 0.038596647 | AK11: ='AFR2045'!$G14/1000 -> 17.490793 | AL11: =100*AK11/AK$7 -> 0.13515743 | AM11: ='AMR2045'!$G14/1000 -> 0.8840564 | AN11: =100*AM11/AM$7 -> 0.0077711978 | AO11: =SEAR2045!$G14/1000 -> 3.3784699 | AP11: =100*AO11/AO$7 -> 0.016794478 | AQ11: ='EUR2045'!$G14/1000 -> 0.32577062 | AR11: =100*AQ11/AQ$7 -> 0.0028854693 | AS11: ='EMR2045'!$G14/1000 -> 9.354631 | AT11: =100*AS11/AS$7 -> 0.12639928 | AU11: ='WPR2045'!$G14/1000 -> 1.5790047 | AV11: =100*AU11/AU$7 -> 0.0070465919 | AW11: =World2060!$G14/1000 -> 18.227393 | AX11: =100*AW11/AW$7 -> 0.017899622 | AY11: ='AFR2060'!$G14/1000 -> 8.0136924 | AZ11: =100*AY11/AY$7 -> 0.044190474 | BA11: ='AMR2060'!$G14/1000 -> 0.74882256 | BB11: =100*BA11/BA$7 -> 0.0056154345 | BC11: =SEAR2060!$G14/1000 -> 2.7380176 | BD11: =100*BC11/BC$7 -> 0.011544424 | BE11: ='EUR2060'!$G14/1000 -> 0.27963143 | BF11: =100*BE11/BE$7 -> 0.0023970151 | BG11: ='EMR2060'!$G14/1000 -> 5.1491939 | BH11: =100*BG11/BG$7 -> 0.049749347 | BI11: ='WPR2060'!$G14/1000 -> 1.2980353 | BJ11: =100*BI11/BI$7 -> 0.0052704973
A12: 5 | E12: a. | F12: Syphilis | G12: =World2016!$G15/1000 -> 95.557801 | H12: =100*G12/G$7 -> 0.16801843 | I12: ='AFR2016'!$G15/1000 -> 60.145783 | J12: =100*I12/I$7 -> 0.67998978 | K12: ='AMR2016'!$G15/1000 -> 2.1035396 | L12: =100*K12/K$7 -> 0.030458166 | M12: =SEAR2016!$G15/1000 -> 7.652039 | N12: =100*M12/M$7 -> 0.055375142 | O12: ='EUR2016'!$G15/1000 -> 0.33257466 | P12: =100*O12/O$7 -> 0.0036091723 | Q12: ='EMR2016'!$G15/1000 -> 22.958282 | R12: =100*Q12/Q$7 -> 0.55476476 | S12: ='WPR2016'!$G15/1000 -> 2.365583 | T12: =100*S12/S$7 -> 0.016957164 | U12: =World2030!$G15/1000 -> 62.193551 | V12: =100*U12/U$7 -> 0.091300721 | W12: ='AFR2030'!$G15/1000 -> 39.80693 | X12: =100*W12/W$7 -> 0.39455068 | Y12: ='AMR2030'!$G15/1000 -> 0.93921739 | Z12: =100*Y12/Y$7 -> 0.010864405 | AA12: =SEAR2030!$G15/1000 -> 3.2821034 | AB12: =100*AA12/AA$7 -> 0.019461403 | AC12: ='EUR2030'!$G15/1000 -> 0.16791949 | AD12: =100*AC12/AC$7 -> 0.0017113693 | AE12: ='EMR2030'!$G15/1000 -> 16.483827 | AF12: =100*AE12/AE$7 -> 0.31731446 | AG12: ='WPR2030'!$G15/1000 -> 1.5135543 | AH12: =100*AG12/AG$7 -> 0.0086420181 | AI12: =World2045!$G15/1000 -> 27.107158 | AJ12: =100*AI12/AI$7 -> 0.031692185 | AK12: ='AFR2045'!$G15/1000 -> 15.03649 | AL12: =100*AK12/AK$7 -> 0.11619218 | AM12: ='AMR2045'!$G15/1000 -> 0.44078942 | AN12: =100*AM12/AM$7 -> 0.0038747096 | AO12: =SEAR2045!$G15/1000 -> 1.5773051 | AP12: =100*AO12/AO$7 -> 0.0078408322 | AQ12: ='EUR2045'!$G15/1000 -> 0.11239945 | AR12: =100*AQ12/AQ$7 -> 0.000995563 | AS12: ='EMR2045'!$G15/1000 -> 9.0790141 | AT12: =100*AS12/AS$7 -> 0.12267516 | AU12: ='WPR2045'!$G15/1000 -> 0.8611602 | AV12: =100*AU12/AU$7 -> 0.003843082 | AW12: =World2060!$G15/1000 -> 12.612664 | AX12: =100*AW12/AW$7 -> 0.012385859 | AY12: ='AFR2060'!$G15/1000 -> 5.7029614 | AZ12: =100*AY12/AY$7 -> 0.031448245 | BA12: ='AMR2060'!$G15/1000 -> 0.30683074 | BB12: =100*BA12/BA$7 -> 0.0023009295 | BC12: =SEAR2060!$G15/1000 -> 1.0694869 | BD12: =100*BC12/BC$7 -> 0.0045093247 | BE12: ='EUR2060'!$G15/1000 -> 0.08906256 | BF12: =100*BE12/BE$7 -> 0.0007634489 | BG12: ='EMR2060'!$G15/1000 -> 4.8577668 | BH12: =100*BG12/BG$7 -> 0.046933702 | BI12: ='WPR2060'!$G15/1000 -> 0.5865552 | BJ12: =100*BI12/BI$7 -> 0.0023816284
A13: 6 | E13: b. | F13: Chlamydia | G13: =World2016!$G16/1000 -> 1.3237512 | H13: =100*G13/G$7 -> 0.0023275399 | I13: ='AFR2016'!$G16/1000 -> 0.50765078 | J13: =100*I13/I$7 -> 0.0057393441 | K13: ='AMR2016'!$G16/1000 -> 0.10834517 | L13: =100*K13/K$7 -> 0.001568782 | M13: =SEAR2016!$G16/1000 -> 0.45506422 | N13: =100*M13/M$7 -> 0.0032931414 | O13: ='EUR2016'!$G16/1000 -> 0.062488394 | P13: =100*O13/O$7 -> 0.00067813759 | Q13: ='EMR2016'!$G16/1000 -> 0.04983491 | R13: =100*Q13/Q$7 -> 0.0012042126 | S13: ='WPR2016'!$G16/1000 -> 0.1403677 | T13: =100*S13/S$7 -> 0.0010061951 | U13: =World2030!$G16/1000 -> 1.2433476 | V13: =100*U13/U$7 -> 0.001825246 | W13: ='AFR2030'!$G16/1000 -> 0.52697265 | X13: =100*W13/W$7 -> 0.0052231462 | Y13: ='AMR2030'!$G16/1000 -> 0.080562019 | Z13: =100*Y13/Y$7 -> 0.00093190185 | AA13: =SEAR2030!$G16/1000 -> 0.39966671 | AB13: =100*AA13/AA$7 -> 0.0023698446 | AC13: ='EUR2030'!$G16/1000 -> 0.047318555 | AD13: =100*AC13/AC$7 -> 0.00048225206 | AE13: ='EMR2030'!$G16/1000 -> 0.049688969 | AF13: =100*AE13/AE$7 -> 0.00095651506 | AG13: ='WPR2030'!$G16/1000 -> 0.13913867 | AH13: =100*AG13/AG$7 -> 0.00079444715 | AI13: =World2045!$G16/1000 -> 1.1461863 | AJ13: =100*AI13/AI$7 -> 0.0013400574 | AK13: ='AFR2045'!$G16/1000 -> 0.48278896 | AL13: =100*AK13/AK$7 -> 0.0037306779 | AM13: ='AMR2045'!$G16/1000 -> 0.083390334 | AN13: =100*AM13/AM$7 -> 0.0007330333 | AO13: =SEAR2045!$G16/1000 -> 0.34411056 | AP13: =100*AO13/AO$7 -> 0.0017105842 | AQ13: ='EUR2045'!$G16/1000 -> 0.042936826 | AR13: =100*AQ13/AQ$7 -> 0.00038030715 | AS13: ='EMR2045'!$G16/1000 -> 0.051099706 | AT13: =100*AS13/AS$7 -> 0.00069045651 | AU13: ='WPR2045'!$G16/1000 -> 0.1418599 | AV13: =100*AU13/AU$7 -> 0.00063307527 | AW13: =World2060!$G16/1000 -> 1.0970673 | AX13: =100*AW13/AW$7 -> 0.0010773395 | AY13: ='AFR2060'!$G16/1000 -> 0.45277093 | AZ13: =100*AY13/AY$7 -> 0.0024967469 | BA13: ='AMR2060'!$G16/1000 -> 0.084602327 | BB13: =100*BA13/BA$7 -> 0.00063443444 | BC13: =SEAR2060!$G16/1000 -> 0.32543866 | BD13: =100*BC13/BC$7 -> 0.0013721614 | BE13: ='EUR2060'!$G16/1000 -> 0.038801071 | BF13: =100*BE13/BE$7 -> 0.0003326048 | BG13: ='EMR2060'!$G16/1000 -> 0.053984275 | BH13: =100*BG13/BG$7 -> 0.00052157337 | BI13: ='WPR2060'!$G16/1000 -> 0.14147009 | BJ13: =100*BI13/BI$7 -> 0.00057442023
A14: 7 | E14: c. | F14: Gonorrhoea | G14: =World2016!$G17/1000 -> 3.680321 | H14: =100*G14/G$7 -> 0.0064710757 | I14: ='AFR2016'!$G17/1000 -> 1.3246588 | J14: =100*I14/I$7 -> 0.014976186 | K14: ='AMR2016'!$G17/1000 -> 0.31595534 | L14: =100*K14/K$7 -> 0.0045748699 | M14: =SEAR2016!$G17/1000 -> 1.2980866 | N14: =100*M14/M$7 -> 0.0093938007 | O14: ='EUR2016'!$G17/1000 -> 0.1822625 | P14: =100*O14/O$7 -> 0.0019779521 | Q14: ='EMR2016'!$G17/1000 -> 0.14366247 | R14: =100*Q14/Q$7 -> 0.0034714651 | S14: ='WPR2016'!$G17/1000 -> 0.41569537 | T14: =100*S14/S$7 -> 0.0029798213 | U14: =World2030!$G17/1000 -> 3.5310496 | V14: =100*U14/U$7 -> 0.0051836142 | W14: ='AFR2030'!$G17/1000 -> 1.3976147 | X14: =100*W14/W$7 -> 0.013852609 | Y14: ='AMR2030'!$G17/1000 -> 0.25686845 | Z14: =100*Y14/Y$7 -> 0.002971328 | AA14: =SEAR2030!$G17/1000 -> 1.1724177 | AB14: =100*AA14/AA$7 -> 0.0069519116 | AC14: ='EUR2030'!$G17/1000 -> 0.13937293 | AD14: =100*AC14/AC$7 -> 0.001420434 | AE14: ='EMR2030'!$G17/1000 -> 0.14665105 | AF14: =100*AE14/AE$7 -> 0.0028230398 | AG14: ='WPR2030'!$G17/1000 -> 0.41812478 | AH14: =100*AG14/AG$7 -> 0.0023873883 | AI14: =World2045!$G17/1000 -> 3.3178774 | AJ14: =100*AI14/AI$7 -> 0.0038790781 | AK14: ='AFR2045'!$G17/1000 -> 1.3087913 | AL14: =100*AK14/AK$7 -> 0.010113485 | AM14: ='AMR2045'!$G17/1000 -> 0.26704647 | AN14: =100*AM14/AM$7 -> 0.0023474418 | AO14: =SEAR2045!$G17/1000 -> 1.0303194 | AP14: =100*AO14/AO$7 -> 0.0051217495 | AQ14: ='EUR2045'!$G17/1000 -> 0.12666649 | AR14: =100*AQ14/AQ$7 -> 0.0011219314 | AS14: ='EMR2045'!$G17/1000 -> 0.15410105 | AT14: =100*AS14/AS$7 -> 0.0020822052 | AU14: ='WPR2045'!$G17/1000 -> 0.43095265 | AV14: =100*AU14/AU$7 -> 0.0019232036 | AW14: =World2060!$G17/1000 -> 3.2295705 | AX14: =100*AW14/AW$7 -> 0.0031714953 | AY14: ='AFR2060'!$G17/1000 -> 1.2652226 | AZ14: =100*AY14/AY$7 -> 0.0069769069 | BA14: ='AMR2060'!$G17/1000 -> 0.27081481 | BB14: =100*BA14/BA$7 -> 0.0020308453 | BC14: =SEAR2060!$G17/1000 -> 0.97732557 | BD14: =100*BC14/BC$7 -> 0.0041207409 | BE14: ='EUR2060'!$G17/1000 -> 0.11488773 | BF14: =100*BE14/BE$7 -> 0.00098482363 | BG14: ='EMR2060'!$G17/1000 -> 0.16738762 | BH14: =100*BG14/BG$7 -> 0.0016172288 | BI14: ='WPR2060'!$G17/1000 -> 0.43393217 | BJ14: =100*BI14/BI$7 -> 0.0017619231
A15: 8 | E15: d. | F15: Trichomoniasis | G15: =World2016!$G18/1000 -> 0 | H15: =100*G15/G$7 -> 0 | I15: ='AFR2016'!$G18/1000 -> 0 | J15: =100*I15/I$7 -> 0 | K15: ='AMR2016'!$G18/1000 -> 0 | L15: =100*K15/K$7 -> 0 | M15: =SEAR2016!$G18/1000 -> 0 | N15: =100*M15/M$7 -> 0 | O15: ='EUR2016'!$G18/1000 -> 0 | P15: =100*O15/O$7 -> 0 | Q15: ='EMR2016'!$G18/1000 -> 0 | R15: =100*Q15/Q$7 -> 0 | S15: ='WPR2016'!$G18/1000 -> 0 | T15: =100*S15/S$7 -> 0 | U15: =World2030!$G18/1000 -> 0 | V15: =100*U15/U$7 -> 0 | W15: ='AFR2030'!$G18/1000 -> 0 | X15: =100*W15/W$7 -> 0 | Y15: ='AMR2030'!$G18/1000 -> 0 | Z15: =100*Y15/Y$7 -> 0 | AA15: =SEAR2030!$G18/1000 -> 0 | AB15: =100*AA15/AA$7 -> 0 | AC15: ='EUR2030'!$G18/1000 -> 0 | AD15: =100*AC15/AC$7 -> 0 | AE15: ='EMR2030'!$G18/1000 -> 0 | AF15: =100*AE15/AE$7 -> 0 | AG15: ='WPR2030'!$G18/1000 -> 0 | AH15: =100*AG15/AG$7 -> 0 | AI15: =World2045!$G18/1000 -> 0 | AJ15: =100*AI15/AI$7 -> 0 | AK15: ='AFR2045'!$G18/1000 -> 0 | AL15: =100*AK15/AK$7 -> 0 | AM15: ='AMR2045'!$G18/1000 -> 0 | AN15: =100*AM15/AM$7 -> 0 | AO15: =SEAR2045!$G18/1000 -> 0 | AP15: =100*AO15/AO$7 -> 0 | AQ15: ='EUR2045'!$G18/1000 -> 0 | AR15: =100*AQ15/AQ$7 -> 0 | AS15: ='EMR2045'!$G18/1000 -> 0 | AT15: =100*AS15/AS$7 -> 0 | AU15: ='WPR2045'!$G18/1000 -> 0 | AV15: =100*AU15/AU$7 -> 0 | AW15: =World2060!$G18/1000 -> 0 | AX15: =100*AW15/AW$7 -> 0 | AY15: ='AFR2060'!$G18/1000 -> 0 | AZ15: =100*AY15/AY$7 -> 0 | BA15: ='AMR2060'!$G18/1000 -> 0 | BB15: =100*BA15/BA$7 -> 0 | BC15: =SEAR2060!$G18/1000 -> 0 | BD15: =100*BC15/BC$7 -> 0 | BE15: ='EUR2060'!$G18/1000 -> 0 | BF15: =100*BE15/BE$7 -> 0 | BG15: ='EMR2060'!$G18/1000 -> 0 | BH15: =100*BG15/BG$7 -> 0 | BI15: ='WPR2060'!$G18/1000 -> 0 | BJ15: =100*BI15/BI$7 -> 0
A16: 9 | E16: e. | F16: Other STDs | G16: =World2016!$G19/1000 -> 1.7986658 | H16: =100*G16/G$7 -> 0.003162578 | I16: ='AFR2016'!$G19/1000 -> 0.71888184 | J16: =100*I16/I$7 -> 0.0081274577 | K16: ='AMR2016'!$G19/1000 -> 0.13879308 | L16: =100*K16/K$7 -> 0.0020096521 | M16: =SEAR2016!$G19/1000 -> 0.62352401 | N16: =100*M16/M$7 -> 0.0045122262 | O16: ='EUR2016'!$G19/1000 -> 0.072996815 | P16: =100*O16/O$7 -> 0.00079217725 | Q16: ='EMR2016'!$G19/1000 -> 0.072662505 | R16: =100*Q16/Q$7 -> 0.0017558194 | S16: ='WPR2016'!$G19/1000 -> 0.17180755 | T16: =100*S16/S$7 -> 0.0012315648 | U16: =World2030!$G19/1000 -> 1.6543819 | V16: =100*U16/U$7 -> 0.0024286483 | W16: ='AFR2030'!$G19/1000 -> 0.73777888 | X16: =100*W16/W$7 -> 0.007312575 | Y16: ='AMR2030'!$G19/1000 -> 0.10015256 | Z16: =100*Y16/Y$7 -> 0.0011585156 | AA16: =SEAR2030!$G19/1000 -> 0.53347451 | AB16: =100*AA16/AA$7 -> 0.0031632649 | AC16: ='EUR2030'!$G19/1000 -> 0.053866828 | AD16: =100*AC16/AC$7 -> 0.00054898948 | AE16: ='EMR2030'!$G19/1000 -> 0.071506577 | AF16: =100*AE16/AE$7 -> 0.0013765051 | AG16: ='WPR2030'!$G19/1000 -> 0.15760258 | AH16: =100*AG16/AG$7 -> 0.00089987144 | AI16: =World2045!$G19/1000 -> 1.4415034 | AJ16: =100*AI16/AI$7 -> 0.0016853257 | AK16: ='AFR2045'!$G19/1000 -> 0.66272242 | AL16: =100*AK16/AK$7 -> 0.0051210863 | AM16: ='AMR2045'!$G19/1000 -> 0.092830176 | AN16: =100*AM16/AM$7 -> 0.00081601316 | AO16: =SEAR2045!$G19/1000 -> 0.42673484 | AP16: =100*AO16/AO$7 -> 0.002121312 | AQ16: ='EUR2045'!$G19/1000 -> 0.043767847 | AR16: =100*AQ16/AQ$7 -> 0.00038766781 | AS16: ='EMR2045'!$G19/1000 -> 0.070416161 | AT16: =100*AS16/AS$7 -> 0.00095145942 | AU16: ='WPR2045'!$G19/1000 -> 0.14503192 | AV16: =100*AU16/AU$7 -> 0.00064723097 | AW16: =World2060!$G19/1000 -> 1.2880916 | AX16: =100*AW16/AW$7 -> 0.0012649288 | AY16: ='AFR2060'!$G19/1000 -> 0.59273748 | AZ16: =100*AY16/AY$7 -> 0.0032685744 | BA16: ='AMR2060'!$G19/1000 -> 0.086574692 | BB16: =100*BA16/BA$7 -> 0.00064922524 | BC16: =SEAR2060!$G19/1000 -> 0.36576647 | BD16: =100*BC16/BC$7 -> 0.0015421973 | BE16: ='EUR2060'!$G19/1000 -> 0.036880065 | BF16: =100*BE16/BE$7 -> 0.00031613783 | BG16: ='EMR2060'!$G19/1000 -> 0.070055147 | BH16: =100*BG16/BG$7 -> 0.00067684339 | BI16: ='WPR2060'!$G19/1000 -> 0.13607779 | BJ16: =100*BI16/BI$7 -> 0.00055252553
A17: 10 | D17: 3. | E17: HIV/AIDS | G17: =World2016!$G20/1000 -> 1011.9922 | H17: =100*G17/G$7 -> 1.7793769 | I17: ='AFR2016'!$G20/1000 -> 718.80006 | J17: =100*I17/I$7 -> 8.1265331 | K17: ='AMR2016'!$G20/1000 -> 54.136149 | L17: =100*K17/K$7 -> 0.78386344 | M17: =SEAR2016!$G20/1000 -> 126.26958 | N17: =100*M17/M$7 -> 0.91376897 | O17: ='EUR2016'!$G20/1000 -> 58.474039 | P17: =100*O17/O$7 -> 0.63457294 | Q17: ='EMR2016'!$G20/1000 -> 16.9862 | R17: =100*Q17/Q$7 -> 0.41045516 | S17: ='WPR2016'!$G20/1000 -> 37.326194 | T17: =100*S17/S$7 -> 0.26756465 | U17: =World2030!$G20/1000 -> 741.29949 | V17: =100*U17/U$7 -> 1.0882347 | W17: ='AFR2030'!$G20/1000 -> 530.67269 | X17: =100*W17/W$7 -> 5.2598196 | Y17: ='AMR2030'!$G20/1000 -> 39.768305 | Z17: =100*Y17/Y$7 -> 0.4600202 | AA17: =SEAR2030!$G20/1000 -> 87.08704 | AB17: =100*AA17/AA$7 -> 0.51638714 | AC17: ='EUR2030'!$G20/1000 -> 49.617798 | AD17: =100*AC17/AC$7 -> 0.50568504 | AE17: ='EMR2030'!$G20/1000 -> 14.728726 | AF17: =100*AE17/AE$7 -> 0.28352868 | AG17: ='WPR2030'!$G20/1000 -> 19.424933 | AH17: =100*AG17/AG$7 -> 0.11091153 | AI17: =World2045!$G20/1000 -> 522.15852 | AJ17: =100*AI17/AI$7 -> 0.61047876 | AK17: ='AFR2045'!$G20/1000 -> 414.18601 | AL17: =100*AK17/AK$7 -> 3.2005591 | AM17: ='AMR2045'!$G20/1000 -> 18.954151 | AN17: =100*AM17/AM$7 -> 0.16661432 | AO17: =SEAR2045!$G20/1000 -> 39.307175 | AP17: =100*AO17/AO$7 -> 0.19539718 | AQ17: ='EUR2045'!$G20/1000 -> 34.54439 | AR17: =100*AQ17/AQ$7 -> 0.30597228 | AS17: ='EMR2045'!$G20/1000 -> 7.4528725 | AT17: =100*AS17/AS$7 -> 0.10070282 | AU17: ='WPR2045'!$G20/1000 -> 7.7139192 | AV17: =100*AU17/AU$7 -> 0.034424749 | AW17: =World2060!$G20/1000 -> 363.35619 | AX17: =100*AW17/AW$7 -> 0.3568222 | AY17: ='AFR2060'!$G20/1000 -> 301.20876 | AZ17: =100*AY17/AY$7 -> 1.6609769 | BA17: ='AMR2060'!$G20/1000 -> 8.8272953 | BB17: =100*BA17/BA$7 -> 0.066196053 | BC17: =SEAR2060!$G20/1000 -> 18.501895 | BD17: =100*BC17/BC$7 -> 0.078010358 | BE17: ='EUR2060'!$G20/1000 -> 28.061589 | BF17: =100*BE17/BE$7 -> 0.2405454 | BG17: ='EMR2060'!$G20/1000 -> 3.6717999 | BH17: =100*BG17/BG$7 -> 0.035475387 | BI17: ='WPR2060'!$G20/1000 -> 3.0848427 | BJ17: =100*BI17/BI$7 -> 0.012525588
A18: 11 | D18: 4. | E18: Diarrhoeal diseases | G18: =World2016!$G21/1000 -> 1382.7068 | H18: =100*G18/G$7 -> 2.431201 | I18: ='AFR2016'!$G21/1000 -> 652.79074 | J18: =100*I18/I$7 -> 7.3802519 | K18: ='AMR2016'!$G21/1000 -> 35.014195 | L18: =100*K18/K$7 -> 0.50698743 | M18: =SEAR2016!$G21/1000 -> 526.01263 | N18: =100*M18/M$7 -> 3.8065703 | O18: ='EUR2016'!$G21/1000 -> 20.80669 | P18: =100*O18/O$7 -> 0.22579871 | Q18: ='EMR2016'!$G21/1000 -> 116.44842 | R18: =100*Q18/Q$7 -> 2.8138637 | S18: ='WPR2016'!$G21/1000 -> 31.634121 | T18: =100*S18/S$7 -> 0.22676227 | U18: =World2030!$G21/1000 -> 1236.1806 | V18: =100*U18/U$7 -> 1.8147248 | W18: ='AFR2030'!$G21/1000 -> 566.02954 | X18: =100*W18/W$7 -> 5.6102628 | Y18: ='AMR2030'!$G21/1000 -> 39.457315 | Z18: =100*Y18/Y$7 -> 0.45642283 | AA18: =SEAR2030!$G21/1000 -> 482.1208 | AB18: =100*AA18/AA$7 -> 2.8587604 | AC18: ='EUR2030'!$G21/1000 -> 33.225728 | AD18: =100*AC18/AC$7 -> 0.33862353 | AE18: ='EMR2030'!$G21/1000 -> 89.311442 | AF18: =100*AE18/AE$7 -> 1.7192496 | AG18: ='WPR2030'!$G21/1000 -> 26.035764 | AH18: =100*AG18/AG$7 -> 0.14865772 | AI18: =World2045!$G21/1000 -> 1274.2686 | AJ18: =100*AI18/AI$7 -> 1.4898041 | AK18: ='AFR2045'!$G21/1000 -> 542.06346 | AL18: =100*AK18/AK$7 -> 4.1887126 | AM18: ='AMR2045'!$G21/1000 -> 48.478122 | AN18: =100*AM18/AM$7 -> 0.42614145 | AO18: =SEAR2045!$G21/1000 -> 533.02357 | AP18: =100*AO18/AO$7 -> 2.6496766 | AQ18: ='EUR2045'!$G21/1000 -> 38.617081 | AR18: =100*AQ18/AQ$7 -> 0.34204559 | AS18: ='EMR2045'!$G21/1000 -> 83.092459 | AT18: =100*AS18/AS$7 -> 1.1227409 | AU18: ='WPR2045'!$G21/1000 -> 28.993891 | AV18: =100*AU18/AU$7 -> 0.12939044 | AW18: =World2060!$G21/1000 -> 1491.6887 | AX18: =100*AW18/AW$7 -> 1.4648647 | AY18: ='AFR2060'!$G21/1000 -> 647.23551 | AZ18: =100*AY18/AY$7 -> 3.5690968 | BA18: ='AMR2060'!$G21/1000 -> 53.436084 | BB18: =100*BA18/BA$7 -> 0.4007182 | BC18: =SEAR2060!$G21/1000 -> 629.26419 | BD18: =100*BC18/BC$7 -> 2.6531944 | BE18: ='EUR2060'!$G21/1000 -> 38.535081 | BF18: =100*BE18/BE$7 -> 0.33032472 | BG18: ='EMR2060'!$G21/1000 -> 91.230214 | BH18: =100*BG18/BG$7 -> 0.88142799 | BI18: ='WPR2060'!$G21/1000 -> 31.987589 | BJ18: =100*BI18/BI$7 -> 0.12988129
A19: 12 | D19: 5. | E19: Childhood-cluster diseases | G19: =World2016!$G22/1000 -> 156.11592 | H19: =100*G19/G$7 -> 0.27449722 | I19: ='AFR2016'!$G22/1000 -> 77.286585 | J19: =100*I19/I$7 -> 0.87377844 | K19: ='AMR2016'!$G22/1000 -> 0.89982619 | L19: =100*K19/K$7 -> 0.013029018 | M19: =SEAR2016!$G22/1000 -> 48.028485 | N19: =100*M19/M$7 -> 0.34756542 | O19: ='EUR2016'!$G22/1000 -> 0.29301498 | P19: =100*O19/O$7 -> 0.0031798621 | Q19: ='EMR2016'!$G22/1000 -> 26.126656 | R19: =100*Q19/Q$7 -> 0.63132545 | S19: ='WPR2016'!$G22/1000 -> 3.4813497 | T19: =100*S19/S$7 -> 0.024955293 | U19: =World2030!$G22/1000 -> 83.373713 | V19: =100*U19/U$7 -> 0.1223934 | W19: ='AFR2030'!$G22/1000 -> 40.154863 | X19: =100*W19/W$7 -> 0.39799926 | Y19: ='AMR2030'!$G22/1000 -> 0.64180432 | Z19: =100*Y19/Y$7 -> 0.007424077 | AA19: =SEAR2030!$G22/1000 -> 21.922373 | AB19: =100*AA19/AA$7 -> 0.12998985 | AC19: ='EUR2030'!$G22/1000 -> 0.19751169 | AD19: =100*AC19/AC$7 -> 0.0020129613 | AE19: ='EMR2030'!$G22/1000 -> 18.439762 | AF19: =100*AE19/AE$7 -> 0.35496631 | AG19: ='WPR2030'!$G22/1000 -> 2.0173985 | AH19: =100*AG19/AG$7 -> 0.011518842 | AI19: =World2045!$G22/1000 -> 49.044165 | AJ19: =100*AI19/AI$7 -> 0.057339715 | AK19: ='AFR2045'!$G22/1000 -> 21.015616 | AL19: =100*AK19/AK$7 -> 0.16239496 | AM19: ='AMR2045'!$G22/1000 -> 0.35989337 | AN19: =100*AM19/AM$7 -> 0.003163602 | AO19: =SEAR2045!$G22/1000 -> 13.005298 | AP19: =100*AO19/AO$7 -> 0.064649736 | AQ19: ='EUR2045'!$G22/1000 -> 0.11587081 | AR19: =100*AQ19/AQ$7 -> 0.0010263101 | AS19: ='EMR2045'!$G22/1000 -> 13.15446 | AT19: =100*AS19/AS$7 -> 0.17774237 | AU19: ='WPR2045'!$G22/1000 -> 1.3930262 | AV19: =100*AU19/AU$7 -> 0.0062166293 | AW19: =World2060!$G22/1000 -> 34.551795 | AX19: =100*AW19/AW$7 -> 0.033930474 | AY19: ='AFR2060'!$G22/1000 -> 13.520698 | AZ19: =100*AY19/AY$7 -> 0.074558149 | BA19: ='AMR2060'!$G22/1000 -> 0.27540772 | BB19: =100*BA19/BA$7 -> 0.0020652877 | BC19: =SEAR2060!$G22/1000 -> 10.124925 | BD19: =100*BC19/BC$7 -> 0.042690168 | BE19: ='EUR2060'!$G22/1000 -> 0.08109935 | BF19: =100*BE19/BE$7 -> 0.00069518785 | BG19: ='EMR2060'!$G22/1000 -> 9.4269562 | BH19: =100*BG19/BG$7 -> 0.091079289 | BI19: ='WPR2060'!$G22/1000 -> 1.1227084 | BJ19: =100*BI19/BI$7 -> 0.0045586061
A20: 13 | E20: a. | F20: Whooping cough | G20: =World2016!$G23/1000 -> 9.9890006 | H20: =100*G20/G$7 -> 0.017563571 | I20: ='AFR2016'!$G23/1000 -> 6.516044 | J20: =100*I20/I$7 -> 0.073668396 | K20: ='AMR2016'!$G23/1000 -> 0.4005081 | L20: =100*K20/K$7 -> 0.0057991502 | M20: =SEAR2016!$G23/1000 -> 1.2104484 | N20: =100*M20/M$7 -> 0.0087595938 | O20: ='EUR2016'!$G23/1000 -> 0.055871311 | P20: =100*O20/O$7 -> 0.00060632757 | Q20: ='EMR2016'!$G23/1000 -> 1.6841147 | R20: =100*Q20/Q$7 -> 0.040695008 | S20: ='WPR2016'!$G23/1000 -> 0.1220141 | T20: =100*S20/S$7 -> 0.00087463137 | U20: =World2030!$G23/1000 -> 6.8372248 | V20: =100*U20/U$7 -> 0.010037111 | W20: ='AFR2030'!$G23/1000 -> 4.7117216 | X20: =100*W20/W$7 -> 0.046700737 | Y20: ='AMR2030'!$G23/1000 -> 0.33628787 | Z20: =100*Y20/Y$7 -> 0.0038900128 | AA20: =SEAR2030!$G23/1000 -> 0.52971349 | AB20: =100*AA20/AA$7 -> 0.0031409637 | AC20: ='EUR2030'!$G23/1000 -> 0.074848973 | AD20: =100*AC20/AC$7 -> 0.00076283123 | AE20: ='EMR2030'!$G23/1000 -> 1.1193242 | AF20: =100*AE20/AE$7 -> 0.021547044 | AG20: ='WPR2030'!$G23/1000 -> 0.065328728 | AH20: =100*AG20/AG$7 -> 0.00037301075 | AI20: =World2045!$G23/1000 -> 3.5075404 | AJ20: =100*AI20/AI$7 -> 0.0041008216 | AK20: ='AFR2045'!$G23/1000 -> 2.5260557 | AL20: =100*AK20/AK$7 -> 0.01951971 | AM20: ='AMR2045'!$G23/1000 -> 0.10494283 | AN20: =100*AM20/AM$7 -> 0.00092248809 | AO20: =SEAR2045!$G23/1000 -> 0.22452894 | AP20: =100*AO20/AO$7 -> 0.0011161403 | AQ20: ='EUR2045'!$G23/1000 -> 0.03551659 | AR20: =100*AQ20/AQ$7 -> 0.00031458341 | AS20: ='EMR2045'!$G23/1000 -> 0.58499752 | AT20: =100*AS20/AS$7 -> 0.0079044554 | AU20: ='WPR2045'!$G23/1000 -> 0.031498772 | AV20: =100*AU20/AU$7 -> 0.00014056893 | AW20: =World2060!$G23/1000 -> 1.7967315 | AX20: =100*AW20/AW$7 -> 0.0017644221 | AY20: ='AFR2060'!$G23/1000 -> 1.3143395 | AZ20: =100*AY20/AY$7 -> 0.0072477557 | BA20: ='AMR2060'!$G23/1000 -> 0.037917346 | BB20: =100*BA20/BA$7 -> 0.00028434289 | BC20: =SEAR2060!$G23/1000 -> 0.10437041 | BD20: =100*BC20/BC$7 -> 0.00044006155 | BE20: ='EUR2060'!$G23/1000 -> 0.017477431 | BF20: =100*BE20/BE$7 -> 0.00014981745 | BG20: ='EMR2060'!$G23/1000 -> 0.3039905 | BH20: =100*BG20/BG$7 -> 0.0029370285 | BI20: ='WPR2060'!$G23/1000 -> 0.018636322 | BJ20: =100*BI20/BI$7 -> 7.5670276e-05
A21: 14 | E21: b. | F21: Diphtheria | G21: =World2016!$G24/1000 -> 1.4467969 | H21: =100*G21/G$7 -> 0.00254389 | I21: ='AFR2016'!$G24/1000 -> 1.0478278 | J21: =100*I21/I$7 -> 0.01184642 | K21: ='AMR2016'!$G24/1000 -> 0.012794527 | L21: =100*K21/K$7 -> 0.00018525814 | M21: =SEAR2016!$G24/1000 -> 0.10290579 | N21: =100*M21/M$7 -> 0.00074469336 | O21: ='EUR2016'!$G24/1000 -> 0.019235286 | P21: =100*O21/O$7 -> 0.00020874549 | Q21: ='EMR2016'!$G24/1000 -> 0.22446456 | R21: =100*Q21/Q$7 -> 0.0054239697 | S21: ='WPR2016'!$G24/1000 -> 0.039568906 | T21: =100*S21/S$7 -> 0.00028364104 | U21: =World2030!$G24/1000 -> 0.87972882 | V21: =100*U21/U$7 -> 0.0012914502 | W21: ='AFR2030'!$G24/1000 -> 0.61989958 | X21: =100*W21/W$7 -> 0.0061442015 | Y21: ='AMR2030'!$G24/1000 -> 0.0065371847 | Z21: =100*Y21/Y$7 -> 7.561894e-05 | AA21: =SEAR2030!$G24/1000 -> 0.051284148 | AB21: =100*AA21/AA$7 -> 0.00030409203 | AC21: ='EUR2030'!$G24/1000 -> 0.012085754 | AD21: =100*AC21/AC$7 -> 0.00012317324 | AE21: ='EMR2030'!$G24/1000 -> 0.1648318 | AF21: =100*AE21/AE$7 -> 0.0031730202 | AG21: ='WPR2030'!$G24/1000 -> 0.025090352 | AH21: =100*AG21/AG$7 -> 0.00014325966 | AI21: =World2045!$G24/1000 -> 0.46990516 | AJ21: =100*AI21/AI$7 -> 0.00054938703 | AK21: ='AFR2045'!$G24/1000 -> 0.30481795 | AL21: =100*AK21/AK$7 -> 0.0023554341 | AM21: ='AMR2045'!$G24/1000 -> 0.0031678873 | AN21: =100*AM21/AM$7 -> 2.7846955e-05 | AO21: =SEAR2045!$G24/1000 -> 0.028809142 | AP21: =100*AO21/AO$7 -> 0.00014321113 | AQ21: ='EUR2045'!$G24/1000 -> 0.0071797618 | AR21: =100*AQ21/AQ$7 -> 6.3593773e-05 | AS21: ='EMR2045'!$G24/1000 -> 0.1142996 | AT21: =100*AS21/AS$7 -> 0.0015444101 | AU21: ='WPR2045'!$G24/1000 -> 0.011630821 | AV21: =100*AU21/AU$7 -> 5.1904626e-05 | AW21: =World2060!$G24/1000 -> 0.26854351 | AX21: =100*AW21/AW$7 -> 0.00026371447 | AY21: ='AFR2060'!$G24/1000 -> 0.16140953 | AZ21: =100*AY21/AY$7 -> 0.00089007203 | BA21: ='AMR2060'!$G24/1000 -> 0.001995483 | BB21: =100*BA21/BA$7 -> 1.4964164e-05 | BC21: =SEAR2060!$G24/1000 -> 0.017345673 | BD21: =100*BC21/BC$7 -> 7.3135326e-05 | BE21: ='EUR2060'!$G24/1000 -> 0.0048240108 | BF21: =100*BE21/BE$7 -> 4.1351672e-05 | BG21: ='EMR2060'!$G24/1000 -> 0.076956092 | BH21: =100*BG21/BG$7 -> 0.00074351742 | BI21: ='WPR2060'!$G24/1000 -> 0.0060127195 | BJ21: =100*BI21/BI$7 -> 2.4413837e-05
A22: 15 | E22: c. | F22: Measles | G22: =World2016!$G25/1000 -> 90.956355 | H22: =100*G22/G$7 -> 0.15992775 | I22: ='AFR2016'!$G25/1000 -> 45.735779 | J22: =100*I22/I$7 -> 0.5170747 | K22: ='AMR2016'!$G25/1000 -> 0.0014599135 | L22: =100*K22/K$7 -> 2.1138792e-05 | M22: =SEAR2016!$G25/1000 -> 33.266796 | N22: =100*M22/M$7 -> 0.24074022 | O22: ='EUR2016'!$G25/1000 -> 0.05850658 | P22: =100*O22/O$7 -> 0.00063492608 | Q22: ='EMR2016'!$G25/1000 -> 10.281398 | R22: =100*Q22/Q$7 -> 0.24844008 | S22: ='WPR2016'!$G25/1000 -> 1.6124159 | T22: =100*S22/S$7 -> 0.01155825 | U22: =World2030!$G25/1000 -> 44.533384 | V22: =100*U22/U$7 -> 0.065375429 | W22: ='AFR2030'!$G25/1000 -> 20.311806 | X22: =100*W22/W$7 -> 0.20132265 | Y22: ='AMR2030'!$G25/1000 -> 0.00063382609 | Z22: =100*Y22/Y$7 -> 7.3317887e-06 | AA22: =SEAR2030!$G25/1000 -> 14.411753 | AB22: =100*AA22/AA$7 -> 0.085455241 | AC22: ='EUR2030'!$G25/1000 -> 0.032815647 | AD22: =100*AC22/AC$7 -> 0.00033444414 | AE22: ='EMR2030'!$G25/1000 -> 8.9968182 | AF22: =100*AE22/AE$7 -> 0.17318918 | AG22: ='WPR2030'!$G25/1000 -> 0.77955735 | AH22: =100*AG22/AG$7 -> 0.0044510782 | AI22: =World2045!$G25/1000 -> 21.705694 | AJ22: =100*AI22/AI$7 -> 0.025377093 | AK22: ='AFR2045'!$G25/1000 -> 7.8221054 | AL22: =100*AK22/AK$7 -> 0.060444124 | AM22: ='AMR2045'!$G25/1000 -> 0.00036082484 | AN22: =100*AM22/AM$7 -> 3.17179e-06 | AO22: =SEAR2045!$G25/1000 -> 7.0263031 | AP22: =100*AO22/AO$7 -> 0.034927969 | AQ22: ='EUR2045'!$G25/1000 -> 0.011026886 | AR22: =100*AQ22/AQ$7 -> 9.7669157e-05 | AS22: ='EMR2045'!$G25/1000 -> 6.5130504 | AT22: =100*AS22/AS$7 -> 0.088003991 | AU22: ='WPR2045'!$G25/1000 -> 0.33284737 | AV22: =100*AU22/AU$7 -> 0.0014853912 | AW22: =World2060!$G25/1000 -> 12.09542 | AX22: =100*AW22/AW$7 -> 0.011877916 | AY22: ='AFR2060'!$G25/1000 -> 3.1040052 | AZ22: =100*AY22/AY$7 -> 0.017116637 | BA22: ='AMR2060'!$G25/1000 -> 0.00027099119 | BB22: =100*BA22/BA$7 -> 2.032168e-06 | BC22: =SEAR2060!$G25/1000 -> 4.5399222 | BD22: =100*BC22/BC$7 -> 0.019141874 | BE22: ='EUR2060'!$G25/1000 -> 0.0046232611 | BF22: =100*BE22/BE$7 -> 3.9630835e-05 | BG22: ='EMR2060'!$G25/1000 -> 4.3016865 | BH22: =100*BG22/BG$7 -> 0.041561087 | BI22: ='WPR2060'!$G25/1000 -> 0.14491133 | BJ22: =100*BI22/BI$7 -> 0.00058839293
A23: 16 | E23: d. | F23: Tetanus | G23: =World2016!$G26/1000 -> 53.723763 | H23: =100*G23/G$7 -> 0.094462014 | I23: ='AFR2016'!$G26/1000 -> 23.986934 | J23: =100*I23/I$7 -> 0.27118893 | K23: ='AMR2016'!$G26/1000 -> 0.48506365 | L23: =100*K23/K$7 -> 0.0070234708 | M23: =SEAR2016!$G26/1000 -> 13.448335 | N23: =100*M23/M$7 -> 0.097320916 | O23: ='EUR2016'!$G26/1000 -> 0.15940181 | P23: =100*O23/O$7 -> 0.0017298629 | Q23: ='EMR2016'!$G26/1000 -> 13.936678 | R23: =100*Q23/Q$7 -> 0.33676639 | S23: ='WPR2016'!$G26/1000 -> 1.7073508 | T23: =100*S23/S$7 -> 0.012238771 | U23: =World2030!$G26/1000 -> 31.123375 | V23: =100*U23/U$7 -> 0.045689409 | W23: ='AFR2030'!$G26/1000 -> 14.511436 | X23: =100*W23/W$7 -> 0.14383166 | Y23: ='AMR2030'!$G26/1000 -> 0.29834544 | Z23: =100*Y23/Y$7 -> 0.0034511134 | AA23: =SEAR2030!$G26/1000 -> 6.9296228 | AB23: =100*AA23/AA$7 -> 0.041089559 | AC23: ='EUR2030'!$G26/1000 -> 0.077761321 | AD23: =100*AC23/AC$7 -> 0.00079251274 | AE23: ='EMR2030'!$G26/1000 -> 8.1587877 | AF23: =100*AE23/AE$7 -> 0.15705706 | AG23: ='WPR2030'!$G26/1000 -> 1.147422 | AH23: =100*AG23/AG$7 -> 0.0065514938 | AI23: =World2045!$G26/1000 -> 23.361025 | AJ23: =100*AI23/AI$7 -> 0.027312414 | AK23: ='AFR2045'!$G26/1000 -> 10.362637 | AL23: =100*AK23/AK$7 -> 0.080075695 | AM23: ='AMR2045'!$G26/1000 -> 0.25142183 | AN23: =100*AM23/AM$7 -> 0.0022100951 | AO23: =SEAR2045!$G26/1000 -> 5.7256568 | AP23: =100*AO23/AO$7 -> 0.028462416 | AQ23: ='EUR2045'!$G26/1000 -> 0.06214757 | AR23: =100*AQ23/AQ$7 -> 0.00055046373 | AS23: ='EMR2045'!$G26/1000 -> 5.9421127 | AT23: =100*AS23/AS$7 -> 0.080289511 | AU23: ='WPR2045'!$G26/1000 -> 1.0170492 | AV23: =100*AU23/AU$7 -> 0.0045387646 | AW23: =World2060!$G26/1000 -> 20.391101 | AX23: =100*AW23/AW$7 -> 0.020024421 | AY23: ='AFR2060'!$G26/1000 -> 8.9409442 | AZ23: =100*AY23/AY$7 -> 0.049303684 | BA23: ='AMR2060'!$G26/1000 -> 0.2352239 | BB23: =100*BA23/BA$7 -> 0.0017639485 | BC23: =SEAR2060!$G26/1000 -> 5.4632868 | BD23: =100*BC23/BC$7 -> 0.023035097 | BE23: ='EUR2060'!$G26/1000 -> 0.054174646 | BF23: =100*BE23/BE$7 -> 0.00046438789 | BG23: ='EMR2060'!$G26/1000 -> 4.744323 | BH23: =100*BG23/BG$7 -> 0.045837655 | BI23: ='WPR2060'!$G26/1000 -> 0.95314801 | BJ23: =100*BI23/BI$7 -> 0.0038701291
A24: 17 | D24: 6. | E24: Meningitis | G24: =World2016!$G27/1000 -> 278.81226 | H24: =100*G24/G$7 -> 0.49023312 | I24: ='AFR2016'!$G27/1000 -> 186.06926 | J24: =100*I24/I$7 -> 2.103642 | K24: ='AMR2016'!$G27/1000 -> 6.5862343 | L24: =100*K24/K$7 -> 0.095365267 | M24: =SEAR2016!$G27/1000 -> 44.759136 | N24: =100*M24/M$7 -> 0.32390628 | O24: ='EUR2016'!$G27/1000 -> 4.5798544 | P24: =100*O24/O$7 -> 0.049701572 | Q24: ='EMR2016'!$G27/1000 -> 25.688487 | R24: =100*Q24/Q$7 -> 0.62073752 | S24: ='WPR2016'!$G27/1000 -> 11.129296 | T24: =100*S24/S$7 -> 0.079777926 | U24: =World2030!$G27/1000 -> 232.91431 | V24: =100*U24/U$7 -> 0.3419204 | W24: ='AFR2030'!$G27/1000 -> 166.35925 | X24: =100*W24/W$7 -> 1.6488877 | Y24: ='AMR2030'!$G27/1000 -> 4.392597 | Z24: =100*Y24/Y$7 -> 0.050811403 | AA24: =SEAR2030!$G27/1000 -> 30.444983 | AB24: =100*AA24/AA$7 -> 0.18052511 | AC24: ='EUR2030'!$G27/1000 -> 3.1736589 | AD24: =100*AC24/AC$7 -> 0.032344681 | AE24: ='EMR2030'!$G27/1000 -> 19.503205 | AF24: =100*AE24/AE$7 -> 0.37543763 | AG24: ='WPR2030'!$G27/1000 -> 9.0406102 | AH24: =100*AG24/AG$7 -> 0.051619631 | AI24: =World2045!$G27/1000 -> 190.09773 | AJ24: =100*AI24/AI$7 -> 0.22225172 | AK24: ='AFR2045'!$G27/1000 -> 137.37892 | AL24: =100*AK24/AK$7 -> 1.0615746 | AM24: ='AMR2045'!$G27/1000 -> 3.40286 | AN24: =100*AM24/AM$7 -> 0.029912456 | AO24: =SEAR2045!$G27/1000 -> 21.868273 | AP24: =100*AO24/AO$7 -> 0.10870786 | AQ24: ='EUR2045'!$G27/1000 -> 2.530417 | AR24: =100*AQ24/AQ$7 -> 0.022412828 | AS24: ='EMR2045'!$G27/1000 -> 16.727663 | AT24: =100*AS24/AS$7 -> 0.22602329 | AU24: ='WPR2045'!$G27/1000 -> 8.1896019 | AV24: =100*AU24/AU$7 -> 0.036547569 | AW24: =World2060!$G27/1000 -> 177.80444 | AX24: =100*AW24/AW$7 -> 0.1746071 | AY24: ='AFR2060'!$G27/1000 -> 130.78307 | AZ24: =100*AY24/AY$7 -> 0.72118637 | BA24: ='AMR2060'!$G27/1000 -> 2.9165792 | BB24: =100*BA24/BA$7 -> 0.021871482 | BC24: =SEAR2060!$G27/1000 -> 18.42852 | BD24: =100*BC24/BC$7 -> 0.077700982 | BE24: ='EUR2060'!$G27/1000 -> 2.1091896 | BF24: =100*BE24/BE$7 -> 0.018080083 | BG24: ='EMR2060'!$G27/1000 -> 16.081926 | BH24: =100*BG24/BG$7 -> 0.15537681 | BI24: ='WPR2060'!$G27/1000 -> 7.4851527 | BJ24: =100*BI24/BI$7 -> 0.030392454
A25: 18 | D25: 7. | E25: Encephalitis | G25: =World2016!$G28/1000 -> 104.48244 | H25: =100*G25/G$7 -> 0.18371054 | I25: ='AFR2016'!$G28/1000 -> 9.4822624 | J25: =100*I25/I$7 -> 0.10720355 | K25: ='AMR2016'!$G28/1000 -> 19.785268 | L25: =100*K25/K$7 -> 0.28648045 | M25: =SEAR2016!$G28/1000 -> 39.578719 | N25: =100*M25/M$7 -> 0.28641741 | O25: ='EUR2016'!$G28/1000 -> 18.003238 | P25: =100*O25/O$7 -> 0.19537503 | Q25: ='EMR2016'!$G28/1000 -> 6.1990218 | R25: =100*Q25/Q$7 -> 0.14979339 | S25: ='WPR2016'!$G28/1000 -> 11.433929 | T25: =100*S25/S$7 -> 0.081961619 | U25: =World2030!$G28/1000 -> 105.34775 | V25: =100*U25/U$7 -> 0.15465149 | W25: ='AFR2030'!$G28/1000 -> 7.6049225 | X25: =100*W25/W$7 -> 0.07537701 | Y25: ='AMR2030'!$G28/1000 -> 23.776138 | Z25: =100*Y25/Y$7 -> 0.27503068 | AA25: =SEAR2030!$G28/1000 -> 33.618228 | AB25: =100*AA25/AA$7 -> 0.19934103 | AC25: ='EUR2030'!$G28/1000 -> 22.562984 | AD25: =100*AC25/AC$7 -> 0.22995304 | AE25: ='EMR2030'!$G28/1000 -> 5.3603369 | AF25: =100*AE25/AE$7 -> 0.10318674 | AG25: ='WPR2030'!$G28/1000 -> 12.425136 | AH25: =100*AG25/AG$7 -> 0.070944429 | AI25: =World2045!$G28/1000 -> 104.26513 | AJ25: =100*AI25/AI$7 -> 0.121901 | AK25: ='AFR2045'!$G28/1000 -> 5.7272097 | AL25: =100*AK25/AK$7 -> 0.044256138 | AM25: ='AMR2045'!$G28/1000 -> 27.650943 | AN25: =100*AM25/AM$7 -> 0.24306249 | AO25: =SEAR2045!$G28/1000 -> 29.513538 | AP25: =100*AO25/AO$7 -> 0.14671271 | AQ25: ='EUR2045'!$G28/1000 -> 23.769862 | AR25: =100*AQ25/AQ$7 -> 0.21053835 | AS25: ='EMR2045'!$G28/1000 -> 4.8526741 | AT25: =100*AS25/AS$7 -> 0.065569075 | AU25: ='WPR2045'!$G28/1000 -> 12.750904 | AV25: =100*AU25/AU$7 -> 0.056903196 | AW25: =World2060!$G28/1000 -> 105.1503 | AX25: =100*AW25/AW$7 -> 0.10325946 | AY25: ='AFR2060'!$G28/1000 -> 4.9565934 | AZ25: =100*AY25/AY$7 -> 0.027332495 | BA25: ='AMR2060'!$G28/1000 -> 29.217053 | BB25: =100*BA25/BA$7 -> 0.21909923 | BC25: =SEAR2060!$G28/1000 -> 30.452497 | BD25: =100*BC25/BC$7 -> 0.12839821 | BE25: ='EUR2060'!$G28/1000 -> 22.649717 | BF25: =100*BE25/BE$7 -> 0.19415455 | BG25: ='EMR2060'!$G28/1000 -> 4.857264 | BH25: =100*BG25/BG$7 -> 0.046928843 | BI25: ='WPR2060'!$G28/1000 -> 13.017178 | BJ25: =100*BI25/BI$7 -> 0.052854496
A26: 19 | D26: 8. | E26: Acute hepatitis B | G26: =World2016!$G29/1000 -> 110.83004 | H26: =100*G26/G$7 -> 0.19487146 | I26: ='AFR2016'!$G29/1000 -> 24.084799 | J26: =100*I26/I$7 -> 0.27229536 | K26: ='AMR2016'!$G29/1000 -> 2.7598667 | L26: =100*K26/K$7 -> 0.039961443 | M26: =SEAR2016!$G29/1000 -> 62.960833 | N26: =100*M26/M$7 -> 0.45562563 | O26: ='EUR2016'!$G29/1000 -> 2.8724416 | P26: =100*O26/O$7 -> 0.031172359 | Q26: ='EMR2016'!$G29/1000 -> 5.8006032 | R26: =100*Q26/Q$7 -> 0.14016599 | S26: ='WPR2016'!$G29/1000 -> 12.351492 | T26: =100*S26/S$7 -> 0.088538968 | U26: =World2030!$G29/1000 -> 114.08323 | V26: =100*U26/U$7 -> 0.16747527 | W26: ='AFR2030'!$G29/1000 -> 26.771683 | X26: =100*W26/W$7 -> 0.26535042 | Y26: ='AMR2030'!$G29/1000 -> 2.4397465 | Z26: =100*Y26/Y$7 -> 0.028221789 | AA26: =SEAR2030!$G29/1000 -> 63.877778 | AB26: =100*AA26/AA$7 -> 0.37876661 | AC26: ='EUR2030'!$G29/1000 -> 2.4548424 | AD26: =100*AC26/AC$7 -> 0.025018786 | AE26: ='EMR2030'!$G29/1000 -> 6.3931573 | AF26: =100*AE26/AE$7 -> 0.12306859 | AG26: ='WPR2030'!$G29/1000 -> 12.146027 | AH26: =100*AG26/AG$7 -> 0.069350785 | AI26: =World2045!$G29/1000 -> 108.00435 | AJ26: =100*AI26/AI$7 -> 0.1262727 | AK26: ='AFR2045'!$G29/1000 -> 26.507786 | AL26: =100*AK26/AK$7 -> 0.20483487 | AM26: ='AMR2045'!$G29/1000 -> 2.2408317 | AN26: =100*AM26/AM$7 -> 0.019697777 | AO26: =SEAR2045!$G29/1000 -> 58.535836 | AP26: =100*AO26/AO$7 -> 0.29098345 | AQ26: ='EUR2045'!$G29/1000 -> 2.188642 | AR26: =100*AQ26/AQ$7 -> 0.019385602 | AS26: ='EMR2045'!$G29/1000 -> 6.8001444 | AT26: =100*AS26/AS$7 -> 0.091883189 | AU26: ='WPR2045'!$G29/1000 -> 11.731114 | AV26: =100*AU26/AU$7 -> 0.0523522 | AW26: =World2060!$G29/1000 -> 105.52487 | AX26: =100*AW26/AW$7 -> 0.10362729 | AY26: ='AFR2060'!$G29/1000 -> 27.074732 | AZ26: =100*AY26/AY$7 -> 0.14930012 | BA26: ='AMR2060'!$G29/1000 -> 2.0294288 | BB26: =100*BA26/BA$7 -> 0.015218725 | BC26: =SEAR2060!$G29/1000 -> 56.963538 | BD26: =100*BC26/BC$7 -> 0.24017788 | BE26: ='EUR2060'!$G29/1000 -> 1.9407737 | BF26: =100*BE26/BE$7 -> 0.016636413 | BG26: ='EMR2060'!$G29/1000 -> 7.1926113 | BH26: =100*BG26/BG$7 -> 0.069491987 | BI26: ='WPR2060'!$G29/1000 -> 10.323786 | BJ26: =100*BI26/BI$7 -> 0.041918343
A27: 20 | D27: 9. | E27: Acute hepatitis C | G27: =World2016!$G30/1000 -> 2.552712 | H27: =100*G27/G$7 -> 0.0044884107 | I27: ='AFR2016'!$G30/1000 -> 0.74336011 | J27: =100*I27/I$7 -> 0.0084042015 | K27: ='AMR2016'!$G30/1000 -> 0.019980819 | L27: =100*K27/K$7 -> 0.00028931192 | M27: =SEAR2016!$G30/1000 -> 1.3430277 | N27: =100*M27/M$7 -> 0.0097190239 | O27: ='EUR2016'!$G30/1000 -> 0.033407603 | P27: =100*O27/O$7 -> 0.00036254654 | Q27: ='EMR2016'!$G30/1000 -> 0.22733964 | R27: =100*Q27/Q$7 -> 0.0054934433 | S27: ='WPR2016'!$G30/1000 -> 0.18559609 | T27: =100*S27/S$7 -> 0.0013304049 | U27: =World2030!$G30/1000 -> 2.7198101 | V27: =100*U27/U$7 -> 0.0039927069 | W27: ='AFR2030'!$G30/1000 -> 0.77788687 | X27: =100*W27/W$7 -> 0.0077101096 | Y27: ='AMR2030'!$G30/1000 -> 0.018446082 | Z27: =100*Y27/Y$7 -> 0.00021337522 | AA27: =SEAR2030!$G30/1000 -> 1.4781423 | AB27: =100*AA27/AA$7 -> 0.0087647216 | AC27: ='EUR2030'!$G30/1000 -> 0.029548734 | AD27: =100*AC27/AC$7 -> 0.00030114905 | AE27: ='EMR2030'!$G30/1000 -> 0.22470072 | AF27: =100*AE27/AE$7 -> 0.0043254997 | AG27: ='WPR2030'!$G30/1000 -> 0.19108538 | AH27: =100*AG27/AG$7 -> 0.0010910499 | AI27: =World2045!$G30/1000 -> 2.7857456 | AJ27: =100*AI27/AI$7 -> 0.0032569392 | AK27: ='AFR2045'!$G30/1000 -> 0.7788647 | AL27: =100*AK27/AK$7 -> 0.0060185579 | AM27: ='AMR2045'!$G30/1000 -> 0.016245927 | AN27: =100*AM27/AM$7 -> 0.00014280799 | AO27: =SEAR2045!$G30/1000 -> 1.5374023 | AP27: =100*AO27/AO$7 -> 0.0076424742 | AQ27: ='EUR2045'!$G30/1000 -> 0.028086222 | AR27: =100*AQ27/AQ$7 -> 0.00024876993 | AS27: ='EMR2045'!$G30/1000 -> 0.23636546 | AT27: =100*AS27/AS$7 -> 0.0031937575 | AU27: ='WPR2045'!$G30/1000 -> 0.18878103 | AV27: =100*AU27/AU$7 -> 0.00084246923 | AW27: =World2060!$G30/1000 -> 2.9694603 | AX27: =100*AW27/AW$7 -> 0.0029160625 | AY27: ='AFR2060'!$G30/1000 -> 0.83026819 | AZ27: =100*AY27/AY$7 -> 0.0045784069 | BA27: ='AMR2060'!$G30/1000 -> 0.014737164 | BB27: =100*BA27/BA$7 -> 0.00011051427 | BC27: =SEAR2060!$G30/1000 -> 1.6667662 | BD27: =100*BC27/BC$7 -> 0.00702766 | BE27: ='EUR2060'!$G30/1000 -> 0.027448626 | BF27: =100*BE27/BE$7 -> 0.00023529105 | BG27: ='EMR2060'!$G30/1000 -> 0.25768976 | BH27: =100*BG27/BG$7 -> 0.0024896901 | BI27: ='WPR2060'!$G30/1000 -> 0.17255032 | BJ27: =100*BI27/BI$7 -> 0.00070061733
A28: 21 | D28: 10. | E28: Parasitic and vector diseases | G28: =World2016!$G31/1000 -> 573.72124 | H28: =100*G28/G$7 -> 1.0087689 | I28: ='AFR2016'!$G31/1000 -> 449.32476 | J28: =100*I28/I$7 -> 5.079928 | K28: ='AMR2016'!$G31/1000 -> 11.579044 | L28: =100*K28/K$7 -> 0.16765857 | M28: =SEAR2016!$G31/1000 -> 82.015633 | N28: =100*M28/M$7 -> 0.59351858 | O28: ='EUR2016'!$G31/1000 -> 0.2528947 | P28: =100*O28/O$7 -> 0.0027444681 | Q28: ='EMR2016'!$G31/1000 -> 19.375962 | R28: =100*Q28/Q$7 -> 0.46820144 | S28: ='WPR2016'!$G31/1000 -> 11.172946 | T28: =100*S28/S$7 -> 0.080090817 | U28: =World2030!$G31/1000 -> 405.74909 | V28: =100*U28/U$7 -> 0.5956435 | W28: ='AFR2030'!$G31/1000 -> 303.62743 | X28: =100*W28/W$7 -> 3.0094361 | Y28: ='AMR2030'!$G31/1000 -> 13.872103 | Z28: =100*Y28/Y$7 -> 0.16046567 | AA28: =SEAR2030!$G31/1000 -> 65.441885 | AB28: =100*AA28/AA$7 -> 0.38804106 | AC28: ='EUR2030'!$G31/1000 -> 0.16955878 | AD28: =100*AC28/AC$7 -> 0.0017280763 | AE28: ='EMR2030'!$G31/1000 -> 14.849305 | AF28: =100*AE28/AE$7 -> 0.28584983 | AG28: ='WPR2030'!$G31/1000 -> 7.7888098 | AH28: =100*AG28/AG$7 -> 0.044472163 | AI28: =World2045!$G31/1000 -> 336.51062 | AJ28: =100*AI28/AI$7 -> 0.39342954 | AK28: ='AFR2045'!$G31/1000 -> 246.51991 | AL28: =100*AK28/AK$7 -> 1.9049449 | AM28: ='AMR2045'!$G31/1000 -> 16.135642 | AN28: =100*AM28/AM$7 -> 0.14183853 | AO28: =SEAR2045!$G31/1000 -> 55.783825 | AP28: =100*AO28/AO$7 -> 0.27730311 | AQ28: ='EUR2045'!$G31/1000 -> 0.13194975 | AR28: =100*AQ28/AQ$7 -> 0.0011687271 | AS28: ='EMR2045'!$G31/1000 -> 12.567285 | AT28: =100*AS28/AS$7 -> 0.16980848 | AU28: ='WPR2045'!$G31/1000 -> 5.3720068 | AV28: =100*AU28/AU$7 -> 0.023973545 | AW28: =World2060!$G31/1000 -> 305.70097 | AX28: =100*AW28/AW$7 -> 0.30020375 | AY28: ='AFR2060'!$G31/1000 -> 217.85115 | AZ28: =100*AY28/AY$7 -> 1.2013121 | BA28: ='AMR2060'!$G31/1000 -> 18.068564 | BB28: =100*BA28/BA$7 -> 0.1354965 | BC28: =SEAR2060!$G31/1000 -> 54.076483 | BD28: =100*BC28/BC$7 -> 0.22800506 | BE28: ='EUR2060'!$G31/1000 -> 0.1154339 | BF28: =100*BE28/BE$7 -> 0.00098950537 | BG28: ='EMR2060'!$G31/1000 -> 11.546325 | BH28: =100*BG28/BG$7 -> 0.11155574 | BI28: ='WPR2060'!$G31/1000 -> 4.0430045 | BJ28: =100*BI28/BI$7 -> 0.016416075
