Workbook
Name __LEX1955: '[1]summary-targets'!#REF!
Name __LEX1955: '[1]summary-targets'!#REF!
Name __LEX1955: '[1]summary-targets'!#REF!
Name __LEX1955: '[1]summary-targets'!#REF!
Name __LEX1955: '[1]summary-targets'!#REF!
Name __LEX1975: '[1]summary-targets'!#REF!
Name __LEX1975: '[1]summary-targets'!#REF!
Name __LEX1975: '[1]summary-targets'!#REF!
Name __LEX1975: '[1]summary-targets'!#REF!
Name __LEX1975: '[1]summary-targets'!#REF!
Name __LEX2025: '[1]summary-targets'!#REF!
Name __LEX2025: '[1]summary-targets'!#REF!
Name __LEX2025: '[1]summary-targets'!#REF!
Name __LEX2025: '[1]summary-targets'!#REF!
Name __LEX2025: '[1]summary-targets'!#REF!
Name _reg98: [2]whoreg!#REF!
Name _reg98: [2]whoreg!#REF!
Name _reg98: [2]whoreg!#REF!
Name _reg98: [2]whoreg!#REF!
Name _reg98: [2]whoreg!#REF!
Name _resul: '[3]slop-inter'!$A$45:$AG$48
Name _yellowF: #REF!
Name _yellowF: #REF!
Name _yellowF: #REF!
Name _yellowF: #REF!
Name _yellowF: #REF!
Name _yellowF: #REF!
Name _yellowF: #REF!
Name _yellowM: #REF!
Name _yellowM: #REF!
Name _yellowM: #REF!
Name _yellowM: #REF!
Name _yellowM: #REF!
Name _yellowM: #REF!
Name _yellowM: #REF!
Name data: #REF!
Name data: #REF!
Name data: #REF!
Name data: #REF!
Name data: #REF!
Name data: #REF!
Name data: #REF!
Name GBDageD95: [4]Deaths!$A$1:$T$643
Name home: '[3]slop-inter'!$D$1:$F$1
Name label: [3]lx!$D$1788:$E$1825
Name n: #REF!
Name n: #REF!
Name PA: #REF!
Name PA: #REF!
Name PA: #REF!
Name PA: #REF!
Name PA: #REF!
Name PA: #REF!
Name PA: #REF!
Name pop: #REF!
Name pop: #REF!
Name pop: #REF!
Name pop: #REF!
Name pop: #REF!
Name pop: #REF!

Sheet Notes
B2: GLOBAL HEALTH ESTIMATES SUMMARY TABLES: PROJECTION OF DEATHS BY CAUSE, AGE AND SEX, BYWHO REGION October 2018 World Health Organization Geneva, Switzerland
B3: http://www.who.int/healthinfo/global_burden_disease/en/
B5: Global Health Estimates Summary Tables: Projection This workbook contains summary projections of mortality by cause, sex, age and region. Following the release of the WHO Global Health Estimates of deaths by cause, age, sex and country for years 2000-2016 (1), WHO projections of mortality and causes of death have been updated and extended for years 2017-2060 (2). These projections are an update of previous projections released in 2006 (3), 2008 (4) and 2013 (5). A set of relatively simple models were used to project future health trends for baseline, optimistic and pessimistic scenarios, based largely on projections of economic and social development, and using the historically observed relationships of these with cause-specific mortality rates. Projected death rates were converted to numbers of deaths using the median population projections of the World Population Prospects 2017 (7). For a more detailed summary of methods and data inputs, refer to the documentation available on the WHO website at <url> (8). All projection covariates have been revised and updated. These include country level projections of gross domestic product (GDP) per capita in purchasing parity adjusted 2011 dollars, average years of education for men and women aged 25 years and over, and smoking impact SI, the component of observed lung cancer mortality attributable to tobacco smoking. SI was projected using 25-year lagged projections of prevalence of tobacco smoking and average cigarettes per smoker per day. In the original projections, separate projection models were developed for HIV/AIDS, tuberculosis, lung cancer, diabetes mellitus and chronic respiratory diseases (3). These models have been revised and updated as described in the projections documentation (8). Additional special projection models have also been developed for malaria, maternal deaths, road injury, homicide, natural disasters and war and conflict (8). These projections are less firm than the base year assessments for 2016, and provide “business-as-usual” projections under specified assumptions that do not specifically take account of trends in major risk factors apart from tobacco smoking, and to a limited extent, overweight and obesity. This spreadsheet includes point estimates for projected deaths by region, cause, age and sex under a business-as-usual scenario for projected covariates. Explicit uncertainty ranges are not included here, uncertainty in projections is better conveyed through comparison of optimistic and pessimistic scenarios with varying input assumptions (under preparation and not yet released). The number of significant figures displayed in worksheet cells in this this Excel workbook do not provide information on uncertainty ranges of projected estimates. The base scenario does not necessarily represent the best predictions or potential range of future global and regional health trends; it is possible that more sophisticated causal models incorporating projections of important determinants may provide better predictions for specific diseases. The preparation of these statistics was undertaken by the WHO Department of Health Statistics and Informatics in collaboration with WHO technical programs. Documentation and regional-level summary tables are available on the WHO website (8). For other queries, please send an email to healthstat@who.int. References 1. Global Health Estimates 2016: Deaths by cause, age and sex, by country and by region, 2000-2016. Geneva: World Health Organization; 2018. Available at http://www.who.int/healthinfo/global_burden_disease/estimates/en/. 2. World Health Organization (2018). Projections of mortality and causes of death, 2017-2060. Available on the WHO website at http://www.who.int/healthinfo/global_burden_disease/projections/en/. 3. Mathers CD, Loncar D. Projections of global mortality and burden of disease from 2002 to 2030. PLoS Medicine, 2006, 3(11): e442. 4. World Health Organization. The global burden of disease: 2004 update. Geneva, World Health Organization, 2008. 5. World Health Organization (2013). Projections of mortality and causes of death, 2012-2030. Available on the WHO website at http://www.who.int/healthinfo/global_burden_disease/projections/en/. 6. Murray CJL, Lopez AD, eds. The global burden of disease: a comprehensive assessment of mortality and disability from diseases, injuries and risk factors in 1990 and projected to 2020. Cambridge, Harvard School of Public Health on behalf of the World Health Organization and the World Bank, 1996. 7. UN Population Division. World Population Prospects - the 2017 revision. New York, United Nations, 2017. 8. World Health Organization (2018). Updated projections of mortality and causes of death, 2016-2060. Available on the WHO website at http://www.who.int/healthinfo/global_burden_disease/projections/en/.

Sheet Country list
B2: List of Countries in Regional Categories
B4: WHO Region | C4: Countries included
B5: African Region | C5: Algeria
C6: Angola
C7: Benin
C8: Botswana
C9: Burkina Faso
C10: Burundi
C11: Cameroon
C12: Cabo Verde
C13: Central African Republic
C14: Chad
C15: Comoros
C16: Congo
C17: Côte d'Ivoire
... C51: Zimbabwe
B53: Region of the Americas | C53: Antigua and Barbuda
C54: Argentina
C55: Bahamas
C56: Barbados
C57: Belize
C58: Bolivia (Plurinational State of)
C59: Brazil
C60: Canada
C61: Chile
C62: Colombia
C63: Costa Rica
C64: Cuba
C65: Dominican Republic
... C85: Venezuela (Bolivarian Republic of)
B87: South-East Asia Region | C87: Bangladesh
C88: Bhutan
C89: Democratic People's Republic of Korea
C90: India
C91: Indonesia
C92: Maldives
C93: Myanmar
C94: Nepal
C95: Sri Lanka
C96: Thailand
C97: Timor-Leste
B99: European Region | C99: Albania
C100: Armenia
C101: Austria
C102: Azerbaijan
C103: Belarus
C104: Belgium
C105: Bosnia and Herzegovina
C106: Bulgaria
C107: Croatia
C108: Cyprus
C109: Czech Republic
C110: Denmark
C111: Estonia
... C148: Uzbekistan
B150: Eastern Mediterranean Region | C150: Afghanistan
C151: Bahrain
C152: Djibouti
C153: Egypt
C154: Iran (Islamic Republic of)
C155: Iraq
C156: Jordan
C157: Kuwait
C158: Lebanon
C159: Libya
C160: Morocco
C161: Oman
C162: Pakistan
... C170: Yemen
B172: Western Pacific Region | C172: Australia
C173: Brunei Darussalam
C174: Cambodia
C175: China
C176: Fiji
C177: Japan
C178: Kiribati
C179: Lao People's Democratic Republic
C180: Malaysia
C181: Micronesia (Federated States of)
C182: Mongolia
C183: New Zealand
C184: Papua New Guinea
... C192: Viet Nam

Sheet Summary
B1: Summary: Deaths (thousands) by cause and by WHO region
F3: Year | G3: 2016 | U3: 2030 | AI3: 2045 | AW3: 2060
G4: WORLD | I4: African Region | K4: Region of the Americas | M4: South-East Asia Region | O4: European Region | Q4: Eastern Mediterraneam Region | S4: Western Pacific Region | U4: WORLD | W4: African Region | Y4: Region of the Americas | AA4: South-East Asia Region | AC4: European Region | AE4: Eastern Mediterraneam Region | AG4: Western Pacific Region | AI4: WORLD | AK4: African Region | AM4: Region of the Americas | AO4: South-East Asia Region | AQ4: European Region | AS4: Eastern Mediterraneam Region | AU4: Western Pacific Region | AW4: WORLD | AY4: African Region | BA4: Region of the Americas | BC4: South-East Asia Region | BE4: European Region | BG4: Eastern Mediterraneam Region | BI4: Western Pacific Region
B5: Population (thousands) | G5: =World2016!$G7 -> 7462277.2 | I5: ='AFR2016'!$G7 -> 1019920.2 | K5: ='AMR2016'!$G7 -> 995824.47 | M5: =SEAR2016!$G7 -> 1947631.2 | O5: ='EUR2016'!$G7 -> 916314.6 | Q5: ='EMR2016'!$G7 -> 669126.1 | S5: ='WPR2016'!$G7 -> 1913460.7 | U5: =World2030!$G7 -> 8545864.6 | W5: ='AFR2030'!$G7 -> 1443182.3 | Y5: ='AMR2030'!$G7 -> 1111973.7 | AA5: =SEAR2030!$G7 -> 2207223.1 | AC5: ='EUR2030'!$G7 -> 938052.19 | AE5: ='EMR2030'!$G7 -> 844626.99 | AG5: ='WPR2030'!$G7 -> 2000806.3 | AI5: =World2045!$G7 -> 9498328.2 | AK5: ='AFR2045'!$G7 -> 1990125 | AM5: ='AMR2045'!$G7 -> 1194493.5 | AO5: =SEAR2045!$G7 -> 2370726.5 | AQ5: ='EUR2045'!$G7 -> 939195.95 | AS5: ='EMR2045'!$G7 -> 1018600.5 | AU5: ='WPR2045'!$G7 -> 1985186.6 | AW5: =World2060!$G7 -> 10216375 | AY5: ='AFR2060'!$G7 -> 2586382.8 | BA5: ='AMR2060'!$G7 -> 1236641.5 | BC5: =SEAR2060!$G7 -> 2416297.3 | BE5: ='EUR2060'!$G7 -> 924085.11 | BG5: ='EMR2060'!$G7 -> 1159812 | BI5: ='WPR2060'!$G7 -> 1893156.8
A6: GHE 2012 code | B6: GHE 2012 cause category | G6: Deaths (000s) | H6: % total | I6: Deaths (000s) | J6: % total | K6: Deaths (000s) | L6: % total | M6: Deaths (000s) | N6: % total | O6: Deaths (000s) | P6: % total | Q6: Deaths (000s) | R6: % total | S6: Deaths (000s) | T6: % total | U6: Deaths (000s) | V6: % total | W6: Deaths (000s) | X6: % total | Y6: Deaths (000s) | Z6: % total | AA6: Deaths (000s) | AB6: % total | AC6: Deaths (000s) | AD6: % total | AE6: Deaths (000s) | AF6: % total | AG6: Deaths (000s) | AH6: % total | AI6: Deaths (000s) | AJ6: % total | AK6: Deaths (000s) | AL6: % total | AM6: Deaths (000s) | AN6: % total | AO6: Deaths (000s) | AP6: % total | AQ6: Deaths (000s) | AR6: % total | AS6: Deaths (000s) | AT6: % total | AU6: Deaths (000s) | AV6: % total | AW6: Deaths (000s) | AX6: % total | AY6: Deaths (000s) | AZ6: % total | BA6: Deaths (000s) | BB6: % total | BC6: Deaths (000s) | BD6: % total | BE6: Deaths (000s) | BF6: % total | BG6: Deaths (000s) | BH6: % total | BI6: Deaths (000s) | BJ6: % total
A7: 0 | C7: All Causes | G7: =World2016!$G10/1000 -> 56873.405 | H7: =100*G7/G$7 -> 100 | I7: ='AFR2016'!$G10/1000 -> 8845.101 | J7: =100*I7/I$7 -> 100 | K7: ='AMR2016'!$G10/1000 -> 6906.324 | L7: =100*K7/K$7 -> 100 | M7: =SEAR2016!$G10/1000 -> 13818.545 | N7: =100*M7/M$7 -> 100 | O7: ='EUR2016'!$G10/1000 -> 9214.7073 | P7: =100*O7/O$7 -> 100 | Q7: ='EMR2016'!$G10/1000 -> 4138.3815 | R7: =100*Q7/Q$7 -> 100 | S7: ='WPR2016'!$G10/1000 -> 13950.346 | T7: =100*S7/S$7 -> 100 | U7: =World2030!$G10/1000 -> 68119.453 | V7: =100*U7/U$7 -> 100 | W7: ='AFR2030'!$G10/1000 -> 10089.18 | X7: =100*W7/W$7 -> 100 | Y7: ='AMR2030'!$G10/1000 -> 8644.9039 | Z7: =100*Y7/Y$7 -> 100 | AA7: =SEAR2030!$G10/1000 -> 16864.68 | AB7: =100*AA7/AA$7 -> 100 | AC7: ='EUR2030'!$G10/1000 -> 9811.9964 | AD7: =100*AC7/AC$7 -> 100 | AE7: ='EMR2030'!$G10/1000 -> 5194.7922 | AF7: =100*AE7/AE$7 -> 100 | AG7: ='WPR2030'!$G10/1000 -> 17513.899 | AH7: =100*AG7/AG$7 -> 100 | AI7: =World2045!$G10/1000 -> 85532.627 | AJ7: =100*AI7/AI$7 -> 100 | AK7: ='AFR2045'!$G10/1000 -> 12941.052 | AL7: =100*AK7/AK$7 -> 100 | AM7: ='AMR2045'!$G10/1000 -> 11376.064 | AN7: =100*AM7/AM$7 -> 100 | AO7: =SEAR2045!$G10/1000 -> 20116.552 | AP7: =100*AO7/AO$7 -> 100 | AQ7: ='EUR2045'!$G10/1000 -> 11290.039 | AR7: =100*AQ7/AQ$7 -> 100 | AS7: ='EMR2045'!$G10/1000 -> 7400.858 | AT7: =100*AS7/AS$7 -> 100 | AU7: ='WPR2045'!$G10/1000 -> 22408.062 | AV7: =100*AU7/AU$7 -> 100 | AW7: =World2060!$G10/1000 -> 101831.16 | AX7: =100*AW7/AW$7 -> 100 | AY7: ='AFR2060'!$G10/1000 -> 18134.434 | AZ7: =100*AY7/AY$7 -> 100 | BA7: ='AMR2060'!$G10/1000 -> 13335.078 | BB7: =100*BA7/BA$7 -> 100 | BC7: =SEAR2060!$G10/1000 -> 23717.229 | BD7: =100*BC7/BC$7 -> 100 | BE7: ='EUR2060'!$G10/1000 -> 11665.818 | BF7: =100*BE7/BE$7 -> 100 | BG7: ='EMR2060'!$G10/1000 -> 10350.274 | BH7: =100*BG7/BG$7 -> 100 | BI7: ='WPR2060'!$G10/1000 -> 24628.326 | BJ7: =100*BI7/BI$7 -> 100
A8: 1 | B8: I. | C8: Communicable, maternal, perinatal and nutritional conditions | G8: =World2016!$G11/1000 -> 11481.463 | H8: =100*G8/G$7 -> 20.187755 | I8: ='AFR2016'!$G11/1000 -> 4964.5698 | J8: =100*I8/I$7 -> 56.127905 | K8: ='AMR2016'!$G11/1000 -> 684.8507 | L8: =100*K8/K$7 -> 9.916284 | M8: =SEAR2016!$G11/1000 -> 3372.4006 | N8: =100*M8/M$7 -> 24.404889 | O8: ='EUR2016'!$G11/1000 -> 489.25779 | P8: =100*O8/O$7 -> 5.3095315 | Q8: ='EMR2016'!$G11/1000 -> 1035.9238 | R8: =100*Q8/Q$7 -> 25.032101 | S8: ='WPR2016'!$G11/1000 -> 934.46072 | T8: =100*S8/S$7 -> 6.6984771 | U8: =World2030!$G11/1000 -> 10094.844 | V8: =100*U8/U$7 -> 14.819326 | W8: ='AFR2030'!$G11/1000 -> 4234.8051 | X8: =100*W8/W$7 -> 41.973728 | Y8: ='AMR2030'!$G11/1000 -> 755.89111 | Z8: =100*Y8/Y$7 -> 8.7437769 | AA8: =SEAR2030!$G11/1000 -> 2822.9686 | AB8: =100*AA8/AA$7 -> 16.738939 | AC8: ='EUR2030'!$G11/1000 -> 472.10309 | AD8: =100*AC8/AC$7 -> 4.8114886 | AE8: ='EMR2030'!$G11/1000 -> 870.30998 | AF8: =100*AE8/AE$7 -> 16.753509 | AG8: ='WPR2030'!$G11/1000 -> 938.76607 | AH8: =100*AG8/AG$7 -> 5.3601203 | AI8: =World2045!$G11/1000 -> 9666.0585 | AJ8: =100*AI8/AI$7 -> 11.301019 | AK8: ='AFR2045'!$G11/1000 -> 3697.8615 | AL8: =100*AK8/AK$7 -> 28.57466 | AM8: ='AMR2045'!$G11/1000 -> 915.63153 | AN8: =100*AM8/AM$7 -> 8.0487554 | AO8: =SEAR2045!$G11/1000 -> 2680.6329 | AP8: =100*AO8/AO$7 -> 13.325509 | AQ8: ='EUR2045'!$G11/1000 -> 498.19257 | AR8: =100*AQ8/AQ$7 -> 4.4126736 | AS8: ='EMR2045'!$G11/1000 -> 772.73632 | AT8: =100*AS8/AS$7 -> 10.441172 | AU8: ='WPR2045'!$G11/1000 -> 1101.0037 | AV8: =100*AU8/AU$7 -> 4.9134267 | AW8: =World2060!$G11/1000 -> 9990.2208 | AX8: =100*AW8/AW$7 -> 9.8105735 | AY8: ='AFR2060'!$G11/1000 -> 3607.5434 | AZ8: =100*AY8/AY$7 -> 19.893333 | BA8: ='AMR2060'!$G11/1000 -> 1068.5759 | BB8: =100*BA8/BA$7 -> 8.0132706 | BC8: =SEAR2060!$G11/1000 -> 2854.6221 | BD8: =100*BC8/BC$7 -> 12.036069 | BE8: ='EUR2060'!$G11/1000 -> 497.88249 | BF8: =100*BE8/BE$7 -> 4.2678746 | BG8: ='EMR2060'!$G11/1000 -> 733.44199 | BH8: =100*BG8/BG$7 -> 7.0862082 | BI8: ='WPR2060'!$G11/1000 -> 1228.155 | BJ8: =100*BI8/BI$7 -> 4.9867577
A9: 2 | C9: A. | D9: Infectious and parasitic diseases | G9: =World2016!$G12/1000 -> 5491.3375 | H9: =100*G9/G$7 -> 9.6553698 | I9: ='AFR2016'!$G12/1000 -> 2728.7076 | J9: =100*I9/I$7 -> 30.849931 | K9: ='AMR2016'!$G12/1000 -> 222.66393 | L9: =100*K9/K$7 -> 3.2240586 | M9: =SEAR2016!$G12/1000 -> 1713.2576 | N9: =100*M9/M$7 -> 12.398249 | O9: ='EUR2016'!$G12/1000 -> 178.00103 | P9: =100*O9/O$7 -> 1.9317057 | Q9: ='EMR2016'!$G12/1000 -> 355.8517 | R9: =100*Q9/Q$7 -> 8.5988133 | S9: ='WPR2016'!$G12/1000 -> 292.85569 | T9: =100*S9/S$7 -> 2.0992719 | U9: =World2030!$G12/1000 -> 4578.7775 | V9: =100*U9/U$7 -> 6.7216886 | W9: ='AFR2030'!$G12/1000 -> 2307.2029 | X9: =100*W9/W$7 -> 22.86809 | Y9: ='AMR2030'!$G12/1000 -> 224.04591 | Z9: =100*Y9/Y$7 -> 2.591653 | AA9: =SEAR2030!$G12/1000 -> 1346.6415 | AB9: =100*AA9/AA$7 -> 7.9849809 | AC9: ='EUR2030'!$G12/1000 -> 179.04152 | AD9: =100*AC9/AC$7 -> 1.8247205 | AE9: ='EMR2030'!$G12/1000 -> 293.99508 | AF9: =100*AE9/AE$7 -> 5.6594194 | AG9: ='WPR2030'!$G12/1000 -> 227.85058 | AH9: =100*AG9/AG$7 -> 1.30097 | AI9: =World2045!$G12/1000 -> 4100.7739 | AJ9: =100*AI9/AI$7 -> 4.7943972 | AK9: ='AFR2045'!$G12/1000 -> 2087.6894 | AL9: =100*AK9/AK$7 -> 16.132301 | AM9: ='AMR2045'!$G12/1000 -> 229.53463 | AN9: =100*AM9/AM$7 -> 2.0176982 | AO9: =SEAR2045!$G12/1000 -> 1163.2036 | AP9: =100*AO9/AO$7 -> 5.7823208 | AQ9: ='EUR2045'!$G12/1000 -> 171.58024 | AR9: =100*AQ9/AQ$7 -> 1.5197489 | AS9: ='EMR2045'!$G12/1000 -> 253.6644 | AT9: =100*AS9/AS$7 -> 3.4274999 | AU9: ='WPR2045'!$G12/1000 -> 195.10164 | AV9: =100*AU9/AU$7 -> 0.87067608 | AW9: =World2060!$G12/1000 -> 3968.4132 | AX9: =100*AW9/AW$7 -> 3.8970519 | AY9: ='AFR2060'!$G12/1000 -> 2020.337 | AZ9: =100*AY9/AY$7 -> 11.140888 | BA9: ='AMR2060'!$G12/1000 -> 232.39178 | BB9: =100*BA9/BA$7 -> 1.7427103 | BC9: =SEAR2060!$G12/1000 -> 1139.0562 | BD9: =100*BC9/BC$7 -> 4.8026528 | BE9: ='EUR2060'!$G12/1000 -> 161.83382 | BF9: =100*BE9/BE$7 -> 1.3872479 | BG9: ='EMR2060'!$G12/1000 -> 239.6911 | BH9: =100*BG9/BG$7 -> 2.3157947 | BI9: ='WPR2060'!$G12/1000 -> 175.10334 | BJ9: =100*BI9/BI$7 -> 0.71098352
A10: 3 | D10: 1. | E10: Tuberculosis | G10: =World2016!$G13/1000 -> 1292.9006 | H10: =100*G10/G$7 -> 2.2732957 | I10: ='AFR2016'!$G13/1000 -> 405.49641 | J10: =100*I10/I$7 -> 4.5844181 | K10: ='AMR2016'!$G13/1000 -> 18.734368 | L10: =100*K10/K$7 -> 0.27126396 | M10: =SEAR2016!$G13/1000 -> 650.97968 | N10: =100*M10/M$7 -> 4.7109133 | O10: ='EUR2016'!$G13/1000 -> 26.630176 | P10: =100*O10/O$7 -> 0.28899643 | Q10: ='EMR2016'!$G13/1000 -> 81.512358 | R10: =100*Q10/Q$7 -> 1.9696676 | S10: ='WPR2016'!$G13/1000 -> 109.54763 | T10: =100*S10/S$7 -> 0.78526823 | U10: =World2030!$G13/1000 -> 1137.0415 | V10: =100*U10/U$7 -> 1.6691877 | W10: ='AFR2030'!$G13/1000 -> 501.03089 | X10: =100*W10/W$7 -> 4.9660217 | Y10: ='AMR2030'!$G13/1000 -> 14.192789 | Z10: =100*Y10/Y$7 -> 0.16417521 | AA10: =SEAR2030!$G13/1000 -> 458.12047 | AB10: =100*AA10/AA$7 -> 2.7164492 | AC10: ='EUR2030'!$G13/1000 -> 9.7370871 | AD10: =100*AC10/AC$7 -> 0.099236554 | AE10: ='EMR2030'!$G13/1000 -> 82.410727 | AF10: =100*AE10/AE$7 -> 1.5864105 | AG10: ='WPR2030'!$G13/1000 -> 71.549557 | AH10: =100*AG10/AG$7 -> 0.40853014 | AI10: =World2045!$G13/1000 -> 1050.0536 | AJ10: =100*AI10/AI$7 -> 1.2276644 | AK10: ='AFR2045'!$G13/1000 -> 591.09556 | AL10: =100*AK10/AK$7 -> 4.5676006 | AM10: ='AMR2045'!$G13/1000 -> 10.121144 | AN10: =100*AM10/AM$7 -> 0.088968771 | AO10: =SEAR2045!$G13/1000 -> 317.63604 | AP10: =100*AO10/AO$7 -> 1.5789785 | AQ10: ='EUR2045'!$G13/1000 -> 4.003967 | AR10: =100*AQ10/AQ$7 -> 0.035464598 | AS10: ='EMR2045'!$G13/1000 -> 79.815596 | AT10: =100*AS10/AS$7 -> 1.0784641 | AU10: ='WPR2045'!$G13/1000 -> 47.381259 | AV10: =100*AU10/AU$7 -> 0.21144738 | AW10: =World2060!$G13/1000 -> 926.96353 | AX10: =100*AW10/AW$7 -> 0.91029458 | AY10: ='AFR2060'!$G13/1000 -> 599.21064 | AZ10: =100*AY10/AY$7 -> 3.3042698 | BA10: ='AMR2060'!$G13/1000 -> 6.3891705 | BB10: =100*BA10/BA$7 -> 0.047912509 | BC10: =SEAR2060!$G13/1000 -> 217.85931 | BD10: =100*BC10/BC$7 -> 0.91856979 | BE10: ='EUR2060'!$G13/1000 -> 2.0290681 | BF10: =100*BE10/BE$7 -> 0.017393278 | BG10: ='EMR2060'!$G13/1000 -> 72.567228 | BH10: =100*BG10/BG$7 -> 0.70111406 | BI10: ='WPR2060'!$G13/1000 -> 28.908116 | BJ10: =100*BI10/BI$7 -> 0.11737751
A11: 4 | D11: 2. | E11: STDs excluding HIV | G11: =World2016!$G14/1000 -> 102.36054 | H11: =100*G11/G$7 -> 0.17997962 | I11: ='AFR2016'!$G14/1000 -> 62.696974 | J11: =100*I11/I$7 -> 0.70883277 | K11: ='AMR2016'!$G14/1000 -> 2.6666332 | L11: =100*K11/K$7 -> 0.03861147 | M11: =SEAR2016!$G14/1000 -> 10.028714 | N11: =100*M11/M$7 -> 0.07257431 | O11: ='EUR2016'!$G14/1000 -> 0.65032237 | P11: =100*O11/O$7 -> 0.0070574392 | Q11: ='EMR2016'!$G14/1000 -> 23.224442 | R11: =100*Q11/Q$7 -> 0.56119625 | S11: ='WPR2016'!$G14/1000 -> 3.0934536 | T11: =100*S11/S$7 -> 0.022174745 | U11: =World2030!$G14/1000 -> 68.622331 | V11: =100*U11/U$7 -> 0.10073823 | W11: ='AFR2030'!$G14/1000 -> 42.469296 | X11: =100*W11/W$7 -> 0.42093901 | Y11: ='AMR2030'!$G14/1000 -> 1.3768004 | Z11: =100*Y11/Y$7 -> 0.015926151 | AA11: =SEAR2030!$G14/1000 -> 5.3876623 | AB11: =100*AA11/AA$7 -> 0.031946424 | AC11: ='EUR2030'!$G14/1000 -> 0.40847781 | AD11: =100*AC11/AC$7 -> 0.0041630448 | AE11: ='EMR2030'!$G14/1000 -> 16.751673 | AF11: =100*AE11/AE$7 -> 0.32247052 | AG11: ='WPR2030'!$G14/1000 -> 2.2284204 | AH11: =100*AG11/AG$7 -> 0.012723725 | AI11: =World2045!$G14/1000 -> 33.012726 | AJ11: =100*AI11/AI$7 -> 0.038596647 | AK11: ='AFR2045'!$G14/1000 -> 17.490793 | AL11: =100*AK11/AK$7 -> 0.13515743 | AM11: ='AMR2045'!$G14/1000 -> 0.8840564 | AN11: =100*AM11/AM$7 -> 0.0077711978 | AO11: =SEAR2045!$G14/1000 -> 3.3784699 | AP11: =100*AO11/AO$7 -> 0.016794478 | AQ11: ='EUR2045'!$G14/1000 -> 0.32577062 | AR11: =100*AQ11/AQ$7 -> 0.0028854693 | AS11: ='EMR2045'!$G14/1000 -> 9.354631 | AT11: =100*AS11/AS$7 -> 0.12639928 | AU11: ='WPR2045'!$G14/1000 -> 1.5790047 | AV11: =100*AU11/AU$7 -> 0.0070465919 | AW11: =World2060!$G14/1000 -> 18.227393 | AX11: =100*AW11/AW$7 -> 0.017899622 | AY11: ='AFR2060'!$G14/1000 -> 8.0136924 | AZ11: =100*AY11/AY$7 -> 0.044190474 | BA11: ='AMR2060'!$G14/1000 -> 0.74882256 | BB11: =100*BA11/BA$7 -> 0.0056154345 | BC11: =SEAR2060!$G14/1000 -> 2.7380176 | BD11: =100*BC11/BC$7 -> 0.011544424 | BE11: ='EUR2060'!$G14/1000 -> 0.27963143 | BF11: =100*BE11/BE$7 -> 0.0023970151 | BG11: ='EMR2060'!$G14/1000 -> 5.1491939 | BH11: =100*BG11/BG$7 -> 0.049749347 | BI11: ='WPR2060'!$G14/1000 -> 1.2980353 | BJ11: =100*BI11/BI$7 -> 0.0052704973
A12: 5 | E12: a. | F12: Syphilis | G12: =World2016!$G15/1000 -> 95.557801 | H12: =100*G12/G$7 -> 0.16801843 | I12: ='AFR2016'!$G15/1000 -> 60.145783 | J12: =100*I12/I$7 -> 0.67998978 | K12: ='AMR2016'!$G15/1000 -> 2.1035396 | L12: =100*K12/K$7 -> 0.030458166 | M12: =SEAR2016!$G15/1000 -> 7.652039 | N12: =100*M12/M$7 -> 0.055375142 | O12: ='EUR2016'!$G15/1000 -> 0.33257466 | P12: =100*O12/O$7 -> 0.0036091723 | Q12: ='EMR2016'!$G15/1000 -> 22.958282 | R12: =100*Q12/Q$7 -> 0.55476476 | S12: ='WPR2016'!$G15/1000 -> 2.365583 | T12: =100*S12/S$7 -> 0.016957164 | U12: =World2030!$G15/1000 -> 62.193551 | V12: =100*U12/U$7 -> 0.091300721 | W12: ='AFR2030'!$G15/1000 -> 39.80693 | X12: =100*W12/W$7 -> 0.39455068 | Y12: ='AMR2030'!$G15/1000 -> 0.93921739 | Z12: =100*Y12/Y$7 -> 0.010864405 | AA12: =SEAR2030!$G15/1000 -> 3.2821034 | AB12: =100*AA12/AA$7 -> 0.019461403 | AC12: ='EUR2030'!$G15/1000 -> 0.16791949 | AD12: =100*AC12/AC$7 -> 0.0017113693 | AE12: ='EMR2030'!$G15/1000 -> 16.483827 | AF12: =100*AE12/AE$7 -> 0.31731446 | AG12: ='WPR2030'!$G15/1000 -> 1.5135543 | AH12: =100*AG12/AG$7 -> 0.0086420181 | AI12: =World2045!$G15/1000 -> 27.107158 | AJ12: =100*AI12/AI$7 -> 0.031692185 | AK12: ='AFR2045'!$G15/1000 -> 15.03649 | AL12: =100*AK12/AK$7 -> 0.11619218 | AM12: ='AMR2045'!$G15/1000 -> 0.44078942 | AN12: =100*AM12/AM$7 -> 0.0038747096 | AO12: =SEAR2045!$G15/1000 -> 1.5773051 | AP12: =100*AO12/AO$7 -> 0.0078408322 | AQ12: ='EUR2045'!$G15/1000 -> 0.11239945 | AR12: =100*AQ12/AQ$7 -> 0.000995563 | AS12: ='EMR2045'!$G15/1000 -> 9.0790141 | AT12: =100*AS12/AS$7 -> 0.12267516 | AU12: ='WPR2045'!$G15/1000 -> 0.8611602 | AV12: =100*AU12/AU$7 -> 0.003843082 | AW12: =World2060!$G15/1000 -> 12.612664 | AX12: =100*AW12/AW$7 -> 0.012385859 | AY12: ='AFR2060'!$G15/1000 -> 5.7029614 | AZ12: =100*AY12/AY$7 -> 0.031448245 | BA12: ='AMR2060'!$G15/1000 -> 0.30683074 | BB12: =100*BA12/BA$7 -> 0.0023009295 | BC12: =SEAR2060!$G15/1000 -> 1.0694869 | BD12: =100*BC12/BC$7 -> 0.0045093247 | BE12: ='EUR2060'!$G15/1000 -> 0.08906256 | BF12: =100*BE12/BE$7 -> 0.0007634489 | BG12: ='EMR2060'!$G15/1000 -> 4.8577668 | BH12: =100*BG12/BG$7 -> 0.046933702 | BI12: ='WPR2060'!$G15/1000 -> 0.5865552 | BJ12: =100*BI12/BI$7 -> 0.0023816284
A13: 6 | E13: b. | F13: Chlamydia | G13: =World2016!$G16/1000 -> 1.3237512 | H13: =100*G13/G$7 -> 0.0023275399 | I13: ='AFR2016'!$G16/1000 -> 0.50765078 | J13: =100*I13/I$7 -> 0.0057393441 | K13: ='AMR2016'!$G16/1000 -> 0.10834517 | L13: =100*K13/K$7 -> 0.001568782 | M13: =SEAR2016!$G16/1000 -> 0.45506422 | N13: =100*M13/M$7 -> 0.0032931414 | O13: ='EUR2016'!$G16/1000 -> 0.062488394 | P13: =100*O13/O$7 -> 0.00067813759 | Q13: ='EMR2016'!$G16/1000 -> 0.04983491 | R13: =100*Q13/Q$7 -> 0.0012042126 | S13: ='WPR2016'!$G16/1000 -> 0.1403677 | T13: =100*S13/S$7 -> 0.0010061951 | U13: =World2030!$G16/1000 -> 1.2433476 | V13: =100*U13/U$7 -> 0.001825246 | W13: ='AFR2030'!$G16/1000 -> 0.52697265 | X13: =100*W13/W$7 -> 0.0052231462 | Y13: ='AMR2030'!$G16/1000 -> 0.080562019 | Z13: =100*Y13/Y$7 -> 0.00093190185 | AA13: =SEAR2030!$G16/1000 -> 0.39966671 | AB13: =100*AA13/AA$7 -> 0.0023698446 | AC13: ='EUR2030'!$G16/1000 -> 0.047318555 | AD13: =100*AC13/AC$7 -> 0.00048225206 | AE13: ='EMR2030'!$G16/1000 -> 0.049688969 | AF13: =100*AE13/AE$7 -> 0.00095651506 | AG13: ='WPR2030'!$G16/1000 -> 0.13913867 | AH13: =100*AG13/AG$7 -> 0.00079444715 | AI13: =World2045!$G16/1000 -> 1.1461863 | AJ13: =100*AI13/AI$7 -> 0.0013400574 | AK13: ='AFR2045'!$G16/1000 -> 0.48278896 | AL13: =100*AK13/AK$7 -> 0.0037306779 | AM13: ='AMR2045'!$G16/1000 -> 0.083390334 | AN13: =100*AM13/AM$7 -> 0.0007330333 | AO13: =SEAR2045!$G16/1000 -> 0.34411056 | AP13: =100*AO13/AO$7 -> 0.0017105842 | AQ13: ='EUR2045'!$G16/1000 -> 0.042936826 | AR13: =100*AQ13/AQ$7 -> 0.00038030715 | AS13: ='EMR2045'!$G16/1000 -> 0.051099706 | AT13: =100*AS13/AS$7 -> 0.00069045651 | AU13: ='WPR2045'!$G16/1000 -> 0.1418599 | AV13: =100*AU13/AU$7 -> 0.00063307527 | AW13: =World2060!$G16/1000 -> 1.0970673 | AX13: =100*AW13/AW$7 -> 0.0010773395 | AY13: ='AFR2060'!$G16/1000 -> 0.45277093 | AZ13: =100*AY13/AY$7 -> 0.0024967469 | BA13: ='AMR2060'!$G16/1000 -> 0.084602327 | BB13: =100*BA13/BA$7 -> 0.00063443444 | BC13: =SEAR2060!$G16/1000 -> 0.32543866 | BD13: =100*BC13/BC$7 -> 0.0013721614 | BE13: ='EUR2060'!$G16/1000 -> 0.038801071 | BF13: =100*BE13/BE$7 -> 0.0003326048 | BG13: ='EMR2060'!$G16/1000 -> 0.053984275 | BH13: =100*BG13/BG$7 -> 0.00052157337 | BI13: ='WPR2060'!$G16/1000 -> 0.14147009 | BJ13: =100*BI13/BI$7 -> 0.00057442023
A14: 7 | E14: c. | F14: Gonorrhoea | G14: =World2016!$G17/1000 -> 3.680321 | H14: =100*G14/G$7 -> 0.0064710757 | I14: ='AFR2016'!$G17/1000 -> 1.3246588 | J14: =100*I14/I$7 -> 0.014976186 | K14: ='AMR2016'!$G17/1000 -> 0.31595534 | L14: =100*K14/K$7 -> 0.0045748699 | M14: =SEAR2016!$G17/1000 -> 1.2980866 | N14: =100*M14/M$7 -> 0.0093938007 | O14: ='EUR2016'!$G17/1000 -> 0.1822625 | P14: =100*O14/O$7 -> 0.0019779521 | Q14: ='EMR2016'!$G17/1000 -> 0.14366247 | R14: =100*Q14/Q$7 -> 0.0034714651 | S14: ='WPR2016'!$G17/1000 -> 0.41569537 | T14: =100*S14/S$7 -> 0.0029798213 | U14: =World2030!$G17/1000 -> 3.5310496 | V14: =100*U14/U$7 -> 0.0051836142 | W14: ='AFR2030'!$G17/1000 -> 1.3976147 | X14: =100*W14/W$7 -> 0.013852609 | Y14: ='AMR2030'!$G17/1000 -> 0.25686845 | Z14: =100*Y14/Y$7 -> 0.002971328 | AA14: =SEAR2030!$G17/1000 -> 1.1724177 | AB14: =100*AA14/AA$7 -> 0.0069519116 | AC14: ='EUR2030'!$G17/1000 -> 0.13937293 | AD14: =100*AC14/AC$7 -> 0.001420434 | AE14: ='EMR2030'!$G17/1000 -> 0.14665105 | AF14: =100*AE14/AE$7 -> 0.0028230398 | AG14: ='WPR2030'!$G17/1000 -> 0.41812478 | AH14: =100*AG14/AG$7 -> 0.0023873883 | AI14: =World2045!$G17/1000 -> 3.3178774 | AJ14: =100*AI14/AI$7 -> 0.0038790781 | AK14: ='AFR2045'!$G17/1000 -> 1.3087913 | AL14: =100*AK14/AK$7 -> 0.010113485 | AM14: ='AMR2045'!$G17/1000 -> 0.26704647 | AN14: =100*AM14/AM$7 -> 0.0023474418 | AO14: =SEAR2045!$G17/1000 -> 1.0303194 | AP14: =100*AO14/AO$7 -> 0.0051217495 | AQ14: ='EUR2045'!$G17/1000 -> 0.12666649 | AR14: =100*AQ14/AQ$7 -> 0.0011219314 | AS14: ='EMR2045'!$G17/1000 -> 0.15410105 | AT14: =100*AS14/AS$7 -> 0.0020822052 | AU14: ='WPR2045'!$G17/1000 -> 0.43095265 | AV14: =100*AU14/AU$7 -> 0.0019232036 | AW14: =World2060!$G17/1000 -> 3.2295705 | AX14: =100*AW14/AW$7 -> 0.0031714953 | AY14: ='AFR2060'!$G17/1000 -> 1.2652226 | AZ14: =100*AY14/AY$7 -> 0.0069769069 | BA14: ='AMR2060'!$G17/1000 -> 0.27081481 | BB14: =100*BA14/BA$7 -> 0.0020308453 | BC14: =SEAR2060!$G17/1000 -> 0.97732557 | BD14: =100*BC14/BC$7 -> 0.0041207409 | BE14: ='EUR2060'!$G17/1000 -> 0.11488773 | BF14: =100*BE14/BE$7 -> 0.00098482363 | BG14: ='EMR2060'!$G17/1000 -> 0.16738762 | BH14: =100*BG14/BG$7 -> 0.0016172288 | BI14: ='WPR2060'!$G17/1000 -> 0.43393217 | BJ14: =100*BI14/BI$7 -> 0.0017619231
A15: 8 | E15: d. | F15: Trichomoniasis | G15: =World2016!$G18/1000 -> 0 | H15: =100*G15/G$7 -> 0 | I15: ='AFR2016'!$G18/1000 -> 0 | J15: =100*I15/I$7 -> 0 | K15: ='AMR2016'!$G18/1000 -> 0 | L15: =100*K15/K$7 -> 0 | M15: =SEAR2016!$G18/1000 -> 0 | N15: =100*M15/M$7 -> 0 | O15: ='EUR2016'!$G18/1000 -> 0 | P15: =100*O15/O$7 -> 0 | Q15: ='EMR2016'!$G18/1000 -> 0 | R15: =100*Q15/Q$7 -> 0 | S15: ='WPR2016'!$G18/1000 -> 0 | T15: =100*S15/S$7 -> 0 | U15: =World2030!$G18/1000 -> 0 | V15: =100*U15/U$7 -> 0 | W15: ='AFR2030'!$G18/1000 -> 0 | X15: =100*W15/W$7 -> 0 | Y15: ='AMR2030'!$G18/1000 -> 0 | Z15: =100*Y15/Y$7 -> 0 | AA15: =SEAR2030!$G18/1000 -> 0 | AB15: =100*AA15/AA$7 -> 0 | AC15: ='EUR2030'!$G18/1000 -> 0 | AD15: =100*AC15/AC$7 -> 0 | AE15: ='EMR2030'!$G18/1000 -> 0 | AF15: =100*AE15/AE$7 -> 0 | AG15: ='WPR2030'!$G18/1000 -> 0 | AH15: =100*AG15/AG$7 -> 0 | AI15: =World2045!$G18/1000 -> 0 | AJ15: =100*AI15/AI$7 -> 0 | AK15: ='AFR2045'!$G18/1000 -> 0 | AL15: =100*AK15/AK$7 -> 0 | AM15: ='AMR2045'!$G18/1000 -> 0 | AN15: =100*AM15/AM$7 -> 0 | AO15: =SEAR2045!$G18/1000 -> 0 | AP15: =100*AO15/AO$7 -> 0 | AQ15: ='EUR2045'!$G18/1000 -> 0 | AR15: =100*AQ15/AQ$7 -> 0 | AS15: ='EMR2045'!$G18/1000 -> 0 | AT15: =100*AS15/AS$7 -> 0 | AU15: ='WPR2045'!$G18/1000 -> 0 | AV15: =100*AU15/AU$7 -> 0 | AW15: =World2060!$G18/1000 -> 0 | AX15: =100*AW15/AW$7 -> 0 | AY15: ='AFR2060'!$G18/1000 -> 0 | AZ15: =100*AY15/AY$7 -> 0 | BA15: ='AMR2060'!$G18/1000 -> 0 | BB15: =100*BA15/BA$7 -> 0 | BC15: =SEAR2060!$G18/1000 -> 0 | BD15: =100*BC15/BC$7 -> 0 | BE15: ='EUR2060'!$G18/1000 -> 0 | BF15: =100*BE15/BE$7 -> 0 | BG15: ='EMR2060'!$G18/1000 -> 0 | BH15: =100*BG15/BG$7 -> 0 | BI15: ='WPR2060'!$G18/1000 -> 0 | BJ15: =100*BI15/BI$7 -> 0
A16: 9 | E16: e. | F16: Other STDs | G16: =World2016!$G19/1000 -> 1.7986658 | H16: =100*G16/G$7 -> 0.003162578 | I16: ='AFR2016'!$G19/1000 -> 0.71888184 | J16: =100*I16/I$7 -> 0.0081274577 | K16: ='AMR2016'!$G19/1000 -> 0.13879308 | L16: =100*K16/K$7 -> 0.0020096521 | M16: =SEAR2016!$G19/1000 -> 0.62352401 | N16: =100*M16/M$7 -> 0.0045122262 | O16: ='EUR2016'!$G19/1000 -> 0.072996815 | P16: =100*O16/O$7 -> 0.00079217725 | Q16: ='EMR2016'!$G19/1000 -> 0.072662505 | R16: =100*Q16/Q$7 -> 0.0017558194 | S16: ='WPR2016'!$G19/1000 -> 0.17180755 | T16: =100*S16/S$7 -> 0.0012315648 | U16: =World2030!$G19/1000 -> 1.6543819 | V16: =100*U16/U$7 -> 0.0024286483 | W16: ='AFR2030'!$G19/1000 -> 0.73777888 | X16: =100*W16/W$7 -> 0.007312575 | Y16: ='AMR2030'!$G19/1000 -> 0.10015256 | Z16: =100*Y16/Y$7 -> 0.0011585156 | AA16: =SEAR2030!$G19/1000 -> 0.53347451 | AB16: =100*AA16/AA$7 -> 0.0031632649 | AC16: ='EUR2030'!$G19/1000 -> 0.053866828 | AD16: =100*AC16/AC$7 -> 0.00054898948 | AE16: ='EMR2030'!$G19/1000 -> 0.071506577 | AF16: =100*AE16/AE$7 -> 0.0013765051 | AG16: ='WPR2030'!$G19/1000 -> 0.15760258 | AH16: =100*AG16/AG$7 -> 0.00089987144 | AI16: =World2045!$G19/1000 -> 1.4415034 | AJ16: =100*AI16/AI$7 -> 0.0016853257 | AK16: ='AFR2045'!$G19/1000 -> 0.66272242 | AL16: =100*AK16/AK$7 -> 0.0051210863 | AM16: ='AMR2045'!$G19/1000 -> 0.092830176 | AN16: =100*AM16/AM$7 -> 0.00081601316 | AO16: =SEAR2045!$G19/1000 -> 0.42673484 | AP16: =100*AO16/AO$7 -> 0.002121312 | AQ16: ='EUR2045'!$G19/1000 -> 0.043767847 | AR16: =100*AQ16/AQ$7 -> 0.00038766781 | AS16: ='EMR2045'!$G19/1000 -> 0.070416161 | AT16: =100*AS16/AS$7 -> 0.00095145942 | AU16: ='WPR2045'!$G19/1000 -> 0.14503192 | AV16: =100*AU16/AU$7 -> 0.00064723097 | AW16: =World2060!$G19/1000 -> 1.2880916 | AX16: =100*AW16/AW$7 -> 0.0012649288 | AY16: ='AFR2060'!$G19/1000 -> 0.59273748 | AZ16: =100*AY16/AY$7 -> 0.0032685744 | BA16: ='AMR2060'!$G19/1000 -> 0.086574692 | BB16: =100*BA16/BA$7 -> 0.00064922524 | BC16: =SEAR2060!$G19/1000 -> 0.36576647 | BD16: =100*BC16/BC$7 -> 0.0015421973 | BE16: ='EUR2060'!$G19/1000 -> 0.036880065 | BF16: =100*BE16/BE$7 -> 0.00031613783 | BG16: ='EMR2060'!$G19/1000 -> 0.070055147 | BH16: =100*BG16/BG$7 -> 0.00067684339 | BI16: ='WPR2060'!$G19/1000 -> 0.13607779 | BJ16: =100*BI16/BI$7 -> 0.00055252553
A17: 10 | D17: 3. | E17: HIV/AIDS | G17: =World2016!$G20/1000 -> 1011.9922 | H17: =100*G17/G$7 -> 1.7793769 | I17: ='AFR2016'!$G20/1000 -> 718.80006 | J17: =100*I17/I$7 -> 8.1265331 | K17: ='AMR2016'!$G20/1000 -> 54.136149 | L17: =100*K17/K$7 -> 0.78386344 | M17: =SEAR2016!$G20/1000 -> 126.26958 | N17: =100*M17/M$7 -> 0.91376897 | O17: ='EUR2016'!$G20/1000 -> 58.474039 | P17: =100*O17/O$7 -> 0.63457294 | Q17: ='EMR2016'!$G20/1000 -> 16.9862 | R17: =100*Q17/Q$7 -> 0.41045516 | S17: ='WPR2016'!$G20/1000 -> 37.326194 | T17: =100*S17/S$7 -> 0.26756465 | U17: =World2030!$G20/1000 -> 741.29949 | V17: =100*U17/U$7 -> 1.0882347 | W17: ='AFR2030'!$G20/1000 -> 530.67269 | X17: =100*W17/W$7 -> 5.2598196 | Y17: ='AMR2030'!$G20/1000 -> 39.768305 | Z17: =100*Y17/Y$7 -> 0.4600202 | AA17: =SEAR2030!$G20/1000 -> 87.08704 | AB17: =100*AA17/AA$7 -> 0.51638714 | AC17: ='EUR2030'!$G20/1000 -> 49.617798 | AD17: =100*AC17/AC$7 -> 0.50568504 | AE17: ='EMR2030'!$G20/1000 -> 14.728726 | AF17: =100*AE17/AE$7 -> 0.28352868 | AG17: ='WPR2030'!$G20/1000 -> 19.424933 | AH17: =100*AG17/AG$7 -> 0.11091153 | AI17: =World2045!$G20/1000 -> 522.15852 | AJ17: =100*AI17/AI$7 -> 0.61047876 | AK17: ='AFR2045'!$G20/1000 -> 414.18601 | AL17: =100*AK17/AK$7 -> 3.2005591 | AM17: ='AMR2045'!$G20/1000 -> 18.954151 | AN17: =100*AM17/AM$7 -> 0.16661432 | AO17: =SEAR2045!$G20/1000 -> 39.307175 | AP17: =100*AO17/AO$7 -> 0.19539718 | AQ17: ='EUR2045'!$G20/1000 -> 34.54439 | AR17: =100*AQ17/AQ$7 -> 0.30597228 | AS17: ='EMR2045'!$G20/1000 -> 7.4528725 | AT17: =100*AS17/AS$7 -> 0.10070282 | AU17: ='WPR2045'!$G20/1000 -> 7.7139192 | AV17: =100*AU17/AU$7 -> 0.034424749 | AW17: =World2060!$G20/1000 -> 363.35619 | AX17: =100*AW17/AW$7 -> 0.3568222 | AY17: ='AFR2060'!$G20/1000 -> 301.20876 | AZ17: =100*AY17/AY$7 -> 1.6609769 | BA17: ='AMR2060'!$G20/1000 -> 8.8272953 | BB17: =100*BA17/BA$7 -> 0.066196053 | BC17: =SEAR2060!$G20/1000 -> 18.501895 | BD17: =100*BC17/BC$7 -> 0.078010358 | BE17: ='EUR2060'!$G20/1000 -> 28.061589 | BF17: =100*BE17/BE$7 -> 0.2405454 | BG17: ='EMR2060'!$G20/1000 -> 3.6717999 | BH17: =100*BG17/BG$7 -> 0.035475387 | BI17: ='WPR2060'!$G20/1000 -> 3.0848427 | BJ17: =100*BI17/BI$7 -> 0.012525588
A18: 11 | D18: 4. | E18: Diarrhoeal diseases | G18: =World2016!$G21/1000 -> 1382.7068 | H18: =100*G18/G$7 -> 2.431201 | I18: ='AFR2016'!$G21/1000 -> 652.79074 | J18: =100*I18/I$7 -> 7.3802519 | K18: ='AMR2016'!$G21/1000 -> 35.014195 | L18: =100*K18/K$7 -> 0.50698743 | M18: =SEAR2016!$G21/1000 -> 526.01263 | N18: =100*M18/M$7 -> 3.8065703 | O18: ='EUR2016'!$G21/1000 -> 20.80669 | P18: =100*O18/O$7 -> 0.22579871 | Q18: ='EMR2016'!$G21/1000 -> 116.44842 | R18: =100*Q18/Q$7 -> 2.8138637 | S18: ='WPR2016'!$G21/1000 -> 31.634121 | T18: =100*S18/S$7 -> 0.22676227 | U18: =World2030!$G21/1000 -> 1236.1806 | V18: =100*U18/U$7 -> 1.8147248 | W18: ='AFR2030'!$G21/1000 -> 566.02954 | X18: =100*W18/W$7 -> 5.6102628 | Y18: ='AMR2030'!$G21/1000 -> 39.457315 | Z18: =100*Y18/Y$7 -> 0.45642283 | AA18: =SEAR2030!$G21/1000 -> 482.1208 | AB18: =100*AA18/AA$7 -> 2.8587604 | AC18: ='EUR2030'!$G21/1000 -> 33.225728 | AD18: =100*AC18/AC$7 -> 0.33862353 | AE18: ='EMR2030'!$G21/1000 -> 89.311442 | AF18: =100*AE18/AE$7 -> 1.7192496 | AG18: ='WPR2030'!$G21/1000 -> 26.035764 | AH18: =100*AG18/AG$7 -> 0.14865772 | AI18: =World2045!$G21/1000 -> 1274.2686 | AJ18: =100*AI18/AI$7 -> 1.4898041 | AK18: ='AFR2045'!$G21/1000 -> 542.06346 | AL18: =100*AK18/AK$7 -> 4.1887126 | AM18: ='AMR2045'!$G21/1000 -> 48.478122 | AN18: =100*AM18/AM$7 -> 0.42614145 | AO18: =SEAR2045!$G21/1000 -> 533.02357 | AP18: =100*AO18/AO$7 -> 2.6496766 | AQ18: ='EUR2045'!$G21/1000 -> 38.617081 | AR18: =100*AQ18/AQ$7 -> 0.34204559 | AS18: ='EMR2045'!$G21/1000 -> 83.092459 | AT18: =100*AS18/AS$7 -> 1.1227409 | AU18: ='WPR2045'!$G21/1000 -> 28.993891 | AV18: =100*AU18/AU$7 -> 0.12939044 | AW18: =World2060!$G21/1000 -> 1491.6887 | AX18: =100*AW18/AW$7 -> 1.4648647 | AY18: ='AFR2060'!$G21/1000 -> 647.23551 | AZ18: =100*AY18/AY$7 -> 3.5690968 | BA18: ='AMR2060'!$G21/1000 -> 53.436084 | BB18: =100*BA18/BA$7 -> 0.4007182 | BC18: =SEAR2060!$G21/1000 -> 629.26419 | BD18: =100*BC18/BC$7 -> 2.6531944 | BE18: ='EUR2060'!$G21/1000 -> 38.535081 | BF18: =100*BE18/BE$7 -> 0.33032472 | BG18: ='EMR2060'!$G21/1000 -> 91.230214 | BH18: =100*BG18/BG$7 -> 0.88142799 | BI18: ='WPR2060'!$G21/1000 -> 31.987589 | BJ18: =100*BI18/BI$7 -> 0.12988129
A19: 12 | D19: 5. | E19: Childhood-cluster diseases | G19: =World2016!$G22/1000 -> 156.11592 | H19: =100*G19/G$7 -> 0.27449722 | I19: ='AFR2016'!$G22/1000 -> 77.286585 | J19: =100*I19/I$7 -> 0.87377844 | K19: ='AMR2016'!$G22/1000 -> 0.89982619 | L19: =100*K19/K$7 -> 0.013029018 | M19: =SEAR2016!$G22/1000 -> 48.028485 | N19: =100*M19/M$7 -> 0.34756542 | O19: ='EUR2016'!$G22/1000 -> 0.29301498 | P19: =100*O19/O$7 -> 0.0031798621 | Q19: ='EMR2016'!$G22/1000 -> 26.126656 | R19: =100*Q19/Q$7 -> 0.63132545 | S19: ='WPR2016'!$G22/1000 -> 3.4813497 | T19: =100*S19/S$7 -> 0.024955293 | U19: =World2030!$G22/1000 -> 83.373713 | V19: =100*U19/U$7 -> 0.1223934 | W19: ='AFR2030'!$G22/1000 -> 40.154863 | X19: =100*W19/W$7 -> 0.39799926 | Y19: ='AMR2030'!$G22/1000 -> 0.64180432 | Z19: =100*Y19/Y$7 -> 0.007424077 | AA19: =SEAR2030!$G22/1000 -> 21.922373 | AB19: =100*AA19/AA$7 -> 0.12998985 | AC19: ='EUR2030'!$G22/1000 -> 0.19751169 | AD19: =100*AC19/AC$7 -> 0.0020129613 | AE19: ='EMR2030'!$G22/1000 -> 18.439762 | AF19: =100*AE19/AE$7 -> 0.35496631 | AG19: ='WPR2030'!$G22/1000 -> 2.0173985 | AH19: =100*AG19/AG$7 -> 0.011518842 | AI19: =World2045!$G22/1000 -> 49.044165 | AJ19: =100*AI19/AI$7 -> 0.057339715 | AK19: ='AFR2045'!$G22/1000 -> 21.015616 | AL19: =100*AK19/AK$7 -> 0.16239496 | AM19: ='AMR2045'!$G22/1000 -> 0.35989337 | AN19: =100*AM19/AM$7 -> 0.003163602 | AO19: =SEAR2045!$G22/1000 -> 13.005298 | AP19: =100*AO19/AO$7 -> 0.064649736 | AQ19: ='EUR2045'!$G22/1000 -> 0.11587081 | AR19: =100*AQ19/AQ$7 -> 0.0010263101 | AS19: ='EMR2045'!$G22/1000 -> 13.15446 | AT19: =100*AS19/AS$7 -> 0.17774237 | AU19: ='WPR2045'!$G22/1000 -> 1.3930262 | AV19: =100*AU19/AU$7 -> 0.0062166293 | AW19: =World2060!$G22/1000 -> 34.551795 | AX19: =100*AW19/AW$7 -> 0.033930474 | AY19: ='AFR2060'!$G22/1000 -> 13.520698 | AZ19: =100*AY19/AY$7 -> 0.074558149 | BA19: ='AMR2060'!$G22/1000 -> 0.27540772 | BB19: =100*BA19/BA$7 -> 0.0020652877 | BC19: =SEAR2060!$G22/1000 -> 10.124925 | BD19: =100*BC19/BC$7 -> 0.042690168 | BE19: ='EUR2060'!$G22/1000 -> 0.08109935 | BF19: =100*BE19/BE$7 -> 0.00069518785 | BG19: ='EMR2060'!$G22/1000 -> 9.4269562 | BH19: =100*BG19/BG$7 -> 0.091079289 | BI19: ='WPR2060'!$G22/1000 -> 1.1227084 | BJ19: =100*BI19/BI$7 -> 0.0045586061
A20: 13 | E20: a. | F20: Whooping cough | G20: =World2016!$G23/1000 -> 9.9890006 | H20: =100*G20/G$7 -> 0.017563571 | I20: ='AFR2016'!$G23/1000 -> 6.516044 | J20: =100*I20/I$7 -> 0.073668396 | K20: ='AMR2016'!$G23/1000 -> 0.4005081 | L20: =100*K20/K$7 -> 0.0057991502 | M20: =SEAR2016!$G23/1000 -> 1.2104484 | N20: =100*M20/M$7 -> 0.0087595938 | O20: ='EUR2016'!$G23/1000 -> 0.055871311 | P20: =100*O20/O$7 -> 0.00060632757 | Q20: ='EMR2016'!$G23/1000 -> 1.6841147 | R20: =100*Q20/Q$7 -> 0.040695008 | S20: ='WPR2016'!$G23/1000 -> 0.1220141 | T20: =100*S20/S$7 -> 0.00087463137 | U20: =World2030!$G23/1000 -> 6.8372248 | V20: =100*U20/U$7 -> 0.010037111 | W20: ='AFR2030'!$G23/1000 -> 4.7117216 | X20: =100*W20/W$7 -> 0.046700737 | Y20: ='AMR2030'!$G23/1000 -> 0.33628787 | Z20: =100*Y20/Y$7 -> 0.0038900128 | AA20: =SEAR2030!$G23/1000 -> 0.52971349 | AB20: =100*AA20/AA$7 -> 0.0031409637 | AC20: ='EUR2030'!$G23/1000 -> 0.074848973 | AD20: =100*AC20/AC$7 -> 0.00076283123 | AE20: ='EMR2030'!$G23/1000 -> 1.1193242 | AF20: =100*AE20/AE$7 -> 0.021547044 | AG20: ='WPR2030'!$G23/1000 -> 0.065328728 | AH20: =100*AG20/AG$7 -> 0.00037301075 | AI20: =World2045!$G23/1000 -> 3.5075404 | AJ20: =100*AI20/AI$7 -> 0.0041008216 | AK20: ='AFR2045'!$G23/1000 -> 2.5260557 | AL20: =100*AK20/AK$7 -> 0.01951971 | AM20: ='AMR2045'!$G23/1000 -> 0.10494283 | AN20: =100*AM20/AM$7 -> 0.00092248809 | AO20: =SEAR2045!$G23/1000 -> 0.22452894 | AP20: =100*AO20/AO$7 -> 0.0011161403 | AQ20: ='EUR2045'!$G23/1000 -> 0.03551659 | AR20: =100*AQ20/AQ$7 -> 0.00031458341 | AS20: ='EMR2045'!$G23/1000 -> 0.58499752 | AT20: =100*AS20/AS$7 -> 0.0079044554 | AU20: ='WPR2045'!$G23/1000 -> 0.031498772 | AV20: =100*AU20/AU$7 -> 0.00014056893 | AW20: =World2060!$G23/1000 -> 1.7967315 | AX20: =100*AW20/AW$7 -> 0.0017644221 | AY20: ='AFR2060'!$G23/1000 -> 1.3143395 | AZ20: =100*AY20/AY$7 -> 0.0072477557 | BA20: ='AMR2060'!$G23/1000 -> 0.037917346 | BB20: =100*BA20/BA$7 -> 0.00028434289 | BC20: =SEAR2060!$G23/1000 -> 0.10437041 | BD20: =100*BC20/BC$7 -> 0.00044006155 | BE20: ='EUR2060'!$G23/1000 -> 0.017477431 | BF20: =100*BE20/BE$7 -> 0.00014981745 | BG20: ='EMR2060'!$G23/1000 -> 0.3039905 | BH20: =100*BG20/BG$7 -> 0.0029370285 | BI20: ='WPR2060'!$G23/1000 -> 0.018636322 | BJ20: =100*BI20/BI$7 -> 7.5670276e-05
A21: 14 | E21: b. | F21: Diphtheria | G21: =World2016!$G24/1000 -> 1.4467969 | H21: =100*G21/G$7 -> 0.00254389 | I21: ='AFR2016'!$G24/1000 -> 1.0478278 | J21: =100*I21/I$7 -> 0.01184642 | K21: ='AMR2016'!$G24/1000 -> 0.012794527 | L21: =100*K21/K$7 -> 0.00018525814 | M21: =SEAR2016!$G24/1000 -> 0.10290579 | N21: =100*M21/M$7 -> 0.00074469336 | O21: ='EUR2016'!$G24/1000 -> 0.019235286 | P21: =100*O21/O$7 -> 0.00020874549 | Q21: ='EMR2016'!$G24/1000 -> 0.22446456 | R21: =100*Q21/Q$7 -> 0.0054239697 | S21: ='WPR2016'!$G24/1000 -> 0.039568906 | T21: =100*S21/S$7 -> 0.00028364104 | U21: =World2030!$G24/1000 -> 0.87972882 | V21: =100*U21/U$7 -> 0.0012914502 | W21: ='AFR2030'!$G24/1000 -> 0.61989958 | X21: =100*W21/W$7 -> 0.0061442015 | Y21: ='AMR2030'!$G24/1000 -> 0.0065371847 | Z21: =100*Y21/Y$7 -> 7.561894e-05 | AA21: =SEAR2030!$G24/1000 -> 0.051284148 | AB21: =100*AA21/AA$7 -> 0.00030409203 | AC21: ='EUR2030'!$G24/1000 -> 0.012085754 | AD21: =100*AC21/AC$7 -> 0.00012317324 | AE21: ='EMR2030'!$G24/1000 -> 0.1648318 | AF21: =100*AE21/AE$7 -> 0.0031730202 | AG21: ='WPR2030'!$G24/1000 -> 0.025090352 | AH21: =100*AG21/AG$7 -> 0.00014325966 | AI21: =World2045!$G24/1000 -> 0.46990516 | AJ21: =100*AI21/AI$7 -> 0.00054938703 | AK21: ='AFR2045'!$G24/1000 -> 0.30481795 | AL21: =100*AK21/AK$7 -> 0.0023554341 | AM21: ='AMR2045'!$G24/1000 -> 0.0031678873 | AN21: =100*AM21/AM$7 -> 2.7846955e-05 | AO21: =SEAR2045!$G24/1000 -> 0.028809142 | AP21: =100*AO21/AO$7 -> 0.00014321113 | AQ21: ='EUR2045'!$G24/1000 -> 0.0071797618 | AR21: =100*AQ21/AQ$7 -> 6.3593773e-05 | AS21: ='EMR2045'!$G24/1000 -> 0.1142996 | AT21: =100*AS21/AS$7 -> 0.0015444101 | AU21: ='WPR2045'!$G24/1000 -> 0.011630821 | AV21: =100*AU21/AU$7 -> 5.1904626e-05 | AW21: =World2060!$G24/1000 -> 0.26854351 | AX21: =100*AW21/AW$7 -> 0.00026371447 | AY21: ='AFR2060'!$G24/1000 -> 0.16140953 | AZ21: =100*AY21/AY$7 -> 0.00089007203 | BA21: ='AMR2060'!$G24/1000 -> 0.001995483 | BB21: =100*BA21/BA$7 -> 1.4964164e-05 | BC21: =SEAR2060!$G24/1000 -> 0.017345673 | BD21: =100*BC21/BC$7 -> 7.3135326e-05 | BE21: ='EUR2060'!$G24/1000 -> 0.0048240108 | BF21: =100*BE21/BE$7 -> 4.1351672e-05 | BG21: ='EMR2060'!$G24/1000 -> 0.076956092 | BH21: =100*BG21/BG$7 -> 0.00074351742 | BI21: ='WPR2060'!$G24/1000 -> 0.0060127195 | BJ21: =100*BI21/BI$7 -> 2.4413837e-05
A22: 15 | E22: c. | F22: Measles | G22: =World2016!$G25/1000 -> 90.956355 | H22: =100*G22/G$7 -> 0.15992775 | I22: ='AFR2016'!$G25/1000 -> 45.735779 | J22: =100*I22/I$7 -> 0.5170747 | K22: ='AMR2016'!$G25/1000 -> 0.0014599135 | L22: =100*K22/K$7 -> 2.1138792e-05 | M22: =SEAR2016!$G25/1000 -> 33.266796 | N22: =100*M22/M$7 -> 0.24074022 | O22: ='EUR2016'!$G25/1000 -> 0.05850658 | P22: =100*O22/O$7 -> 0.00063492608 | Q22: ='EMR2016'!$G25/1000 -> 10.281398 | R22: =100*Q22/Q$7 -> 0.24844008 | S22: ='WPR2016'!$G25/1000 -> 1.6124159 | T22: =100*S22/S$7 -> 0.01155825 | U22: =World2030!$G25/1000 -> 44.533384 | V22: =100*U22/U$7 -> 0.065375429 | W22: ='AFR2030'!$G25/1000 -> 20.311806 | X22: =100*W22/W$7 -> 0.20132265 | Y22: ='AMR2030'!$G25/1000 -> 0.00063382609 | Z22: =100*Y22/Y$7 -> 7.3317887e-06 | AA22: =SEAR2030!$G25/1000 -> 14.411753 | AB22: =100*AA22/AA$7 -> 0.085455241 | AC22: ='EUR2030'!$G25/1000 -> 0.032815647 | AD22: =100*AC22/AC$7 -> 0.00033444414 | AE22: ='EMR2030'!$G25/1000 -> 8.9968182 | AF22: =100*AE22/AE$7 -> 0.17318918 | AG22: ='WPR2030'!$G25/1000 -> 0.77955735 | AH22: =100*AG22/AG$7 -> 0.0044510782 | AI22: =World2045!$G25/1000 -> 21.705694 | AJ22: =100*AI22/AI$7 -> 0.025377093 | AK22: ='AFR2045'!$G25/1000 -> 7.8221054 | AL22: =100*AK22/AK$7 -> 0.060444124 | AM22: ='AMR2045'!$G25/1000 -> 0.00036082484 | AN22: =100*AM22/AM$7 -> 3.17179e-06 | AO22: =SEAR2045!$G25/1000 -> 7.0263031 | AP22: =100*AO22/AO$7 -> 0.034927969 | AQ22: ='EUR2045'!$G25/1000 -> 0.011026886 | AR22: =100*AQ22/AQ$7 -> 9.7669157e-05 | AS22: ='EMR2045'!$G25/1000 -> 6.5130504 | AT22: =100*AS22/AS$7 -> 0.088003991 | AU22: ='WPR2045'!$G25/1000 -> 0.33284737 | AV22: =100*AU22/AU$7 -> 0.0014853912 | AW22: =World2060!$G25/1000 -> 12.09542 | AX22: =100*AW22/AW$7 -> 0.011877916 | AY22: ='AFR2060'!$G25/1000 -> 3.1040052 | AZ22: =100*AY22/AY$7 -> 0.017116637 | BA22: ='AMR2060'!$G25/1000 -> 0.00027099119 | BB22: =100*BA22/BA$7 -> 2.032168e-06 | BC22: =SEAR2060!$G25/1000 -> 4.5399222 | BD22: =100*BC22/BC$7 -> 0.019141874 | BE22: ='EUR2060'!$G25/1000 -> 0.0046232611 | BF22: =100*BE22/BE$7 -> 3.9630835e-05 | BG22: ='EMR2060'!$G25/1000 -> 4.3016865 | BH22: =100*BG22/BG$7 -> 0.041561087 | BI22: ='WPR2060'!$G25/1000 -> 0.14491133 | BJ22: =100*BI22/BI$7 -> 0.00058839293
A23: 16 | E23: d. | F23: Tetanus | G23: =World2016!$G26/1000 -> 53.723763 | H23: =100*G23/G$7 -> 0.094462014 | I23: ='AFR2016'!$G26/1000 -> 23.986934 | J23: =100*I23/I$7 -> 0.27118893 | K23: ='AMR2016'!$G26/1000 -> 0.48506365 | L23: =100*K23/K$7 -> 0.0070234708 | M23: =SEAR2016!$G26/1000 -> 13.448335 | N23: =100*M23/M$7 -> 0.097320916 | O23: ='EUR2016'!$G26/1000 -> 0.15940181 | P23: =100*O23/O$7 -> 0.0017298629 | Q23: ='EMR2016'!$G26/1000 -> 13.936678 | R23: =100*Q23/Q$7 -> 0.33676639 | S23: ='WPR2016'!$G26/1000 -> 1.7073508 | T23: =100*S23/S$7 -> 0.012238771 | U23: =World2030!$G26/1000 -> 31.123375 | V23: =100*U23/U$7 -> 0.045689409 | W23: ='AFR2030'!$G26/1000 -> 14.511436 | X23: =100*W23/W$7 -> 0.14383166 | Y23: ='AMR2030'!$G26/1000 -> 0.29834544 | Z23: =100*Y23/Y$7 -> 0.0034511134 | AA23: =SEAR2030!$G26/1000 -> 6.9296228 | AB23: =100*AA23/AA$7 -> 0.041089559 | AC23: ='EUR2030'!$G26/1000 -> 0.077761321 | AD23: =100*AC23/AC$7 -> 0.00079251274 | AE23: ='EMR2030'!$G26/1000 -> 8.1587877 | AF23: =100*AE23/AE$7 -> 0.15705706 | AG23: ='WPR2030'!$G26/1000 -> 1.147422 | AH23: =100*AG23/AG$7 -> 0.0065514938 | AI23: =World2045!$G26/1000 -> 23.361025 | AJ23: =100*AI23/AI$7 -> 0.027312414 | AK23: ='AFR2045'!$G26/1000 -> 10.362637 | AL23: =100*AK23/AK$7 -> 0.080075695 | AM23: ='AMR2045'!$G26/1000 -> 0.25142183 | AN23: =100*AM23/AM$7 -> 0.0022100951 | AO23: =SEAR2045!$G26/1000 -> 5.7256568 | AP23: =100*AO23/AO$7 -> 0.028462416 | AQ23: ='EUR2045'!$G26/1000 -> 0.06214757 | AR23: =100*AQ23/AQ$7 -> 0.00055046373 | AS23: ='EMR2045'!$G26/1000 -> 5.9421127 | AT23: =100*AS23/AS$7 -> 0.080289511 | AU23: ='WPR2045'!$G26/1000 -> 1.0170492 | AV23: =100*AU23/AU$7 -> 0.0045387646 | AW23: =World2060!$G26/1000 -> 20.391101 | AX23: =100*AW23/AW$7 -> 0.020024421 | AY23: ='AFR2060'!$G26/1000 -> 8.9409442 | AZ23: =100*AY23/AY$7 -> 0.049303684 | BA23: ='AMR2060'!$G26/1000 -> 0.2352239 | BB23: =100*BA23/BA$7 -> 0.0017639485 | BC23: =SEAR2060!$G26/1000 -> 5.4632868 | BD23: =100*BC23/BC$7 -> 0.023035097 | BE23: ='EUR2060'!$G26/1000 -> 0.054174646 | BF23: =100*BE23/BE$7 -> 0.00046438789 | BG23: ='EMR2060'!$G26/1000 -> 4.744323 | BH23: =100*BG23/BG$7 -> 0.045837655 | BI23: ='WPR2060'!$G26/1000 -> 0.95314801 | BJ23: =100*BI23/BI$7 -> 0.0038701291
A24: 17 | D24: 6. | E24: Meningitis | G24: =World2016!$G27/1000 -> 278.81226 | H24: =100*G24/G$7 -> 0.49023312 | I24: ='AFR2016'!$G27/1000 -> 186.06926 | J24: =100*I24/I$7 -> 2.103642 | K24: ='AMR2016'!$G27/1000 -> 6.5862343 | L24: =100*K24/K$7 -> 0.095365267 | M24: =SEAR2016!$G27/1000 -> 44.759136 | N24: =100*M24/M$7 -> 0.32390628 | O24: ='EUR2016'!$G27/1000 -> 4.5798544 | P24: =100*O24/O$7 -> 0.049701572 | Q24: ='EMR2016'!$G27/1000 -> 25.688487 | R24: =100*Q24/Q$7 -> 0.62073752 | S24: ='WPR2016'!$G27/1000 -> 11.129296 | T24: =100*S24/S$7 -> 0.079777926 | U24: =World2030!$G27/1000 -> 232.91431 | V24: =100*U24/U$7 -> 0.3419204 | W24: ='AFR2030'!$G27/1000 -> 166.35925 | X24: =100*W24/W$7 -> 1.6488877 | Y24: ='AMR2030'!$G27/1000 -> 4.392597 | Z24: =100*Y24/Y$7 -> 0.050811403 | AA24: =SEAR2030!$G27/1000 -> 30.444983 | AB24: =100*AA24/AA$7 -> 0.18052511 | AC24: ='EUR2030'!$G27/1000 -> 3.1736589 | AD24: =100*AC24/AC$7 -> 0.032344681 | AE24: ='EMR2030'!$G27/1000 -> 19.503205 | AF24: =100*AE24/AE$7 -> 0.37543763 | AG24: ='WPR2030'!$G27/1000 -> 9.0406102 | AH24: =100*AG24/AG$7 -> 0.051619631 | AI24: =World2045!$G27/1000 -> 190.09773 | AJ24: =100*AI24/AI$7 -> 0.22225172 | AK24: ='AFR2045'!$G27/1000 -> 137.37892 | AL24: =100*AK24/AK$7 -> 1.0615746 | AM24: ='AMR2045'!$G27/1000 -> 3.40286 | AN24: =100*AM24/AM$7 -> 0.029912456 | AO24: =SEAR2045!$G27/1000 -> 21.868273 | AP24: =100*AO24/AO$7 -> 0.10870786 | AQ24: ='EUR2045'!$G27/1000 -> 2.530417 | AR24: =100*AQ24/AQ$7 -> 0.022412828 | AS24: ='EMR2045'!$G27/1000 -> 16.727663 | AT24: =100*AS24/AS$7 -> 0.22602329 | AU24: ='WPR2045'!$G27/1000 -> 8.1896019 | AV24: =100*AU24/AU$7 -> 0.036547569 | AW24: =World2060!$G27/1000 -> 177.80444 | AX24: =100*AW24/AW$7 -> 0.1746071 | AY24: ='AFR2060'!$G27/1000 -> 130.78307 | AZ24: =100*AY24/AY$7 -> 0.72118637 | BA24: ='AMR2060'!$G27/1000 -> 2.9165792 | BB24: =100*BA24/BA$7 -> 0.021871482 | BC24: =SEAR2060!$G27/1000 -> 18.42852 | BD24: =100*BC24/BC$7 -> 0.077700982 | BE24: ='EUR2060'!$G27/1000 -> 2.1091896 | BF24: =100*BE24/BE$7 -> 0.018080083 | BG24: ='EMR2060'!$G27/1000 -> 16.081926 | BH24: =100*BG24/BG$7 -> 0.15537681 | BI24: ='WPR2060'!$G27/1000 -> 7.4851527 | BJ24: =100*BI24/BI$7 -> 0.030392454
A25: 18 | D25: 7. | E25: Encephalitis | G25: =World2016!$G28/1000 -> 104.48244 | H25: =100*G25/G$7 -> 0.18371054 | I25: ='AFR2016'!$G28/1000 -> 9.4822624 | J25: =100*I25/I$7 -> 0.10720355 | K25: ='AMR2016'!$G28/1000 -> 19.785268 | L25: =100*K25/K$7 -> 0.28648045 | M25: =SEAR2016!$G28/1000 -> 39.578719 | N25: =100*M25/M$7 -> 0.28641741 | O25: ='EUR2016'!$G28/1000 -> 18.003238 | P25: =100*O25/O$7 -> 0.19537503 | Q25: ='EMR2016'!$G28/1000 -> 6.1990218 | R25: =100*Q25/Q$7 -> 0.14979339 | S25: ='WPR2016'!$G28/1000 -> 11.433929 | T25: =100*S25/S$7 -> 0.081961619 | U25: =World2030!$G28/1000 -> 105.34775 | V25: =100*U25/U$7 -> 0.15465149 | W25: ='AFR2030'!$G28/1000 -> 7.6049225 | X25: =100*W25/W$7 -> 0.07537701 | Y25: ='AMR2030'!$G28/1000 -> 23.776138 | Z25: =100*Y25/Y$7 -> 0.27503068 | AA25: =SEAR2030!$G28/1000 -> 33.618228 | AB25: =100*AA25/AA$7 -> 0.19934103 | AC25: ='EUR2030'!$G28/1000 -> 22.562984 | AD25: =100*AC25/AC$7 -> 0.22995304 | AE25: ='EMR2030'!$G28/1000 -> 5.3603369 | AF25: =100*AE25/AE$7 -> 0.10318674 | AG25: ='WPR2030'!$G28/1000 -> 12.425136 | AH25: =100*AG25/AG$7 -> 0.070944429 | AI25: =World2045!$G28/1000 -> 104.26513 | AJ25: =100*AI25/AI$7 -> 0.121901 | AK25: ='AFR2045'!$G28/1000 -> 5.7272097 | AL25: =100*AK25/AK$7 -> 0.044256138 | AM25: ='AMR2045'!$G28/1000 -> 27.650943 | AN25: =100*AM25/AM$7 -> 0.24306249 | AO25: =SEAR2045!$G28/1000 -> 29.513538 | AP25: =100*AO25/AO$7 -> 0.14671271 | AQ25: ='EUR2045'!$G28/1000 -> 23.769862 | AR25: =100*AQ25/AQ$7 -> 0.21053835 | AS25: ='EMR2045'!$G28/1000 -> 4.8526741 | AT25: =100*AS25/AS$7 -> 0.065569075 | AU25: ='WPR2045'!$G28/1000 -> 12.750904 | AV25: =100*AU25/AU$7 -> 0.056903196 | AW25: =World2060!$G28/1000 -> 105.1503 | AX25: =100*AW25/AW$7 -> 0.10325946 | AY25: ='AFR2060'!$G28/1000 -> 4.9565934 | AZ25: =100*AY25/AY$7 -> 0.027332495 | BA25: ='AMR2060'!$G28/1000 -> 29.217053 | BB25: =100*BA25/BA$7 -> 0.21909923 | BC25: =SEAR2060!$G28/1000 -> 30.452497 | BD25: =100*BC25/BC$7 -> 0.12839821 | BE25: ='EUR2060'!$G28/1000 -> 22.649717 | BF25: =100*BE25/BE$7 -> 0.19415455 | BG25: ='EMR2060'!$G28/1000 -> 4.857264 | BH25: =100*BG25/BG$7 -> 0.046928843 | BI25: ='WPR2060'!$G28/1000 -> 13.017178 | BJ25: =100*BI25/BI$7 -> 0.052854496
A26: 19 | D26: 8. | E26: Acute hepatitis B | G26: =World2016!$G29/1000 -> 110.83004 | H26: =100*G26/G$7 -> 0.19487146 | I26: ='AFR2016'!$G29/1000 -> 24.084799 | J26: =100*I26/I$7 -> 0.27229536 | K26: ='AMR2016'!$G29/1000 -> 2.7598667 | L26: =100*K26/K$7 -> 0.039961443 | M26: =SEAR2016!$G29/1000 -> 62.960833 | N26: =100*M26/M$7 -> 0.45562563 | O26: ='EUR2016'!$G29/1000 -> 2.8724416 | P26: =100*O26/O$7 -> 0.031172359 | Q26: ='EMR2016'!$G29/1000 -> 5.8006032 | R26: =100*Q26/Q$7 -> 0.14016599 | S26: ='WPR2016'!$G29/1000 -> 12.351492 | T26: =100*S26/S$7 -> 0.088538968 | U26: =World2030!$G29/1000 -> 114.08323 | V26: =100*U26/U$7 -> 0.16747527 | W26: ='AFR2030'!$G29/1000 -> 26.771683 | X26: =100*W26/W$7 -> 0.26535042 | Y26: ='AMR2030'!$G29/1000 -> 2.4397465 | Z26: =100*Y26/Y$7 -> 0.028221789 | AA26: =SEAR2030!$G29/1000 -> 63.877778 | AB26: =100*AA26/AA$7 -> 0.37876661 | AC26: ='EUR2030'!$G29/1000 -> 2.4548424 | AD26: =100*AC26/AC$7 -> 0.025018786 | AE26: ='EMR2030'!$G29/1000 -> 6.3931573 | AF26: =100*AE26/AE$7 -> 0.12306859 | AG26: ='WPR2030'!$G29/1000 -> 12.146027 | AH26: =100*AG26/AG$7 -> 0.069350785 | AI26: =World2045!$G29/1000 -> 108.00435 | AJ26: =100*AI26/AI$7 -> 0.1262727 | AK26: ='AFR2045'!$G29/1000 -> 26.507786 | AL26: =100*AK26/AK$7 -> 0.20483487 | AM26: ='AMR2045'!$G29/1000 -> 2.2408317 | AN26: =100*AM26/AM$7 -> 0.019697777 | AO26: =SEAR2045!$G29/1000 -> 58.535836 | AP26: =100*AO26/AO$7 -> 0.29098345 | AQ26: ='EUR2045'!$G29/1000 -> 2.188642 | AR26: =100*AQ26/AQ$7 -> 0.019385602 | AS26: ='EMR2045'!$G29/1000 -> 6.8001444 | AT26: =100*AS26/AS$7 -> 0.091883189 | AU26: ='WPR2045'!$G29/1000 -> 11.731114 | AV26: =100*AU26/AU$7 -> 0.0523522 | AW26: =World2060!$G29/1000 -> 105.52487 | AX26: =100*AW26/AW$7 -> 0.10362729 | AY26: ='AFR2060'!$G29/1000 -> 27.074732 | AZ26: =100*AY26/AY$7 -> 0.14930012 | BA26: ='AMR2060'!$G29/1000 -> 2.0294288 | BB26: =100*BA26/BA$7 -> 0.015218725 | BC26: =SEAR2060!$G29/1000 -> 56.963538 | BD26: =100*BC26/BC$7 -> 0.24017788 | BE26: ='EUR2060'!$G29/1000 -> 1.9407737 | BF26: =100*BE26/BE$7 -> 0.016636413 | BG26: ='EMR2060'!$G29/1000 -> 7.1926113 | BH26: =100*BG26/BG$7 -> 0.069491987 | BI26: ='WPR2060'!$G29/1000 -> 10.323786 | BJ26: =100*BI26/BI$7 -> 0.041918343
A27: 20 | D27: 9. | E27: Acute hepatitis C | G27: =World2016!$G30/1000 -> 2.552712 | H27: =100*G27/G$7 -> 0.0044884107 | I27: ='AFR2016'!$G30/1000 -> 0.74336011 | J27: =100*I27/I$7 -> 0.0084042015 | K27: ='AMR2016'!$G30/1000 -> 0.019980819 | L27: =100*K27/K$7 -> 0.00028931192 | M27: =SEAR2016!$G30/1000 -> 1.3430277 | N27: =100*M27/M$7 -> 0.0097190239 | O27: ='EUR2016'!$G30/1000 -> 0.033407603 | P27: =100*O27/O$7 -> 0.00036254654 | Q27: ='EMR2016'!$G30/1000 -> 0.22733964 | R27: =100*Q27/Q$7 -> 0.0054934433 | S27: ='WPR2016'!$G30/1000 -> 0.18559609 | T27: =100*S27/S$7 -> 0.0013304049 | U27: =World2030!$G30/1000 -> 2.7198101 | V27: =100*U27/U$7 -> 0.0039927069 | W27: ='AFR2030'!$G30/1000 -> 0.77788687 | X27: =100*W27/W$7 -> 0.0077101096 | Y27: ='AMR2030'!$G30/1000 -> 0.018446082 | Z27: =100*Y27/Y$7 -> 0.00021337522 | AA27: =SEAR2030!$G30/1000 -> 1.4781423 | AB27: =100*AA27/AA$7 -> 0.0087647216 | AC27: ='EUR2030'!$G30/1000 -> 0.029548734 | AD27: =100*AC27/AC$7 -> 0.00030114905 | AE27: ='EMR2030'!$G30/1000 -> 0.22470072 | AF27: =100*AE27/AE$7 -> 0.0043254997 | AG27: ='WPR2030'!$G30/1000 -> 0.19108538 | AH27: =100*AG27/AG$7 -> 0.0010910499 | AI27: =World2045!$G30/1000 -> 2.7857456 | AJ27: =100*AI27/AI$7 -> 0.0032569392 | AK27: ='AFR2045'!$G30/1000 -> 0.7788647 | AL27: =100*AK27/AK$7 -> 0.0060185579 | AM27: ='AMR2045'!$G30/1000 -> 0.016245927 | AN27: =100*AM27/AM$7 -> 0.00014280799 | AO27: =SEAR2045!$G30/1000 -> 1.5374023 | AP27: =100*AO27/AO$7 -> 0.0076424742 | AQ27: ='EUR2045'!$G30/1000 -> 0.028086222 | AR27: =100*AQ27/AQ$7 -> 0.00024876993 | AS27: ='EMR2045'!$G30/1000 -> 0.23636546 | AT27: =100*AS27/AS$7 -> 0.0031937575 | AU27: ='WPR2045'!$G30/1000 -> 0.18878103 | AV27: =100*AU27/AU$7 -> 0.00084246923 | AW27: =World2060!$G30/1000 -> 2.9694603 | AX27: =100*AW27/AW$7 -> 0.0029160625 | AY27: ='AFR2060'!$G30/1000 -> 0.83026819 | AZ27: =100*AY27/AY$7 -> 0.0045784069 | BA27: ='AMR2060'!$G30/1000 -> 0.014737164 | BB27: =100*BA27/BA$7 -> 0.00011051427 | BC27: =SEAR2060!$G30/1000 -> 1.6667662 | BD27: =100*BC27/BC$7 -> 0.00702766 | BE27: ='EUR2060'!$G30/1000 -> 0.027448626 | BF27: =100*BE27/BE$7 -> 0.00023529105 | BG27: ='EMR2060'!$G30/1000 -> 0.25768976 | BH27: =100*BG27/BG$7 -> 0.0024896901 | BI27: ='WPR2060'!$G30/1000 -> 0.17255032 | BJ27: =100*BI27/BI$7 -> 0.00070061733
A28: 21 | D28: 10. | E28: Parasitic and vector diseases | G28: =World2016!$G31/1000 -> 573.72124 | H28: =100*G28/G$7 -> 1.0087689 | I28: ='AFR2016'!$G31/1000 -> 449.32476 | J28: =100*I28/I$7 -> 5.079928 | K28: ='AMR2016'!$G31/1000 -> 11.579044 | L28: =100*K28/K$7 -> 0.16765857 | M28: =SEAR2016!$G31/1000 -> 82.015633 | N28: =100*M28/M$7 -> 0.59351858 | O28: ='EUR2016'!$G31/1000 -> 0.2528947 | P28: =100*O28/O$7 -> 0.0027444681 | Q28: ='EMR2016'!$G31/1000 -> 19.375962 | R28: =100*Q28/Q$7 -> 0.46820144 | S28: ='WPR2016'!$G31/1000 -> 11.172946 | T28: =100*S28/S$7 -> 0.080090817 | U28: =World2030!$G31/1000 -> 405.74909 | V28: =100*U28/U$7 -> 0.5956435 | W28: ='AFR2030'!$G31/1000 -> 303.62743 | X28: =100*W28/W$7 -> 3.0094361 | Y28: ='AMR2030'!$G31/1000 -> 13.872103 | Z28: =100*Y28/Y$7 -> 0.16046567 | AA28: =SEAR2030!$G31/1000 -> 65.441885 | AB28: =100*AA28/AA$7 -> 0.38804106 | AC28: ='EUR2030'!$G31/1000 -> 0.16955878 | AD28: =100*AC28/AC$7 -> 0.0017280763 | AE28: ='EMR2030'!$G31/1000 -> 14.849305 | AF28: =100*AE28/AE$7 -> 0.28584983 | AG28: ='WPR2030'!$G31/1000 -> 7.7888098 | AH28: =100*AG28/AG$7 -> 0.044472163 | AI28: =World2045!$G31/1000 -> 336.51062 | AJ28: =100*AI28/AI$7 -> 0.39342954 | AK28: ='AFR2045'!$G31/1000 -> 246.51991 | AL28: =100*AK28/AK$7 -> 1.9049449 | AM28: ='AMR2045'!$G31/1000 -> 16.135642 | AN28: =100*AM28/AM$7 -> 0.14183853 | AO28: =SEAR2045!$G31/1000 -> 55.783825 | AP28: =100*AO28/AO$7 -> 0.27730311 | AQ28: ='EUR2045'!$G31/1000 -> 0.13194975 | AR28: =100*AQ28/AQ$7 -> 0.0011687271 | AS28: ='EMR2045'!$G31/1000 -> 12.567285 | AT28: =100*AS28/AS$7 -> 0.16980848 | AU28: ='WPR2045'!$G31/1000 -> 5.3720068 | AV28: =100*AU28/AU$7 -> 0.023973545 | AW28: =World2060!$G31/1000 -> 305.70097 | AX28: =100*AW28/AW$7 -> 0.30020375 | AY28: ='AFR2060'!$G31/1000 -> 217.85115 | AZ28: =100*AY28/AY$7 -> 1.2013121 | BA28: ='AMR2060'!$G31/1000 -> 18.068564 | BB28: =100*BA28/BA$7 -> 0.1354965 | BC28: =SEAR2060!$G31/1000 -> 54.076483 | BD28: =100*BC28/BC$7 -> 0.22800506 | BE28: ='EUR2060'!$G31/1000 -> 0.1154339 | BF28: =100*BE28/BE$7 -> 0.00098950537 | BG28: ='EMR2060'!$G31/1000 -> 11.546325 | BH28: =100*BG28/BG$7 -> 0.11155574 | BI28: ='WPR2060'!$G31/1000 -> 4.0430045 | BJ28: =100*BI28/BI$7 -> 0.016416075
A29: 22 | E29: a. | F29: Malaria | G29: =World2016!$G32/1000 -> 446.44595 | H29: =100*G29/G$7 -> 0.78498193 | I29: ='AFR2016'!$G32/1000 -> 408.12539 | J29: =100*I29/I$7 -> 4.6141406 | K29: ='AMR2016'!$G32/1000 -> 0.42253316 | L29: =100*K29/K$7 -> 0.0061180617 | M29: =SEAR2016!$G32/1000 -> 26.600842 | N29: =100*M29/M$7 -> 0.19250103 | O29: ='EUR2016'!$G32/1000 -> 0.0010694423 | P29: =100*O29/O$7 -> 1.160582e-05 | Q29: ='EMR2016'!$G32/1000 -> 8.1500002 | R29: =100*Q29/Q$7 -> 0.1969369 | S29: ='WPR2016'!$G32/1000 -> 3.1461101 | T29: =100*S29/S$7 -> 0.022552202 | U29: =World2030!$G32/1000 -> 293.07038 | V29: =100*U29/U$7 -> 0.43023009 | W29: ='AFR2030'!$G32/1000 -> 270.46671 | X29: =100*W29/W$7 -> 2.68076 | Y29: ='AMR2030'!$G32/1000 -> 0.23759454 | Z29: =100*Y29/Y$7 -> 0.0027483769 | AA29: =SEAR2030!$G32/1000 -> 15.054479 | AB29: =100*AA29/AA$7 -> 0.089266319 | AC29: ='EUR2030'!$G32/1000 -> 0.00052034078 | AD29: =100*AC29/AC$7 -> 5.3031082e-06 | AE29: ='EMR2030'!$G32/1000 -> 5.4192085 | AF29: =100*AE29/AE$7 -> 0.10432002 | AG29: ='WPR2030'!$G32/1000 -> 1.8918634 | AH29: =100*AG29/AG$7 -> 0.010802069 | AI29: =World2045!$G32/1000 -> 229.9197 | AJ29: =100*AI29/AI$7 -> 0.26880935 | AK29: ='AFR2045'!$G32/1000 -> 214.12929 | AL29: =100*AK29/AK$7 -> 1.6546514 | AM29: ='AMR2045'!$G32/1000 -> 0.14115433 | AN29: =100*AM29/AM$7 -> 0.0012408012 | AO29: =SEAR2045!$G32/1000 -> 9.9844068 | AP29: =100*AO29/AO$7 -> 0.049632794 | AQ29: ='EUR2045'!$G32/1000 -> 0.00025978541 | AR29: =100*AQ29/AQ$7 -> 2.3010143e-06 | AS29: ='EMR2045'!$G32/1000 -> 4.4363179 | AT29: =100*AS29/AS$7 -> 0.059943292 | AU29: ='WPR2045'!$G32/1000 -> 1.2282661 | AV29: =100*AU29/AU$7 -> 0.0054813581 | AW29: =World2060!$G32/1000 -> 196.29909 | AX29: =100*AW29/AW$7 -> 0.19276918 | AY29: ='AFR2060'!$G32/1000 -> 183.3372 | AZ29: =100*AY29/AY$7 -> 1.0109894 | BA29: ='AMR2060'!$G32/1000 -> 0.098934973 | BB29: =100*BA29/BA$7 -> 0.00074191522 | BC29: =SEAR2060!$G32/1000 -> 8.0778221 | BD29: =100*BC29/BC$7 -> 0.034058877 | BE29: ='EUR2060'!$G32/1000 -> 0.00012475847 | BF29: =100*BE29/BE$7 -> 1.0694361e-06 | BG29: ='EMR2060'!$G32/1000 -> 3.9243751 | BH29: =100*BG29/BG$7 -> 0.037915663 | BI29: ='WPR2060'!$G32/1000 -> 0.86063131 | BJ29: =100*BI29/BI$7 -> 0.0034944775
A30: 23 | E30: b. | F30: Trypanosomiasis | G30: =World2016!$G33/1000 -> 3.0772969 | H30: =100*G30/G$7 -> 0.0054107837 | I30: ='AFR2016'!$G33/1000 -> 3.0757648 | J30: =100*I30/I$7 -> 0.034773654 | K30: ='AMR2016'!$G33/1000 -> 0.0011544245 | L30: =100*K30/K$7 -> 1.671547e-05 | M30: =SEAR2016!$G33/1000 -> 0 | N30: =100*M30/M$7 -> 0 | O30: ='EUR2016'!$G33/1000 -> 0.0003776997 | P30: =100*O30/O$7 -> 4.098879e-06 | Q30: ='EMR2016'!$G33/1000 -> 0 | R30: =100*Q30/Q$7 -> 0 | S30: ='WPR2016'!$G33/1000 -> 0 | T30: =100*S30/S$7 -> 0 | U30: =World2030!$G33/1000 -> 2.3630956 | V30: =100*U30/U$7 -> 0.0034690467 | W30: ='AFR2030'!$G33/1000 -> 2.3624027 | X30: =100*W30/W$7 -> 0.023415209 | Y30: ='AMR2030'!$G33/1000 -> 0.00054515831 | Z30: =100*Y30/Y$7 -> 6.3061234e-06 | AA30: =SEAR2030!$G33/1000 -> 0 | AB30: =100*AA30/AA$7 -> 0 | AC30: ='EUR2030'!$G33/1000 -> 0.00014770618 | AD30: =100*AC30/AC$7 -> 1.5053632e-06 | AE30: ='EMR2030'!$G33/1000 -> 0 | AF30: =100*AE30/AE$7 -> 0 | AG30: ='WPR2030'!$G33/1000 -> 0 | AH30: =100*AG30/AG$7 -> 0 | AI30: =World2045!$G33/1000 -> 1.9473115 | AJ30: =100*AI30/AI$7 -> 0.0022766885 | AK30: ='AFR2045'!$G33/1000 -> 1.9468227 | AL30: =100*AK30/AK$7 -> 0.015043775 | AM30: ='AMR2045'!$G33/1000 -> 0.00038499502 | AN30: =100*AM30/AM$7 -> 3.3842552e-06 | AO30: =SEAR2045!$G33/1000 -> 0 | AP30: =100*AO30/AO$7 -> 0 | AQ30: ='EUR2045'!$G33/1000 -> 0.0001037512 | AR30: =100*AQ30/AQ$7 -> 9.1896232e-07 | AS30: ='EMR2045'!$G33/1000 -> 0 | AT30: =100*AS30/AS$7 -> 0 | AU30: ='WPR2045'!$G33/1000 -> 0 | AV30: =100*AU30/AU$7 -> 0 | AW30: =World2060!$G33/1000 -> 1.601334 | AX30: =100*AW30/AW$7 -> 0.0015725383 | AY30: ='AFR2060'!$G33/1000 -> 1.6010015 | AZ30: =100*AY30/AY$7 -> 0.0088285166 | BA30: ='AMR2060'!$G33/1000 -> 0.00024724521 | BB30: =100*BA30/BA$7 -> 1.8540965e-06 | BC30: =SEAR2060!$G33/1000 -> 0 | BD30: =100*BC30/BC$7 -> 0 | BE30: ='EUR2060'!$G33/1000 -> 8.5190974e-05 | BF30: =100*BE30/BE$7 -> 7.3026146e-07 | BG30: ='EMR2060'!$G33/1000 -> 0 | BH30: =100*BG30/BG$7 -> 0 | BI30: ='WPR2060'!$G33/1000 -> 0 | BJ30: =100*BI30/BI$7 -> 0
A31: 24 | E31: c. | F31: Chagas disease | G31: =World2016!$G34/1000 -> 7.727879 | H31: =100*G31/G$7 -> 0.013587861 | I31: ='AFR2016'!$G34/1000 -> 0 | J31: =100*I31/I$7 -> 0 | K31: ='AMR2016'!$G34/1000 -> 7.7209556 | L31: =100*K31/K$7 -> 0.11179544 | M31: =SEAR2016!$G34/1000 -> 0 | N31: =100*M31/M$7 -> 0 | O31: ='EUR2016'!$G34/1000 -> 0.0046218506 | P31: =100*O31/O$7 -> 5.0157324e-05 | Q31: ='EMR2016'!$G34/1000 -> 0 | R31: =100*Q31/Q$7 -> 0 | S31: ='WPR2016'!$G34/1000 -> 0.0023016101 | T31: =100*S31/S$7 -> 1.6498588e-05 | U31: =World2030!$G34/1000 -> 8.6456332 | V31: =100*U31/U$7 -> 0.012691871 | W31: ='AFR2030'!$G34/1000 -> 0 | X31: =100*W31/W$7 -> 0 | Y31: ='AMR2030'!$G34/1000 -> 8.6408379 | Z31: =100*Y31/Y$7 -> 0.099952967 | AA31: =SEAR2030!$G34/1000 -> 0 | AB31: =100*AA31/AA$7 -> 0 | AC31: ='EUR2030'!$G34/1000 -> 0.0027851596 | AD31: =100*AC31/AC$7 -> 2.8385249e-05 | AE31: ='EMR2030'!$G34/1000 -> 0 | AF31: =100*AE31/AE$7 -> 0 | AG31: ='WPR2030'!$G34/1000 -> 0.0020101418 | AH31: =100*AG31/AG$7 -> 1.1477409e-05 | AI31: =World2045!$G34/1000 -> 10.851749 | AJ31: =100*AI31/AI$7 -> 0.012687263 | AK31: ='AFR2045'!$G34/1000 -> 0 | AL31: =100*AK31/AK$7 -> 0 | AM31: ='AMR2045'!$G34/1000 -> 10.846476 | AN31: =100*AM31/AM$7 -> 0.095344717 | AO31: =SEAR2045!$G34/1000 -> 0 | AP31: =100*AO31/AO$7 -> 0 | AQ31: ='EUR2045'!$G34/1000 -> 0.0019642899 | AR31: =100*AQ31/AQ$7 -> 1.7398433e-05 | AS31: ='EMR2045'!$G34/1000 -> 0 | AT31: =100*AS31/AS$7 -> 0 | AU31: ='WPR2045'!$G34/1000 -> 0.0033095307 | AV31: =100*AU31/AU$7 -> 1.4769375e-05 | AW31: =World2060!$G34/1000 -> 12.484912 | AX31: =100*AW31/AW$7 -> 0.012260404 | AY31: ='AFR2060'!$G34/1000 -> 0 | AZ31: =100*AY31/AY$7 -> 0 | BA31: ='AMR2060'!$G34/1000 -> 12.478573 | BB31: =100*BA31/BA$7 -> 0.093577051 | BC31: =SEAR2060!$G34/1000 -> 0 | BD31: =100*BC31/BC$7 -> 0 | BE31: ='EUR2060'!$G34/1000 -> 0.0014103649 | BF31: =100*BE31/BE$7 -> 1.2089722e-05 | BG31: ='EMR2060'!$G34/1000 -> 0 | BH31: =100*BG31/BG$7 -> 0 | BI31: ='WPR2060'!$G34/1000 -> 0.0049290266 | BJ31: =100*BI31/BI$7 -> 2.0013649e-05
A32: 25 | E32: d. | F32: Schistosomiasis | G32: =World2016!$G35/1000 -> 24.072074 | H32: =100*G32/G$7 -> 0.042325714 | I32: ='AFR2016'!$G35/1000 -> 21.15091 | J32: =100*I32/I$7 -> 0.2391257 | K32: ='AMR2016'!$G35/1000 -> 0.58561491 | L32: =100*K32/K$7 -> 0.008479401 | M32: =SEAR2016!$G35/1000 -> 0.023126723 | N32: =100*M32/M$7 -> 0.00016736004 | O32: ='EUR2016'!$G35/1000 -> 0.0019648649 | P32: =100*O32/O$7 -> 2.132314e-05 | Q32: ='EMR2016'!$G35/1000 -> 1.9419921 | R32: =100*Q32/Q$7 -> 0.046926368 | S32: ='WPR2016'!$G35/1000 -> 0.36846628 | T32: =100*S32/S$7 -> 0.0026412699 | U32: =World2030!$G35/1000 -> 18.585463 | V32: =100*U32/U$7 -> 0.027283635 | W32: ='AFR2030'!$G35/1000 -> 16.338251 | X32: =100*W32/W$7 -> 0.16193834 | Y32: ='AMR2030'!$G35/1000 -> 0.58670829 | Z32: =100*Y32/Y$7 -> 0.0067867531 | AA32: =SEAR2030!$G35/1000 -> 0.017202877 | AB32: =100*AA32/AA$7 -> 0.00010200536 | AC32: ='EUR2030'!$G35/1000 -> 0.0013194846 | AD32: =100*AC32/AC$7 -> 1.3447667e-05 | AE32: ='EMR2030'!$G35/1000 -> 1.308758 | AF32: =100*AE32/AE$7 -> 0.025193654 | AG32: ='WPR2030'!$G35/1000 -> 0.3332233 | AH32: =100*AG32/AG$7 -> 0.001902622 | AI32: =World2045!$G35/1000 -> 19.653197 | AJ32: =100*AI32/AI$7 -> 0.022977427 | AK32: ='AFR2045'!$G35/1000 -> 17.260064 | AL32: =100*AK32/AK$7 -> 0.13337451 | AM32: ='AMR2045'!$G35/1000 -> 0.66790784 | AN32: =100*AM32/AM$7 -> 0.0058711683 | AO32: =SEAR2045!$G35/1000 -> 0.017590863 | AP32: =100*AO32/AO$7 -> 8.7444724e-05 | AQ32: ='EUR2045'!$G35/1000 -> 0.00087254167 | AR32: =100*AQ32/AQ$7 -> 7.7284203e-06 | AS32: ='EMR2045'!$G35/1000 -> 1.3886065 | AT32: =100*AS32/AS$7 -> 0.018762777 | AU32: ='WPR2045'!$G35/1000 -> 0.3181549 | AV32: =100*AU32/AU$7 -> 0.0014198233 | AW32: =World2060!$G35/1000 -> 21.857393 | AX32: =100*AW32/AW$7 -> 0.021464347 | AY32: ='AFR2060'!$G35/1000 -> 19.330372 | AZ32: =100*AY32/AY$7 -> 0.10659485 | BA32: ='AMR2060'!$G35/1000 -> 0.70969388 | BB32: =100*BA32/BA$7 -> 0.0053220077 | BC32: =SEAR2060!$G35/1000 -> 0.017435128 | BD32: =100*BC32/BC$7 -> 7.3512499e-05 | BE32: ='EUR2060'!$G35/1000 -> 0.00060080373 | BF32: =100*BE32/BE$7 -> 5.1501208e-06 | BG32: ='EMR2060'!$G35/1000 -> 1.5049977 | BH32: =100*BG32/BG$7 -> 0.014540655 | BI32: ='WPR2060'!$G35/1000 -> 0.29429328 | BJ32: =100*BI32/BI$7 -> 0.0011949382
A33: 26 | E33: e. | F33: Leishmaniasis | G33: =World2016!$G36/1000 -> 14.453969 | H33: =100*G33/G$7 -> 0.025414285 | I33: ='AFR2016'!$G36/1000 -> 3.563434 | J33: =100*I33/I$7 -> 0.040287092 | K33: ='AMR2016'!$G36/1000 -> 0.57729377 | L33: =100*K33/K$7 -> 0.0083589152 | M33: =SEAR2016!$G36/1000 -> 6.2041085 | N33: =100*M33/M$7 -> 0.044896973 | O33: ='EUR2016'!$G36/1000 -> 0.089560306 | P33: =100*O33/O$7 -> 0.00097192784 | Q33: ='EMR2016'!$G36/1000 -> 3.9371704 | R33: =100*Q33/Q$7 -> 0.095137928 | S33: ='WPR2016'!$G36/1000 -> 0.082402301 | T33: =100*S33/S$7 -> 0.00059068286 | U33: =World2030!$G36/1000 -> 12.934417 | V33: =100*U33/U$7 -> 0.018987846 | W33: ='AFR2030'!$G36/1000 -> 4.1203218 | X33: =100*W33/W$7 -> 0.040839013 | Y33: ='AMR2030'!$G36/1000 -> 0.41410418 | Z33: =100*Y33/Y$7 -> 0.0047901536 | AA33: =SEAR2030!$G36/1000 -> 4.2712946 | AB33: =100*AA33/AA$7 -> 0.025326864 | AC33: ='EUR2030'!$G36/1000 -> 0.083936789 | AD33: =100*AC33/AC$7 -> 0.00085545067 | AE33: ='EMR2030'!$G36/1000 -> 3.9626198 | AF33: =100*AE33/AE$7 -> 0.076280623 | AG33: ='WPR2030'!$G36/1000 -> 0.082139392 | AH33: =100*AG33/AG$7 -> 0.00046899546 | AI33: =World2045!$G36/1000 -> 11.748078 | AJ33: =100*AI33/AI$7 -> 0.0137352 | AK33: ='AFR2045'!$G36/1000 -> 4.4054357 | AL33: =100*AK33/AK$7 -> 0.034042331 | AM33: ='AMR2045'!$G36/1000 -> 0.34071806 | AN33: =100*AM33/AM$7 -> 0.0029950436 | AO33: =SEAR2045!$G36/1000 -> 3.157125 | AP33: =100*AO33/AO$7 -> 0.015694165 | AQ33: ='EUR2045'!$G36/1000 -> 0.081869976 | AR33: =100*AQ33/AQ$7 -> 0.00072515228 | AS33: ='EMR2045'!$G36/1000 -> 3.6861905 | AT33: =100*AS33/AS$7 -> 0.04980761 | AU33: ='WPR2045'!$G36/1000 -> 0.076738339 | AV33: =100*AU33/AU$7 -> 0.00034245862 | AW33: =World2060!$G36/1000 -> 11.998386 | AX33: =100*AW33/AW$7 -> 0.011782627 | AY33: ='AFR2060'!$G36/1000 -> 5.1622698 | AZ33: =100*AY33/AY$7 -> 0.028466672 | BA33: ='AMR2060'!$G36/1000 -> 0.30863845 | BB33: =100*BA33/BA$7 -> 0.0023144855 | BC33: =SEAR2060!$G36/1000 -> 2.7143045 | BD33: =100*BC33/BC$7 -> 0.011444442 | BE33: ='EUR2060'!$G36/1000 -> 0.082281977 | BF33: =100*BE33/BE$7 -> 0.00070532539 | BG33: ='EMR2060'!$G36/1000 -> 3.6676698 | BH33: =100*BG33/BG$7 -> 0.035435484 | BI33: ='WPR2060'!$G36/1000 -> 0.063220983 | BJ33: =100*BI33/BI$7 -> 0.00025670028
A34: 27 | E34: f. | F34: Lymphatic filariasis | G34: =World2016!$G37/1000 -> 0.00038413689 | H34: =100*G34/G$7 -> 6.7542446e-07 | I34: ='AFR2016'!$G37/1000 -> 0 | J34: =100*I34/I$7 -> 0 | K34: ='AMR2016'!$G37/1000 -> 0.00038413689 | L34: =100*K34/K$7 -> 5.5621035e-06 | M34: =SEAR2016!$G37/1000 -> 0 | N34: =100*M34/M$7 -> 0 | O34: ='EUR2016'!$G37/1000 -> 0 | P34: =100*O34/O$7 -> 0 | Q34: ='EMR2016'!$G37/1000 -> 0 | R34: =100*Q34/Q$7 -> 0 | S34: ='WPR2016'!$G37/1000 -> 0 | T34: =100*S34/S$7 -> 0 | U34: =World2030!$G37/1000 -> 0.00033724138 | V34: =100*U34/U$7 -> 4.9507353e-07 | W34: ='AFR2030'!$G37/1000 -> 0 | X34: =100*W34/W$7 -> 0 | Y34: ='AMR2030'!$G37/1000 -> 0.00033724138 | Z34: =100*Y34/Y$7 -> 3.9010426e-06 | AA34: =SEAR2030!$G37/1000 -> 0 | AB34: =100*AA34/AA$7 -> 0 | AC34: ='EUR2030'!$G37/1000 -> 0 | AD34: =100*AC34/AC$7 -> 0 | AE34: ='EMR2030'!$G37/1000 -> 0 | AF34: =100*AE34/AE$7 -> 0 | AG34: ='WPR2030'!$G37/1000 -> 0 | AH34: =100*AG34/AG$7 -> 0 | AI34: =World2045!$G37/1000 -> 0.00029665497 | AJ34: =100*AI34/AI$7 -> 3.4683253e-07 | AK34: ='AFR2045'!$G37/1000 -> 0 | AL34: =100*AK34/AK$7 -> 0 | AM34: ='AMR2045'!$G37/1000 -> 0.00029665497 | AN34: =100*AM34/AM$7 -> 2.607712e-06 | AO34: =SEAR2045!$G37/1000 -> 0 | AP34: =100*AO34/AO$7 -> 0 | AQ34: ='EUR2045'!$G37/1000 -> 0 | AR34: =100*AQ34/AQ$7 -> 0 | AS34: ='EMR2045'!$G37/1000 -> 0 | AT34: =100*AS34/AS$7 -> 0 | AU34: ='WPR2045'!$G37/1000 -> 0 | AV34: =100*AU34/AU$7 -> 0 | AW34: =World2060!$G37/1000 -> 0.00019816527 | AX34: =100*AW34/AW$7 -> 1.946018e-07 | AY34: ='AFR2060'!$G37/1000 -> 0 | AZ34: =100*AY34/AY$7 -> 0 | BA34: ='AMR2060'!$G37/1000 -> 0.00019816527 | BB34: =100*BA34/BA$7 -> 1.4860451e-06 | BC34: =SEAR2060!$G37/1000 -> 0 | BD34: =100*BC34/BC$7 -> 0 | BE34: ='EUR2060'!$G37/1000 -> 0 | BF34: =100*BE34/BE$7 -> 0 | BG34: ='EMR2060'!$G37/1000 -> 0 | BH34: =100*BG34/BG$7 -> 0 | BI34: ='WPR2060'!$G37/1000 -> 0 | BJ34: =100*BI34/BI$7 -> 0
A35: 28 | E35: g. | F35: Onchocerciasis | G35: =World2016!$G38/1000 -> 0.0014504721 | H35: =100*G35/G$7 -> 2.5503521e-06 | I35: ='AFR2016'!$G38/1000 -> 0 | J35: =100*I35/I$7 -> 0 | K35: ='AMR2016'!$G38/1000 -> 0.0014504721 | L35: =100*K35/K$7 -> 2.1002086e-05 | M35: =SEAR2016!$G38/1000 -> 0 | N35: =100*M35/M$7 -> 0 | O35: ='EUR2016'!$G38/1000 -> 0 | P35: =100*O35/O$7 -> 0 | Q35: ='EMR2016'!$G38/1000 -> 0 | R35: =100*Q35/Q$7 -> 0 | S35: ='WPR2016'!$G38/1000 -> 0 | T35: =100*S35/S$7 -> 0 | U35: =World2030!$G38/1000 -> 0.0010513241 | V35: =100*U35/U$7 -> 1.5433537e-06 | W35: ='AFR2030'!$G38/1000 -> 0 | X35: =100*W35/W$7 -> 0 | Y35: ='AMR2030'!$G38/1000 -> 0.0010513241 | Z35: =100*Y35/Y$7 -> 1.2161201e-05 | AA35: =SEAR2030!$G38/1000 -> 0 | AB35: =100*AA35/AA$7 -> 0 | AC35: ='EUR2030'!$G38/1000 -> 0 | AD35: =100*AC35/AC$7 -> 0 | AE35: ='EMR2030'!$G38/1000 -> 0 | AF35: =100*AE35/AE$7 -> 0 | AG35: ='WPR2030'!$G38/1000 -> 0 | AH35: =100*AG35/AG$7 -> 0 | AI35: =World2045!$G38/1000 -> 0.0011008324 | AJ35: =100*AI35/AI$7 -> 1.2870322e-06 | AK35: ='AFR2045'!$G38/1000 -> 0 | AL35: =100*AK35/AK$7 -> 0 | AM35: ='AMR2045'!$G38/1000 -> 0.0011008324 | AN35: =100*AM35/AM$7 -> 9.676743e-06 | AO35: =SEAR2045!$G38/1000 -> 0 | AP35: =100*AO35/AO$7 -> 0 | AQ35: ='EUR2045'!$G38/1000 -> 0 | AR35: =100*AQ35/AQ$7 -> 0 | AS35: ='EMR2045'!$G38/1000 -> 0 | AT35: =100*AS35/AS$7 -> 0 | AU35: ='WPR2045'!$G38/1000 -> 0 | AV35: =100*AU35/AU$7 -> 0 | AW35: =World2060!$G38/1000 -> 0.001319242 | AX35: =100*AW35/AW$7 -> 1.295519e-06 | AY35: ='AFR2060'!$G38/1000 -> 0 | AZ35: =100*AY35/AY$7 -> 0 | BA35: ='AMR2060'!$G38/1000 -> 0.001319242 | BB35: =100*BA35/BA$7 -> 9.8930205e-06 | BC35: =SEAR2060!$G38/1000 -> 0 | BD35: =100*BC35/BC$7 -> 0 | BE35: ='EUR2060'!$G38/1000 -> 0 | BF35: =100*BE35/BE$7 -> 0 | BG35: ='EMR2060'!$G38/1000 -> 0 | BH35: =100*BG35/BG$7 -> 0 | BI35: ='WPR2060'!$G38/1000 -> 0 | BJ35: =100*BI35/BI$7 -> 0
A36: 29 | E36: h. | F36: Leprosy | G36: =World2016!$G39/1000 -> 13.221084 | H36: =100*G36/G$7 -> 0.023246515 | I36: ='AFR2016'!$G39/1000 -> 2.3292579 | J36: =100*I36/I$7 -> 0.026333876 | K36: ='AMR2016'!$G39/1000 -> 0.052561046 | L36: =100*K36/K$7 -> 0.00076105676 | M36: =SEAR2016!$G39/1000 -> 9.1451673 | N36: =100*M36/M$7 -> 0.066180392 | O36: ='EUR2016'!$G39/1000 -> 0.0011792396 | P36: =100*O36/O$7 -> 1.2797363e-05 | Q36: ='EMR2016'!$G39/1000 -> 0.24342814 | R36: =100*Q36/Q$7 -> 0.0058822062 | S36: ='WPR2016'!$G39/1000 -> 1.4494909 | T36: =100*S36/S$7 -> 0.010390358 | U36: =World2030!$G39/1000 -> 12.517026 | V36: =100*U36/U$7 -> 0.018375112 | W36: ='AFR2030'!$G39/1000 -> 2.5186676 | X36: =100*W36/W$7 -> 0.024964046 | Y36: ='AMR2030'!$G39/1000 -> 0.052406602 | Z36: =100*Y36/Y$7 -> 0.00060621382 | AA36: =SEAR2030!$G39/1000 -> 8.3155112 | AB36: =100*AA36/AA$7 -> 0.049307257 | AC36: ='EUR2030'!$G39/1000 -> 0.0011671317 | AD36: =100*AC36/AC$7 -> 1.1894946e-05 | AE36: ='EMR2030'!$G39/1000 -> 0.25047791 | AF36: =100*AE36/AE$7 -> 0.0048217118 | AG36: ='WPR2030'!$G39/1000 -> 1.3787953 | AH36: =100*AG36/AG$7 -> 0.0078725776 | AI36: =World2045!$G39/1000 -> 13.433167 | AJ36: =100*AI36/AI$7 -> 0.015705313 | AK36: ='AFR2045'!$G39/1000 -> 3.0277017 | AL36: =100*AK36/AK$7 -> 0.023396102 | AM36: ='AMR2045'!$G39/1000 -> 0.052533973 | AN36: =100*AM36/AM$7 -> 0.00046179395 | AO36: =SEAR2045!$G39/1000 -> 8.7985566 | AP36: =100*AO36/AO$7 -> 0.043737896 | AQ36: ='EUR2045'!$G39/1000 -> 0.0010877224 | AR36: =100*AQ36/AQ$7 -> 9.6343546e-06 | AS36: ='EMR2045'!$G39/1000 -> 0.28881403 | AT36: =100*AS36/AS$7 -> 0.0039024398 | AU36: ='WPR2045'!$G39/1000 -> 1.2644726 | AV36: =100*AU36/AU$7 -> 0.0056429358 | AW36: =World2060!$G39/1000 -> 14.668835 | AX36: =100*AW36/AW$7 -> 0.014405055 | AY36: ='AFR2060'!$G39/1000 -> 3.8177984 | AZ36: =100*AY36/AY$7 -> 0.021052757 | BA36: ='AMR2060'!$G39/1000 -> 0.052714696 | BB36: =100*BA36/BA$7 -> 0.00039530849 | BC36: =SEAR2060!$G39/1000 -> 9.3782522 | BD36: =100*BC36/BC$7 -> 0.039541938 | BE36: ='EUR2060'!$G39/1000 -> 0.0010035637 | BF36: =100*BE36/BE$7 -> 8.6026001e-06 | BG36: ='EMR2060'!$G39/1000 -> 0.33605629 | BH36: =100*BG36/BG$7 -> 0.0032468346 | BI36: ='WPR2060'!$G39/1000 -> 1.0830096 | BJ36: =100*BI36/BI$7 -> 0.0043974145
A37: 30 | E37: i. | F37: Dengue | G37: =World2016!$G40/1000 -> 40.392498 | H37: =100*G37/G$7 -> 0.07102177 | I37: ='AFR2016'!$G40/1000 -> 0.41651052 | J37: =100*I37/I$7 -> 0.0047089403 | K37: ='AMR2016'!$G40/1000 -> 2.0476433 | L37: =100*K37/K$7 -> 0.029648815 | M37: =SEAR2016!$G40/1000 -> 32.939183 | N37: =100*M37/M$7 -> 0.2383694 | O37: ='EUR2016'!$G40/1000 -> 0.0012099056 | P37: =100*O37/O$7 -> 1.3130158e-05 | Q37: ='EMR2016'!$G40/1000 -> 1.2008432 | R37: =100*Q37/Q$7 -> 0.029017219 | S37: ='WPR2016'!$G40/1000 -> 3.7871085 | T37: =100*S37/S$7 -> 0.027147058 | U37: =World2030!$G40/1000 -> 41.807633 | V37: =100*U37/U$7 -> 0.061374001 | W37: ='AFR2030'!$G40/1000 -> 0.35276716 | X37: =100*W37/W$7 -> 0.0034964897 | Y37: ='AMR2030'!$G40/1000 -> 3.8328835 | Z37: =100*Y37/Y$7 -> 0.044336913 | AA37: =SEAR2030!$G40/1000 -> 33.759395 | AB37: =100*AA37/AA$7 -> 0.20017809 | AC37: ='EUR2030'!$G40/1000 -> 0.0012041442 | AD37: =100*AC37/AC$7 -> 1.2272164e-05 | AE37: ='EMR2030'!$G40/1000 -> 1.2133753 | AF37: =100*AE37/AE$7 -> 0.023357532 | AG37: ='WPR2030'!$G40/1000 -> 2.6480081 | AH37: =100*AG37/AG$7 -> 0.015119466 | AI37: =World2045!$G40/1000 -> 37.669209 | AJ37: =100*AI37/AI$7 -> 0.044040749 | AK37: ='AFR2045'!$G40/1000 -> 0.22321664 | AL37: =100*AK37/AK$7 -> 0.0017248725 | AM37: ='AMR2045'!$G40/1000 -> 4.0219934 | AN37: =100*AM37/AM$7 -> 0.035354878 | AO37: =SEAR2045!$G40/1000 -> 31.083859 | AP37: =100*AO37/AO$7 -> 0.15451882 | AQ37: ='EUR2045'!$G40/1000 -> 0.0013756733 | AR37: =100*AQ37/AQ$7 -> 1.2184841e-05 | AS37: ='EMR2045'!$G40/1000 -> 0.87764691 | AT37: =100*AS37/AS$7 -> 0.011858718 | AU37: ='WPR2045'!$G40/1000 -> 1.4611181 | AV37: =100*AU37/AU$7 -> 0.006520502 | AW37: =World2060!$G40/1000 -> 38.082562 | AX37: =100*AW37/AW$7 -> 0.037397749 | AY37: ='AFR2060'!$G40/1000 -> 0.18694164 | AZ37: =100*AY37/AY$7 -> 0.0010308656 | BA37: ='AMR2060'!$G40/1000 -> 4.3761437 | BB37: =100*BA37/BA$7 -> 0.032816784 | BC37: =SEAR2060!$G40/1000 -> 31.846778 | BD37: =100*BC37/BC$7 -> 0.13427697 | BE37: ='EUR2060'!$G40/1000 -> 0.0014075076 | BF37: =100*BE37/BE$7 -> 1.2065228e-05 | BG37: ='EMR2060'!$G40/1000 -> 0.71528118 | BH37: =100*BG37/BG$7 -> 0.0069107462 | BI37: ='WPR2060'!$G40/1000 -> 0.95600977 | BJ37: =100*BI37/BI$7 -> 0.0038817489
A38: 31 | E38: j. | F38: Trachoma | G38: =World2016!$G41/1000 -> 0.0014091835 | H38: =100*G38/G$7 -> 2.4777547e-06 | I38: ='AFR2016'!$G41/1000 -> 0 | J38: =100*I38/I$7 -> 0 | K38: ='AMR2016'!$G41/1000 -> 0 | L38: =100*K38/K$7 -> 0 | M38: =SEAR2016!$G41/1000 -> 0 | N38: =100*M38/M$7 -> 0 | O38: ='EUR2016'!$G41/1000 -> 0.0010909112 | P38: =100*O38/O$7 -> 1.1838805e-05 | Q38: ='EMR2016'!$G41/1000 -> 0 | R38: =100*Q38/Q$7 -> 0 | S38: ='WPR2016'!$G41/1000 -> 0.00031827223 | T38: =100*S38/S$7 -> 2.2814648e-06 | U38: =World2030!$G41/1000 -> 0.0011613339 | V38: =100*U38/U$7 -> 1.7048491e-06 | W38: ='AFR2030'!$G41/1000 -> 0 | X38: =100*W38/W$7 -> 0 | Y38: ='AMR2030'!$G41/1000 -> 0 | Z38: =100*Y38/Y$7 -> 0 | AA38: =SEAR2030!$G41/1000 -> 0 | AB38: =100*AA38/AA$7 -> 0 | AC38: ='EUR2030'!$G41/1000 -> 0.0007742099 | AD38: =100*AC38/AC$7 -> 7.8904421e-06 | AE38: ='EMR2030'!$G41/1000 -> 0 | AF38: =100*AE38/AE$7 -> 0 | AG38: ='WPR2030'!$G41/1000 -> 0.00038712397 | AH38: =100*AG38/AG$7 -> 2.2103814e-06 | AI38: =World2045!$G41/1000 -> 0.0014155711 | AJ38: =100*AI38/AI$7 -> 1.6550072e-06 | AK38: ='AFR2045'!$G41/1000 -> 0 | AL38: =100*AK38/AK$7 -> 0 | AM38: ='AMR2045'!$G41/1000 -> 0 | AN38: =100*AM38/AM$7 -> 0 | AO38: =SEAR2045!$G41/1000 -> 0 | AP38: =100*AO38/AO$7 -> 0 | AQ38: ='EUR2045'!$G41/1000 -> 0.0008431458 | AR38: =100*AQ38/AQ$7 -> 7.4680504e-06 | AS38: ='EMR2045'!$G41/1000 -> 0 | AT38: =100*AS38/AS$7 -> 0 | AU38: ='WPR2045'!$G41/1000 -> 0.00057242531 | AV38: =100*AU38/AU$7 -> 2.5545507e-06 | AW38: =World2060!$G41/1000 -> 0.0016359039 | AX38: =100*AW38/AW$7 -> 1.6064865e-06 | AY38: ='AFR2060'!$G41/1000 -> 0 | AZ38: =100*AY38/AY$7 -> 0 | BA38: ='AMR2060'!$G41/1000 -> 0 | BB38: =100*BA38/BA$7 -> 0 | BC38: =SEAR2060!$G41/1000 -> 0 | BD38: =100*BC38/BC$7 -> 0 | BE38: ='EUR2060'!$G41/1000 -> 0.00091382287 | BF38: =100*BE38/BE$7 -> 7.8333372e-06 | BG38: ='EMR2060'!$G41/1000 -> 0 | BH38: =100*BG38/BG$7 -> 0 | BI38: ='WPR2060'!$G41/1000 -> 0.00072208101 | BJ38: =100*BI38/BI$7 -> 2.9319126e-06
A39: 32 | E39: k. | F39: Rabies | G39: =World2016!$G42/1000 -> 24.327245 | H39: =100*G39/G$7 -> 0.042774379 | I39: ='AFR2016'!$G42/1000 -> 10.663491 | J39: =100*I39/I$7 -> 0.12055816 | K39: ='AMR2016'!$G42/1000 -> 0.16945318 | L39: =100*K39/K$7 -> 0.0024535945 | M39: =SEAR2016!$G42/1000 -> 7.1032054 | N39: =100*M39/M$7 -> 0.051403424 | O39: ='EUR2016'!$G42/1000 -> 0.15182048 | P39: =100*O39/O$7 -> 0.0016475888 | Q39: ='EMR2016'!$G42/1000 -> 3.9025273 | R39: =100*Q39/Q$7 -> 0.09430081 | S39: ='WPR2016'!$G42/1000 -> 2.3367479 | T39: =100*S39/S$7 -> 0.016750466 | U39: =World2030!$G42/1000 -> 15.8229 | V39: =100*U39/U$7 -> 0.023228166 | W39: ='AFR2030'!$G42/1000 -> 7.4683103 | X39: =100*W39/W$7 -> 0.074022963 | Y39: ='AMR2030'!$G42/1000 -> 0.10563412 | Z39: =100*Y39/Y$7 -> 0.0012219236 | AA39: =SEAR2030!$G42/1000 -> 4.0240031 | AB39: =100*AA39/AA$7 -> 0.023860536 | AC39: ='EUR2030'!$G42/1000 -> 0.077703816 | AD39: =100*AC39/AC$7 -> 0.00079192666 | AE39: ='EMR2030'!$G42/1000 -> 2.6948654 | AF39: =100*AE39/AE$7 -> 0.05187629 | AG39: ='WPR2030'!$G42/1000 -> 1.452383 | AH39: =100*AG39/AG$7 -> 0.0082927451 | AI39: =World2045!$G42/1000 -> 11.285396 | AJ39: =100*AI39/AI$7 -> 0.013194258 | AK39: ='AFR2045'!$G42/1000 -> 5.5273752 | AL39: =100*AK39/AK$7 -> 0.042711947 | AM39: ='AMR2045'!$G42/1000 -> 0.063076131 | AN39: =100*AM39/AM$7 -> 0.0005544636 | AO39: =SEAR2045!$G42/1000 -> 2.742288 | AP39: =100*AO39/AO$7 -> 0.013631998 | AQ39: ='EUR2045'!$G42/1000 -> 0.043572863 | AR39: =100*AQ39/AQ$7 -> 0.00038594077 | AS39: ='EMR2045'!$G42/1000 -> 1.8897088 | AT39: =100*AS39/AS$7 -> 0.025533644 | AU39: ='WPR2045'!$G42/1000 -> 1.0193748 | AV39: =100*AU39/AU$7 -> 0.0045491429 | AW39: =World2060!$G42/1000 -> 8.7052996 | AX39: =100*AW39/AW$7 -> 0.0085487581 | AY39: ='AFR2060'!$G42/1000 -> 4.4155679 | AZ39: =100*AY39/AY$7 -> 0.02434908 | BA39: ='AMR2060'!$G42/1000 -> 0.042101458 | BB39: =100*BA39/BA$7 -> 0.00031571962 | BC39: =SEAR2060!$G42/1000 -> 2.0418909 | BD39: =100*BC39/BC$7 -> 0.0086093146 | BE39: ='EUR2060'!$G42/1000 -> 0.027605908 | BF39: =100*BE39/BE$7 -> 0.00023663928 | BG39: ='EMR2060'!$G42/1000 -> 1.397945 | BH39: =100*BG39/BG$7 -> 0.013506357 | BI39: ='WPR2060'!$G42/1000 -> 0.7801884 | BJ39: =100*BI39/BI$7 -> 0.0031678499
A40: 33 | D40: 11. | E40: Intestinal nematode infections | G40: =World2016!$G43/1000 -> 6.250325 | H40: =100*G40/G$7 -> 0.010989891 | I40: ='AFR2016'!$G43/1000 -> 4.7758101 | J40: =100*I40/I$7 -> 0.053993845 | K40: ='AMR2016'!$G43/1000 -> 0.098455162 | L40: =100*K40/K$7 -> 0.0014255798 | M40: =SEAR2016!$G43/1000 -> 0.891582 | N40: =100*M40/M$7 -> 0.0064520686 | O40: ='EUR2016'!$G43/1000 -> 0.0035382473 | P40: =100*O40/O$7 -> 3.8397827e-05 | Q40: ='EMR2016'!$G43/1000 -> 0.24261794 | R40: =100*Q40/Q$7 -> 0.0058626288 | S40: ='WPR2016'!$G43/1000 -> 0.23832152 | T40: =100*S40/S$7 -> 0.0017083556 | U40: =World2030!$G43/1000 -> 4.0728643 | V40: =100*U40/U$7 -> 0.0059790033 | W40: ='AFR2030'!$G43/1000 -> 3.0727877 | X40: =100*W40/W$7 -> 0.030456266 | Y40: ='AMR2030'!$G43/1000 -> 0.050223864 | Z40: =100*Y40/Y$7 -> 0.00058096498 | AA40: =SEAR2030!$G43/1000 -> 0.62717825 | AB40: =100*AA40/AA$7 -> 0.0037188861 | AC40: ='EUR2030'!$G43/1000 -> 0.0021325434 | AD40: =100*AC40/AC$7 -> 2.1734042e-05 | AE40: ='EMR2030'!$G43/1000 -> 0.17881789 | AF40: =100*AE40/AE$7 -> 0.003442253 | AG40: ='WPR2030'!$G43/1000 -> 0.14172408 | AH40: =100*AG40/AG$7 -> 0.00080920919 | AI40: =World2045!$G43/1000 -> 2.1354959 | AJ40: =100*AI40/AI$7 -> 0.0024967033 | AK40: ='AFR2045'!$G43/1000 -> 1.3383728 | AL40: =100*AK40/AK$7 -> 0.010342071 | AM40: ='AMR2045'!$G43/1000 -> 0.034754014 | AN40: =100*AM40/AM$7 -> 0.00030550123 | AO40: =SEAR2045!$G43/1000 -> 0.56757565 | AP40: =100*AO40/AO$7 -> 0.0028214361 | AQ40: ='EUR2045'!$G43/1000 -> 0.0017971081 | AR40: =100*AQ40/AQ$7 -> 1.5917643e-05 | AS40: ='EMR2045'!$G43/1000 -> 0.11012227 | AT40: =100*AS40/AS$7 -> 0.0014879663 | AU40: ='WPR2045'!$G43/1000 -> 0.082874086 | AV40: =100*AU40/AU$7 -> 0.00036984049 | AW40: =World2060!$G43/1000 -> 1.4095091 | AX40: =100*AW40/AW$7 -> 0.0013841629 | AY40: ='AFR2060'!$G43/1000 -> 0.65492612 | AZ40: =100*AY40/AY$7 -> 0.0036115056 | BA40: ='AMR2060'!$G43/1000 -> 0.031773796 | BB40: =100*BA40/BA$7 -> 0.0002382723 | BC40: =SEAR2060!$G43/1000 -> 0.58774584 | BD40: =100*BC40/BC$7 -> 0.0024781387 | BE40: ='EUR2060'!$G43/1000 -> 0.0018252106 | BF40: =100*BE40/BE$7 -> 1.5645801e-05 | BG40: ='EMR2060'!$G43/1000 -> 0.070072182 | BH40: =100*BG40/BG$7 -> 0.00067700797 | BI40: ='WPR2060'!$G43/1000 -> 0.063165964 | BJ40: =100*BI40/BI$7 -> 0.00025647689
A41: 34 | E41: a. | F41: Ascariasis | G41: =World2016!$G44/1000 -> 6.2482824 | H41: =100*G41/G$7 -> 0.010986299 | I41: ='AFR2016'!$G44/1000 -> 4.7758101 | J41: =100*I41/I$7 -> 0.053993845 | K41: ='AMR2016'!$G44/1000 -> 0.09800276 | L41: =100*K41/K$7 -> 0.0014190293 | M41: =SEAR2016!$G44/1000 -> 0.891582 | N41: =100*M41/M$7 -> 0.0064520686 | O41: ='EUR2016'!$G44/1000 -> 0.0031264001 | P41: =100*O41/O$7 -> 3.3928372e-05 | Q41: ='EMR2016'!$G44/1000 -> 0.24261794 | R41: =100*Q41/Q$7 -> 0.0058626288 | S41: ='WPR2016'!$G44/1000 -> 0.23714319 | T41: =100*S41/S$7 -> 0.001699909 | U41: =World2030!$G44/1000 -> 4.071197 | V41: =100*U41/U$7 -> 0.0059765557 | W41: ='AFR2030'!$G44/1000 -> 3.0727877 | X41: =100*W41/W$7 -> 0.030456266 | Y41: ='AMR2030'!$G44/1000 -> 0.049783922 | Z41: =100*Y41/Y$7 -> 0.00057587595 | AA41: =SEAR2030!$G44/1000 -> 0.62717825 | AB41: =100*AA41/AA$7 -> 0.0037188861 | AC41: ='EUR2030'!$G44/1000 -> 0.0016704551 | AD41: =100*AC41/AC$7 -> 1.702462e-05 | AE41: ='EMR2030'!$G44/1000 -> 0.17881789 | AF41: =100*AE41/AE$7 -> 0.003442253 | AG41: ='WPR2030'!$G44/1000 -> 0.14095886 | AH41: =100*AG41/AG$7 -> 0.00080483996 | AI41: =World2045!$G44/1000 -> 2.1338811 | AJ41: =100*AI41/AI$7 -> 0.0024948154 | AK41: ='AFR2045'!$G44/1000 -> 1.3383728 | AL41: =100*AK41/AK$7 -> 0.010342071 | AM41: ='AMR2045'!$G44/1000 -> 0.034343308 | AN41: =100*AM41/AM$7 -> 0.00030189096 | AO41: =SEAR2045!$G44/1000 -> 0.56757565 | AP41: =100*AO41/AO$7 -> 0.0028214361 | AQ41: ='EUR2045'!$G44/1000 -> 0.0012313627 | AR41: =100*AQ41/AQ$7 -> 1.0906629e-05 | AS41: ='EMR2045'!$G44/1000 -> 0.11012227 | AT41: =100*AS41/AS$7 -> 0.0014879663 | AU41: ='WPR2045'!$G44/1000 -> 0.082235744 | AV41: =100*AU41/AU$7 -> 0.00036699177 | AW41: =World2060!$G44/1000 -> 1.4080004 | AX41: =100*AW41/AW$7 -> 0.0013826813 | AY41: ='AFR2060'!$G44/1000 -> 0.65492612 | AZ41: =100*AY41/AY$7 -> 0.0036115056 | BA41: ='AMR2060'!$G44/1000 -> 0.031401455 | BB41: =100*BA41/BA$7 -> 0.0002354801 | BC41: =SEAR2060!$G44/1000 -> 0.58774584 | BD41: =100*BC41/BC$7 -> 0.0024781387 | BE41: ='EUR2060'!$G44/1000 -> 0.0011983856 | BF41: =100*BE41/BE$7 -> 1.0272624e-05 | BG41: ='EMR2060'!$G44/1000 -> 0.070072182 | BH41: =100*BG41/BG$7 -> 0.00067700797 | BI41: ='WPR2060'!$G44/1000 -> 0.06265639 | BJ41: =100*BI41/BI$7 -> 0.00025440783
A42: 35 | E42: b. | F42: Trichuriasis | G42: =World2016!$G45/1000 -> 0.00080712211 | H42: =100*G42/G$7 -> 1.4191556e-06 | I42: ='AFR2016'!$G45/1000 -> 0 | J42: =100*I42/I$7 -> 0 | K42: ='AMR2016'!$G45/1000 -> 0 | L42: =100*K42/K$7 -> 0 | M42: =SEAR2016!$G45/1000 -> 0 | N42: =100*M42/M$7 -> 0 | O42: ='EUR2016'!$G45/1000 -> 0 | P42: =100*O42/O$7 -> 0 | Q42: ='EMR2016'!$G45/1000 -> 0 | R42: =100*Q42/Q$7 -> 0 | S42: ='WPR2016'!$G45/1000 -> 0.00080712211 | T42: =100*S42/S$7 -> 5.7856782e-06 | U42: =World2030!$G45/1000 -> 0.0004984116 | V42: =100*U42/U$7 -> 7.3167293e-07 | W42: ='AFR2030'!$G45/1000 -> 0 | X42: =100*W42/W$7 -> 0 | Y42: ='AMR2030'!$G45/1000 -> 0 | Z42: =100*Y42/Y$7 -> 0 | AA42: =SEAR2030!$G45/1000 -> 0 | AB42: =100*AA42/AA$7 -> 0 | AC42: ='EUR2030'!$G45/1000 -> 0 | AD42: =100*AC42/AC$7 -> 0 | AE42: ='EMR2030'!$G45/1000 -> 0 | AF42: =100*AE42/AE$7 -> 0 | AG42: ='WPR2030'!$G45/1000 -> 0.0004984116 | AH42: =100*AG42/AG$7 -> 2.845806e-06 | AI42: =World2045!$G45/1000 -> 0.00040019551 | AJ42: =100*AI42/AI$7 -> 4.6788638e-07 | AK42: ='AFR2045'!$G45/1000 -> 0 | AL42: =100*AK42/AK$7 -> 0 | AM42: ='AMR2045'!$G45/1000 -> 0 | AN42: =100*AM42/AM$7 -> 0 | AO42: =SEAR2045!$G45/1000 -> 0 | AP42: =100*AO42/AO$7 -> 0 | AQ42: ='EUR2045'!$G45/1000 -> 0 | AR42: =100*AQ42/AQ$7 -> 0 | AS42: ='EMR2045'!$G45/1000 -> 0 | AT42: =100*AS42/AS$7 -> 0 | AU42: ='WPR2045'!$G45/1000 -> 0.00040019551 | AV42: =100*AU42/AU$7 -> 1.7859443e-06 | AW42: =World2060!$G45/1000 -> 0.00030275374 | AX42: =100*AW42/AW$7 -> 2.9730953e-07 | AY42: ='AFR2060'!$G45/1000 -> 0 | AZ42: =100*AY42/AY$7 -> 0 | BA42: ='AMR2060'!$G45/1000 -> 0 | BB42: =100*BA42/BA$7 -> 0 | BC42: =SEAR2060!$G45/1000 -> 0 | BD42: =100*BC42/BC$7 -> 0 | BE42: ='EUR2060'!$G45/1000 -> 0 | BF42: =100*BE42/BE$7 -> 0 | BG42: ='EMR2060'!$G45/1000 -> 0 | BH42: =100*BG42/BG$7 -> 0 | BI42: ='WPR2060'!$G45/1000 -> 0.00030275374 | BJ42: =100*BI42/BI$7 -> 1.2292908e-06
A43: 36 | E43: c. | F43: Hookworm disease | G43: =World2016!$G46/1000 -> 0.00123546 | H43: =100*G43/G$7 -> 2.1722984e-06 | I43: ='AFR2016'!$G46/1000 -> 0 | J43: =100*I43/I$7 -> 0 | K43: ='AMR2016'!$G46/1000 -> 0.00045240217 | L43: =100*K43/K$7 -> 6.5505495e-06 | M43: =SEAR2016!$G46/1000 -> 0 | N43: =100*M43/M$7 -> 0 | O43: ='EUR2016'!$G46/1000 -> 0.0004118472 | P43: =100*O43/O$7 -> 4.4694551e-06 | Q43: ='EMR2016'!$G46/1000 -> 0 | R43: =100*Q43/Q$7 -> 0 | S43: ='WPR2016'!$G46/1000 -> 0.00037121066 | T43: =100*S43/S$7 -> 2.6609424e-06 | U43: =World2030!$G46/1000 -> 0.0011688412 | V43: =100*U43/U$7 -> 1.7158699e-06 | W43: ='AFR2030'!$G46/1000 -> 0 | X43: =100*W43/W$7 -> 0 | Y43: ='AMR2030'!$G46/1000 -> 0.00043994173 | Z43: =100*Y43/Y$7 -> 5.0890298e-06 | AA43: =SEAR2030!$G46/1000 -> 0 | AB43: =100*AA43/AA$7 -> 0 | AC43: ='EUR2030'!$G46/1000 -> 0.00046208829 | AD43: =100*AC43/AC$7 -> 4.7094217e-06 | AE43: ='EMR2030'!$G46/1000 -> 0 | AF43: =100*AE43/AE$7 -> 0 | AG43: ='WPR2030'!$G46/1000 -> 0.00026681113 | AH43: =100*AG43/AG$7 -> 1.5234251e-06 | AI43: =World2045!$G46/1000 -> 0.0012145977 | AJ43: =100*AI43/AI$7 -> 1.4200403e-06 | AK43: ='AFR2045'!$G46/1000 -> 0 | AL43: =100*AK43/AK$7 -> 0 | AM43: ='AMR2045'!$G46/1000 -> 0.00041070574 | AN43: =100*AM43/AM$7 -> 3.6102623e-06 | AO43: =SEAR2045!$G46/1000 -> 0 | AP43: =100*AO43/AO$7 -> 0 | AQ43: ='EUR2045'!$G46/1000 -> 0.00056574541 | AR43: =100*AQ43/AQ$7 -> 5.0110138e-06 | AS43: ='EMR2045'!$G46/1000 -> 0 | AT43: =100*AS43/AS$7 -> 0 | AU43: ='WPR2045'!$G46/1000 -> 0.00023814659 | AV43: =100*AU43/AU$7 -> 1.0627719e-06 | AW43: =World2060!$G46/1000 -> 0.0012059868 | AX43: =100*AW43/AW$7 -> 1.1843003e-06 | AY43: ='AFR2060'!$G46/1000 -> 0 | AZ43: =100*AY43/AY$7 -> 0 | BA43: ='AMR2060'!$G46/1000 -> 0.00037234139 | BB43: =100*BA43/BA$7 -> 2.7921951e-06 | BC43: =SEAR2060!$G46/1000 -> 0 | BD43: =100*BC43/BC$7 -> 0 | BE43: ='EUR2060'!$G46/1000 -> 0.00062682503 | BF43: =100*BE43/BE$7 -> 5.3731768e-06 | BG43: ='EMR2060'!$G46/1000 -> 0 | BH43: =100*BG43/BG$7 -> 0 | BI43: ='WPR2060'!$G46/1000 -> 0.00020682035 | BJ43: =100*BI43/BI$7 -> 8.3976618e-07
A44: 37 | D44: 12. | E44: Other infectious diseases | G44: =World2016!$G47/1000 -> 468.61244 | H44: =100*G44/G$7 -> 0.82395707 | I44: ='AFR2016'!$G47/1000 -> 137.15654 | J44: =100*I44/I$7 -> 1.5506498 | K44: ='AMR2016'!$G47/1000 -> 70.383915 | L44: =100*K44/K$7 -> 1.0191227 | M44: =SEAR2016!$G47/1000 -> 120.38961 | N44: =100*M44/M$7 -> 0.8712177 | O44: ='EUR2016'!$G47/1000 -> 45.401413 | P44: =100*O44/O$7 -> 0.49270597 | Q44: ='EMR2016'!$G47/1000 -> 34.019599 | R44: =100*Q44/Q$7 -> 0.82205082 | S44: ='WPR2016'!$G47/1000 -> 61.261363 | T44: =100*S44/S$7 -> 0.43913867 | U44: =World2030!$G47/1000 -> 447.37278 | V44: =100*U44/U$7 -> 0.65674747 | W44: ='AFR2030'!$G47/1000 -> 118.63164 | X44: =100*W44/W$7 -> 1.1758303 | Y44: ='AMR2030'!$G47/1000 -> 84.059644 | Z44: =100*Y44/Y$7 -> 0.97236065 | AA44: =SEAR2030!$G47/1000 -> 96.514965 | AB44: =100*AA44/AA$7 -> 0.57229051 | AC44: ='EUR2030'!$G47/1000 -> 57.462187 | AD44: =100*AC44/AC$7 -> 0.58563196 | AE44: ='EMR2030'!$G47/1000 -> 25.843227 | AF44: =100*AE44/AE$7 -> 0.49748337 | AG44: ='WPR2030'!$G47/1000 -> 64.861114 | AH44: =100*AG44/AG$7 -> 0.3703408 | AI44: =World2045!$G47/1000 -> 428.43727 | AJ44: =100*AI44/AI$7 -> 0.50090507 | AK44: ='AFR2045'!$G47/1000 -> 83.586907 | AL44: =100*AK44/AK$7 -> 0.64590505 | AM44: ='AMR2045'!$G47/1000 -> 101.25599 | AN44: =100*AM44/AM$7 -> 0.89007933 | AO44: =SEAR2045!$G47/1000 -> 89.046569 | AP44: =100*AO44/AO$7 -> 0.44265324 | AQ44: ='EUR2045'!$G47/1000 -> 65.322411 | AR44: =100*AQ44/AQ$7 -> 0.57858445 | AS44: ='EMR2045'!$G47/1000 -> 19.500132 | AT44: =100*AS44/AS$7 -> 0.26348474 | AU44: ='WPR2045'!$G47/1000 -> 69.725258 | AV44: =100*AU44/AU$7 -> 0.31116148 | AW44: =World2060!$G47/1000 -> 435.06609 | AX44: =100*AW44/AW$7 -> 0.4272426 | AY44: ='AFR2060'!$G47/1000 -> 68.996928 | AZ44: =100*AY44/AY$7 -> 0.38047466 | BA44: ='AMR2060'!$G47/1000 -> 110.43686 | BB44: =100*BA44/BA$7 -> 0.82816808 | BC44: =SEAR2060!$G47/1000 -> 98.392317 | BD44: =100*BC44/BC$7 -> 0.41485586 | BE44: ='EUR2060'!$G47/1000 -> 66.002959 | BF44: =100*BE44/BE$7 -> 0.5657808 | BG44: ='EMR2060'!$G47/1000 -> 17.639821 | BH44: =100*BG44/BG$7 -> 0.17042854 | BI44: ='WPR2060'!$G47/1000 -> 73.597209 | BJ44: =100*BI44/BI$7 -> 0.29883155
A45: 38 | C45: B. | D45: Respiratory infections | G45: =World2016!$G48/1000 -> 2964.4805 | H45: =100*G45/G$7 -> 5.2124197 | I45: ='AFR2016'!$G48/1000 -> 918.55935 | J45: =100*I45/I$7 -> 10.38495 | K45: ='AMR2016'!$G48/1000 -> 312.7511 | L45: =100*K45/K$7 -> 4.5284742 | M45: =SEAR2016!$G48/1000 -> 784.58733 | N45: =100*M45/M$7 -> 5.6777854 | O45: ='EUR2016'!$G48/1000 -> 247.42158 | P45: =100*O45/O$7 -> 2.6850726 | Q45: ='EMR2016'!$G48/1000 -> 221.94076 | R45: =100*Q45/Q$7 -> 5.3629845 | S45: ='WPR2016'!$G48/1000 -> 479.22042 | T45: =100*S45/S$7 -> 3.4351867 | U45: =World2030!$G48/1000 -> 3226.3448 | V45: =100*U45/U$7 -> 4.7363046 | W45: ='AFR2030'!$G48/1000 -> 855.54618 | X45: =100*W45/W$7 -> 8.4798383 | Y45: ='AMR2030'!$G48/1000 -> 425.96964 | Z45: =100*Y45/Y$7 -> 4.9274074 | AA45: =SEAR2030!$G48/1000 -> 891.10624 | AB45: =100*AA45/AA$7 -> 5.2838608 | AC45: ='EUR2030'!$G48/1000 -> 252.11034 | AD45: =100*AC45/AC$7 -> 2.5694093 | AE45: ='EMR2030'!$G48/1000 -> 201.23083 | AF45: =100*AE45/AE$7 -> 3.8737032 | AG45: ='WPR2030'!$G48/1000 -> 600.38156 | AH45: =100*AG45/AG$7 -> 3.4280291 | AI45: =World2045!$G48/1000 -> 3847.7498 | AJ45: =100*AI45/AI$7 -> 4.4985755 | AK45: ='AFR2045'!$G48/1000 -> 851.4893 | AL45: =100*AK45/AK$7 -> 6.5797534 | AM45: ='AMR2045'!$G48/1000 -> 588.72817 | AN45: =100*AM45/AM$7 -> 5.1751484 | AO45: =SEAR2045!$G48/1000 -> 1081.3172 | AP45: =100*AO45/AO$7 -> 5.3752609 | AQ45: ='EUR2045'!$G48/1000 -> 293.09368 | AR45: =100*AQ45/AQ$7 -> 2.5960378 | AS45: ='EMR2045'!$G48/1000 -> 226.15117 | AT45: =100*AS45/AS$7 -> 3.0557427 | AU45: ='WPR2045'!$G48/1000 -> 806.97031 | AV45: =100*AU45/AU$7 -> 3.6012499 | AW45: =World2060!$G48/1000 -> 4626.5181 | AX45: =100*AW45/AW$7 -> 4.5433226 | AY45: ='AFR2060'!$G48/1000 -> 1031.6531 | AZ45: =100*AY45/AY$7 -> 5.6889179 | BA45: ='AMR2060'!$G48/1000 -> 733.38192 | BB45: =100*BA45/BA$7 -> 5.4996448 | BC45: =SEAR2060!$G48/1000 -> 1321.7061 | BD45: =100*BC45/BC$7 -> 5.5727676 | BE45: ='EUR2060'!$G48/1000 -> 307.16978 | BF45: =100*BE45/BE$7 -> 2.6330754 | BG45: ='EMR2060'!$G48/1000 -> 275.63467 | BH45: =100*BG45/BG$7 -> 2.6630663 | BI45: ='WPR2060'!$G48/1000 -> 956.97261 | BJ45: =100*BI45/BI$7 -> 3.8856583
A46: 39 | D46: 1. | E46: Lower respiratory infections | G46: =World2016!$G49/1000 -> 2957.1359 | H46: =100*G46/G$7 -> 5.1995057 | I46: ='AFR2016'!$G49/1000 -> 916.85113 | J46: =100*I46/I$7 -> 10.365638 | K46: ='AMR2016'!$G49/1000 -> 311.88467 | L46: =100*K46/K$7 -> 4.5159287 | M46: =SEAR2016!$G49/1000 -> 783.43654 | N46: =100*M46/M$7 -> 5.6694575 | O46: ='EUR2016'!$G49/1000 -> 244.92697 | P46: =100*O46/O$7 -> 2.6580006 | Q46: ='EMR2016'!$G49/1000 -> 221.4477 | R46: =100*Q46/Q$7 -> 5.3510702 | S46: ='WPR2016'!$G49/1000 -> 478.5889 | T46: =100*S46/S$7 -> 3.4306598 | U46: =World2030!$G49/1000 -> 3221.2583 | V46: =100*U46/U$7 -> 4.7288376 | W46: ='AFR2030'!$G49/1000 -> 854.20192 | X46: =100*W46/W$7 -> 8.4665144 | Y46: ='AMR2030'!$G49/1000 -> 425.13603 | Z46: =100*Y46/Y$7 -> 4.9177646 | AA46: =SEAR2030!$G49/1000 -> 890.0525 | AB46: =100*AA46/AA$7 -> 5.2776126 | AC46: ='EUR2030'!$G49/1000 -> 251.24872 | AD46: =100*AC46/AC$7 -> 2.5606279 | AE46: ='EMR2030'!$G49/1000 -> 200.80735 | AF46: =100*AE46/AE$7 -> 3.8655511 | AG46: ='WPR2030'!$G49/1000 -> 599.81178 | AH46: =100*AG46/AG$7 -> 3.4247758 | AI46: =World2045!$G49/1000 -> 3842.4553 | AJ46: =100*AI46/AI$7 -> 4.4923855 | AK46: ='AFR2045'!$G49/1000 -> 850.43462 | AL46: =100*AK46/AK$7 -> 6.5716036 | AM46: ='AMR2045'!$G49/1000 -> 587.62729 | AN46: =100*AM46/AM$7 -> 5.1654712 | AO46: =SEAR2045!$G49/1000 -> 1080.2191 | AP46: =100*AO46/AO$7 -> 5.3698023 | AQ46: ='EUR2045'!$G49/1000 -> 292.08409 | AR46: =100*AQ46/AQ$7 -> 2.5870955 | AS46: ='EMR2045'!$G49/1000 -> 225.74668 | AT46: =100*AS46/AS$7 -> 3.0502771 | AU46: ='WPR2045'!$G49/1000 -> 806.34352 | AV46: =100*AU46/AU$7 -> 3.5984527 | AW46: =World2060!$G49/1000 -> 4620.9047 | AX46: =100*AW46/AW$7 -> 4.5378101 | AY46: ='AFR2060'!$G49/1000 -> 1030.6375 | AZ46: =100*AY46/AY$7 -> 5.6833178 | BA46: ='AMR2060'!$G49/1000 -> 732.08328 | BB46: =100*BA46/BA$7 -> 5.4899062 | BC46: =SEAR2060!$G49/1000 -> 1320.5102 | BD46: =100*BC46/BC$7 -> 5.5677256 | BE46: ='EUR2060'!$G49/1000 -> 306.08912 | BF46: =100*BE46/BE$7 -> 2.6238119 | BG46: ='EMR2060'!$G49/1000 -> 275.22198 | BH46: =100*BG46/BG$7 -> 2.6590791 | BI46: ='WPR2060'!$G49/1000 -> 956.36251 | BJ46: =100*BI46/BI$7 -> 3.8831812
A47: 40 | D47: 2. | E47: Upper respiratory infections | G47: =World2016!$G50/1000 -> 5.8993995 | H47: =100*G47/G$7 -> 0.010372862 | I47: ='AFR2016'!$G50/1000 -> 1.3720631 | J47: =100*I47/I$7 -> 0.015512124 | K47: ='AMR2016'!$G50/1000 -> 0.66970979 | L47: =100*K47/K$7 -> 0.0096970515 | M47: =SEAR2016!$G50/1000 -> 0.63454237 | N47: =100*M47/M$7 -> 0.0045919622 | O47: ='EUR2016'!$G50/1000 -> 2.3956656 | P47: =100*O47/O$7 -> 0.025998282 | Q47: ='EMR2016'!$G50/1000 -> 0.29087245 | R47: =100*Q47/Q$7 -> 0.0070286525 | S47: ='WPR2016'!$G50/1000 -> 0.53654625 | T47: =100*S47/S$7 -> 0.0038461144 | U47: =World2030!$G50/1000 -> 3.8549523 | V47: =100*U47/U$7 -> 0.0056591064 | W47: ='AFR2030'!$G50/1000 -> 1.0570766 | X47: =100*W47/W$7 -> 0.010477329 | Y47: ='AMR2030'!$G50/1000 -> 0.69265895 | Z47: =100*Y47/Y$7 -> 0.0080123384 | AA47: =SEAR2030!$G50/1000 -> 0.56583445 | AB47: =100*AA47/AA$7 -> 0.0033551448 | AC47: ='EUR2030'!$G50/1000 -> 0.79135926 | AD47: =100*AC47/AC$7 -> 0.0080652216 | AE47: ='EMR2030'!$G50/1000 -> 0.25344339 | AF47: =100*AE47/AE$7 -> 0.0048787975 | AG47: ='WPR2030'!$G50/1000 -> 0.49457964 | AH47: =100*AG47/AG$7 -> 0.0028239265 | AI47: =World2045!$G50/1000 -> 4.0259664 | AJ47: =100*AI47/AI$7 -> 0.0047069365 | AK47: ='AFR2045'!$G50/1000 -> 0.7834566 | AL47: =100*AK47/AK$7 -> 0.0060540412 | AM47: ='AMR2045'!$G50/1000 -> 0.95380258 | AN47: =100*AM47/AM$7 -> 0.0083842937 | AO47: =SEAR2045!$G50/1000 -> 0.56140365 | AP47: =100*AO47/AO$7 -> 0.0027907548 | AQ47: ='EUR2045'!$G50/1000 -> 0.9404971 | AR47: =100*AQ47/AQ$7 -> 0.0083303264 | AS47: ='EMR2045'!$G50/1000 -> 0.23431528 | AT47: =100*AS47/AS$7 -> 0.0031660557 | AU47: ='WPR2045'!$G50/1000 -> 0.55249121 | AV47: =100*AU47/AU$7 -> 0.0024655912 | AW47: =World2060!$G50/1000 -> 4.2190094 | AX47: =100*AW47/AW$7 -> 0.0041431418 | AY47: ='AFR2060'!$G50/1000 -> 0.69004929 | AZ47: =100*AY47/AY$7 -> 0.0038051879 | BA47: ='AMR2060'!$G50/1000 -> 1.1521234 | BB47: =100*BA47/BA$7 -> 0.0086397951 | BC47: =SEAR2060!$G50/1000 -> 0.59414656 | BD47: =100*BC47/BC$7 -> 0.0025051264 | BE47: ='EUR2060'!$G50/1000 -> 1.0175508 | BF47: =100*BE47/BE$7 -> 0.0087224984 | BG47: ='EMR2060'!$G50/1000 -> 0.22495321 | BH47: =100*BG47/BG$7 -> 0.0021734034 | BI47: ='WPR2060'!$G50/1000 -> 0.54018609 | BJ47: =100*BI47/BI$7 -> 0.0021933529
A48: 41 | D48: 3. | E48: Otitis media | G48: =World2016!$G51/1000 -> 1.4452338 | H48: =100*G48/G$7 -> 0.0025411418 | I48: ='AFR2016'!$G51/1000 -> 0.33616719 | J48: =100*I48/I$7 -> 0.0038006032 | K48: ='AMR2016'!$G51/1000 -> 0.19672395 | L48: =100*K48/K$7 -> 0.002848461 | M48: =SEAR2016!$G51/1000 -> 0.51623771 | N48: =100*M48/M$7 -> 0.0037358326 | O48: ='EUR2016'!$G51/1000 -> 0.09894043 | P48: =100*O48/O$7 -> 0.001073723 | Q48: ='EMR2016'!$G51/1000 -> 0.20218681 | R48: =100*Q48/Q$7 -> 0.0048856495 | S48: ='WPR2016'!$G51/1000 -> 0.094977748 | T48: =100*S48/S$7 -> 0.0006808272 | U48: =World2030!$G51/1000 -> 1.2315766 | V48: =100*U48/U$7 -> 0.001807966 | W48: ='AFR2030'!$G51/1000 -> 0.2871859 | X48: =100*W48/W$7 -> 0.0028464741 | Y48: ='AMR2030'!$G51/1000 -> 0.14094937 | Z48: =100*Y48/Y$7 -> 0.001630433 | AA48: =SEAR2030!$G51/1000 -> 0.48793199 | AB48: =100*AA48/AA$7 -> 0.0028932181 | AC48: ='EUR2030'!$G51/1000 -> 0.070268111 | AD48: =100*AC48/AC$7 -> 0.00071614489 | AE48: ='EMR2030'!$G51/1000 -> 0.17004 | AF48: =100*AE48/AE$7 -> 0.0032732782 | AG48: ='WPR2030'!$G51/1000 -> 0.075201199 | AH48: =100*AG48/AG$7 -> 0.00042938011 | AI48: =World2045!$G51/1000 -> 1.2685205 | AJ48: =100*AI48/AI$7 -> 0.0014830838 | AK48: ='AFR2045'!$G51/1000 -> 0.27122058 | AL48: =100*AK48/AK$7 -> 0.0020958156 | AM48: ='AMR2045'!$G51/1000 -> 0.14707397 | AN48: =100*AM48/AM$7 -> 0.0012928371 | AO48: =SEAR2045!$G51/1000 -> 0.53664846 | AP48: =100*AO48/AO$7 -> 0.002667696 | AQ48: ='EUR2045'!$G51/1000 -> 0.069088489 | AR48: =100*AQ48/AQ$7 -> 0.00061194198 | AS48: ='EMR2045'!$G51/1000 -> 0.17018403 | AT48: =100*AS48/AS$7 -> 0.0022995175 | AU48: ='WPR2045'!$G51/1000 -> 0.074305003 | AV48: =100*AU48/AU$7 -> 0.00033159942 | AW48: =World2060!$G51/1000 -> 1.3943979 | AX48: =100*AW48/AW$7 -> 0.0013693234 | AY48: ='AFR2060'!$G51/1000 -> 0.32548686 | AZ48: =100*AY48/AY$7 -> 0.0017948553 | BA48: ='AMR2060'!$G51/1000 -> 0.14652912 | BB48: =100*BA48/BA$7 -> 0.0010988246 | BC48: =SEAR2060!$G51/1000 -> 0.60164928 | BD48: =100*BC48/BC$7 -> 0.0025367604 | BE48: ='EUR2060'!$G51/1000 -> 0.06311219 | BF48: =100*BE48/BE$7 -> 0.00054100098 | BG48: ='EMR2060'!$G51/1000 -> 0.187732 | BH48: =100*BG48/BG$7 -> 0.0018137877 | BI48: ='WPR2060'!$G51/1000 -> 0.069888446 | BJ48: =100*BI48/BI$7 -> 0.00028377262
A49: 42 | C49: C. | D49: Maternal conditions | G49: =World2016!$G52/1000 -> 298.18997 | H49: =100*G49/G$7 -> 0.52430476 | I49: ='AFR2016'!$G52/1000 -> 194.01691 | J49: =100*I49/I$7 -> 2.1934957 | K49: ='AMR2016'!$G52/1000 -> 8.1400518 | L49: =100*K49/K$7 -> 0.11786374 | M49: =SEAR2016!$G52/1000 -> 58.098549 | N49: =100*M49/M$7 -> 0.42043897 | O49: ='EUR2016'!$G52/1000 -> 1.7150799 | P49: =100*O49/O$7 -> 0.018612418 | Q49: ='EMR2016'!$G52/1000 -> 26.360186 | R49: =100*Q49/Q$7 -> 0.63696849 | S49: ='WPR2016'!$G52/1000 -> 9.8591942 | T49: =100*S49/S$7 -> 0.070673476 | U49: =World2030!$G52/1000 -> 226.92059 | V49: =100*U49/U$7 -> 0.33312157 | W49: ='AFR2030'!$G52/1000 -> 159.92273 | X49: =100*W49/W$7 -> 1.5850914 | Y49: ='AMR2030'!$G52/1000 -> 6.4643922 | Z49: =100*Y49/Y$7 -> 0.074776912 | AA49: =SEAR2030!$G52/1000 -> 32.069759 | AB49: =100*AA49/AA$7 -> 0.1901593 | AC49: ='EUR2030'!$G52/1000 -> 1.1918695 | AD49: =100*AC49/AC$7 -> 0.012147064 | AE49: ='EMR2030'!$G52/1000 -> 21.348605 | AF49: =100*AE49/AE$7 -> 0.41096167 | AG49: ='WPR2030'!$G52/1000 -> 5.9232355 | AH49: =100*AG49/AG$7 -> 0.033820199 | AI49: =World2045!$G52/1000 -> 172.20139 | AJ49: =100*AI49/AI$7 -> 0.20132831 | AK49: ='AFR2045'!$G52/1000 -> 127.8797 | AL49: =100*AK49/AK$7 -> 0.98817083 | AM49: ='AMR2045'!$G52/1000 -> 4.748582 | AN49: =100*AM49/AM$7 -> 0.041741873 | AO49: =SEAR2045!$G52/1000 -> 18.141485 | AP49: =100*AO49/AO$7 -> 0.090181881 | AQ49: ='EUR2045'!$G52/1000 -> 0.91684048 | AR49: =100*AQ49/AQ$7 -> 0.0081207911 | AS49: ='EMR2045'!$G52/1000 -> 16.772787 | AT49: =100*AS49/AS$7 -> 0.226633 | AU49: ='WPR2045'!$G52/1000 -> 3.7420014 | AV49: =100*AU49/AU$7 -> 0.016699353 | AW49: =World2060!$G52/1000 -> 136.79297 | AX49: =100*AW49/AW$7 -> 0.13433311 | AY49: ='AFR2060'!$G52/1000 -> 104.31193 | AZ49: =100*AY49/AY$7 -> 0.5752147 | BA49: ='AMR2060'!$G52/1000 -> 3.6138266 | BB49: =100*BA49/BA$7 -> 0.027100153 | BC49: =SEAR2060!$G52/1000 -> 12.374568 | BD49: =100*BC49/BC$7 -> 0.052175438 | BE49: ='EUR2060'!$G52/1000 -> 0.7031714 | BF49: =100*BE49/BE$7 -> 0.0060276218 | BG49: ='EMR2060'!$G52/1000 -> 13.101945 | BH49: =100*BG49/BG$7 -> 0.12658549 | BI49: ='WPR2060'!$G52/1000 -> 2.6875245 | BJ49: =100*BI49/BI$7 -> 0.010912331
A50: 49 | C50: D. | D50: Neonatal conditions | G50: =World2016!$G53/1000 -> 2274.7983 | H50: =100*G50/G$7 -> 3.9997576 | I50: ='AFR2016'!$G53/1000 -> 896.17553 | J50: =100*I50/I$7 -> 10.131886 | K50: ='AMR2016'!$G53/1000 -> 93.319417 | L50: =100*K50/K$7 -> 1.3512169 | M50: =SEAR2016!$G53/1000 -> 702.02514 | N50: =100*M50/M$7 -> 5.0803115 | O50: ='EUR2016'!$G53/1000 -> 47.149991 | P50: =100*O50/O$7 -> 0.51168192 | Q50: ='EMR2016'!$G53/1000 -> 412.74179 | R50: =100*Q50/Q$7 -> 9.9735074 | S50: ='WPR2016'!$G53/1000 -> 123.38644 | T50: =100*S50/S$7 -> 0.88446871 | U50: =World2030!$G53/1000 -> 1624.9025 | V50: =100*U50/U$7 -> 2.3853722 | W50: ='AFR2030'!$G53/1000 -> 727.71884 | X50: =100*W50/W$7 -> 7.2128638 | Y50: ='AMR2030'!$G53/1000 -> 49.609978 | Z50: =100*Y50/Y$7 -> 0.57386385 | AA50: =SEAR2030!$G53/1000 -> 420.25621 | AB50: =100*AA50/AA$7 -> 2.4919311 | AC50: ='EUR2030'!$G53/1000 -> 23.206605 | AD50: =100*AC50/AC$7 -> 0.23651257 | AE50: ='EMR2030'!$G53/1000 -> 335.39957 | AF50: =100*AE50/AE$7 -> 6.4564578 | AG50: ='WPR2030'!$G53/1000 -> 68.711297 | AH50: =100*AG50/AG$7 -> 0.39232438 | AI50: =World2045!$G53/1000 -> 1057.877 | AJ50: =100*AI50/AI$7 -> 1.2368111 | AK50: ='AFR2045'!$G53/1000 -> 483.5219 | AL50: =100*AK50/AK$7 -> 3.7363416 | AM50: ='AMR2045'!$G53/1000 -> 23.773758 | AN50: =100*AM50/AM$7 -> 0.20898053 | AO50: =SEAR2045!$G53/1000 -> 239.65773 | AP50: =100*AO50/AO$7 -> 1.191346 | AQ50: ='EUR2045'!$G53/1000 -> 11.81401 | AR50: =100*AQ50/AQ$7 -> 0.104641 | AS50: ='EMR2045'!$G53/1000 -> 256.09784 | AT50: =100*AS50/AS$7 -> 3.4603804 | AU50: ='WPR2045'!$G53/1000 -> 43.011792 | AV50: =100*AU50/AU$7 -> 0.19194785 | AW50: =World2060!$G53/1000 -> 648.3984 | AX50: =100*AW50/AW$7 -> 0.63673869 | AY50: ='AFR2060'!$G53/1000 -> 279.68993 | AZ50: =100*AY50/AY$7 -> 1.542314 | BA50: ='AMR2060'!$G53/1000 -> 11.525286 | BB50: =100*BA50/BA$7 -> 0.086428336 | BC50: =SEAR2060!$G53/1000 -> 144.4793 | BD50: =100*BC50/BC$7 -> 0.60917445 | BE50: ='EUR2060'!$G53/1000 -> 5.4196281 | BF50: =100*BE50/BE$7 -> 0.046457334 | BG50: ='EMR2060'!$G53/1000 -> 180.5275 | BH50: =100*BG50/BG$7 -> 1.7441808 | BI50: ='WPR2060'!$G53/1000 -> 26.75676 | BJ50: =100*BI50/BI$7 -> 0.10864222
A51: 50 | D51: 1. | E51: Preterm birth complications | G51: =World2016!$G54/1000 -> 1013.3304 | H51: =100*G51/G$7 -> 1.7817297 | I51: ='AFR2016'!$G54/1000 -> 343.70304 | J51: =100*I51/I$7 -> 3.8858012 | K51: ='AMR2016'!$G54/1000 -> 44.982655 | L51: =100*K51/K$7 -> 0.65132559 | M51: =SEAR2016!$G54/1000 -> 364.04784 | N51: =100*M51/M$7 -> 2.6344874 | O51: ='EUR2016'!$G54/1000 -> 23.813156 | P51: =100*O51/O$7 -> 0.25842553 | Q51: ='EMR2016'!$G54/1000 -> 181.81209 | R51: =100*Q51/Q$7 -> 4.3933138 | S51: ='WPR2016'!$G54/1000 -> 54.971589 | T51: =100*S51/S$7 -> 0.39405181 | U51: =World2030!$G54/1000 -> 755.75281 | V51: =100*U51/U$7 -> 1.1094523 | W51: ='AFR2030'!$G54/1000 -> 287.66418 | X51: =100*W51/W$7 -> 2.8512146 | Y51: ='AMR2030'!$G54/1000 -> 24.904357 | Z51: =100*Y51/Y$7 -> 0.28808136 | AA51: =SEAR2030!$G54/1000 -> 243.35435 | AB51: =100*AA51/AA$7 -> 1.4429823 | AC51: ='EUR2030'!$G54/1000 -> 12.092137 | AD51: =100*AC51/AC$7 -> 0.1232383 | AE51: ='EMR2030'!$G54/1000 -> 156.28243 | AF51: =100*AE51/AE$7 -> 3.0084443 | AG51: ='WPR2030'!$G54/1000 -> 31.455356 | AH51: =100*AG51/AG$7 -> 0.17960224 | AI51: =World2045!$G54/1000 -> 499.10739 | AJ51: =100*AI51/AI$7 -> 0.58352866 | AK51: ='AFR2045'!$G54/1000 -> 195.94085 | AL51: =100*AK51/AK$7 -> 1.514103 | AM51: ='AMR2045'!$G54/1000 -> 12.7931 | AN51: =100*AM51/AM$7 -> 0.11245629 | AO51: =SEAR2045!$G54/1000 -> 142.25729 | AP51: =100*AO51/AO$7 -> 0.70716535 | AQ51: ='EUR2045'!$G54/1000 -> 6.5300361 | AR51: =100*AQ51/AQ$7 -> 0.057838916 | AS51: ='EMR2045'!$G54/1000 -> 121.10844 | AT51: =100*AS51/AS$7 -> 1.6364108 | AU51: ='WPR2045'!$G54/1000 -> 20.477673 | AV51: =100*AU51/AU$7 -> 0.091385293 | AW51: =World2060!$G54/1000 -> 310.23584 | AX51: =100*AW51/AW$7 -> 0.30465708 | AY51: ='AFR2060'!$G54/1000 -> 114.7689 | AZ51: =100*AY51/AY$7 -> 0.63287829 | BA51: ='AMR2060'!$G54/1000 -> 6.4846115 | BB51: =100*BA51/BA$7 -> 0.048628224 | BC51: =SEAR2060!$G54/1000 -> 87.076795 | BD51: =100*BC51/BC$7 -> 0.36714573 | BE51: ='EUR2060'!$G54/1000 -> 3.1237047 | BF51: =100*BE51/BE$7 -> 0.026776559 | BG51: ='EMR2060'!$G54/1000 -> 85.725005 | BH51: =100*BG51/BG$7 -> 0.82823897 | BI51: ='WPR2060'!$G54/1000 -> 13.056827 | BJ51: =100*BI51/BI$7 -> 0.053015487
A52: 51 | D52: 2. | E52: Birth asphyxia and birth trauma | G52: =World2016!$G55/1000 -> 678.6383 | H52: =100*G52/G$7 -> 1.1932437 | I52: ='AFR2016'!$G55/1000 -> 322.8462 | J52: =100*I52/I$7 -> 3.6500002 | K52: ='AMR2016'!$G55/1000 -> 18.443659 | L52: =100*K52/K$7 -> 0.26705464 | M52: =SEAR2016!$G55/1000 -> 170.1866 | N52: =100*M52/M$7 -> 1.2315812 | O52: ='EUR2016'!$G55/1000 -> 10.442557 | P52: =100*O52/O$7 -> 0.11332489 | Q52: ='EMR2016'!$G55/1000 -> 116.76925 | R52: =100*Q52/Q$7 -> 2.8216164 | S52: ='WPR2016'!$G55/1000 -> 39.950032 | T52: =100*S52/S$7 -> 0.28637306 | U52: =World2030!$G55/1000 -> 479.56731 | V52: =100*U52/U$7 -> 0.70400935 | W52: ='AFR2030'!$G55/1000 -> 260.35153 | X52: =100*W52/W$7 -> 2.5805023 | Y52: ='AMR2030'!$G55/1000 -> 9.9795471 | Z52: =100*Y52/Y$7 -> 0.1154385 | AA52: =SEAR2030!$G55/1000 -> 90.673879 | AB52: =100*AA52/AA$7 -> 0.53765549 | AC52: ='EUR2030'!$G55/1000 -> 5.2939692 | AD52: =100*AC52/AC$7 -> 0.053954048 | AE52: ='EMR2030'!$G55/1000 -> 91.42975 | AF52: =100*AE52/AE$7 -> 1.7600271 | AG52: ='WPR2030'!$G55/1000 -> 21.838636 | AH52: =100*AG52/AG$7 -> 0.12469317 | AI52: =World2045!$G55/1000 -> 325.42415 | AJ52: =100*AI52/AI$7 -> 0.38046786 | AK52: ='AFR2045'!$G55/1000 -> 177.51626 | AL52: =100*AK52/AK$7 -> 1.3717298 | AM52: ='AMR2045'!$G55/1000 -> 5.0553726 | AN52: =100*AM52/AM$7 -> 0.044438681 | AO52: =SEAR2045!$G55/1000 -> 52.547512 | AP52: =100*AO52/AO$7 -> 0.2612153 | AQ52: ='EUR2045'!$G55/1000 -> 2.8878374 | AR52: =100*AQ52/AQ$7 -> 0.025578631 | AS52: ='EMR2045'!$G55/1000 -> 73.165309 | AT52: =100*AS52/AS$7 -> 0.98860576 | AU52: ='WPR2045'!$G55/1000 -> 14.251856 | AV52: =100*AU52/AU$7 -> 0.063601468 | AW52: =World2060!$G55/1000 -> 202.87395 | AX52: =100*AW52/AW$7 -> 0.1992258 | AY52: ='AFR2060'!$G55/1000 -> 104.10847 | AZ52: =100*AY52/AY$7 -> 0.57409276 | BA52: ='AMR2060'!$G55/1000 -> 2.4988574 | BB52: =100*BA52/BA$7 -> 0.018738978 | BC52: =SEAR2060!$G55/1000 -> 31.898009 | BD52: =100*BC52/BC$7 -> 0.13449298 | BE52: ='EUR2060'!$G55/1000 -> 1.3551085 | BF52: =100*BE52/BE$7 -> 0.011616061 | BG52: ='EMR2060'!$G55/1000 -> 53.967918 | BH52: =100*BG52/BG$7 -> 0.52141534 | BI52: ='WPR2060'!$G55/1000 -> 9.0455809 | BJ52: =100*BI52/BI$7 -> 0.036728363
A53: 52 | D53: 3. | E53: Neonatal sepsis and infections | G53: =World2016!$G56/1000 -> 395.58302 | H53: =100*G53/G$7 -> 0.6955501 | I53: ='AFR2016'!$G56/1000 -> 172.78978 | J53: =100*I53/I$7 -> 1.9535083 | K53: ='AMR2016'!$G56/1000 -> 14.206623 | L53: =100*K53/K$7 -> 0.20570455 | M53: =SEAR2016!$G56/1000 -> 114.10132 | N53: =100*M53/M$7 -> 0.82571157 | O53: ='EUR2016'!$G56/1000 -> 4.9998756 | P53: =100*O53/O$7 -> 0.054259733 | Q53: ='EMR2016'!$G56/1000 -> 78.239195 | R53: =100*Q53/Q$7 -> 1.8905747 | S53: ='WPR2016'!$G56/1000 -> 11.246225 | T53: =100*S53/S$7 -> 0.080616105 | U53: =World2030!$G56/1000 -> 291.99709 | V53: =100*U53/U$7 -> 0.42865449 | W53: ='AFR2030'!$G56/1000 -> 146.18325 | X53: =100*W53/W$7 -> 1.4489111 | Y53: ='AMR2030'!$G56/1000 -> 7.921993 | Z53: =100*Y53/Y$7 -> 0.091637722 | AA53: =SEAR2030!$G56/1000 -> 63.7741 | AB53: =100*AA53/AA$7 -> 0.37815185 | AC53: ='EUR2030'!$G56/1000 -> 2.6547502 | AD53: =100*AC53/AC$7 -> 0.027056168 | AE53: ='EMR2030'!$G56/1000 -> 63.423031 | AF53: =100*AE53/AE$7 -> 1.2208964 | AG53: ='WPR2030'!$G56/1000 -> 8.0399616 | AH53: =100*AG53/AG$7 -> 0.045906177 | AI53: =World2045!$G56/1000 -> 195.34502 | AJ53: =100*AI53/AI$7 -> 0.22838655 | AK53: ='AFR2045'!$G56/1000 -> 98.916674 | AL53: =100*AK53/AK$7 -> 0.76436349 | AM53: ='AMR2045'!$G56/1000 -> 3.9507849 | AN53: =100*AM53/AM$7 -> 0.034728928 | AO53: =SEAR2045!$G56/1000 -> 36.82096 | AP53: =100*AO53/AO$7 -> 0.18303812 | AQ53: ='EUR2045'!$G56/1000 -> 1.4352661 | AR53: =100*AQ53/AQ$7 -> 0.012712676 | AS53: ='EMR2045'!$G56/1000 -> 48.967865 | AT53: =100*AS53/AS$7 -> 0.66165119 | AU53: ='WPR2045'!$G56/1000 -> 5.2534681 | AV53: =100*AU53/AU$7 -> 0.023444544 | AW53: =World2060!$G56/1000 -> 120.36791 | AX53: =100*AW53/AW$7 -> 0.11820342 | AY53: ='AFR2060'!$G56/1000 -> 57.617394 | AZ53: =100*AY53/AY$7 -> 0.31772369 | BA53: ='AMR2060'!$G56/1000 -> 1.9153729 | BB53: =100*BA53/BA$7 -> 0.014363417 | BC53: =SEAR2060!$G56/1000 -> 22.279665 | BD53: =100*BC53/BC$7 -> 0.093938736 | BE53: ='EUR2060'!$G56/1000 -> 0.66443589 | BF53: =100*BE53/BE$7 -> 0.005695579 | BG53: ='EMR2060'!$G56/1000 -> 34.517122 | BH53: =100*BG53/BG$7 -> 0.33348992 | BI53: ='WPR2060'!$G56/1000 -> 3.3739196 | BJ53: =100*BI53/BI$7 -> 0.013699346
A54: 53 | D54: 4. | E54: Other neonatal conditions | G54: =World2016!$G57/1000 -> 187.2466 | H54: =100*G54/G$7 -> 0.32923404 | I54: ='AFR2016'!$G57/1000 -> 56.836502 | J54: =100*I54/I$7 -> 0.64257607 | K54: ='AMR2016'!$G57/1000 -> 15.686482 | L54: =100*K54/K$7 -> 0.22713215 | M54: =SEAR2016!$G57/1000 -> 53.689369 | N54: =100*M54/M$7 -> 0.38853127 | O54: ='EUR2016'!$G57/1000 -> 7.8944023 | P54: =100*O54/O$7 -> 0.085671764 | Q54: ='EMR2016'!$G57/1000 -> 35.921253 | R54: =100*Q54/Q$7 -> 0.86800246 | S54: ='WPR2016'!$G57/1000 -> 17.218596 | T54: =100*S54/S$7 -> 0.12342774 | U54: =World2030!$G57/1000 -> 97.585296 | V54: =100*U54/U$7 -> 0.14325614 | W54: ='AFR2030'!$G57/1000 -> 33.519884 | X54: =100*W54/W$7 -> 0.33223595 | Y54: ='AMR2030'!$G57/1000 -> 6.804082 | Z54: =100*Y54/Y$7 -> 0.078706277 | AA54: =SEAR2030!$G57/1000 -> 22.453879 | AB54: =100*AA54/AA$7 -> 0.13314145 | AC54: ='EUR2030'!$G57/1000 -> 3.1657482 | AD54: =100*AC54/AC$7 -> 0.032264058 | AE54: ='EMR2030'!$G57/1000 -> 24.264359 | AF54: =100*AE54/AE$7 -> 0.46709007 | AG54: ='WPR2030'!$G57/1000 -> 7.3773433 | AH54: =100*AG54/AG$7 -> 0.042122792 | AI54: =World2045!$G57/1000 -> 38.000467 | AJ54: =100*AI54/AI$7 -> 0.044428037 | AK54: ='AFR2045'!$G57/1000 -> 11.148107 | AL54: =100*AK54/AK$7 -> 0.086145291 | AM54: ='AMR2045'!$G57/1000 -> 1.974501 | AN54: =100*AM54/AM$7 -> 0.017356628 | AO54: =SEAR2045!$G57/1000 -> 8.0319716 | AP54: =100*AO54/AO$7 -> 0.039927178 | AQ54: ='EUR2045'!$G57/1000 -> 0.96087046 | AR54: =100*AQ54/AQ$7 -> 0.0085107807 | AS54: ='EMR2045'!$G57/1000 -> 12.856223 | AT54: =100*AS54/AS$7 -> 0.1737126 | AU54: ='WPR2045'!$G57/1000 -> 3.0287943 | AV54: =100*AU54/AU$7 -> 0.013516538 | AW54: =World2060!$G57/1000 -> 14.920697 | AX54: =100*AW54/AW$7 -> 0.014652389 | AY54: ='AFR2060'!$G57/1000 -> 3.1951579 | AZ54: =100*AY54/AY$7 -> 0.017619286 | BA54: ='AMR2060'!$G57/1000 -> 0.62644412 | BB54: =100*BA54/BA$7 -> 0.0046977162 | BC54: =SEAR2060!$G57/1000 -> 3.2248331 | BD54: =100*BC54/BC$7 -> 0.013597006 | BE54: ='EUR2060'!$G57/1000 -> 0.27637885 | BF54: =100*BE54/BE$7 -> 0.0023691339 | BG54: ='EMR2060'!$G57/1000 -> 6.3174497 | BH54: =100*BG54/BG$7 -> 0.061036544 | BI54: ='WPR2060'!$G57/1000 -> 1.2804335 | BJ54: =100*BI54/BI$7 -> 0.0051990279
A55: 54 | C55: E. | D55: Nutritional deficiencies | G55: =World2016!$G58/1000 -> 452.65707 | H55: =100*G55/G$7 -> 0.79590289 | I55: ='AFR2016'!$G58/1000 -> 227.11048 | J55: =100*I55/I$7 -> 2.5676415 | K55: ='AMR2016'!$G58/1000 -> 47.976197 | L55: =100*K55/K$7 -> 0.69467052 | M55: =SEAR2016!$G58/1000 -> 114.43195 | N55: =100*M55/M$7 -> 0.82810417 | O55: ='EUR2016'!$G58/1000 -> 14.970105 | P55: =100*O55/O$7 -> 0.16245883 | Q55: ='EMR2016'!$G58/1000 -> 19.029387 | R55: =100*Q55/Q$7 -> 0.45982678 | S55: ='WPR2016'!$G58/1000 -> 29.138951 | T55: =100*S55/S$7 -> 0.20887619 | U55: =World2030!$G58/1000 -> 437.89856 | V55: =100*U55/U$7 -> 0.64283922 | W55: ='AFR2030'!$G58/1000 -> 184.41448 | X55: =100*W55/W$7 -> 1.827844 | Y55: ='AMR2030'!$G58/1000 -> 49.801184 | Z55: =100*Y55/Y$7 -> 0.57607562 | AA55: =SEAR2030!$G58/1000 -> 132.89485 | AB55: =100*AA55/AA$7 -> 0.78800692 | AC55: ='EUR2030'!$G58/1000 -> 16.552749 | AD55: =100*AC55/AC$7 -> 0.16869909 | AE55: ='EMR2030'!$G58/1000 -> 18.335897 | AF55: =100*AE55/AE$7 -> 0.3529669 | AG55: ='WPR2030'!$G58/1000 -> 35.899401 | AH55: =100*AG55/AG$7 -> 0.20497663 | AI55: =World2045!$G58/1000 -> 487.45647 | AJ55: =100*AI55/AI$7 -> 0.56990705 | AK55: ='AFR2045'!$G58/1000 -> 147.28118 | AL55: =100*AK55/AK$7 -> 1.1380928 | AM55: ='AMR2045'!$G58/1000 -> 68.84639 | AN55: =100*AM55/AM$7 -> 0.60518641 | AO55: =SEAR2045!$G58/1000 -> 178.31301 | AP55: =100*AO55/AO$7 -> 0.88639947 | AQ55: ='EUR2045'!$G58/1000 -> 20.787803 | AR55: =100*AQ55/AQ$7 -> 0.18412517 | AS55: ='EMR2045'!$G58/1000 -> 20.050123 | AT55: =100*AS55/AS$7 -> 0.27091619 | AU55: ='WPR2045'!$G58/1000 -> 52.177959 | AV55: =100*AU55/AU$7 -> 0.23285351 | AW55: =World2060!$G58/1000 -> 610.09808 | AX55: =100*AW55/AW$7 -> 0.5991271 | AY55: ='AFR2060'!$G58/1000 -> 171.55148 | AZ55: =100*AY55/AY$7 -> 0.9459985 | BA55: ='AMR2060'!$G58/1000 -> 87.663065 | BB55: =100*BA55/BA$7 -> 0.65738697 | BC55: =SEAR2060!$G58/1000 -> 237.00592 | BD55: =100*BC55/BC$7 -> 0.99929853 | BE55: ='EUR2060'!$G58/1000 -> 22.756096 | BF55: =100*BE55/BE$7 -> 0.19506644 | BG55: ='EMR2060'!$G58/1000 -> 24.486778 | BH55: =100*BG55/BG$7 -> 0.23658096 | BI55: ='WPR2060'!$G58/1000 -> 66.634738 | BJ55: =100*BI55/BI$7 -> 0.27056138
A56: 55 | D56: 1. | E56: Protein-energy malnutrition | G56: =World2016!$G59/1000 -> 342.31958 | H56: =100*G56/G$7 -> 0.60189747 | I56: ='AFR2016'!$G59/1000 -> 208.65365 | J56: =100*I56/I$7 -> 2.3589742 | K56: ='AMR2016'!$G59/1000 -> 34.832943 | L56: =100*K56/K$7 -> 0.50436301 | M56: =SEAR2016!$G59/1000 -> 57.863839 | N56: =100*M56/M$7 -> 0.41874046 | O56: ='EUR2016'!$G59/1000 -> 7.1124997 | P56: =100*O56/O$7 -> 0.077186387 | Q56: ='EMR2016'!$G59/1000 -> 14.150772 | R56: =100*Q56/Q$7 -> 0.34193976 | S56: ='WPR2016'!$G59/1000 -> 19.705877 | T56: =100*S56/S$7 -> 0.14125726 | U56: =World2030!$G59/1000 -> 290.86116 | V56: =100*U56/U$7 -> 0.42698693 | W56: ='AFR2030'!$G59/1000 -> 158.79592 | X56: =100*W56/W$7 -> 1.5739229 | Y56: ='AMR2030'!$G59/1000 -> 33.677482 | Z56: =100*Y56/Y$7 -> 0.38956456 | AA56: =SEAR2030!$G59/1000 -> 54.423029 | AB56: =100*AA56/AA$7 -> 0.32270418 | AC56: ='EUR2030'!$G59/1000 -> 8.0126252 | AD56: =100*AC56/AC$7 -> 0.081661518 | AE56: ='EMR2030'!$G59/1000 -> 12.240625 | AF56: =100*AE56/AE$7 -> 0.23563262 | AG56: ='WPR2030'!$G59/1000 -> 23.711482 | AH56: =100*AG56/AG$7 -> 0.13538665 | AI56: =World2045!$G59/1000 -> 272.91501 | AJ56: =100*AI56/AI$7 -> 0.31907709 | AK56: ='AFR2045'!$G59/1000 -> 106.92077 | AL56: =100*AK56/AK$7 -> 0.82621395 | AM56: ='AMR2045'!$G59/1000 -> 45.946533 | AN56: =100*AM56/AM$7 -> 0.4038878 | AO56: =SEAR2045!$G59/1000 -> 64.559235 | AP56: =100*AO56/AO$7 -> 0.32092594 | AQ56: ='EUR2045'!$G59/1000 -> 10.116089 | AR56: =100*AQ56/AQ$7 -> 0.089601893 | AS56: ='EMR2045'!$G59/1000 -> 11.056611 | AT56: =100*AS56/AS$7 -> 0.14939634 | AU56: ='WPR2045'!$G59/1000 -> 34.315771 | AV56: =100*AU56/AU$7 -> 0.15314029 | AW56: =World2060!$G59/1000 -> 310.41253 | AX56: =100*AW56/AW$7 -> 0.3048306 | AY56: ='AFR2060'!$G59/1000 -> 105.54947 | AZ56: =100*AY56/AY$7 -> 0.58203895 | BA56: ='AMR2060'!$G59/1000 -> 58.526837 | BB56: =100*BA56/BA$7 -> 0.43889385 | BC56: =SEAR2060!$G59/1000 -> 81.023841 | BD56: =100*BC56/BC$7 -> 0.34162439 | BE56: ='EUR2060'!$G59/1000 -> 10.899615 | BF56: =100*BE56/BE$7 -> 0.093432068 | BG56: ='EMR2060'!$G59/1000 -> 11.248146 | BH56: =100*BG56/BG$7 -> 0.10867486 | BI56: ='WPR2060'!$G59/1000 -> 43.164622 | BJ56: =100*BI56/BI$7 -> 0.17526413
A57: 56 | D57: 2. | E57: Iodine deficiency | G57: =World2016!$G60/1000 -> 2.6572301 | H57: =100*G57/G$7 -> 0.004672184 | I57: ='AFR2016'!$G60/1000 -> 1.1640769 | J57: =100*I57/I$7 -> 0.013160696 | K57: ='AMR2016'!$G60/1000 -> 0.05423718 | L57: =100*K57/K$7 -> 0.00078532632 | M57: =SEAR2016!$G60/1000 -> 0.93412377 | N57: =100*M57/M$7 -> 0.0067599285 | O57: ='EUR2016'!$G60/1000 -> 0.069139676 | P57: =100*O57/O$7 -> 0.00075031874 | Q57: ='EMR2016'!$G60/1000 -> 0.2672543 | R57: =100*Q57/Q$7 -> 0.0064579426 | S57: ='WPR2016'!$G60/1000 -> 0.16839831 | T57: =100*S57/S$7 -> 0.0012071264 | U57: =World2030!$G60/1000 -> 2.5115384 | V57: =100*U57/U$7 -> 0.0036869621 | W57: ='AFR2030'!$G60/1000 -> 1.0527861 | X57: =100*W57/W$7 -> 0.010434803 | Y57: ='AMR2030'!$G60/1000 -> 0.039832962 | Z57: =100*Y57/Y$7 -> 0.00046076813 | AA57: =SEAR2030!$G60/1000 -> 0.94307485 | AB57: =100*AA57/AA$7 -> 0.0055920114 | AC57: ='EUR2030'!$G60/1000 -> 0.054217714 | AD57: =100*AC57/AC$7 -> 0.00055256557 | AE57: ='EMR2030'!$G60/1000 -> 0.24118836 | AF57: =100*AE57/AE$7 -> 0.0046428876 | AG57: ='WPR2030'!$G60/1000 -> 0.18043843 | AH57: =100*AG57/AG$7 -> 0.0010302585 | AI57: =World2045!$G60/1000 -> 2.2382663 | AJ57: =100*AI57/AI$7 -> 0.0026168568 | AK57: ='AFR2045'!$G60/1000 -> 0.88362879 | AL57: =100*AK57/AK$7 -> 0.0068281065 | AM57: ='AMR2045'!$G60/1000 -> 0.036024996 | AN57: =100*AM57/AM$7 -> 0.00031667366 | AO57: =SEAR2045!$G60/1000 -> 0.85707234 | AP57: =100*AO57/AO$7 -> 0.004260533 | AQ57: ='EUR2045'!$G60/1000 -> 0.045934859 | AR57: =100*AQ57/AQ$7 -> 0.00040686183 | AS57: ='EMR2045'!$G60/1000 -> 0.21820938 | AT57: =100*AS57/AS$7 -> 0.0029484336 | AU57: ='WPR2045'!$G60/1000 -> 0.19739595 | AV57: =100*AU57/AU$7 -> 0.00088091488 | AW57: =World2060!$G60/1000 -> 2.1878032 | AX57: =100*AW57/AW$7 -> 0.0021484614 | AY57: ='AFR2060'!$G60/1000 -> 0.87462587 | AZ57: =100*AY57/AY$7 -> 0.0048230116 | BA57: ='AMR2060'!$G60/1000 -> 0.036951943 | BB57: =100*BA57/BA$7 -> 0.00027710331 | BC57: =SEAR2060!$G60/1000 -> 0.8300065 | BD57: =100*BC57/BC$7 -> 0.003499593 | BE57: ='EUR2060'!$G60/1000 -> 0.04136347 | BF57: =100*BE57/BE$7 -> 0.00035456982 | BG57: ='EMR2060'!$G60/1000 -> 0.22246976 | BH57: =100*BG57/BG$7 -> 0.0021494093 | BI57: ='WPR2060'!$G60/1000 -> 0.18238562 | BJ57: =100*BI57/BI$7 -> 0.00074055225
A58: 57 | D58: 3. | E58: Vitamin A deficiency | G58: =World2016!$G61/1000 -> 0.0084214639 | H58: =100*G58/G$7 -> 1.4807385e-05 | I58: ='AFR2016'!$G61/1000 -> 0 | J58: =100*I58/I$7 -> 0 | K58: ='AMR2016'!$G61/1000 -> 0.0051449911 | L58: =100*K58/K$7 -> 7.449681e-05 | M58: =SEAR2016!$G61/1000 -> 0 | N58: =100*M58/M$7 -> 0 | O58: ='EUR2016'!$G61/1000 -> 0.0016925632 | P58: =100*O58/O$7 -> 1.8368062e-05 | Q58: ='EMR2016'!$G61/1000 -> 0 | R58: =100*Q58/Q$7 -> 0 | S58: ='WPR2016'!$G61/1000 -> 0.0015839096 | T58: =100*S58/S$7 -> 1.1353909e-05 | U58: =World2030!$G61/1000 -> 0.0067494529 | V58: =100*U58/U$7 -> 9.9082606e-06 | W58: ='AFR2030'!$G61/1000 -> 0 | X58: =100*W58/W$7 -> 0 | Y58: ='AMR2030'!$G61/1000 -> 0.0043673736 | Z58: =100*Y58/Y$7 -> 5.0519631e-05 | AA58: =SEAR2030!$G61/1000 -> 0 | AB58: =100*AA58/AA$7 -> 0 | AC58: ='EUR2030'!$G61/1000 -> 0.0013279165 | AD58: =100*AC58/AC$7 -> 1.3533602e-05 | AE58: ='EMR2030'!$G61/1000 -> 0 | AF58: =100*AE58/AE$7 -> 0 | AG58: ='WPR2030'!$G61/1000 -> 0.0010541628 | AH58: =100*AG58/AG$7 -> 6.0190067e-06 | AI58: =World2045!$G61/1000 -> 0.0080072821 | AJ58: =100*AI58/AI$7 -> 9.3616698e-06 | AK58: ='AFR2045'!$G61/1000 -> 0 | AL58: =100*AK58/AK$7 -> 0 | AM58: ='AMR2045'!$G61/1000 -> 0.0056119415 | AN58: =100*AM58/AM$7 -> 4.9331138e-05 | AO58: =SEAR2045!$G61/1000 -> 0 | AP58: =100*AO58/AO$7 -> 0 | AQ58: ='EUR2045'!$G61/1000 -> 0.0013102668 | AR58: =100*AQ58/AQ$7 -> 1.1605511e-05 | AS58: ='EMR2045'!$G61/1000 -> 0 | AT58: =100*AS58/AS$7 -> 0 | AU58: ='WPR2045'!$G61/1000 -> 0.0010850738 | AV58: =100*AU58/AU$7 -> 4.8423366e-06 | AW58: =World2060!$G61/1000 -> 0.0093375385 | AX58: =100*AW58/AW$7 -> 9.1696279e-06 | AY58: ='AFR2060'!$G61/1000 -> 0 | AZ58: =100*AY58/AY$7 -> 0 | BA58: ='AMR2060'!$G61/1000 -> 0.0068854022 | BB58: =100*BA58/BA$7 -> 5.163376e-05 | BC58: =SEAR2060!$G61/1000 -> 0 | BD58: =100*BC58/BC$7 -> 0 | BE58: ='EUR2060'!$G61/1000 -> 0.0012863485 | BF58: =100*BE58/BE$7 -> 1.1026646e-05 | BG58: ='EMR2060'!$G61/1000 -> 0 | BH58: =100*BG58/BG$7 -> 0 | BI58: ='WPR2060'!$G61/1000 -> 0.0011657878 | BJ58: =100*BI58/BI$7 -> 4.7335244e-06
A59: 58 | D59: 4. | E59: Iron-deficiency anaemia | G59: =World2016!$G62/1000 -> 23.917949 | H59: =100*G59/G$7 -> 0.042054717 | I59: ='AFR2016'!$G62/1000 -> 1.0086481 | J59: =100*I59/I$7 -> 0.011403466 | K59: ='AMR2016'!$G62/1000 -> 10.206297 | L59: =100*K59/K$7 -> 0.14778191 | M59: =SEAR2016!$G62/1000 -> 1.7908181 | N59: =100*M59/M$7 -> 0.012959527 | O59: ='EUR2016'!$G62/1000 -> 5.9761772 | P59: =100*O59/O$7 -> 0.06485477 | Q59: ='EMR2016'!$G62/1000 -> 0.34005017 | R59: =100*Q59/Q$7 -> 0.0082169845 | S59: ='WPR2016'!$G62/1000 -> 4.5959584 | T59: =100*S59/S$7 -> 0.032945122 | U59: =World2030!$G62/1000 -> 27.504498 | V59: =100*U59/U$7 -> 0.040376863 | W59: ='AFR2030'!$G62/1000 -> 0.95830494 | X59: =100*W59/W$7 -> 0.0094983428 | Y59: ='AMR2030'!$G62/1000 -> 12.634707 | Z59: =100*Y59/Y$7 -> 0.14615208 | AA59: =SEAR2030!$G62/1000 -> 1.743316 | AB59: =100*AA59/AA$7 -> 0.010337083 | AC59: ='EUR2030'!$G62/1000 -> 6.4743216 | AD59: =100*AC59/AC$7 -> 0.065983734 | AE59: ='EMR2030'!$G62/1000 -> 0.33425167 | AF59: =100*AE59/AE$7 -> 0.0064343608 | AG59: ='WPR2030'!$G62/1000 -> 5.3595968 | AH59: =100*AG59/AG$7 -> 0.030601962 | AI59: =World2045!$G62/1000 -> 33.882107 | AJ59: =100*AI59/AI$7 -> 0.03961308 | AK59: ='AFR2045'!$G62/1000 -> 0.82065469 | AL59: =100*AK59/AK$7 -> 0.0063414837 | AM59: ='AMR2045'!$G62/1000 -> 17.076558 | AN59: =100*AM59/AM$7 -> 0.15010955 | AO59: =SEAR2045!$G62/1000 -> 1.7505749 | AP59: =100*AO59/AO$7 -> 0.0087021617 | AQ59: ='EUR2045'!$G62/1000 -> 7.8002539 | AR59: =100*AQ59/AQ$7 -> 0.069089698 | AS59: ='EMR2045'!$G62/1000 -> 0.41945955 | AT59: =100*AS59/AS$7 -> 0.0056677152 | AU59: ='WPR2045'!$G62/1000 -> 6.0146062 | AV59: =100*AU59/AU$7 -> 0.02684126 | AW59: =World2060!$G62/1000 -> 38.175616 | AX59: =100*AW59/AW$7 -> 0.03748913 | AY59: ='AFR2060'!$G62/1000 -> 0.72360739 | AZ59: =100*AY59/AY$7 -> 0.0039902397 | BA59: ='AMR2060'!$G62/1000 -> 20.218588 | BB59: =100*BA59/BA$7 -> 0.15161957 | BC59: =SEAR2060!$G62/1000 -> 1.9102733 | BD59: =100*BC59/BC$7 -> 0.0080543694 | BE59: ='EUR2060'!$G62/1000 -> 8.240874 | BF59: =100*BE59/BE$7 -> 0.070641201 | BG59: ='EMR2060'!$G62/1000 -> 0.58648059 | BH59: =100*BG59/BG$7 -> 0.005666329 | BI59: ='WPR2060'!$G62/1000 -> 6.4957927 | BJ59: =100*BI59/BI$7 -> 0.026375291
A60: 59 | D60: 5. | E60: Other nutritional deficiencies | G60: =World2016!$G63/1000 -> 83.753887 | H60: =100*G60/G$7 -> 0.14726371 | I60: ='AFR2016'!$G63/1000 -> 16.284104 | J60: =100*I60/I$7 -> 0.18410309 | K60: ='AMR2016'!$G63/1000 -> 2.8775741 | L60: =100*K60/K$7 -> 0.041665784 | M60: =SEAR2016!$G63/1000 -> 53.843168 | N60: =100*M60/M$7 -> 0.38964426 | O60: ='EUR2016'!$G63/1000 -> 1.8105963 | P60: =100*O60/O$7 -> 0.019648983 | Q60: ='EMR2016'!$G63/1000 -> 4.2713105 | R60: =100*Q60/Q$7 -> 0.1032121 | S60: ='WPR2016'!$G63/1000 -> 4.6671337 | T60: =100*S60/S$7 -> 0.033455327 | U60: =World2030!$G63/1000 -> 117.01461 | V60: =100*U60/U$7 -> 0.17177855 | W60: ='AFR2030'!$G63/1000 -> 23.607472 | X60: =100*W60/W$7 -> 0.233988 | Y60: ='AMR2030'!$G63/1000 -> 3.4447949 | Z60: =100*Y60/Y$7 -> 0.039847694 | AA60: =SEAR2030!$G63/1000 -> 75.785428 | AB60: =100*AA60/AA$7 -> 0.44937364 | AC60: ='EUR2030'!$G63/1000 -> 2.0102565 | AD60: =100*AC60/AC$7 -> 0.020487742 | AE60: ='EMR2030'!$G63/1000 -> 5.519832 | AF60: =100*AE60/AE$7 -> 0.10625703 | AG60: ='WPR2030'!$G63/1000 -> 6.6468285 | AH60: =100*AG60/AG$7 -> 0.037951734 | AI60: =World2045!$G63/1000 -> 178.41308 | AJ60: =100*AI60/AI$7 -> 0.20859067 | AK60: ='AFR2045'!$G63/1000 -> 38.656126 | AL60: =100*AK60/AK$7 -> 0.29870931 | AM60: ='AMR2045'!$G63/1000 -> 5.7816618 | AN60: =100*AM60/AM$7 -> 0.050823044 | AO60: =SEAR2045!$G63/1000 -> 111.14613 | AP60: =100*AO60/AO$7 -> 0.55251083 | AQ60: ='EUR2045'!$G63/1000 -> 2.8242154 | AR60: =100*AQ60/AQ$7 -> 0.025015108 | AS60: ='EMR2045'!$G63/1000 -> 8.355843 | AT60: =100*AS60/AS$7 -> 0.11290371 | AU60: ='WPR2045'!$G63/1000 -> 11.6491 | AV60: =100*AU60/AU$7 -> 0.051986199 | AW60: =World2060!$G63/1000 -> 259.31279 | AX60: =100*AW60/AW$7 -> 0.25464974 | AY60: ='AFR2060'!$G63/1000 -> 64.403772 | AZ60: =100*AY60/AY$7 -> 0.3551463 | BA60: ='AMR2060'!$G63/1000 -> 8.8738028 | BB60: =100*BA60/BA$7 -> 0.066544814 | BC60: =SEAR2060!$G63/1000 -> 153.2418 | BD60: =100*BC60/BC$7 -> 0.64612017 | BE60: ='EUR2060'!$G63/1000 -> 3.5729567 | BF60: =100*BE60/BE$7 -> 0.030627571 | BG60: ='EMR2060'!$G63/1000 -> 12.429682 | BH60: =100*BG60/BG$7 -> 0.12009036 | BI60: ='WPR2060'!$G63/1000 -> 16.790772 | BJ60: =100*BI60/BI$7 -> 0.068176667
A61: 60 | B61: II. | C61: Noncommunicable diseases | G61: =World2016!$G64/1000 -> 40507.6 | H61: =100*G61/G$7 -> 71.224151 | I61: ='AFR2016'!$G64/1000 -> 3010.9671 | J61: =100*I61/I$7 -> 34.04107 | K61: ='AMR2016'!$G64/1000 -> 5572.907 | L61: =100*K61/K$7 -> 80.692811 | M61: =SEAR2016!$G64/1000 -> 9047.6473 | N61: =100*M61/M$7 -> 65.474673 | O61: ='EUR2016'!$G64/1000 -> 8231.8021 | P61: =100*O61/O$7 -> 89.333299 | Q61: ='EMR2016'!$G64/1000 -> 2612.4593 | R61: =100*Q61/Q$7 -> 63.127562 | S61: ='WPR2016'!$G64/1000 -> 12031.817 | T61: =100*S61/S$7 -> 86.247446 | U61: =World2030!$G64/1000 -> 52461.236 | V61: =100*U61/U$7 -> 77.01359 | W61: ='AFR2030'!$G64/1000 -> 4583.939 | X61: =100*W61/W$7 -> 45.434206 | Y61: ='AMR2030'!$G64/1000 -> 7179.0144 | Z61: =100*Y61/Y$7 -> 83.043311 | AA61: =SEAR2030!$G64/1000 -> 12421.716 | AB61: =100*AA61/AA$7 -> 73.655213 | AC61: ='EUR2030'!$G64/1000 -> 8862.7834 | AD61: =100*AC61/AC$7 -> 90.325995 | AE61: ='EMR2030'!$G64/1000 -> 3809.3122 | AF61: =100*AE61/AE$7 -> 73.329444 | AG61: ='WPR2030'!$G64/1000 -> 15604.471 | AH61: =100*AG61/AG$7 -> 89.097639 | AI61: =World2045!$G64/1000 -> 69445.294 | AJ61: =100*AI61/AI$7 -> 81.191583 | AK61: ='AFR2045'!$G64/1000 -> 7254.9098 | AL61: =100*AK61/AK$7 -> 56.061207 | AM61: ='AMR2045'!$G64/1000 -> 9692.0098 | AN61: =100*AM61/AM$7 -> 85.196516 | AO61: =SEAR2045!$G64/1000 -> 15830.588 | AP61: =100*AO61/AO$7 -> 78.694342 | AQ61: ='EUR2045'!$G64/1000 -> 10298.67 | AR61: =100*AQ61/AQ$7 -> 91.219081 | AS61: ='EMR2045'!$G64/1000 -> 6033.2613 | AT61: =100*AS61/AS$7 -> 81.521106 | AU61: ='WPR2045'!$G64/1000 -> 20335.855 | AV61: =100*AU61/AU$7 -> 90.752402 | AW61: =World2060!$G64/1000 -> 84094.252 | AX61: =100*AW61/AW$7 -> 82.582042 | AY61: ='AFR2060'!$G64/1000 -> 11451.907 | AZ61: =100*AY61/AY$7 -> 63.150063 | BA61: ='AMR2060'!$G64/1000 -> 11499.988 | BB61: =100*BA61/BA$7 -> 86.238628 | BC61: =SEAR2060!$G64/1000 -> 19167.782 | BD61: =100*BC61/BC$7 -> 80.817963 | BE61: ='EUR2060'!$G64/1000 -> 10683.4 | BF61: =100*BE61/BE$7 -> 91.57866 | BG61: ='EMR2060'!$G64/1000 -> 8939.3322 | BH61: =100*BG61/BG$7 -> 86.368071 | BI61: ='WPR2060'!$G64/1000 -> 22351.843 | BJ61: =100*BI61/BI$7 -> 90.756647
A62: 61 | C62: A. | D62: Malignant neoplasms | G62: =World2016!$G65/1000 -> 8966.2944 | H62: =100*G62/G$7 -> 15.765355 | I62: ='AFR2016'!$G65/1000 -> 523.98023 | J62: =100*I62/I$7 -> 5.9239599 | K62: ='AMR2016'!$G65/1000 -> 1353.3068 | L62: =100*K62/K$7 -> 19.595182 | M62: =SEAR2016!$G65/1000 -> 1361.2533 | N62: =100*M62/M$7 -> 9.8509161 | O62: ='EUR2016'!$G65/1000 -> 2121.2223 | P62: =100*O62/O$7 -> 23.019964 | Q62: ='EMR2016'!$G65/1000 -> 413.00368 | R62: =100*Q62/Q$7 -> 9.9798358 | S62: ='WPR2016'!$G65/1000 -> 3193.5281 | T62: =100*S62/S$7 -> 22.892108 | U62: =World2030!$G65/1000 -> 11713.213 | V62: =100*U62/U$7 -> 17.195107 | W62: ='AFR2030'!$G65/1000 -> 889.6037 | X62: =100*W62/W$7 -> 8.817403 | Y62: ='AMR2030'!$G65/1000 -> 1691.9135 | Z62: =100*Y62/Y$7 -> 19.571224 | AA62: =SEAR2030!$G65/1000 -> 1919.7533 | AB62: =100*AA62/AA$7 -> 11.383277 | AC62: ='EUR2030'!$G65/1000 -> 2353.148 | AD62: =100*AC62/AC$7 -> 23.982357 | AE62: ='EMR2030'!$G65/1000 -> 652.19175 | AF62: =100*AE62/AE$7 -> 12.554723 | AG62: ='WPR2030'!$G65/1000 -> 4206.6028 | AH62: =100*AG62/AG$7 -> 24.018654 | AI62: =World2045!$G65/1000 -> 15449.741 | AJ62: =100*AI62/AI$7 -> 18.06298 | AK62: ='AFR2045'!$G65/1000 -> 1560.9858 | AL62: =100*AK62/AK$7 -> 12.06228 | AM62: ='AMR2045'!$G65/1000 -> 2191.7523 | AN62: =100*AM62/AM$7 -> 19.266351 | AO62: =SEAR2045!$G65/1000 -> 2554.8057 | AP62: =100*AO62/AO$7 -> 12.700018 | AQ62: ='EUR2045'!$G65/1000 -> 2599.4682 | AR62: =100*AQ62/AQ$7 -> 23.02444 | AS62: ='EMR2045'!$G65/1000 -> 1054.8505 | AT62: =100*AS62/AS$7 -> 14.253084 | AU62: ='WPR2045'!$G65/1000 -> 5487.8782 | AV62: =100*AU62/AU$7 -> 24.490642 | AW62: =World2060!$G65/1000 -> 18633.158 | AX62: =100*AW62/AW$7 -> 18.298091 | AY62: ='AFR2060'!$G65/1000 -> 2652.0966 | AZ62: =100*AY62/AY$7 -> 14.624645 | BA62: ='AMR2060'!$G65/1000 -> 2631.226 | BB62: =100*BA62/BA$7 -> 19.731613 | BC62: =SEAR2060!$G65/1000 -> 3131.5809 | BD62: =100*BC62/BC$7 -> 13.203822 | BE62: ='EUR2060'!$G65/1000 -> 2678.0723 | BF62: =100*BE62/BE$7 -> 22.956575 | BG62: ='EMR2060'!$G65/1000 -> 1560.5721 | BH62: =100*BG62/BG$7 -> 15.077592 | BI62: ='WPR2060'!$G65/1000 -> 5979.6103 | BJ62: =100*BI62/BI$7 -> 24.279402
A63: 62 | D63: 1. | E63: Mouth and oropharynx cancers | G63: =World2016!$G66/1000 -> 332.56081 | H63: =100*G63/G$7 -> 0.5847387 | I63: ='AFR2016'!$G66/1000 -> 18.476834 | J63: =100*I63/I$7 -> 0.20889342 | K63: ='AMR2016'!$G66/1000 -> 30.547745 | L63: =100*K63/K$7 -> 0.44231555 | M63: =SEAR2016!$G66/1000 -> 142.70292 | N63: =100*M63/M$7 -> 1.0326914 | O63: ='EUR2016'!$G66/1000 -> 56.96802 | P63: =100*O63/O$7 -> 0.6182293 | Q63: ='EMR2016'!$G66/1000 -> 19.563663 | R63: =100*Q63/Q$7 -> 0.47273705 | S63: ='WPR2016'!$G66/1000 -> 64.301623 | T63: =100*S63/S$7 -> 0.46093211 | U63: =World2030!$G66/1000 -> 439.2117 | V63: =100*U63/U$7 -> 0.64476692 | W63: ='AFR2030'!$G66/1000 -> 30.699625 | X63: =100*W63/W$7 -> 0.30428264 | Y63: ='AMR2030'!$G66/1000 -> 37.406314 | Z63: =100*Y63/Y$7 -> 0.43269786 | AA63: =SEAR2030!$G66/1000 -> 198.41374 | AB63: =100*AA63/AA$7 -> 1.1765046 | AC63: ='EUR2030'!$G66/1000 -> 60.451122 | AD63: =100*AC63/AC$7 -> 0.61609401 | AE63: ='EMR2030'!$G66/1000 -> 29.010638 | AF63: =100*AE63/AE$7 -> 0.55845618 | AG63: ='WPR2030'!$G66/1000 -> 83.230254 | AH63: =100*AG63/AG$7 -> 0.475224 | AI63: =World2045!$G66/1000 -> 563.11518 | AJ63: =100*AI63/AI$7 -> 0.65836301 | AK63: ='AFR2045'!$G66/1000 -> 52.802148 | AL63: =100*AK63/AK$7 -> 0.40802053 | AM63: ='AMR2045'!$G66/1000 -> 47.112969 | AN63: =100*AM63/AM$7 -> 0.41414123 | AO63: =SEAR2045!$G66/1000 -> 255.42184 | AP63: =100*AO63/AO$7 -> 1.2697098 | AQ63: ='EUR2045'!$G66/1000 -> 61.564602 | AR63: =100*AQ63/AQ$7 -> 0.54530016 | AS63: ='EMR2045'!$G66/1000 -> 44.002456 | AT63: =100*AS63/AS$7 -> 0.59455885 | AU63: ='WPR2045'!$G66/1000 -> 102.21116 | AV63: =100*AU63/AU$7 -> 0.45613566 | AW63: =World2060!$G66/1000 -> 679.94118 | AX63: =100*AW63/AW$7 -> 0.66771427 | AY63: ='AFR2060'!$G66/1000 -> 85.901971 | AZ63: =100*AY63/AY$7 -> 0.47369534 | BA63: ='AMR2060'!$G66/1000 -> 55.183788 | BB63: =100*BA63/BA$7 -> 0.41382426 | BC63: =SEAR2060!$G66/1000 -> 307.28164 | BD63: =100*BC63/BC$7 -> 1.2956051 | BE63: ='EUR2060'!$G66/1000 -> 58.389557 | BF63: =100*BE63/BE$7 -> 0.50051832 | BG63: ='EMR2060'!$G66/1000 -> 61.787918 | BH63: =100*BG63/BG$7 -> 0.5969689 | BI63: ='WPR2060'!$G66/1000 -> 111.39631 | BJ63: =100*BI63/BI$7 -> 0.4523097
A64: 63 | D64: 2. | E64: Oesophagus cancer | G64: =World2016!$G67/1000 -> 429.14473 | H64: =100*G64/G$7 -> 0.75456135 | I64: ='AFR2016'!$G67/1000 -> 24.361955 | J64: =100*I64/I$7 -> 0.27542879 | K64: ='AMR2016'!$G67/1000 -> 39.419267 | L64: =100*K64/K$7 -> 0.5707706 | M64: =SEAR2016!$G67/1000 -> 68.772469 | N64: =100*M64/M$7 -> 0.49768241 | O64: ='EUR2016'!$G67/1000 -> 54.191063 | P64: =100*O64/O$7 -> 0.58809315 | Q64: ='EMR2016'!$G67/1000 -> 16.305996 | R64: =100*Q64/Q$7 -> 0.39401868 | S64: ='WPR2016'!$G67/1000 -> 226.09398 | T64: =100*S64/S$7 -> 1.6207052 | U64: =World2030!$G67/1000 -> 572.90195 | V64: =100*U64/U$7 -> 0.84102548 | W64: ='AFR2030'!$G67/1000 -> 43.268202 | X64: =100*W64/W$7 -> 0.42885745 | Y64: ='AMR2030'!$G67/1000 -> 48.355435 | Z64: =100*Y64/Y$7 -> 0.55935191 | AA64: =SEAR2030!$G67/1000 -> 96.752698 | AB64: =100*AA64/AA$7 -> 0.57370016 | AC64: ='EUR2030'!$G67/1000 -> 60.064529 | AD64: =100*AC64/AC$7 -> 0.612154 | AE64: ='EMR2030'!$G67/1000 -> 25.10252 | AF64: =100*AE64/AE$7 -> 0.48322473 | AG64: ='WPR2030'!$G67/1000 -> 299.35857 | AH64: =100*AG64/AG$7 -> 1.7092628 | AI64: =World2045!$G67/1000 -> 794.30561 | AJ64: =100*AI64/AI$7 -> 0.92865804 | AK64: ='AFR2045'!$G67/1000 -> 80.644431 | AL64: =100*AK64/AK$7 -> 0.62316752 | AM64: ='AMR2045'!$G67/1000 -> 60.675152 | AN64: =100*AM64/AM$7 -> 0.53335806 | AO64: =SEAR2045!$G67/1000 -> 131.07249 | AP64: =100*AO64/AO$7 -> 0.65156539 | AQ64: ='EUR2045'!$G67/1000 -> 67.401452 | AR64: =100*AQ64/AQ$7 -> 0.59699928 | AS64: ='EMR2045'!$G67/1000 -> 41.795666 | AT64: =100*AS64/AS$7 -> 0.56474081 | AU64: ='WPR2045'!$G67/1000 -> 412.71642 | AV64: =100*AU64/AU$7 -> 1.8418211 | AW64: =World2060!$G67/1000 -> 977.2834 | AX64: =100*AW64/AW$7 -> 0.95970959 | AY64: ='AFR2060'!$G67/1000 -> 146.10607 | AZ64: =100*AY64/AY$7 -> 0.80568311 | BA64: ='AMR2060'!$G67/1000 -> 71.12098 | BB64: =100*BA64/BA$7 -> 0.53333756 | BC64: =SEAR2060!$G67/1000 -> 165.32319 | BD64: =100*BC64/BC$7 -> 0.69705947 | BE64: ='EUR2060'!$G67/1000 -> 70.098821 | BF64: =100*BE64/BE$7 -> 0.60089074 | BG64: ='EMR2060'!$G67/1000 -> 63.817149 | BH64: =100*BG64/BG$7 -> 0.61657447 | BI64: ='WPR2060'!$G67/1000 -> 460.81719 | BJ64: =100*BI64/BI$7 -> 1.8710861
A65: 64 | D65: 3. | E65: Stomach cancer | G65: =World2016!$G68/1000 -> 760.17175 | H65: =100*G65/G$7 -> 1.3366032 | I65: ='AFR2016'!$G68/1000 -> 19.16839 | J65: =100*I65/I$7 -> 0.21671194 | K65: ='AMR2016'!$G68/1000 -> 74.085485 | L65: =100*K65/K$7 -> 1.0727195 | M65: =SEAR2016!$G68/1000 -> 87.538377 | N65: =100*M65/M$7 -> 0.63348476 | O65: ='EUR2016'!$G68/1000 -> 141.48793 | P65: =100*O65/O$7 -> 1.5354577 | Q65: ='EMR2016'!$G68/1000 -> 22.067318 | R65: =100*Q65/Q$7 -> 0.53323547 | S65: ='WPR2016'!$G68/1000 -> 415.82425 | T65: =100*S65/S$7 -> 2.9807452 | U65: =World2030!$G68/1000 -> 962.62306 | V65: =100*U65/U$7 -> 1.4131398 | W65: ='AFR2030'!$G68/1000 -> 31.558405 | X65: =100*W65/W$7 -> 0.31279453 | Y65: ='AMR2030'!$G68/1000 -> 94.714104 | Z65: =100*Y65/Y$7 -> 1.0956062 | AA65: =SEAR2030!$G68/1000 -> 115.56059 | AB65: =100*AA65/AA$7 -> 0.68522256 | AC65: ='EUR2030'!$G68/1000 -> 148.30694 | AD65: =100*AC65/AC$7 -> 1.5114858 | AE65: ='EMR2030'!$G68/1000 -> 34.79759 | AF65: =100*AE65/AE$7 -> 0.66985529 | AG65: ='WPR2030'!$G68/1000 -> 537.68544 | AH65: =100*AG65/AG$7 -> 3.0700498 | AI65: =World2045!$G68/1000 -> 1317.0367 | AJ65: =100*AI65/AI$7 -> 1.5398062 | AK65: ='AFR2045'!$G68/1000 -> 55.927665 | AL65: =100*AK65/AK$7 -> 0.43217249 | AM65: ='AMR2045'!$G68/1000 -> 133.259 | AN65: =100*AM65/AM$7 -> 1.1713982 | AO65: =SEAR2045!$G68/1000 -> 154.24802 | AP65: =100*AO65/AO$7 -> 0.76677168 | AQ65: ='EUR2045'!$G68/1000 -> 169.32673 | AR65: =100*AQ65/AQ$7 -> 1.4997887 | AS65: ='EMR2045'!$G68/1000 -> 60.206972 | AT65: =100*AS65/AS$7 -> 0.81351341 | AU65: ='WPR2045'!$G68/1000 -> 744.06828 | AV65: =100*AU65/AU$7 -> 3.3205383 | AW65: =World2060!$G68/1000 -> 1574.4211 | AX65: =100*AW65/AW$7 -> 1.5461093 | AY65: ='AFR2060'!$G68/1000 -> 95.192664 | AZ65: =100*AY65/AY$7 -> 0.52492767 | BA65: ='AMR2060'!$G68/1000 -> 171.74211 | BB65: =100*BA65/BA$7 -> 1.2878973 | BC65: =SEAR2060!$G68/1000 -> 189.85816 | BD65: =100*BC65/BC$7 -> 0.80050733 | BE65: ='EUR2060'!$G68/1000 -> 182.45707 | BF65: =100*BE65/BE$7 -> 1.5640315 | BG65: ='EMR2060'!$G68/1000 -> 94.664962 | BH65: =100*BG65/BG$7 -> 0.91461308 | BI65: ='WPR2060'!$G68/1000 -> 840.5061 | BJ65: =100*BI65/BI$7 -> 3.4127618
A66: 65 | D66: 4. | E66: Colon and rectum cancers | G66: =World2016!$G69/1000 -> 794.49533 | H66: =100*G66/G$7 -> 1.3969541 | I66: ='AFR2016'!$G69/1000 -> 25.971139 | J66: =100*I66/I$7 -> 0.29362173 | K66: ='AMR2016'!$G69/1000 -> 131.50781 | L66: =100*K66/K$7 -> 1.9041651 | M66: =SEAR2016!$G69/1000 -> 96.863713 | N66: =100*M66/M$7 -> 0.70096896 | O66: ='EUR2016'!$G69/1000 -> 264.53587 | P66: =100*O66/O$7 -> 2.8708006 | Q66: ='EMR2016'!$G69/1000 -> 24.801336 | R66: =100*Q66/Q$7 -> 0.59930037 | S66: ='WPR2016'!$G69/1000 -> 250.81546 | T66: =100*S66/S$7 -> 1.7979158 | U66: =World2030!$G69/1000 -> 1059.0896 | V66: =100*U66/U$7 -> 1.5547535 | W66: ='AFR2030'!$G69/1000 -> 44.822177 | X66: =100*W66/W$7 -> 0.44425984 | Y66: ='AMR2030'!$G69/1000 -> 171.25697 | Z66: =100*Y66/Y$7 -> 1.9810164 | AA66: =SEAR2030!$G69/1000 -> 141.46792 | AB66: =100*AA66/AA$7 -> 0.83884142 | AC66: ='EUR2030'!$G69/1000 -> 297.75389 | AD66: =100*AC66/AC$7 -> 3.0345903 | AE66: ='EMR2030'!$G69/1000 -> 41.630653 | AF66: =100*AE66/AE$7 -> 0.80139208 | AG66: ='WPR2030'!$G69/1000 -> 362.15798 | AH66: =100*AG66/AG$7 -> 2.0678318 | AI66: =World2045!$G69/1000 -> 1426.1721 | AJ66: =100*AI66/AI$7 -> 1.6674013 | AK66: ='AFR2045'!$G69/1000 -> 76.850535 | AL66: =100*AK66/AK$7 -> 0.59385076 | AM66: ='AMR2045'!$G69/1000 -> 228.96158 | AN66: =100*AM66/AM$7 -> 2.0126609 | AO66: =SEAR2045!$G69/1000 -> 193.63362 | AP66: =100*AO66/AO$7 -> 0.96255869 | AQ66: ='EUR2045'!$G69/1000 -> 346.18593 | AR66: =100*AQ66/AQ$7 -> 3.0662952 | AS66: ='EMR2045'!$G69/1000 -> 67.064232 | AT66: =100*AS66/AS$7 -> 0.90616834 | AU66: ='WPR2045'!$G69/1000 -> 513.47625 | AV66: =100*AU66/AU$7 -> 2.2914799 | AW66: =World2060!$G69/1000 -> 1705.7693 | AX66: =100*AW66/AW$7 -> 1.6750957 | AY66: ='AFR2060'!$G69/1000 -> 126.32189 | AZ66: =100*AY66/AY$7 -> 0.69658577 | BA66: ='AMR2060'!$G69/1000 -> 275.29512 | BB66: =100*BA66/BA$7 -> 2.0644433 | BC66: =SEAR2060!$G69/1000 -> 243.07036 | BD66: =100*BC66/BC$7 -> 1.0248683 | BE66: ='EUR2060'!$G69/1000 -> 368.69082 | BF66: =100*BE66/BE$7 -> 3.1604369 | BG66: ='EMR2060'!$G69/1000 -> 96.872119 | BH66: =100*BG66/BG$7 -> 0.9359377 | BI66: ='WPR2060'!$G69/1000 -> 595.51903 | BJ66: =100*BI66/BI$7 -> 2.4180248
A67: 66 | D67: 5. | E67: Liver cancer | G67: =World2016!$G70/1000 -> 829.5995 | H67: =100*G67/G$7 -> 1.4586774 | I67: ='AFR2016'!$G70/1000 -> 41.786011 | J67: =100*I67/I$7 -> 0.47241983 | K67: ='AMR2016'!$G70/1000 -> 64.636415 | L67: =100*K67/K$7 -> 0.93590186 | M67: =SEAR2016!$G70/1000 -> 86.626122 | N67: =100*M67/M$7 -> 0.62688308 | O67: ='EUR2016'!$G70/1000 -> 80.230621 | P67: =100*O67/O$7 -> 0.87068007 | Q67: ='EMR2016'!$G70/1000 -> 30.563287 | R67: =100*Q67/Q$7 -> 0.73853238 | S67: ='WPR2016'!$G70/1000 -> 525.75704 | T67: =100*S67/S$7 -> 3.7687743 | U67: =World2030!$G70/1000 -> 1111.7884 | V67: =100*U67/U$7 -> 1.6321159 | W67: ='AFR2030'!$G70/1000 -> 69.976865 | X67: =100*W67/W$7 -> 0.69358325 | Y67: ='AMR2030'!$G70/1000 -> 88.016965 | Z67: =100*Y67/Y$7 -> 1.018137 | AA67: =SEAR2030!$G70/1000 -> 123.38823 | AB67: =100*AA67/AA$7 -> 0.73163696 | AC67: ='EUR2030'!$G70/1000 -> 94.303438 | AD67: =100*AC67/AC$7 -> 0.96110347 | AE67: ='EMR2030'!$G70/1000 -> 47.003365 | AF67: =100*AE67/AE$7 -> 0.90481704 | AG67: ='WPR2030'!$G70/1000 -> 689.09952 | AH67: =100*AG67/AG$7 -> 3.9345865 | AI67: =World2045!$G70/1000 -> 1441.4463 | AJ67: =100*AI67/AI$7 -> 1.685259 | AK67: ='AFR2045'!$G70/1000 -> 115.54324 | AL67: =100*AK67/AK$7 -> 0.89284275 | AM67: ='AMR2045'!$G70/1000 -> 115.68527 | AN67: =100*AM67/AM$7 -> 1.0169183 | AO67: =SEAR2045!$G70/1000 -> 161.2384 | AP67: =100*AO67/AO$7 -> 0.80152103 | AQ67: ='EUR2045'!$G70/1000 -> 106.73881 | AR67: =100*AQ67/AQ$7 -> 0.94542463 | AS67: ='EMR2045'!$G70/1000 -> 75.885917 | AT67: =100*AS67/AS$7 -> 1.0253665 | AU67: ='WPR2045'!$G70/1000 -> 866.35461 | AV67: =100*AU67/AU$7 -> 3.866263 | AW67: =World2060!$G70/1000 -> 1660.8047 | AX67: =100*AW67/AW$7 -> 1.6309396 | AY67: ='AFR2060'!$G70/1000 -> 182.4098 | AZ67: =100*AY67/AY$7 -> 1.0058753 | BA67: ='AMR2060'!$G70/1000 -> 143.16121 | BB67: =100*BA67/BA$7 -> 1.0735686 | BC67: =SEAR2060!$G70/1000 -> 192.21937 | BD67: =100*BC67/BC$7 -> 0.81046301 | BE67: ='EUR2060'!$G70/1000 -> 109.90934 | BF67: =100*BE67/BE$7 -> 0.94214859 | BG67: ='EMR2060'!$G70/1000 -> 110.39666 | BH67: =100*BG67/BG$7 -> 1.0666061 | BI67: ='WPR2060'!$G70/1000 -> 922.70829 | BJ67: =100*BI67/BI$7 -> 3.7465327
A68: 67 | D68: 6. | E68: Pancreas cancer | G68: =World2016!$G71/1000 -> 371.81388 | H68: =100*G68/G$7 -> 0.65375703 | I68: ='AFR2016'!$G71/1000 -> 9.505409 | J68: =100*I68/I$7 -> 0.10746524 | K68: ='AMR2016'!$G71/1000 -> 79.637821 | L68: =100*K68/K$7 -> 1.1531145 | M68: =SEAR2016!$G71/1000 -> 29.280787 | N68: =100*M68/M$7 -> 0.21189486 | O68: ='EUR2016'!$G71/1000 -> 123.4034 | P68: =100*O68/O$7 -> 1.3392005 | Q68: ='EMR2016'!$G71/1000 -> 8.6168369 | R68: =100*Q68/Q$7 -> 0.20821756 | S68: ='WPR2016'!$G71/1000 -> 121.36962 | T68: =100*S68/S$7 -> 0.87001158 | U68: =World2030!$G71/1000 -> 503.9531 | V68: =100*U68/U$7 -> 0.73980791 | W68: ='AFR2030'!$G71/1000 -> 16.666361 | X68: =100*W68/W$7 -> 0.16519043 | Y68: ='AMR2030'!$G71/1000 -> 106.07236 | Z68: =100*Y68/Y$7 -> 1.2269929 | AA68: =SEAR2030!$G71/1000 -> 44.374423 | AB68: =100*AA68/AA$7 -> 0.26312045 | AC68: ='EUR2030'!$G71/1000 -> 148.67294 | AD68: =100*AC68/AC$7 -> 1.515216 | AE68: ='EMR2030'!$G71/1000 -> 14.519589 | AF68: =100*AE68/AE$7 -> 0.27950278 | AG68: ='WPR2030'!$G71/1000 -> 173.64743 | AH68: =100*AG68/AG$7 -> 0.99148354 | AI68: =World2045!$G71/1000 -> 641.07687 | AJ68: =100*AI68/AI$7 -> 0.7495115 | AK68: ='AFR2045'!$G71/1000 -> 28.435647 | AL68: =100*AK68/AK$7 -> 0.21973212 | AM68: ='AMR2045'!$G71/1000 -> 136.86913 | AN68: =100*AM68/AM$7 -> 1.2031326 | AO68: =SEAR2045!$G71/1000 -> 61.359695 | AP68: =100*AO68/AO$7 -> 0.30502094 | AQ68: ='EUR2045'!$G71/1000 -> 166.09526 | AR68: =100*AQ68/AQ$7 -> 1.4711664 | AS68: ='EMR2045'!$G71/1000 -> 23.903582 | AT68: =100*AS68/AS$7 -> 0.32298392 | AU68: ='WPR2045'!$G71/1000 -> 224.41355 | AV68: =100*AU68/AU$7 -> 1.0014858 | AW68: =World2060!$G71/1000 -> 733.36659 | AX68: =100*AW68/AW$7 -> 0.72017896 | AY68: ='AFR2060'!$G71/1000 -> 46.439394 | AZ68: =100*AY68/AY$7 -> 0.25608405 | BA68: ='AMR2060'!$G71/1000 -> 162.2026 | BB68: =100*BA68/BA$7 -> 1.2163604 | BC68: =SEAR2060!$G71/1000 -> 77.933648 | BD68: =100*BC68/BC$7 -> 0.32859507 | BE68: ='EUR2060'!$G71/1000 -> 168.22997 | BF68: =100*BE68/BE$7 -> 1.442076 | BG68: ='EMR2060'!$G71/1000 -> 34.784739 | BH68: =100*BG68/BG$7 -> 0.33607553 | BI68: ='WPR2060'!$G71/1000 -> 243.77624 | BJ68: =100*BI68/BI$7 -> 0.98982059
A69: 68 | D69: 7. | E69: Trachea, bronchus, lung cancers | G69: =World2016!$G72/1000 -> 1707.74 | H69: =100*G69/G$7 -> 3.002704 | I69: ='AFR2016'!$G72/1000 -> 18.678199 | J69: =100*I69/I$7 -> 0.21117 | K69: ='AMR2016'!$G72/1000 -> 254.66351 | L69: =100*K69/K$7 -> 3.687396 | M69: =SEAR2016!$G72/1000 -> 182.38754 | N69: =100*M69/M$7 -> 1.3198751 | O69: ='EUR2016'!$G72/1000 -> 419.23094 | P69: =100*O69/O$7 -> 4.549585 | Q69: ='EMR2016'!$G72/1000 -> 33.394695 | R69: =100*Q69/Q$7 -> 0.80695061 | S69: ='WPR2016'!$G72/1000 -> 799.38509 | T69: =100*S69/S$7 -> 5.7302171 | U69: =World2030!$G72/1000 -> 2018.5213 | V69: =100*U69/U$7 -> 2.9632083 | W69: ='AFR2030'!$G72/1000 -> 29.24504 | X69: =100*W69/W$7 -> 0.28986537 | Y69: ='AMR2030'!$G72/1000 -> 266.78887 | Z69: =100*Y69/Y$7 -> 3.0860825 | AA69: =SEAR2030!$G72/1000 -> 253.54442 | AB69: =100*AA69/AA$7 -> 1.5034048 | AC69: ='EUR2030'!$G72/1000 -> 409.51982 | AD69: =100*AC69/AC$7 -> 4.1736646 | AE69: ='EMR2030'!$G72/1000 -> 54.816149 | AF69: =100*AE69/AE$7 -> 1.0552135 | AG69: ='WPR2030'!$G72/1000 -> 1004.607 | AH69: =100*AG69/AG$7 -> 5.7360556 | AI69: =World2045!$G72/1000 -> 2340.373 | AJ69: =100*AI69/AI$7 -> 2.7362343 | AK69: ='AFR2045'!$G72/1000 -> 48.783749 | AL69: =100*AK69/AK$7 -> 0.37696896 | AM69: ='AMR2045'!$G72/1000 -> 282.12529 | AN69: =100*AM69/AM$7 -> 2.4799905 | AO69: =SEAR2045!$G72/1000 -> 327.12875 | AP69: =100*AO69/AO$7 -> 1.6261671 | AQ69: ='EUR2045'!$G72/1000 -> 352.9853 | AR69: =100*AQ69/AQ$7 -> 3.1265197 | AS69: ='EMR2045'!$G72/1000 -> 88.695592 | AT69: =100*AS69/AS$7 -> 1.1984501 | AU69: ='WPR2045'!$G72/1000 -> 1240.6543 | AV69: =100*AU69/AU$7 -> 5.5366427 | AW69: =World2060!$G72/1000 -> 2448.8056 | AX69: =100*AW69/AW$7 -> 2.4047704 | AY69: ='AFR2060'!$G72/1000 -> 75.327411 | AZ69: =100*AY69/AY$7 -> 0.4153833 | BA69: ='AMR2060'!$G72/1000 -> 296.60964 | BB69: =100*BA69/BA$7 -> 2.2242813 | BC69: =SEAR2060!$G72/1000 -> 397.2401 | BD69: =100*BC69/BC$7 -> 1.6749009 | BE69: ='EUR2060'!$G72/1000 -> 309.17966 | BF69: =100*BE69/BE$7 -> 2.6503041 | BG69: ='EMR2060'!$G72/1000 -> 126.32415 | BH69: =100*BG69/BG$7 -> 1.2204908 | BI69: ='WPR2060'!$G72/1000 -> 1244.1247 | BJ69: =100*BI69/BI$7 -> 5.0516006
A70: 69 | D70: 8. | E70: Melanoma and other skin cancers | G70: =World2016!$G73/1000 -> 113.08002 | H70: =100*G70/G$7 -> 0.19882759 | I70: ='AFR2016'!$G73/1000 -> 6.1475029 | J70: =100*I70/I$7 -> 0.069501783 | K70: ='AMR2016'!$G73/1000 -> 28.141184 | L70: =100*K70/K$7 -> 0.40746979 | M70: =SEAR2016!$G73/1000 -> 9.9505075 | N70: =100*M70/M$7 -> 0.072008358 | O70: ='EUR2016'!$G73/1000 -> 39.689185 | P70: =100*O70/O$7 -> 0.43071564 | Q70: ='EMR2016'!$G73/1000 -> 2.4314205 | R70: =100*Q70/Q$7 -> 0.058752932 | S70: ='WPR2016'!$G73/1000 -> 26.720218 | T70: =100*S70/S$7 -> 0.19153803 | U70: =World2030!$G73/1000 -> 155.20976 | V70: =100*U70/U$7 -> 0.22784939 | W70: ='AFR2030'!$G73/1000 -> 9.8095891 | X70: =100*W70/W$7 -> 0.097228801 | Y70: ='AMR2030'!$G73/1000 -> 40.825574 | Z70: =100*Y70/Y$7 -> 0.47225018 | AA70: =SEAR2030!$G73/1000 -> 14.500645 | AB70: =100*AA70/AA$7 -> 0.085982332 | AC70: ='EUR2030'!$G73/1000 -> 48.153995 | AD70: =100*AC70/AC$7 -> 0.49076654 | AE70: ='EMR2030'!$G73/1000 -> 3.6075254 | AF70: =100*AE70/AE$7 -> 0.069445038 | AG70: ='WPR2030'!$G73/1000 -> 38.312429 | AH70: =100*AG70/AG$7 -> 0.21875442 | AI70: =World2045!$G73/1000 -> 214.16462 | AJ70: =100*AI70/AI$7 -> 0.25038939 | AK70: ='AFR2045'!$G73/1000 -> 17.332363 | AL70: =100*AK70/AK$7 -> 0.13393319 | AM70: ='AMR2045'!$G73/1000 -> 57.635564 | AN70: =100*AM70/AM$7 -> 0.5066389 | AO70: =SEAR2045!$G73/1000 -> 20.793613 | AP70: =100*AO70/AO$7 -> 0.10336569 | AQ70: ='EUR2045'!$G73/1000 -> 58.052429 | AR70: =100*AQ70/AQ$7 -> 0.51419157 | AS70: ='EMR2045'!$G73/1000 -> 6.1873903 | AT70: =100*AS70/AS$7 -> 0.083603688 | AU70: ='WPR2045'!$G73/1000 -> 54.163263 | AV70: =100*AU70/AU$7 -> 0.24171328 | AW70: =World2060!$G73/1000 -> 268.13303 | AX70: =100*AW70/AW$7 -> 0.26331138 | AY70: ='AFR2060'!$G73/1000 -> 30.379093 | AZ70: =100*AY70/AY$7 -> 0.16752159 | BA70: ='AMR2060'!$G73/1000 -> 73.151017 | BB70: =100*BA70/BA$7 -> 0.54856085 | BC70: =SEAR2060!$G73/1000 -> 26.757283 | BD70: =100*BC70/BC$7 -> 0.11281791 | BE70: ='EUR2060'!$G73/1000 -> 62.931338 | BF70: =100*BE70/BE$7 -> 0.5394507 | BG70: ='EMR2060'!$G73/1000 -> 9.8769351 | BH70: =100*BG70/BG$7 -> 0.095426796 | BI70: ='WPR2060'!$G73/1000 -> 65.037368 | BJ70: =100*BI70/BI$7 -> 0.26407547
A71: 70 | D71: 9. | E71: Breast cancer | G71: =World2016!$G74/1000 -> 586.01234 | H71: =100*G71/G$7 -> 1.0303803 | I71: ='AFR2016'!$G74/1000 -> 54.80766 | J71: =100*I71/I$7 -> 0.6196386 | K71: ='AMR2016'!$G74/1000 -> 106.70603 | L71: =100*K71/K$7 -> 1.5450481 | M71: =SEAR2016!$G74/1000 -> 122.9194 | N71: =100*M71/M$7 -> 0.88952493 | O71: ='EUR2016'!$G74/1000 -> 164.57735 | P71: =100*O71/O$7 -> 1.7860291 | Q71: ='EMR2016'!$G74/1000 -> 46.733132 | R71: =100*Q71/Q$7 -> 1.1292611 | S71: ='WPR2016'!$G74/1000 -> 90.268769 | T71: =100*S71/S$7 -> 0.64707192 | U71: =World2030!$G74/1000 -> 807.24416 | V71: =100*U71/U$7 -> 1.185042 | W71: ='AFR2030'!$G74/1000 -> 96.99123 | X71: =100*W71/W$7 -> 0.96133904 | Y71: ='AMR2030'!$G74/1000 -> 137.98363 | Z71: =100*Y71/Y$7 -> 1.5961268 | AA71: =SEAR2030!$G74/1000 -> 189.48656 | AB71: =100*AA71/AA$7 -> 1.1235704 | AC71: ='EUR2030'!$G74/1000 -> 186.12676 | AD71: =100*AC71/AC$7 -> 1.8969306 | AE71: ='EMR2030'!$G74/1000 -> 81.053638 | AF71: =100*AE71/AE$7 -> 1.5602864 | AG71: ='WPR2030'!$G74/1000 -> 115.60234 | AH71: =100*AG71/AG$7 -> 0.66006054 | AI71: =World2045!$G74/1000 -> 1136.0211 | AJ71: =100*AI71/AI$7 -> 1.3281728 | AK71: ='AFR2045'!$G74/1000 -> 187.83591 | AL71: =100*AK71/AK$7 -> 1.4514733 | AM71: ='AMR2045'!$G74/1000 -> 183.49735 | AN71: =100*AM71/AM$7 -> 1.6130127 | AO71: =SEAR2045!$G74/1000 -> 267.15859 | AP71: =100*AO71/AO$7 -> 1.3280536 | AQ71: ='EUR2045'!$G74/1000 -> 218.15355 | AR71: =100*AQ71/AQ$7 -> 1.9322657 | AS71: ='EMR2045'!$G74/1000 -> 139.92848 | AT71: =100*AS71/AS$7 -> 1.8907061 | AU71: ='WPR2045'!$G74/1000 -> 139.44721 | AV71: =100*AU71/AU$7 -> 0.62230823 | AW71: =World2060!$G74/1000 -> 1480.0492 | AX71: =100*AW71/AW$7 -> 1.4534345 | AY71: ='AFR2060'!$G74/1000 -> 336.9694 | AZ71: =100*AY71/AY$7 -> 1.8581743 | BA71: ='AMR2060'!$G74/1000 -> 221.59031 | BB71: =100*BA71/BA$7 -> 1.6617099 | BC71: =SEAR2060!$G74/1000 -> 328.93472 | BD71: =100*BC71/BC$7 -> 1.386902 | BE71: ='EUR2060'!$G74/1000 -> 229.09266 | BF71: =100*BE71/BE$7 -> 1.9637942 | BG71: ='EMR2060'!$G74/1000 -> 213.87164 | BH71: =100*BG71/BG$7 -> 2.0663379 | BI71: ='WPR2060'!$G74/1000 -> 149.59047 | BJ71: =100*BI71/BI$7 -> 0.60739196
A72: 71 | D72: 10. | E72: Cervix uteri cancer | G72: =World2016!$G75/1000 -> 283.4393 | H72: =100*G72/G$7 -> 0.49836879 | I72: ='AFR2016'!$G75/1000 -> 59.10957 | J72: =100*I72/I$7 -> 0.66827468 | K72: ='AMR2016'!$G75/1000 -> 40.80259 | L72: =100*K72/K$7 -> 0.5908004 | M72: =SEAR2016!$G75/1000 -> 99.78042 | N72: =100*M72/M$7 -> 0.72207616 | O72: ='EUR2016'!$G75/1000 -> 30.778935 | P72: =100*O72/O$7 -> 0.33401967 | Q72: ='EMR2016'!$G75/1000 -> 7.5903264 | R72: =100*Q72/Q$7 -> 0.18341292 | S72: ='WPR2016'!$G75/1000 -> 45.377458 | T72: =100*S72/S$7 -> 0.32527838 | U72: =World2030!$G75/1000 -> 366.1865 | V72: =100*U72/U$7 -> 0.53756525 | W72: ='AFR2030'!$G75/1000 -> 92.898847 | X72: =100*W72/W$7 -> 0.92077694 | Y72: ='AMR2030'!$G75/1000 -> 49.508452 | Z72: =100*Y72/Y$7 -> 0.57268944 | AA72: =SEAR2030!$G75/1000 -> 126.85339 | AB72: =100*AA72/AA$7 -> 0.7521838 | AC72: ='EUR2030'!$G75/1000 -> 32.210116 | AD72: =100*AC72/AC$7 -> 0.32827281 | AE72: ='EMR2030'!$G75/1000 -> 10.964533 | AF72: =100*AE72/AE$7 -> 0.21106778 | AG72: ='WPR2030'!$G75/1000 -> 53.751164 | AH72: =100*AG72/AG$7 -> 0.30690575 | AI72: =World2045!$G75/1000 -> 491.3313 | AJ72: =100*AI72/AI$7 -> 0.57443729 | AK72: ='AFR2045'!$G75/1000 -> 156.84625 | AL72: =100*AK72/AK$7 -> 1.2120054 | AM72: ='AMR2045'!$G75/1000 -> 62.524406 | AN72: =100*AM72/AM$7 -> 0.54961372 | AO72: =SEAR2045!$G75/1000 -> 158.72589 | AP72: =100*AO72/AO$7 -> 0.78903128 | AQ72: ='EUR2045'!$G75/1000 -> 33.785215 | AR72: =100*AQ72/AQ$7 -> 0.29924799 | AS72: ='EMR2045'!$G75/1000 -> 16.514828 | AT72: =100*AS72/AS$7 -> 0.22314747 | AU72: ='WPR2045'!$G75/1000 -> 62.934718 | AV72: =100*AU72/AU$7 -> 0.28085748 | AW72: =World2060!$G75/1000 -> 633.96085 | AX72: =100*AW72/AW$7 -> 0.62256077 | AY72: ='AFR2060'!$G75/1000 -> 256.23848 | AZ72: =100*AY72/AY$7 -> 1.412994 | BA72: ='AMR2060'!$G75/1000 -> 73.95226 | BB72: =100*BA72/BA$7 -> 0.55456938 | BC72: =SEAR2060!$G75/1000 -> 181.8394 | BD72: =100*BC72/BC$7 -> 0.76669748 | BE72: ='EUR2060'!$G75/1000 -> 33.36503 | BF72: =100*BE72/BE$7 -> 0.28600677 | BG72: ='EMR2060'!$G75/1000 -> 22.749168 | BH72: =100*BG72/BG$7 -> 0.2197929 | BI72: ='WPR2060'!$G75/1000 -> 65.816517 | BJ72: =100*BI72/BI$7 -> 0.2672391
A73: 72 | D73: 11. | E73: Corpus uteri cancer | G73: =World2016!$G76/1000 -> 84.161463 | H73: =100*G73/G$7 -> 0.14798035 | I73: ='AFR2016'!$G76/1000 -> 3.5365708 | J73: =100*I73/I$7 -> 0.039983385 | K73: ='AMR2016'!$G76/1000 -> 16.807986 | L73: =100*K73/K$7 -> 0.24337094 | M73: =SEAR2016!$G76/1000 -> 8.9906968 | N73: =100*M73/M$7 -> 0.065062543 | O73: ='EUR2016'!$G76/1000 -> 29.808934 | P73: =100*O73/O$7 -> 0.32349301 | Q73: ='EMR2016'!$G76/1000 -> 2.6642032 | R73: =100*Q73/Q$7 -> 0.064377903 | S73: ='WPR2016'!$G76/1000 -> 22.353073 | T73: =100*S73/S$7 -> 0.16023311 | U73: =World2030!$G76/1000 -> 102.643 | V73: =100*U73/U$7 -> 0.15068089 | W73: ='AFR2030'!$G76/1000 -> 5.7258793 | X73: =100*W73/W$7 -> 0.05675267 | Y73: ='AMR2030'!$G76/1000 -> 20.625663 | Z73: =100*Y73/Y$7 -> 0.23858753 | AA73: =SEAR2030!$G76/1000 -> 12.593682 | AB73: =100*AA73/AA$7 -> 0.074674895 | AC73: ='EUR2030'!$G76/1000 -> 33.559259 | AD73: =100*AC73/AC$7 -> 0.34202274 | AE73: ='EMR2030'!$G76/1000 -> 4.2906949 | AF73: =100*AE73/AE$7 -> 0.082596084 | AG73: ='WPR2030'!$G76/1000 -> 25.847817 | AH73: =100*AG73/AG$7 -> 0.1475846 | AI73: =World2045!$G76/1000 -> 126.12681 | AJ73: =100*AI73/AI$7 -> 0.14746047 | AK73: ='AFR2045'!$G76/1000 -> 10.362868 | AL73: =100*AK73/AK$7 -> 0.080077481 | AM73: ='AMR2045'!$G76/1000 -> 24.221748 | AN73: =100*AM73/AM$7 -> 0.21291854 | AO73: =SEAR2045!$G76/1000 -> 17.566442 | AP73: =100*AO73/AO$7 -> 0.087323327 | AQ73: ='EUR2045'!$G76/1000 -> 36.171435 | AR73: =100*AQ73/AQ$7 -> 0.32038362 | AS73: ='EMR2045'!$G76/1000 -> 7.3329317 | AT73: =100*AS73/AS$7 -> 0.099082183 | AU73: ='WPR2045'!$G76/1000 -> 30.471384 | AV73: =100*AU73/AU$7 -> 0.13598402 | AW73: =World2060!$G76/1000 -> 146.76796 | AX73: =100*AW73/AW$7 -> 0.14412873 | AY73: ='AFR2060'!$G76/1000 -> 18.467037 | AZ73: =100*AY73/AY$7 -> 0.1018341 | BA73: ='AMR2060'!$G76/1000 -> 26.979423 | BB73: =100*BA73/BA$7 -> 0.2023192 | BC73: =SEAR2060!$G76/1000 -> 22.324585 | BD73: =100*BC73/BC$7 -> 0.09412813 | BE73: ='EUR2060'!$G76/1000 -> 36.16051 | BF73: =100*BE73/BE$7 -> 0.30996977 | BG73: ='EMR2060'!$G76/1000 -> 11.265472 | BH73: =100*BG73/BG$7 -> 0.10884226 | BI73: ='WPR2060'!$G76/1000 -> 31.570934 | BJ73: =100*BI73/BI$7 -> 0.12818952
A74: 73 | D74: 12. | E74: Ovary cancer | G74: =World2016!$G77/1000 -> 164.56809 | H74: =100*G74/G$7 -> 0.2893586 | I74: ='AFR2016'!$G77/1000 -> 11.567704 | J74: =100*I74/I$7 -> 0.13078092 | K74: ='AMR2016'!$G77/1000 -> 29.245692 | L74: =100*K74/K$7 -> 0.4234625 | M74: =SEAR2016!$G77/1000 -> 37.67668 | N74: =100*M74/M$7 -> 0.27265302 | O74: ='EUR2016'!$G77/1000 -> 47.942781 | P74: =100*O74/O$7 -> 0.52028544 | Q74: ='EMR2016'!$G77/1000 -> 10.147923 | R74: =100*Q74/Q$7 -> 0.24521477 | S74: ='WPR2016'!$G77/1000 -> 27.987309 | T74: =100*S74/S$7 -> 0.2006209 | U74: =World2030!$G77/1000 -> 213.03284 | V74: =100*U74/U$7 -> 0.31273422 | W74: ='AFR2030'!$G77/1000 -> 19.164626 | X74: =100*W74/W$7 -> 0.18995226 | Y74: ='AMR2030'!$G77/1000 -> 35.488683 | Z74: =100*Y74/Y$7 -> 0.41051565 | AA74: =SEAR2030!$G77/1000 -> 54.096822 | AB74: =100*AA74/AA$7 -> 0.32076992 | AC74: ='EUR2030'!$G77/1000 -> 52.981378 | AD74: =100*AC74/AC$7 -> 0.53996532 | AE74: ='EMR2030'!$G77/1000 -> 16.389392 | AF74: =100*AE74/AE$7 -> 0.31549658 | AG74: ='WPR2030'!$G77/1000 -> 34.911941 | AH74: =100*AG74/AG$7 -> 0.19933848 | AI74: =World2045!$G77/1000 -> 262.68297 | AJ74: =100*AI74/AI$7 -> 0.30711435 | AK74: ='AFR2045'!$G77/1000 -> 31.947417 | AL74: =100*AK74/AK$7 -> 0.24686879 | AM74: ='AMR2045'!$G77/1000 -> 42.921412 | AN74: =100*AM74/AM$7 -> 0.37729582 | AO74: =SEAR2045!$G77/1000 -> 67.706533 | AP74: =100*AO74/AO$7 -> 0.33657126 | AQ74: ='EUR2045'!$G77/1000 -> 56.122919 | AR74: =100*AQ74/AQ$7 -> 0.4971012 | AS74: ='EMR2045'!$G77/1000 -> 24.640547 | AT74: =100*AS74/AS$7 -> 0.33294175 | AU74: ='WPR2045'!$G77/1000 -> 39.344139 | AV74: =100*AU74/AU$7 -> 0.17558028 | AW74: =World2060!$G77/1000 -> 303.32922 | AX74: =100*AW74/AW$7 -> 0.29787466 | AY74: ='AFR2060'!$G77/1000 -> 50.584984 | AZ74: =100*AY74/AY$7 -> 0.27894437 | BA74: ='AMR2060'!$G77/1000 -> 47.8058 | BB74: =100*BA74/BA$7 -> 0.35849659 | BC74: =SEAR2060!$G77/1000 -> 77.200496 | BD74: =100*BC74/BC$7 -> 0.32550385 | BE74: ='EUR2060'!$G77/1000 -> 54.771838 | BF74: =100*BE74/BE$7 -> 0.46950705 | BG74: ='EMR2060'!$G77/1000 -> 33.748949 | BH74: =100*BG74/BG$7 -> 0.32606816 | BI74: ='WPR2060'!$G77/1000 -> 39.217149 | BJ74: =100*BI74/BI$7 -> 0.15923595
... A78: 77 | D78: 16. | E78: Leukaemia | G78: =World2016!$G81/1000 -> 292.34153 | H78: =100*G78/G$7 -> 0.5140215 | I78: ='AFR2016'!$G81/1000 -> 15.887193 | J78: =100*I78/I$7 -> 0.17961574 | K78: ='AMR2016'!$G81/1000 -> 57.530302 | L78: =100*K78/K$7 -> 0.83300902 | M78: =SEAR2016!$G81/1000 -> 46.302158 | N78: =100*M78/M$7 -> 0.3350726 | O78: ='EUR2016'!$G81/1000 -> 69.236116 | P78: =100*O78/O$7 -> 0.75136533 | Q78: ='EMR2016'!$G81/1000 -> 22.430249 | R78: =100*Q78/Q$7 -> 0.54200535 | S78: ='WPR2016'!$G81/1000 -> 80.95551 | T78: =100*S78/S$7 -> 0.58031185 | U78: =World2030!$G81/1000 -> 356.87825 | V78: =100*U78/U$7 -> 0.52390064 | W78: ='AFR2030'!$G81/1000 -> 25.326306 | X78: =100*W78/W$7 -> 0.25102441 | Y78: ='AMR2030'!$G81/1000 -> 72.954146 | Z78: =100*Y78/Y$7 -> 0.84389771 | AA78: =SEAR2030!$G81/1000 -> 56.575081 | AB78: =100*AA78/AA$7 -> 0.33546489 | AC78: ='EUR2030'!$G81/1000 -> 78.707742 | AD78: =100*AC78/AC$7 -> 0.80215828 | AE78: ='EMR2030'!$G81/1000 -> 31.187448 | AF78: =100*AE78/AE$7 -> 0.60035988 | AG78: ='WPR2030'!$G81/1000 -> 92.127527 | AH78: =100*AG78/AG$7 -> 0.52602522 | AI78: =World2045!$G81/1000 -> 443.43741 | AJ78: =100*AI78/AI$7 -> 0.51844241 | AK78: ='AFR2045'!$G81/1000 -> 40.793354 | AL78: =100*AK78/AK$7 -> 0.31522441 | AM78: ='AMR2045'!$G81/1000 -> 93.114746 | AN78: =100*AM78/AM$7 -> 0.81851464 | AO78: =SEAR2045!$G81/1000 -> 66.821053 | AP78: =100*AO78/AO$7 -> 0.33216951 | AQ78: ='EUR2045'!$G81/1000 -> 92.699514 | AR78: =100*AQ78/AQ$7 -> 0.82107346 | AS78: ='EMR2045'!$G81/1000 -> 44.360847 | AT78: =100*AS78/AS$7 -> 0.59940141 | AU78: ='WPR2045'!$G81/1000 -> 105.6479 | AV78: =100*AU78/AU$7 -> 0.47147272 | AW78: =World2060!$G81/1000 -> 511.90912 | AX78: =100*AW78/AW$7 -> 0.50270381 | AY78: ='AFR2060'!$G81/1000 -> 62.625202 | AZ78: =100*AY78/AY$7 -> 0.3453386 | BA78: ='AMR2060'!$G81/1000 -> 107.42092 | BB78: =100*BA78/BA$7 -> 0.80555146 | BC78: =SEAR2060!$G81/1000 -> 75.699422 | BD78: =100*BC78/BC$7 -> 0.31917481 | BE78: ='EUR2060'!$G81/1000 -> 97.287998 | BF78: =100*BE78/BE$7 -> 0.83395779 | BG78: ='EMR2060'!$G81/1000 -> 59.685903 | BH78: =100*BG78/BG$7 -> 0.57666011 | BI78: ='WPR2060'!$G81/1000 -> 109.18968 | BJ78: =100*BI78/BI$7 -> 0.44335
A79: 78 | E79: Other malignant neoplasms | G79: =World2016!$G82/1000 -> 1315.2994 | H79: =100*G79/G$7 -> 2.3126792 | I79: ='AFR2016'!$G82/1000 -> 132.14622 | J79: =100*I79/I$7 -> 1.4940046 | K79: ='AMR2016'!$G82/1000 -> 194.40821 | L79: =100*K79/K$7 -> 2.8149303 | M79: =SEAR2016!$G82/1000 -> 238.98673 | N79: =100*M79/M$7 -> 1.7294638 | O79: ='EUR2016'!$G82/1000 -> 317.15149 | P79: =100*O79/O$7 -> 3.4417967 | Q79: ='EMR2016'!$G82/1000 -> 106.17019 | R79: =100*Q79/Q$7 -> 2.5655002 | S79: ='WPR2016'!$G82/1000 -> 326.43654 | T79: =100*S79/S$7 -> 2.3399889 | U79: =World2030!$G82/1000 -> 1769.6713 | V79: =100*U79/U$7 -> 2.5978941 | W79: ='AFR2030'!$G82/1000 -> 220.96135 | X79: =100*W79/W$7 -> 2.1900823 | Y79: ='AMR2030'!$G82/1000 -> 241.3091 | Z79: =100*Y79/Y$7 -> 2.7913451 | AA79: =SEAR2030!$G82/1000 -> 339.097 | AB79: =100*AA79/AA$7 -> 2.0106933 | AC79: ='EUR2030'!$G82/1000 -> 359.92337 | AD79: =100*AC79/AC$7 -> 3.6681972 | AE79: ='EMR2030'!$G82/1000 -> 161.38715 | AF79: =100*AE79/AE$7 -> 3.1067105 | AG79: ='WPR2030'!$G82/1000 -> 446.99329 | AH79: =100*AG79/AG$7 -> 2.5522203 | AI79: =World2045!$G82/1000 -> 2380.6572 | AJ79: =100*AI79/AI$7 -> 2.7833322 | AK79: ='AFR2045'!$G82/1000 -> 371.32457 | AL79: =100*AK79/AK$7 -> 2.8693538 | AM79: ='AMR2045'!$G82/1000 -> 312.92356 | AN79: =100*AM79/AM$7 -> 2.7507191 | AO79: =SEAR2045!$G82/1000 -> 449.57708 | AP79: =100*AO79/AO$7 -> 2.2348615 | AQ79: ='EUR2045'!$G82/1000 -> 405.65908 | AR79: =100*AQ79/AQ$7 -> 3.5930707 | AS79: ='EMR2045'!$G82/1000 -> 247.37143 | AT79: =100*AS79/AS$7 -> 3.3424696 | AU79: ='WPR2045'!$G82/1000 -> 593.80144 | AV79: =100*AU79/AU$7 -> 2.6499455 | AW79: =World2060!$G82/1000 -> 2965.8981 | AX79: =100*AW79/AW$7 -> 2.9125644 | AY79: ='AFR2060'!$G82/1000 -> 599.24643 | AZ79: =100*AY79/AY$7 -> 3.3044672 | BA79: ='AMR2060'!$G82/1000 -> 376.69035 | BB79: =100*BA79/BA$7 -> 2.824808 | BC79: =SEAR2060!$G82/1000 -> 552.56343 | BD79: =100*BC79/BC$7 -> 2.3297976 | BE79: ='EUR2060'!$G82/1000 -> 417.14288 | BF79: =100*BE79/BE$7 -> 3.5757705 | BG79: ='EMR2060'!$G82/1000 -> 354.79327 | BH79: =100*BG79/BG$7 -> 3.4278635 | BI79: ='WPR2060'!$G82/1000 -> 665.46171 | BJ79: =100*BI79/BI$7 -> 2.7020176
A80: 79 | C80: B. | D80: Other neoplasms | G80: =World2016!$G83/1000 -> 215.19358 | H80: =100*G80/G$7 -> 0.37837295 | I80: ='AFR2016'!$G83/1000 -> 17.66372 | J80: =100*I80/I$7 -> 0.19970061 | K80: ='AMR2016'!$G83/1000 -> 44.848184 | L80: =100*K80/K$7 -> 0.64937851 | M80: =SEAR2016!$G83/1000 -> 22.712325 | N80: =100*M80/M$7 -> 0.16436119 | O80: ='EUR2016'!$G83/1000 -> 52.577327 | P80: =100*O80/O$7 -> 0.57058054 | Q80: ='EMR2016'!$G83/1000 -> 15.879206 | R80: =100*Q80/Q$7 -> 0.3837057 | S80: ='WPR2016'!$G83/1000 -> 61.512817 | T80: =100*S80/S$7 -> 0.44094116 | U80: =World2030!$G83/1000 -> 290.80247 | V80: =100*U80/U$7 -> 0.42690077 | W80: ='AFR2030'!$G83/1000 -> 25.451592 | X80: =100*W80/W$7 -> 0.2522662 | Y80: ='AMR2030'!$G83/1000 -> 72.424078 | Z80: =100*Y80/Y$7 -> 0.83776614 | AA80: =SEAR2030!$G83/1000 -> 27.483427 | AB80: =100*AA80/AA$7 -> 0.16296441 | AC80: ='EUR2030'!$G83/1000 -> 67.805729 | AD80: =100*AC80/AC$7 -> 0.69104926 | AE80: ='EMR2030'!$G83/1000 -> 21.02607 | AF80: =100*AE80/AE$7 -> 0.40475285 | AG80: ='WPR2030'!$G83/1000 -> 76.611574 | AH80: =100*AG80/AG$7 -> 0.437433 | AI80: =World2045!$G83/1000 -> 402.02288 | AJ80: =100*AI80/AI$7 -> 0.47002283 | AK80: ='AFR2045'!$G83/1000 -> 42.78515 | AL80: =100*AK80/AK$7 -> 0.33061571 | AM80: ='AMR2045'!$G83/1000 -> 104.14245 | AN80: =100*AM80/AM$7 -> 0.91545245 | AO80: =SEAR2045!$G83/1000 -> 36.939037 | AP80: =100*AO80/AO$7 -> 0.18362509 | AQ80: ='EUR2045'!$G83/1000 -> 88.116462 | AR80: =100*AQ80/AQ$7 -> 0.7804797 | AS80: ='EMR2045'!$G83/1000 -> 32.142547 | AT80: =100*AS80/AS$7 -> 0.43430839 | AU80: ='WPR2045'!$G83/1000 -> 97.897227 | AV80: =100*AU80/AU$7 -> 0.43688395 | AW80: =World2060!$G83/1000 -> 504.44505 | AX80: =100*AW80/AW$7 -> 0.49537396 | AY80: ='AFR2060'!$G83/1000 -> 69.759394 | AZ80: =100*AY80/AY$7 -> 0.38467919 | BA80: ='AMR2060'!$G83/1000 -> 131.35351 | BB80: =100*BA80/BA$7 -> 0.98502241 | BC80: =SEAR2060!$G83/1000 -> 47.114437 | BD80: =100*BC80/BC$7 -> 0.19865068 | BE80: ='EUR2060'!$G83/1000 -> 98.640514 | BF80: =100*BE80/BE$7 -> 0.84555162 | BG80: ='EMR2060'!$G83/1000 -> 46.190162 | BH80: =100*BG80/BG$7 -> 0.44626994 | BI80: ='WPR2060'!$G83/1000 -> 111.38704 | BJ80: =100*BI80/BI$7 -> 0.45227207
A81: 80 | C81: C. | D81: Diabetes mellitus | G81: =World2016!$G84/1000 -> 1598.526 | H81: =100*G81/G$7 -> 2.810674 | I81: ='AFR2016'!$G84/1000 -> 167.75401 | J81: =100*I81/I$7 -> 1.8965754 | K81: ='AMR2016'!$G84/1000 -> 345.96105 | L81: =100*K81/K$7 -> 5.0093371 | M81: =SEAR2016!$G84/1000 -> 503.14969 | N81: =100*M81/M$7 -> 3.6411192 | O81: ='EUR2016'!$G84/1000 -> 179.28448 | P81: =100*O81/O$7 -> 1.945634 | Q81: ='EMR2016'!$G84/1000 -> 131.69521 | R81: =100*Q81/Q$7 -> 3.1822878 | S81: ='WPR2016'!$G84/1000 -> 270.68154 | T81: =100*S81/S$7 -> 1.9403214 | U81: =World2030!$G84/1000 -> 2412.6356 | V81: =100*U81/U$7 -> 3.5417718 | W81: ='AFR2030'!$G84/1000 -> 265.28133 | X81: =100*W81/W$7 -> 2.6293645 | Y81: ='AMR2030'!$G84/1000 -> 518.34574 | Z81: =100*Y81/Y$7 -> 5.9959688 | AA81: =SEAR2030!$G84/1000 -> 789.28381 | AB81: =100*AA81/AA$7 -> 4.6800995 | AC81: ='EUR2030'!$G84/1000 -> 221.22141 | AD81: =100*AC81/AC$7 -> 2.2546015 | AE81: ='EMR2030'!$G84/1000 -> 218.415 | AF81: =100*AE81/AE$7 -> 4.2044993 | AG81: ='WPR2030'!$G84/1000 -> 400.08826 | AH81: =100*AG81/AG$7 -> 2.2844043 | AI81: =World2045!$G84/1000 -> 3663.4593 | AJ81: =100*AI81/AI$7 -> 4.2831133 | AK81: ='AFR2045'!$G84/1000 -> 453.53355 | AL81: =100*AK81/AK$7 -> 3.5046112 | AM81: ='AMR2045'!$G84/1000 -> 780.94005 | AN81: =100*AM81/AM$7 -> 6.8647652 | AO81: =SEAR2045!$G84/1000 -> 1154.388 | AP81: =100*AO81/AO$7 -> 5.7384982 | AQ81: ='EUR2045'!$G84/1000 -> 288.16679 | AR81: =100*AQ81/AQ$7 -> 2.5523985 | AS81: ='EMR2045'!$G84/1000 -> 384.69193 | AT81: =100*AS81/AS$7 -> 5.1979369 | AU81: ='WPR2045'!$G84/1000 -> 601.73899 | AV81: =100*AU81/AU$7 -> 2.6853683 | AW81: =World2060!$G84/1000 -> 5128.5589 | AX81: =100*AW81/AW$7 -> 5.0363355 | AY81: ='AFR2060'!$G84/1000 -> 779.29465 | AZ81: =100*AY81/AY$7 -> 4.2973199 | BA81: ='AMR2060'!$G84/1000 -> 1025.9438 | BB81: =100*BA81/BA$7 -> 7.6935719 | BC81: =SEAR2060!$G84/1000 -> 1623.6117 | BD81: =100*BC81/BC$7 -> 6.8457054 | BE81: ='EUR2060'!$G84/1000 -> 332.88495 | BF81: =100*BE81/BE$7 -> 2.8535071 | BG81: ='EMR2060'!$G84/1000 -> 614.14898 | BH81: =100*BG81/BG$7 -> 5.9336493 | BI81: ='WPR2060'!$G84/1000 -> 752.67483 | BJ81: =100*BI81/BI$7 -> 3.0561347
A82: 81 | C82: D. | D82: Endocrine, blood, immune disorders | G82: =World2016!$G85/1000 -> 362.04862 | H82: =100*G82/G$7 -> 0.63658686 | I82: ='AFR2016'!$G85/1000 -> 103.431 | J82: =100*I82/I$7 -> 1.1693592 | K82: ='AMR2016'!$G85/1000 -> 91.060223 | L82: =100*K82/K$7 -> 1.3185049 | M82: =SEAR2016!$G85/1000 -> 38.853699 | N82: =100*M82/M$7 -> 0.2811707 | O82: ='EUR2016'!$G85/1000 -> 52.991491 | P82: =100*O82/O$7 -> 0.57507514 | Q82: ='EMR2016'!$G85/1000 -> 26.007575 | R82: =100*Q82/Q$7 -> 0.62844799 | S82: ='WPR2016'!$G85/1000 -> 49.704634 | T82: =100*S82/S$7 -> 0.35629679 | U82: =World2030!$G85/1000 -> 469.71417 | V82: =100*U82/U$7 -> 0.68954484 | W82: ='AFR2030'!$G85/1000 -> 137.55004 | X82: =100*W82/W$7 -> 1.3633421 | Y82: ='AMR2030'!$G85/1000 -> 120.86244 | Z82: =100*Y82/Y$7 -> 1.3980773 | AA82: =SEAR2030!$G85/1000 -> 50.00301 | AB82: =100*AA82/AA$7 -> 0.29649545 | AC82: ='EUR2030'!$G85/1000 -> 64.394618 | AD82: =100*AC82/AC$7 -> 0.65628456 | AE82: ='EMR2030'!$G85/1000 -> 32.75508 | AF82: =100*AE82/AE$7 -> 0.63053687 | AG82: ='WPR2030'!$G85/1000 -> 64.148976 | AH82: =100*AG82/AG$7 -> 0.36627467 | AI82: =World2045!$G85/1000 -> 605.0384 | AJ82: =100*AI82/AI$7 -> 0.70737732 | AK82: ='AFR2045'!$G85/1000 -> 177.11863 | AL82: =100*AK82/AK$7 -> 1.3686571 | AM82: ='AMR2045'!$G85/1000 -> 158.95013 | AN82: =100*AM82/AM$7 -> 1.3972332 | AO82: =SEAR2045!$G85/1000 -> 64.221521 | AP82: =100*AO82/AO$7 -> 0.31924716 | AQ82: ='EUR2045'!$G85/1000 -> 77.808081 | AR82: =100*AQ82/AQ$7 -> 0.68917459 | AS82: ='EMR2045'!$G85/1000 -> 44.537247 | AT82: =100*AS82/AS$7 -> 0.60178491 | AU82: ='WPR2045'!$G85/1000 -> 82.402792 | AV82: =100*AU82/AU$7 -> 0.36773725 | AW82: =World2060!$G85/1000 -> 728.60901 | AX82: =100*AW82/AW$7 -> 0.71550693 | AY82: ='AFR2060'!$G85/1000 -> 217.78627 | AZ82: =100*AY82/AY$7 -> 1.2009543 | BA82: ='AMR2060'!$G85/1000 -> 188.17876 | BB82: =100*BA82/BA$7 -> 1.411156 | BC82: =SEAR2060!$G85/1000 -> 82.517134 | BD82: =100*BC82/BC$7 -> 0.34792063 | BE82: ='EUR2060'!$G85/1000 -> 84.899039 | BF82: =100*BE82/BE$7 -> 0.72775898 | BG82: ='EMR2060'!$G85/1000 -> 59.177735 | BH82: =100*BG82/BG$7 -> 0.5717504 | BI82: ='WPR2060'!$G85/1000 -> 96.050074 | BJ82: =100*BI82/BI$7 -> 0.38999839
A83: 82 | C83: E. | D83: Mental and behavioral disorders | G83: =World2016!$G86/1000 -> 315.39721 | H83: =100*G83/G$7 -> 0.55456011 | I83: ='AFR2016'!$G86/1000 -> 26.095824 | J83: =100*I83/I$7 -> 0.29503139 | K83: ='AMR2016'!$G86/1000 -> 79.282465 | L83: =100*K83/K$7 -> 1.1479691 | M83: =SEAR2016!$G86/1000 -> 41.966661 | N83: =100*M83/M$7 -> 0.30369811 | O83: ='EUR2016'!$G86/1000 -> 102.14985 | P83: =100*O83/O$7 -> 1.1085523 | Q83: ='EMR2016'!$G86/1000 -> 8.7227691 | R83: =100*Q83/Q$7 -> 0.21077731 | S83: ='WPR2016'!$G86/1000 -> 57.179643 | T83: =100*S83/S$7 -> 0.40987975 | U83: =World2030!$G86/1000 -> 347.68078 | V83: =100*U83/U$7 -> 0.51039867 | W83: ='AFR2030'!$G86/1000 -> 39.113357 | X83: =100*W83/W$7 -> 0.38767626 | Y83: ='AMR2030'!$G86/1000 -> 91.101445 | Z83: =100*Y83/Y$7 -> 1.0538167 | AA83: =SEAR2030!$G86/1000 -> 48.418866 | AB83: =100*AA83/AA$7 -> 0.28710219 | AC83: ='EUR2030'!$G86/1000 -> 90.153567 | AD83: =100*AC83/AC$7 -> 0.91880962 | AE83: ='EMR2030'!$G86/1000 -> 10.64759 | AF83: =100*AE83/AE$7 -> 0.20496662 | AG83: ='WPR2030'!$G86/1000 -> 68.245956 | AH83: =100*AG83/AG$7 -> 0.3896674 | AI83: =World2045!$G86/1000 -> 368.30784 | AJ83: =100*AI83/AI$7 -> 0.43060509 | AK83: ='AFR2045'!$G86/1000 -> 54.558505 | AL83: =100*AK83/AK$7 -> 0.42159251 | AM83: ='AMR2045'!$G86/1000 -> 93.143969 | AN83: =100*AM83/AM$7 -> 0.81877152 | AO83: =SEAR2045!$G86/1000 -> 50.131119 | AP83: =100*AO83/AO$7 -> 0.24920334 | AQ83: ='EUR2045'!$G86/1000 -> 82.388207 | AR83: =100*AQ83/AQ$7 -> 0.72974244 | AS83: ='EMR2045'!$G86/1000 -> 13.206273 | AT83: =100*AS83/AS$7 -> 0.17844246 | AU83: ='WPR2045'!$G86/1000 -> 74.879771 | AV83: =100*AU83/AU$7 -> 0.33416442 | AW83: =World2060!$G86/1000 -> 376.97775 | AX83: =100*AW83/AW$7 -> 0.37019882 | AY83: ='AFR2060'!$G86/1000 -> 71.740404 | AZ83: =100*AY83/AY$7 -> 0.39560321 | BA83: ='AMR2060'!$G86/1000 -> 91.849226 | BB83: =100*BA83/BA$7 -> 0.68877907 | BC83: =SEAR2060!$G86/1000 -> 50.714741 | BD83: =100*BC83/BC$7 -> 0.2138308 | BE83: ='EUR2060'!$G86/1000 -> 72.476074 | BF83: =100*BE83/BE$7 -> 0.62126868 | BG83: ='EMR2060'!$G86/1000 -> 15.70981 | BH83: =100*BG83/BG$7 -> 0.15178158 | BI83: ='WPR2060'!$G86/1000 -> 74.4875 | BJ83: =100*BI83/BI$7 -> 0.30244646
A84: 83 | D84: 1. | E84: Unipolar depressive disorders | G84: =World2016!$G87/1000 -> 0 | H84: =100*G84/G$7 -> 0 | I84: ='AFR2016'!$G87/1000 -> 0 | J84: =100*I84/I$7 -> 0 | K84: ='AMR2016'!$G87/1000 -> 0 | L84: =100*K84/K$7 -> 0 | M84: =SEAR2016!$G87/1000 -> 0 | N84: =100*M84/M$7 -> 0 | O84: ='EUR2016'!$G87/1000 -> 0 | P84: =100*O84/O$7 -> 0 | Q84: ='EMR2016'!$G87/1000 -> 0 | R84: =100*Q84/Q$7 -> 0 | S84: ='WPR2016'!$G87/1000 -> 0 | T84: =100*S84/S$7 -> 0 | U84: =World2030!$G87/1000 -> 0 | V84: =100*U84/U$7 -> 0 | W84: ='AFR2030'!$G87/1000 -> 0 | X84: =100*W84/W$7 -> 0 | Y84: ='AMR2030'!$G87/1000 -> 0 | Z84: =100*Y84/Y$7 -> 0 | AA84: =SEAR2030!$G87/1000 -> 0 | AB84: =100*AA84/AA$7 -> 0 | AC84: ='EUR2030'!$G87/1000 -> 0 | AD84: =100*AC84/AC$7 -> 0 | AE84: ='EMR2030'!$G87/1000 -> 0 | AF84: =100*AE84/AE$7 -> 0 | AG84: ='WPR2030'!$G87/1000 -> 0 | AH84: =100*AG84/AG$7 -> 0 | AI84: =World2045!$G87/1000 -> 0 | AJ84: =100*AI84/AI$7 -> 0 | AK84: ='AFR2045'!$G87/1000 -> 0 | AL84: =100*AK84/AK$7 -> 0 | AM84: ='AMR2045'!$G87/1000 -> 0 | AN84: =100*AM84/AM$7 -> 0 | AO84: =SEAR2045!$G87/1000 -> 0 | AP84: =100*AO84/AO$7 -> 0 | AQ84: ='EUR2045'!$G87/1000 -> 0 | AR84: =100*AQ84/AQ$7 -> 0 | AS84: ='EMR2045'!$G87/1000 -> 0 | AT84: =100*AS84/AS$7 -> 0 | AU84: ='WPR2045'!$G87/1000 -> 0 | AV84: =100*AU84/AU$7 -> 0 | AW84: =World2060!$G87/1000 -> 0 | AX84: =100*AW84/AW$7 -> 0 | AY84: ='AFR2060'!$G87/1000 -> 0 | AZ84: =100*AY84/AY$7 -> 0 | BA84: ='AMR2060'!$G87/1000 -> 0 | BB84: =100*BA84/BA$7 -> 0 | BC84: =SEAR2060!$G87/1000 -> 0 | BD84: =100*BC84/BC$7 -> 0 | BE84: ='EUR2060'!$G87/1000 -> 0 | BF84: =100*BE84/BE$7 -> 0 | BG84: ='EMR2060'!$G87/1000 -> 0 | BH84: =100*BG84/BG$7 -> 0 | BI84: ='WPR2060'!$G87/1000 -> 0 | BJ84: =100*BI84/BI$7 -> 0
A85: 84 | D85: 2. | E85: Bipolar disorder | G85: =World2016!$G88/1000 -> 0.78524821 | H85: =100*G85/G$7 -> 0.0013806949 | I85: ='AFR2016'!$G88/1000 -> 0 | J85: =100*I85/I$7 -> 0 | K85: ='AMR2016'!$G88/1000 -> 0.25531604 | L85: =100*K85/K$7 -> 0.0036968442 | M85: =SEAR2016!$G88/1000 -> 0 | N85: =100*M85/M$7 -> 0 | O85: ='EUR2016'!$G88/1000 -> 0.46333843 | P85: =100*O85/O$7 -> 0.005028249 | Q85: ='EMR2016'!$G88/1000 -> 0 | R85: =100*Q85/Q$7 -> 0 | S85: ='WPR2016'!$G88/1000 -> 0.066593742 | T85: =100*S85/S$7 -> 0.00047736266 | U85: =World2030!$G88/1000 -> 0.75483585 | V85: =100*U85/U$7 -> 0.0011081062 | W85: ='AFR2030'!$G88/1000 -> 0 | X85: =100*W85/W$7 -> 0 | Y85: ='AMR2030'!$G88/1000 -> 0.24886249 | Z85: =100*Y85/Y$7 -> 0.0028787189 | AA85: =SEAR2030!$G88/1000 -> 0 | AB85: =100*AA85/AA$7 -> 0 | AC85: ='EUR2030'!$G88/1000 -> 0.45174766 | AD85: =100*AC85/AC$7 -> 0.0046040341 | AE85: ='EMR2030'!$G88/1000 -> 0 | AF85: =100*AE85/AE$7 -> 0 | AG85: ='WPR2030'!$G88/1000 -> 0.054225707 | AH85: =100*AG85/AG$7 -> 0.00030961527 | AI85: =World2045!$G88/1000 -> 0.865776 | AJ85: =100*AI85/AI$7 -> 0.0010122172 | AK85: ='AFR2045'!$G88/1000 -> 0 | AL85: =100*AK85/AK$7 -> 0 | AM85: ='AMR2045'!$G88/1000 -> 0.28374509 | AN85: =100*AM85/AM$7 -> 0.0024942291 | AO85: =SEAR2045!$G88/1000 -> 0 | AP85: =100*AO85/AO$7 -> 0 | AQ85: ='EUR2045'!$G88/1000 -> 0.52466745 | AR85: =100*AQ85/AQ$7 -> 0.0046471713 | AS85: ='EMR2045'!$G88/1000 -> 0 | AT85: =100*AS85/AS$7 -> 0 | AU85: ='WPR2045'!$G88/1000 -> 0.057363452 | AV85: =100*AU85/AU$7 -> 0.0002559947 | AW85: =World2060!$G88/1000 -> 0.8908798 | AX85: =100*AW85/AW$7 -> 0.00087485972 | AY85: ='AFR2060'!$G88/1000 -> 0 | AZ85: =100*AY85/AY$7 -> 0 | BA85: ='AMR2060'!$G88/1000 -> 0.29669681 | BB85: =100*BA85/BA$7 -> 0.0022249349 | BC85: =SEAR2060!$G88/1000 -> 0 | BD85: =100*BC85/BC$7 -> 0 | BE85: ='EUR2060'!$G88/1000 -> 0.53407702 | BF85: =100*BE85/BE$7 -> 0.004578136 | BG85: ='EMR2060'!$G88/1000 -> 0 | BH85: =100*BG85/BG$7 -> 0 | BI85: ='WPR2060'!$G88/1000 -> 0.060105966 | BJ85: =100*BI85/BI$7 -> 0.00024405218
A86: 85 | D86: 3. | E86: Schizophrenia | G86: =World2016!$G89/1000 -> 5.1979722 | H86: =100*G86/G$7 -> 0.0091395482 | I86: ='AFR2016'!$G89/1000 -> 0 | J86: =100*I86/I$7 -> 0 | K86: ='AMR2016'!$G89/1000 -> 1.7019367 | L86: =100*K86/K$7 -> 0.024643164 | M86: =SEAR2016!$G89/1000 -> 0 | N86: =100*M86/M$7 -> 0 | O86: ='EUR2016'!$G89/1000 -> 2.5001297 | P86: =100*O86/O$7 -> 0.027131949 | Q86: ='EMR2016'!$G89/1000 -> 0 | R86: =100*Q86/Q$7 -> 0 | S86: ='WPR2016'!$G89/1000 -> 0.99590581 | T86: =100*S86/S$7 -> 0.0071389328 | U86: =World2030!$G89/1000 -> 6.2524366 | V86: =100*U86/U$7 -> 0.009178636 | W86: ='AFR2030'!$G89/1000 -> 0.00032811198 | X86: =100*W86/W$7 -> 3.2521172e-06 | Y86: ='AMR2030'!$G89/1000 -> 2.1583009 | Z86: =100*Y86/Y$7 -> 0.024966164 | AA86: =SEAR2030!$G89/1000 -> 0 | AB86: =100*AA86/AA$7 -> 0 | AC86: ='EUR2030'!$G89/1000 -> 2.6105188 | AD86: =100*AC86/AC$7 -> 0.026605378 | AE86: ='EMR2030'!$G89/1000 -> 0 | AF86: =100*AE86/AE$7 -> 0 | AG86: ='WPR2030'!$G89/1000 -> 1.4832888 | AH86: =100*AG86/AG$7 -> 0.0084692096 | AI86: =World2045!$G89/1000 -> 6.8070359 | AJ86: =100*AI86/AI$7 -> 0.0079584085 | AK86: ='AFR2045'!$G89/1000 -> 0.00033972186 | AL86: =100*AK86/AK$7 -> 2.6251488e-06 | AM86: ='AMR2045'!$G89/1000 -> 2.5026621 | AN86: =100*AM86/AM$7 -> 0.021999368 | AO86: =SEAR2045!$G89/1000 -> 0 | AP86: =100*AO86/AO$7 -> 0 | AQ86: ='EUR2045'!$G89/1000 -> 2.814095 | AR86: =100*AQ86/AQ$7 -> 0.024925467 | AS86: ='EMR2045'!$G89/1000 -> 0 | AT86: =100*AS86/AS$7 -> 0 | AU86: ='WPR2045'!$G89/1000 -> 1.4899391 | AV86: =100*AU86/AU$7 -> 0.0066491205 | AW86: =World2060!$G89/1000 -> 6.9421214 | AX86: =100*AW86/AW$7 -> 0.0068172859 | AY86: ='AFR2060'!$G89/1000 -> 0.00032213306 | AZ86: =100*AY86/AY$7 -> 1.7763613e-06 | BA86: ='AMR2060'!$G89/1000 -> 2.6644223 | BB86: =100*BA86/BA$7 -> 0.019980553 | BC86: =SEAR2060!$G89/1000 -> 0 | BD86: =100*BC86/BC$7 -> 0 | BE86: ='EUR2060'!$G89/1000 -> 2.7740151 | BF86: =100*BE86/BE$7 -> 0.023779002 | BG86: ='EMR2060'!$G89/1000 -> 0 | BH86: =100*BG86/BG$7 -> 0 | BI86: ='WPR2060'!$G89/1000 -> 1.5033618 | BJ86: =100*BI86/BI$7 -> 0.0061041981
A87: 86 | D87: 4. | E87: Alcohol use disorders | G87: =World2016!$G90/1000 -> 145.56528 | H87: =100*G87/G$7 -> 0.25594614 | I87: ='AFR2016'!$G90/1000 -> 11.613355 | J87: =100*I87/I$7 -> 0.13129703 | K87: ='AMR2016'!$G90/1000 -> 31.814945 | L87: =100*K87/K$7 -> 0.46066395 | M87: =SEAR2016!$G90/1000 -> 22.667771 | N87: =100*M87/M$7 -> 0.16403877 | O87: ='EUR2016'!$G90/1000 -> 57.525993 | P87: =100*O87/O$7 -> 0.62428453 | Q87: ='EMR2016'!$G90/1000 -> 2.1291039 | R87: =100*Q87/Q$7 -> 0.051447744 | S87: ='WPR2016'!$G90/1000 -> 19.814117 | T87: =100*S87/S$7 -> 0.14203316 | U87: =World2030!$G90/1000 -> 154.87532 | V87: =100*U87/U$7 -> 0.22735844 | W87: ='AFR2030'!$G90/1000 -> 16.920158 | X87: =100*W87/W$7 -> 0.16770597 | Y87: ='AMR2030'!$G90/1000 -> 36.360322 | Z87: =100*Y87/Y$7 -> 0.42059834 | AA87: =SEAR2030!$G90/1000 -> 26.655282 | AB87: =100*AA87/AA$7 -> 0.15805388 | AC87: ='EUR2030'!$G90/1000 -> 50.557063 | AD87: =100*AC87/AC$7 -> 0.51525766 | AE87: ='EMR2030'!$G90/1000 -> 2.783106 | AF87: =100*AE87/AE$7 -> 0.053574925 | AG87: ='WPR2030'!$G90/1000 -> 21.599393 | AH87: =100*AG87/AG$7 -> 0.12332715 | AI87: =World2045!$G90/1000 -> 159.83964 | AJ87: =100*AI87/AI$7 -> 0.18687564 | AK87: ='AFR2045'!$G90/1000 -> 24.271177 | AL87: =100*AK87/AK$7 -> 0.18755181 | AM87: ='AMR2045'!$G90/1000 -> 39.150477 | AN87: =100*AM87/AM$7 -> 0.34414784 | AO87: =SEAR2045!$G90/1000 -> 27.424019 | AP87: =100*AO87/AO$7 -> 0.13632565 | AQ87: ='EUR2045'!$G90/1000 -> 44.090621 | AR87: =100*AQ87/AQ$7 -> 0.39052674 | AS87: ='EMR2045'!$G90/1000 -> 3.6038265 | AT87: =100*AS87/AS$7 -> 0.048694712 | AU87: ='WPR2045'!$G90/1000 -> 21.299521 | AV87: =100*AU87/AU$7 -> 0.095052938 | AW87: =World2060!$G90/1000 -> 162.31232 | AX87: =100*AW87/AW$7 -> 0.15939356 | AY87: ='AFR2060'!$G90/1000 -> 33.376929 | AZ87: =100*AY87/AY$7 -> 0.18405277 | BA87: ='AMR2060'!$G90/1000 -> 39.573221 | BB87: =100*BA87/BA$7 -> 0.29676033 | BC87: =SEAR2060!$G90/1000 -> 27.434714 | BD87: =100*BC87/BC$7 -> 0.11567419 | BE87: ='EUR2060'!$G90/1000 -> 37.327505 | BF87: =100*BE87/BE$7 -> 0.31997332 | BG87: ='EMR2060'!$G90/1000 -> 4.3686328 | BH87: =100*BG87/BG$7 -> 0.042207894 | BI87: ='WPR2060'!$G90/1000 -> 20.231314 | BJ87: =100*BI87/BI$7 -> 0.082146523
A88: 87 | D88: 5. | E88: Drug use disorders | G88: =World2016!$G91/1000 -> 160.23489 | H88: =100*G88/G$7 -> 0.28173957 | I88: ='AFR2016'!$G91/1000 -> 14.425776 | J88: =100*I88/I$7 -> 0.1630934 | K88: ='AMR2016'!$G91/1000 -> 44.135289 | L88: =100*K88/K$7 -> 0.63905616 | M88: =SEAR2016!$G91/1000 -> 18.897433 | N88: =100*M88/M$7 -> 0.13675414 | O88: ='EUR2016'!$G91/1000 -> 40.500831 | P88: =100*O88/O$7 -> 0.4395238 | Q88: ='EMR2016'!$G91/1000 -> 6.5730494 | R88: =100*Q88/Q$7 -> 0.1588314 | S88: ='WPR2016'!$G91/1000 -> 35.702506 | T88: =100*S88/S$7 -> 0.2559256 | U88: =World2030!$G91/1000 -> 182.39767 | V88: =100*U88/U$7 -> 0.2677615 | W88: ='AFR2030'!$G91/1000 -> 22.120752 | X88: =100*W88/W$7 -> 0.21925222 | Y88: ='AMR2030'!$G91/1000 -> 50.942146 | Z88: =100*Y88/Y$7 -> 0.58927371 | AA88: =SEAR2030!$G91/1000 -> 21.387801 | AB88: =100*AA88/AA$7 -> 0.12682008 | AC88: ='EUR2030'!$G91/1000 -> 35.536308 | AD88: =100*AC88/AC$7 -> 0.36217205 | AE88: ='EMR2030'!$G91/1000 -> 7.8421729 | AF88: =100*AE88/AE$7 -> 0.15096221 | AG88: ='WPR2030'!$G91/1000 -> 44.568488 | AH88: =100*AG88/AG$7 -> 0.25447496 | AI88: =World2045!$G91/1000 -> 197.58076 | AJ88: =100*AI88/AI$7 -> 0.23100046 | AK88: ='AFR2045'!$G91/1000 -> 30.192695 | AL88: =100*AK88/AK$7 -> 0.23330944 | AM88: ='AMR2045'!$G91/1000 -> 49.861231 | AN88: =100*AM88/AM$7 -> 0.43829951 | AO88: =SEAR2045!$G91/1000 -> 22.385825 | AP88: =100*AO88/AO$7 -> 0.11128062 | AQ88: ='EUR2045'!$G91/1000 -> 34.018144 | AR88: =100*AQ88/AQ$7 -> 0.30131112 | AS88: ='EMR2045'!$G91/1000 -> 9.5789068 | AT88: =100*AS88/AS$7 -> 0.12942968 | AU88: ='WPR2045'!$G91/1000 -> 51.543961 | AV88: =100*AU88/AU$7 -> 0.23002418 | AW88: =World2060!$G91/1000 -> 203.84977 | AX88: =100*AW88/AW$7 -> 0.20018408 | AY88: ='AFR2060'!$G91/1000 -> 38.249617 | AZ88: =100*AY88/AY$7 -> 0.21092258 | BA88: ='AMR2060'!$G91/1000 -> 48.026613 | BB88: =100*BA88/BA$7 -> 0.36015247 | BC88: =SEAR2060!$G91/1000 -> 23.013975 | BD88: =100*BC88/BC$7 -> 0.097034837 | BE88: ='EUR2060'!$G91/1000 -> 30.990822 | BF88: =100*BE88/BE$7 -> 0.26565494 | BG88: ='EMR2060'!$G91/1000 -> 11.316673 | BH88: =100*BG88/BG$7 -> 0.10933694 | BI88: ='WPR2060'!$G91/1000 -> 52.252068 | BJ88: =100*BI88/BI$7 -> 0.21216248
A89: 88 | D89: 6. | E89: Anxiety disorders | G89: =World2016!$G92/1000 -> 0 | H89: =100*G89/G$7 -> 0 | I89: ='AFR2016'!$G92/1000 -> 0 | J89: =100*I89/I$7 -> 0 | K89: ='AMR2016'!$G92/1000 -> 0 | L89: =100*K89/K$7 -> 0 | M89: =SEAR2016!$G92/1000 -> 0 | N89: =100*M89/M$7 -> 0 | O89: ='EUR2016'!$G92/1000 -> 0 | P89: =100*O89/O$7 -> 0 | Q89: ='EMR2016'!$G92/1000 -> 0 | R89: =100*Q89/Q$7 -> 0 | S89: ='WPR2016'!$G92/1000 -> 0 | T89: =100*S89/S$7 -> 0 | U89: =World2030!$G92/1000 -> 0 | V89: =100*U89/U$7 -> 0 | W89: ='AFR2030'!$G92/1000 -> 0 | X89: =100*W89/W$7 -> 0 | Y89: ='AMR2030'!$G92/1000 -> 0 | Z89: =100*Y89/Y$7 -> 0 | AA89: =SEAR2030!$G92/1000 -> 0 | AB89: =100*AA89/AA$7 -> 0 | AC89: ='EUR2030'!$G92/1000 -> 0 | AD89: =100*AC89/AC$7 -> 0 | AE89: ='EMR2030'!$G92/1000 -> 0 | AF89: =100*AE89/AE$7 -> 0 | AG89: ='WPR2030'!$G92/1000 -> 0 | AH89: =100*AG89/AG$7 -> 0 | AI89: =World2045!$G92/1000 -> 0 | AJ89: =100*AI89/AI$7 -> 0 | AK89: ='AFR2045'!$G92/1000 -> 0 | AL89: =100*AK89/AK$7 -> 0 | AM89: ='AMR2045'!$G92/1000 -> 0 | AN89: =100*AM89/AM$7 -> 0 | AO89: =SEAR2045!$G92/1000 -> 0 | AP89: =100*AO89/AO$7 -> 0 | AQ89: ='EUR2045'!$G92/1000 -> 0 | AR89: =100*AQ89/AQ$7 -> 0 | AS89: ='EMR2045'!$G92/1000 -> 0 | AT89: =100*AS89/AS$7 -> 0 | AU89: ='WPR2045'!$G92/1000 -> 0 | AV89: =100*AU89/AU$7 -> 0 | AW89: =World2060!$G92/1000 -> 0 | AX89: =100*AW89/AW$7 -> 0 | AY89: ='AFR2060'!$G92/1000 -> 0 | AZ89: =100*AY89/AY$7 -> 0 | BA89: ='AMR2060'!$G92/1000 -> 0 | BB89: =100*BA89/BA$7 -> 0 | BC89: =SEAR2060!$G92/1000 -> 0 | BD89: =100*BC89/BC$7 -> 0 | BE89: ='EUR2060'!$G92/1000 -> 0 | BF89: =100*BE89/BE$7 -> 0 | BG89: ='EMR2060'!$G92/1000 -> 0 | BH89: =100*BG89/BG$7 -> 0 | BI89: ='WPR2060'!$G92/1000 -> 0 | BJ89: =100*BI89/BI$7 -> 0
A90: 89 | D90: 7. | E90: Eating disorders | G90: =World2016!$G93/1000 -> 1.8451708 | H90: =100*G90/G$7 -> 0.0032443474 | I90: ='AFR2016'!$G93/1000 -> 0.056693908 | J90: =100*I90/I$7 -> 0.00064096394 | K90: ='AMR2016'!$G93/1000 -> 0.65234495 | L90: =100*K90/K$7 -> 0.0094456175 | M90: =SEAR2016!$G93/1000 -> 0.40145583 | N90: =100*M90/M$7 -> 0.0029051961 | O90: ='EUR2016'!$G93/1000 -> 0.27223757 | P90: =100*O90/O$7 -> 0.0029543811 | Q90: ='EMR2016'!$G93/1000 -> 0.019992484 | R90: =100*Q90/Q$7 -> 0.00048309911 | S90: ='WPR2016'!$G93/1000 -> 0.4424461 | T90: =100*S90/S$7 -> 0.003171578 | U90: =World2030!$G93/1000 -> 1.7574686 | V90: =100*U90/U$7 -> 0.0025799805 | W90: ='AFR2030'!$G93/1000 -> 0.072118279 | X90: =100*W90/W$7 -> 0.0007148081 | Y90: ='AMR2030'!$G93/1000 -> 0.6190049 | Z90: =100*Y90/Y$7 -> 0.0071603445 | AA90: =SEAR2030!$G93/1000 -> 0.37578306 | AB90: =100*AA90/AA$7 -> 0.0022282252 | AC90: ='EUR2030'!$G93/1000 -> 0.24311977 | AD90: =100*AC90/AC$7 -> 0.0024777808 | AE90: ='EMR2030'!$G93/1000 -> 0.021404426 | AF90: =100*AE90/AE$7 -> 0.00041203623 | AG90: ='WPR2030'!$G93/1000 -> 0.42603814 | AH90: =100*AG90/AG$7 -> 0.0024325716 | AI90: =World2045!$G93/1000 -> 1.5889353 | AJ90: =100*AI90/AI$7 -> 0.001857695 | AK90: ='AFR2045'!$G93/1000 -> 0.094292428 | AL90: =100*AK90/AK$7 -> 0.00072863033 | AM90: ='AMR2045'!$G93/1000 -> 0.56038439 | AN90: =100*AM90/AM$7 -> 0.0049259956 | AO90: =SEAR2045!$G93/1000 -> 0.32127524 | AP90: =100*AO90/AO$7 -> 0.0015970691 | AQ90: ='EUR2045'!$G93/1000 -> 0.20929029 | AR90: =100*AQ90/AQ$7 -> 0.0018537606 | AS90: ='EMR2045'!$G93/1000 -> 0.02262723 | AT90: =100*AS90/AS$7 -> 0.00030573793 | AU90: ='WPR2045'!$G93/1000 -> 0.38106573 | AV90: =100*AU90/AU$7 -> 0.0017005742 | AW90: =World2060!$G93/1000 -> 1.4310288 | AX90: =100*AW90/AW$7 -> 0.0014052955 | AY90: ='AFR2060'!$G93/1000 -> 0.11353649 | AZ90: =100*AY90/AY$7 -> 0.00062608236 | BA90: ='AMR2060'!$G93/1000 -> 0.50476541 | BB90: =100*BA90/BA$7 -> 0.0037852453 | BC90: =SEAR2060!$G93/1000 -> 0.26605318 | BD90: =100*BC90/BC$7 -> 0.0011217718 | BE90: ='EUR2060'!$G93/1000 -> 0.18293546 | BF90: =100*BE90/BE$7 -> 0.0015681323 | BG90: ='EMR2060'!$G93/1000 -> 0.023550058 | BH90: =100*BG90/BG$7 -> 0.00022753076 | BI90: ='WPR2060'!$G93/1000 -> 0.34018815 | BJ90: =100*BI90/BI$7 -> 0.0013812881
A91: 90 | D91: 8. | E91: Pervasive developmental disorders | G91: =World2016!$G94/1000 -> 0 | H91: =100*G91/G$7 -> 0 | I91: ='AFR2016'!$G94/1000 -> 0 | J91: =100*I91/I$7 -> 0 | K91: ='AMR2016'!$G94/1000 -> 0 | L91: =100*K91/K$7 -> 0 | M91: =SEAR2016!$G94/1000 -> 0 | N91: =100*M91/M$7 -> 0 | O91: ='EUR2016'!$G94/1000 -> 0 | P91: =100*O91/O$7 -> 0 | Q91: ='EMR2016'!$G94/1000 -> 0 | R91: =100*Q91/Q$7 -> 0 | S91: ='WPR2016'!$G94/1000 -> 0 | T91: =100*S91/S$7 -> 0 | U91: =World2030!$G94/1000 -> 0 | V91: =100*U91/U$7 -> 0 | W91: ='AFR2030'!$G94/1000 -> 0 | X91: =100*W91/W$7 -> 0 | Y91: ='AMR2030'!$G94/1000 -> 0 | Z91: =100*Y91/Y$7 -> 0 | AA91: =SEAR2030!$G94/1000 -> 0 | AB91: =100*AA91/AA$7 -> 0 | AC91: ='EUR2030'!$G94/1000 -> 0 | AD91: =100*AC91/AC$7 -> 0 | AE91: ='EMR2030'!$G94/1000 -> 0 | AF91: =100*AE91/AE$7 -> 0 | AG91: ='WPR2030'!$G94/1000 -> 0 | AH91: =100*AG91/AG$7 -> 0 | AI91: =World2045!$G94/1000 -> 0 | AJ91: =100*AI91/AI$7 -> 0 | AK91: ='AFR2045'!$G94/1000 -> 0 | AL91: =100*AK91/AK$7 -> 0 | AM91: ='AMR2045'!$G94/1000 -> 0 | AN91: =100*AM91/AM$7 -> 0 | AO91: =SEAR2045!$G94/1000 -> 0 | AP91: =100*AO91/AO$7 -> 0 | AQ91: ='EUR2045'!$G94/1000 -> 0 | AR91: =100*AQ91/AQ$7 -> 0 | AS91: ='EMR2045'!$G94/1000 -> 0 | AT91: =100*AS91/AS$7 -> 0 | AU91: ='WPR2045'!$G94/1000 -> 0 | AV91: =100*AU91/AU$7 -> 0 | AW91: =World2060!$G94/1000 -> 0 | AX91: =100*AW91/AW$7 -> 0 | AY91: ='AFR2060'!$G94/1000 -> 0 | AZ91: =100*AY91/AY$7 -> 0 | BA91: ='AMR2060'!$G94/1000 -> 0 | BB91: =100*BA91/BA$7 -> 0 | BC91: =SEAR2060!$G94/1000 -> 0 | BD91: =100*BC91/BC$7 -> 0 | BE91: ='EUR2060'!$G94/1000 -> 0 | BF91: =100*BE91/BE$7 -> 0 | BG91: ='EMR2060'!$G94/1000 -> 0 | BH91: =100*BG91/BG$7 -> 0 | BI91: ='WPR2060'!$G94/1000 -> 0 | BJ91: =100*BI91/BI$7 -> 0
A92: 91 | D92: 9. | E92: Childhood behavioural disorders | G92: =World2016!$G95/1000 -> 0 | H92: =100*G92/G$7 -> 0 | I92: ='AFR2016'!$G95/1000 -> 0 | J92: =100*I92/I$7 -> 0 | K92: ='AMR2016'!$G95/1000 -> 0 | L92: =100*K92/K$7 -> 0 | M92: =SEAR2016!$G95/1000 -> 0 | N92: =100*M92/M$7 -> 0 | O92: ='EUR2016'!$G95/1000 -> 0 | P92: =100*O92/O$7 -> 0 | Q92: ='EMR2016'!$G95/1000 -> 0 | R92: =100*Q92/Q$7 -> 0 | S92: ='WPR2016'!$G95/1000 -> 0 | T92: =100*S92/S$7 -> 0 | U92: =World2030!$G95/1000 -> 0 | V92: =100*U92/U$7 -> 0 | W92: ='AFR2030'!$G95/1000 -> 0 | X92: =100*W92/W$7 -> 0 | Y92: ='AMR2030'!$G95/1000 -> 0 | Z92: =100*Y92/Y$7 -> 0 | AA92: =SEAR2030!$G95/1000 -> 0 | AB92: =100*AA92/AA$7 -> 0 | AC92: ='EUR2030'!$G95/1000 -> 0 | AD92: =100*AC92/AC$7 -> 0 | AE92: ='EMR2030'!$G95/1000 -> 0 | AF92: =100*AE92/AE$7 -> 0 | AG92: ='WPR2030'!$G95/1000 -> 0 | AH92: =100*AG92/AG$7 -> 0 | AI92: =World2045!$G95/1000 -> 0 | AJ92: =100*AI92/AI$7 -> 0 | AK92: ='AFR2045'!$G95/1000 -> 0 | AL92: =100*AK92/AK$7 -> 0 | AM92: ='AMR2045'!$G95/1000 -> 0 | AN92: =100*AM92/AM$7 -> 0 | AO92: =SEAR2045!$G95/1000 -> 0 | AP92: =100*AO92/AO$7 -> 0 | AQ92: ='EUR2045'!$G95/1000 -> 0 | AR92: =100*AQ92/AQ$7 -> 0 | AS92: ='EMR2045'!$G95/1000 -> 0 | AT92: =100*AS92/AS$7 -> 0 | AU92: ='WPR2045'!$G95/1000 -> 0 | AV92: =100*AU92/AU$7 -> 0 | AW92: =World2060!$G95/1000 -> 0 | AX92: =100*AW92/AW$7 -> 0 | AY92: ='AFR2060'!$G95/1000 -> 0 | AZ92: =100*AY92/AY$7 -> 0 | BA92: ='AMR2060'!$G95/1000 -> 0 | BB92: =100*BA92/BA$7 -> 0 | BC92: =SEAR2060!$G95/1000 -> 0 | BD92: =100*BC92/BC$7 -> 0 | BE92: ='EUR2060'!$G95/1000 -> 0 | BF92: =100*BE92/BE$7 -> 0 | BG92: ='EMR2060'!$G95/1000 -> 0 | BH92: =100*BG92/BG$7 -> 0 | BI92: ='WPR2060'!$G95/1000 -> 0 | BJ92: =100*BI92/BI$7 -> 0
A93: 92 | D93: 10. | E93: Idiopathic intellectual disability | G93: =World2016!$G96/1000 -> 1.7686533 | H93: =100*G93/G$7 -> 0.0031098073 | I93: ='AFR2016'!$G96/1000 -> 0 | J93: =100*I93/I$7 -> 0 | K93: ='AMR2016'!$G96/1000 -> 0.72263334 | L93: =100*K93/K$7 -> 0.010463357 | M93: =SEAR2016!$G96/1000 -> 0 | N93: =100*M93/M$7 -> 0 | O93: ='EUR2016'!$G96/1000 -> 0.8873228 | P93: =100*O93/O$7 -> 0.0096294192 | Q93: ='EMR2016'!$G96/1000 -> 0.00062324673 | R93: =100*Q93/Q$7 -> 1.5060156e-05 | S93: ='WPR2016'!$G96/1000 -> 0.15807387 | T93: =100*S93/S$7 -> 0.001133118 | U93: =World2030!$G96/1000 -> 1.6430484 | V93: =100*U93/U$7 -> 0.0024120106 | W93: ='AFR2030'!$G96/1000 -> 0 | X93: =100*W93/W$7 -> 0 | Y93: ='AMR2030'!$G96/1000 -> 0.7728093 | Z93: =100*Y93/Y$7 -> 0.0089394782 | AA93: =SEAR2030!$G96/1000 -> 0 | AB93: =100*AA93/AA$7 -> 0 | AC93: ='EUR2030'!$G96/1000 -> 0.75480997 | AD93: =100*AC93/AC$7 -> 0.0076927257 | AE93: ='EMR2030'!$G96/1000 -> 0.00090663183 | AF93: =100*AE93/AE$7 -> 1.7452706e-05 | AG93: ='WPR2030'!$G96/1000 -> 0.11452254 | AH93: =100*AG93/AG$7 -> 0.00065389518 | AI93: =World2045!$G96/1000 -> 1.6256897 | AJ93: =100*AI93/AI$7 -> 0.0019006662 | AK93: ='AFR2045'!$G96/1000 -> 0 | AL93: =100*AK93/AK$7 -> 0 | AM93: ='AMR2045'!$G96/1000 -> 0.78546774 | AN93: =100*AM93/AM$7 -> 0.0069045654 | AO93: =SEAR2045!$G96/1000 -> 0 | AP93: =100*AO93/AO$7 -> 0 | AQ93: ='EUR2045'!$G96/1000 -> 0.73138961 | AR93: =100*AQ93/AQ$7 -> 0.0064781849 | AS93: ='EMR2045'!$G96/1000 -> 0.00091286653 | AT93: =100*AS93/AS$7 -> 1.2334604e-05 | AU93: ='WPR2045'!$G96/1000 -> 0.10791948 | AV93: =100*AU93/AU$7 -> 0.00048161006 | AW93: =World2060!$G96/1000 -> 1.5516448 | AX93: =100*AW93/AW$7 -> 0.0015237427 | AY93: ='AFR2060'!$G96/1000 -> 0 | AZ93: =100*AY93/AY$7 -> 0 | BA93: ='AMR2060'!$G96/1000 -> 0.78350867 | BB93: =100*BA93/BA$7 -> 0.0058755463 | BC93: =SEAR2060!$G96/1000 -> 0 | BD93: =100*BC93/BC$7 -> 0 | BE93: ='EUR2060'!$G96/1000 -> 0.66671952 | BF93: =100*BE93/BE$7 -> 0.0057151545 | BG93: ='EMR2060'!$G96/1000 -> 0.00095395839 | BH93: =100*BG93/BG$7 -> 9.2167451e-06 | BI93: ='WPR2060'!$G96/1000 -> 0.10046266 | BJ93: =100*BI93/BI$7 -> 0.0004079151
A94: 93 | D94: 11. | E94: Other mental and behavioural disorders | G94: =World2016!$G97/1000 -> 0 | H94: =100*G94/G$7 -> 0 | I94: ='AFR2016'!$G97/1000 -> 0 | J94: =100*I94/I$7 -> 0 | K94: ='AMR2016'!$G97/1000 -> 0 | L94: =100*K94/K$7 -> 0 | M94: =SEAR2016!$G97/1000 -> 0 | N94: =100*M94/M$7 -> 0 | O94: ='EUR2016'!$G97/1000 -> 0 | P94: =100*O94/O$7 -> 0 | Q94: ='EMR2016'!$G97/1000 -> 0 | R94: =100*Q94/Q$7 -> 0 | S94: ='WPR2016'!$G97/1000 -> 0 | T94: =100*S94/S$7 -> 0 | U94: =World2030!$G97/1000 -> 0 | V94: =100*U94/U$7 -> 0 | W94: ='AFR2030'!$G97/1000 -> 0 | X94: =100*W94/W$7 -> 0 | Y94: ='AMR2030'!$G97/1000 -> 0 | Z94: =100*Y94/Y$7 -> 0 | AA94: =SEAR2030!$G97/1000 -> 0 | AB94: =100*AA94/AA$7 -> 0 | AC94: ='EUR2030'!$G97/1000 -> 0 | AD94: =100*AC94/AC$7 -> 0 | AE94: ='EMR2030'!$G97/1000 -> 0 | AF94: =100*AE94/AE$7 -> 0 | AG94: ='WPR2030'!$G97/1000 -> 0 | AH94: =100*AG94/AG$7 -> 0 | AI94: =World2045!$G97/1000 -> 0 | AJ94: =100*AI94/AI$7 -> 0 | AK94: ='AFR2045'!$G97/1000 -> 0 | AL94: =100*AK94/AK$7 -> 0 | AM94: ='AMR2045'!$G97/1000 -> 0 | AN94: =100*AM94/AM$7 -> 0 | AO94: =SEAR2045!$G97/1000 -> 0 | AP94: =100*AO94/AO$7 -> 0 | AQ94: ='EUR2045'!$G97/1000 -> 0 | AR94: =100*AQ94/AQ$7 -> 0 | AS94: ='EMR2045'!$G97/1000 -> 0 | AT94: =100*AS94/AS$7 -> 0 | AU94: ='WPR2045'!$G97/1000 -> 0 | AV94: =100*AU94/AU$7 -> 0 | AW94: =World2060!$G97/1000 -> 0 | AX94: =100*AW94/AW$7 -> 0 | AY94: ='AFR2060'!$G97/1000 -> 0 | AZ94: =100*AY94/AY$7 -> 0 | BA94: ='AMR2060'!$G97/1000 -> 0 | BB94: =100*BA94/BA$7 -> 0 | BC94: =SEAR2060!$G97/1000 -> 0 | BD94: =100*BC94/BC$7 -> 0 | BE94: ='EUR2060'!$G97/1000 -> 0 | BF94: =100*BE94/BE$7 -> 0 | BG94: ='EMR2060'!$G97/1000 -> 0 | BH94: =100*BG94/BG$7 -> 0 | BI94: ='WPR2060'!$G97/1000 -> 0 | BJ94: =100*BI94/BI$7 -> 0
A95: 94 | C95: F. | D95: Neurological conditions | G95: =World2016!$G98/1000 -> 2538.4598 | H95: =100*G95/G$7 -> 4.4633512 | I95: ='AFR2016'!$G98/1000 -> 142.02059 | J95: =100*I95/I$7 -> 1.6056413 | K95: ='AMR2016'!$G98/1000 -> 476.27757 | L95: =100*K95/K$7 -> 6.896253 | M95: =SEAR2016!$G98/1000 -> 372.98418 | N95: =100*M95/M$7 -> 2.6991567 | O95: ='EUR2016'!$G98/1000 -> 622.66271 | P95: =100*O95/O$7 -> 6.7572707 | Q95: ='EMR2016'!$G98/1000 -> 128.67358 | R95: =100*Q95/Q$7 -> 3.1092729 | S95: ='WPR2016'!$G98/1000 -> 795.84116 | T95: =100*S95/S$7 -> 5.7048132 | U95: =World2030!$G98/1000 -> 4019.3804 | V95: =100*U95/U$7 -> 5.9004884 | W95: ='AFR2030'!$G98/1000 -> 213.10919 | X95: =100*W95/W$7 -> 2.1122547 | Y95: ='AMR2030'!$G98/1000 -> 809.72351 | Z95: =100*Y95/Y$7 -> 9.3664836 | AA95: =SEAR2030!$G98/1000 -> 566.74834 | AB95: =100*AA95/AA$7 -> 3.3605638 | AC95: ='EUR2030'!$G98/1000 -> 924.41491 | AD95: =100*AC95/AC$7 -> 9.4212724 | AE95: ='EMR2030'!$G98/1000 -> 188.72468 | AF95: =100*AE95/AE$7 -> 3.6329593 | AG95: ='WPR2030'!$G98/1000 -> 1316.6598 | AH95: =100*AG95/AG$7 -> 7.5177992 | AI95: =World2045!$G98/1000 -> 6333.7083 | AJ95: =100*AI95/AI$7 -> 7.4050202 | AK95: ='AFR2045'!$G98/1000 -> 338.38927 | AL95: =100*AK95/AK$7 -> 2.6148514 | AM95: ='AMR2045'!$G98/1000 -> 1278.9998 | AN95: =100*AM95/AM$7 -> 11.242903 | AO95: =SEAR2045!$G98/1000 -> 865.55976 | AP95: =100*AO95/AO$7 -> 4.3027242 | AQ95: ='EUR2045'!$G98/1000 -> 1283.7223 | AR95: =100*AQ95/AQ$7 -> 11.370398 | AS95: ='EMR2045'!$G98/1000 -> 353.86808 | AT95: =100*AS95/AS$7 -> 4.7814466 | AU95: ='WPR2045'!$G98/1000 -> 2213.169 | AV95: =100*AU95/AU$7 -> 9.876664 | AW95: =World2060!$G98/1000 -> 8348.1001 | AX95: =100*AW95/AW$7 -> 8.1979819 | AY95: ='AFR2060'!$G98/1000 -> 567.42865 | AZ95: =100*AY95/AY$7 -> 3.1290122 | BA95: ='AMR2060'!$G98/1000 -> 1503.0633 | BB95: =100*BA95/BA$7 -> 11.2715 | BC95: =SEAR2060!$G98/1000 -> 1208.2671 | BD95: =100*BC95/BC$7 -> 5.0944697 | BE95: ='EUR2060'!$G98/1000 -> 1524.8623 | BF95: =100*BE95/BE$7 -> 13.071199 | BG95: ='EMR2060'!$G98/1000 -> 619.63626 | BH95: =100*BG95/BG$7 -> 5.9866651 | BI95: ='WPR2060'!$G98/1000 -> 2924.8425 | BJ95: =100*BI95/BI$7 -> 11.875929
A96: 95 | D96: 1. | E96: Alzheimer's disease and other dementias | G96: =World2016!$G99/1000 -> 1991.7082 | H96: =100*G96/G$7 -> 3.5020028 | I96: ='AFR2016'!$G99/1000 -> 90.976725 | J96: =100*I96/I$7 -> 1.028555 | K96: ='AMR2016'!$G99/1000 -> 354.57183 | L96: =100*K96/K$7 -> 5.1340168 | M96: =SEAR2016!$G99/1000 -> 278.59621 | N96: =100*M96/M$7 -> 2.0161038 | O96: ='EUR2016'!$G99/1000 -> 480.86323 | P96: =100*O96/O$7 -> 5.2184319 | Q96: ='EMR2016'!$G99/1000 -> 103.62628 | R96: =100*Q96/Q$7 -> 2.5040291 | S96: ='WPR2016'!$G99/1000 -> 683.07397 | T96: =100*S96/S$7 -> 4.8964663 | U96: =World2030!$G99/1000 -> 3281.0693 | V96: =100*U96/U$7 -> 4.8166407 | W96: ='AFR2030'!$G99/1000 -> 141.46146 | X96: =100*W96/W$7 -> 1.4021105 | Y96: ='AMR2030'!$G99/1000 -> 640.19159 | Z96: =100*Y96/Y$7 -> 7.4054218 | AA96: =SEAR2030!$G99/1000 -> 455.52279 | AB96: =100*AA96/AA$7 -> 2.7010461 | AC96: ='EUR2030'!$G99/1000 -> 740.96961 | AD96: =100*AC96/AC$7 -> 7.5516702 | AE96: ='EMR2030'!$G99/1000 -> 155.28507 | AF96: =100*AE96/AE$7 -> 2.989245 | AG96: ='WPR2030'!$G99/1000 -> 1147.6388 | AH96: =100*AG96/AG$7 -> 6.5527314 | AI96: =World2045!$G99/1000 -> 5384.5921 | AJ96: =100*AI96/AI$7 -> 6.2953663 | AK96: ='AFR2045'!$G99/1000 -> 240.73351 | AL96: =100*AK96/AK$7 -> 1.8602314 | AM96: ='AMR2045'!$G99/1000 -> 1057.9884 | AN96: =100*AM96/AM$7 -> 9.3001277 | AO96: =SEAR2045!$G99/1000 -> 738.78543 | AP96: =100*AO96/AO$7 -> 3.6725251 | AQ96: ='EUR2045'!$G99/1000 -> 1061.1822 | AR96: =100*AQ96/AQ$7 -> 9.3992782 | AS96: ='EMR2045'!$G99/1000 -> 303.54441 | AT96: =100*AS96/AS$7 -> 4.1014759 | AU96: ='WPR2045'!$G99/1000 -> 1982.3582 | AV96: =100*AU96/AU$7 -> 8.8466292 | AW96: =World2060!$G99/1000 -> 7258.2286 | AX96: =100*AW96/AW$7 -> 7.1277089 | AY96: ='AFR2060'!$G99/1000 -> 437.35909 | AZ96: =100*AY96/AY$7 -> 2.4117603 | BA96: ='AMR2060'!$G99/1000 -> 1254.2664 | BB96: =100*BA96/BA$7 -> 9.4057672 | BC96: =SEAR2060!$G99/1000 -> 1068.5306 | BD96: =100*BC96/BC$7 -> 4.5052929 | BE96: ='EUR2060'!$G99/1000 -> 1288.4425 | BF96: =100*BE96/BE$7 -> 11.044596 | BG96: ='EMR2060'!$G99/1000 -> 546.08173 | BH96: =100*BG96/BG$7 -> 5.2760122 | BI96: ='WPR2060'!$G99/1000 -> 2663.5483 | BJ96: =100*BI96/BI$7 -> 10.814979
